{"text_format":"1","workbook":"xlsx","n_sheets":4,"sheets":["Blad1","uitslag","Blad3","Blad2"],"not_rendered":{"charts":0,"images":2,"macros":1,"external_links":2,"defined_names":2,"comments":1,"pivot_tables":0},"unopened":[],"bounds":{"document_bytes":16777216,"sheet_cells":100000,"rows_first":2000,"rows_last":500,"rows_between":2000,"halvings":0,"cell_chars":16384,"cell_head_chars":4096},"cells_cut":0,"cells_raw":0,"read":"whole","date_system":"1900"}

{"sheet":"Blad1","index":0,"n_rows":261,"n_cols":49,"rows_kept":261,"cut":false,"hidden":false,"merged":[[6,7,10,7],[6,8,10,8],[103,19,107,19],[56,19,60,19],[56,14,60,14],[56,15,60,15],[47,18,50,19],[53,4,53,6],[53,14,53,16],[54,4,54,6],[54,14,54,16],[56,25,60,25],[56,16,60,16],[56,18,60,18],[56,0,60,0],[56,30,60,30],[56,35,60,35],[56,26,60,26],[56,27,60,27],[56,28,60,28],[56,29,60,29],[56,20,60,20],[6,26,10,26],[6,19,10,19],[56,1,60,1],[56,2,60,2],[56,3,60,3],[56,4,60,4],[56,5,60,5],[56,6,60,6],[56,7,60,7],[56,8,60,8],[56,9,60,9],[56,10,60,10],[56,23,60,23],[56,11,60,11],[56,12,60,12],[56,13,60,13],[6,35,10,35],[6,27,10,27],[6,9,10,9],[6,13,10,13],[6,12,10,12],[6,28,10,28],[6,29,10,29],[6,30,10,30],[6,16,10,16],[6,14,10,14],[6,18,10,18],[6,15,10,15],[6,22,10,22],[6,23,10,23],[6,25,10,25],[6,10,10,10],[6,1,10,1],[6,2,10,2],[6,3,10,3],[3,4,3,6],[6,4,10,4],[6,5,10,5],[6,6,10,6],[4,4,4,6],[3,15,3,17],[4,15,4,17],[5,15,5,17],[3,13,4,13],[6,11,10,11],[4,8,4,11],[3,8,3,11]]}
[null,null,null,null,null,null,null,null,null,null,null,null,null,null,null,null,null,null,null,null,null,null,null,null,null,null,null,"eerste klas"]
[null,null,null,null,"Resultaten voorwedstrijden",null,null,null,null,null,null,{"$f":"IF(E4=\"driebanden\",2,3)","v":3},null,{"$f":"CONCATENATE(E4,\" _ \",I4,\" _  \",I5)","v":"libre _ vierde klas _  2017 - 2018"},null,null,null,null,null,null,null,null,null,null,"libre",null,null,"tweede klas"]
[null,null,null,null,null,null,null,null,null,null,null,null,null,null,null,null,null,null,null,null,null,"V",null,null,"driebanden",null,null,"derde klas"]
[null,null,null,"Spelsoort","libre",null,null,"klasse","vierde klas",null,null,null,null,"HELP",null,"Moyenne grenzen",null,null,1.2000000000000004,"tot",1.7000000000000008,"HD",null,null,"bandstoten",null,null,"vierde klas",null,null,null,null," ",{"$f":"ISNUMBER(B63)","v":true},null,null,"ALS(B14>0,5;ALS(V$4=WAAR;AL14*10;AL14);\"\")",null,null,null,null,null,"interval"]
[null,"WMS idnr",null,"Caramboles","vast aantal caramb.",null,null,"Seizoen","2017 - 2018",null,null,null,null,null,null,"Aantal Partijen vrrd",null,null,6,null,null,"P",null,null,"kies spelsoort",null,null,"vijfde klas",null,null,null,null,null,null,null,null,null,null,null,null,null,null,"vast aantal caramb."]
[null,null,null,null,null,null,null,null,null,null,null,null,null,null,null,"Aantal deelnemers finale",null,null,8,null,null,null,null,null,null,null,null,"hoofdklas"]
[null,"B.nr.","Deelnemers","Vereniging","Te maken caramboles per partij","Totaal te maken caramboles","Punten","Totaal gemaakte caramboles","Beurten","Moyenne","Moyenne aanvang","% gemaakte caramboles","bovengrens moyenne","% moyenne","rang Punten ",{"$f":"IF(D5=\"interval\",\" rang perc. Gem. car.\",\"rang moyenne\")","v":"rang moyenne"},"rang gemaakte car. %",null,"rang percentage car. plus rang pnt.","Opmerk ingen",null,null,"punten rang","aantal dubbelpnt",null,"moyenne rang","aantal dubbel moy.","moyenne rang","plaats rang gemaakt","aantal dubbel gemaakt","plaats rang gemaakt %",null,null,null,null,null,null,null,null,null,null,null,0]
[null,null,null,null,null,null,null,null,null,null,null,null,null,null,null,null,null,"rang % moyenne",null,null,null,null,null,null,"punten rang",null,null,null,null,null,null,"% moyenne","ranglijst",null,null,null,null,null,null,null,null,null,{"$f":"AQ7+0.1","v":0.1}]
[null,null,null,null,null,null,null,null,null,null,null,null,null,null,null,null,null,null,null,null,null,null,null,null,null,null,null,null,null,null,null,null,null,null,null,null,null,null,null,null,null,null,{"$f":"AQ8+0.05","v":0.15000000000000002}]
[null,null,null,null,null,null,null,null,null,null,null,null,null,null,null,null,null,null,null,null,null,null,null,null,null,null,null,null,null,null,null,null,null,null,null,null,null,null,null,null,null,null,{"$f":"AQ9+0.05","v":0.2}]
[null,null,null,null,null,null,null,null,null,null,null,null,null,null,null,null,null,null,null,null,null,null,null,null,null,null,null,null,null,null,null,null,null,null,null,null,null,null,null,null,null,null,0.25]
[null,"b.nr.","naam","ver.","t.m.","t.t.m","brt","gem.","pnt",null,null,"perc.car",{"$f":"IF(I12>0.01,IF(J12>0.01,VLOOKUP(J12,Blad3!A$1:E166,3),\"\"),\"\")","v":""},null,"rang pnt","rang perc","rang perc",null,"rang tot","opm.",null,{"$f":"IF(AND(T12=\"\",S$4>J12),\"HD\",IF(AND(T12=\"V\",S$4>(J12*1.19999999999999)),\"D\",IF(AND(T12=\"V\",U$4<J12),\"DP\",IF(AND(T12=\"HD\",S$4>(J12*1.19999999999999)),\"D\",\"\"))))","v":""},null,null,null,null,null,null,null,null,null,null,null,null,null,null,null,null,null,null,null,null,0.3]
[{"$f":"AO13","v":2},106584,{"$f":"IF(B13>110,VLOOKUP(B13,Blad2!B:F,5,0),\"\")","v":"Eddo Kohler"},{"$f":"IF(B13>110,VLOOKUP(B13,Blad2!B:Z,7,0),\"\")","v":"Concordia `54"},55,{"$f":"E13*S$5","v":330},10,320,228,{"$f":"IF(I13>0.01,IF(E$4=\"driebanden\",ROUNDDOWN(H13/I13,3),ROUNDDOWN(H13/I13,3)),\"\")","v":1.403},1.6,{"$f":"IF(I13>0,H13/(E13*6),\"\")","v":0.96969696969696972},{"$f":"IF(I13>0.01,IF(J13>0.01,VLOOKUP(K13,Blad3!A$1:E167,3),\"\"),\"\")","v":1.7},{"$f":"IF(F13>1,J13/K13,\"\")","v":0.87687499999999996},{"$f":"Y13","v":1.5},{"$f":"IF(ISNUMBER(AB13),AB13,\"\")","v":4},{"$f":"AE13","v":2},{"$f":"AH13","v":7},{"$f":"IF(ISNUMBER(B13),IF(E5=\"vast aantal caramb.\",O13+P13,O13+Q13),\"\")","v":5.5},null,null,{"$f":"IF(AND(T13=\"\",S$4>J13),\"HD\",IF(AND(T13=\"V\",S$4>J13),\"D\",IF(AND(T13=\"V\",S$4>(J13*1.19999999999999)),\"D\",IF(AND(T13=\"V\",U$4<J13),\"DP\",IF(AND(T13=\"HD\",S$4>(J13*1.19999999999999)),\"D\",IF(AND(T13=\"\",J13>(U$4*1.19999999999999)),\"DP\",\"\"))))))","v":""},{"$f":"IF(I13>0.5,RANK(G13,G$13:G$46),\"\")","v":1},{"$f":"COUNTIF(W$13:W$46,W13)","v":2},{"$f":"IF(X13=2,(W13+W13+1)/2,IF(X13=3,(W13+W13+W13+3)/3,IF(X13=4,(W13+W13+W13+W13+6)/4,IF(X13=5,(W13+W13+W13+W13+W13+10)/5,IF(X13=6,(W13+W13+W13+W13+W13+W13+15)/6,W13)))))","v":1.5},{"$f":"RANK(J13,J$13:J$46)","v":4},{"$f":"COUNTIF(Z$13:Z$46,Z13)","v":1},{"$f":"IF(AA13=2,(Z13+Z13+1)/2,IF(AA13=3,(Z13+Z13+Z13+3)/3,IF(AA13=4,(Z13+Z13+Z13+Z13+6)/4,IF(AA13=5,(Z13+Z13+Z13+Z13+Z13+10)/5,Z13))))","v":4},{"$f":"IF(E13>1,RANK(L13,L$13:L$46),\"\")","v":2},{"$f":"COUNTIF(AC$13:AC$46,AC13)","v":1},{"$f":"IF(AD13=2,(AC13+AC13+1)/2,IF(AD13=3,(AC13+AC13+AC13+3)/3,IF(AD13=4,(AC13+AC13+AC13+AC13+6)/4,IF(AD13=5,(AC13+AC13+AC13+AC13+AC13+10)/5,AC13))))","v":2},{"$f":"IF(B13>1,RANK(N13,N$13:N$46),\"\")","v":7},{"$f":"COUNTIF(AF$13:AF$46,AF13)","v":1},{"$f":"IF(AG13=2,(AF13+AF13+1)/2,IF(AG13=3,(AF13+AF13+AF13+3)/3,IF(AG13=4,(AF13+AF13+AF13+AF13+6)/4,IF(AG13=5,(AF13+AF13+AF13+AF13+AF13+10)/5,AF13))))","v":7},1,{"$f":"(Y13*10000)+(AB13*1000)+1","v":19001},{"$f":"COUNTIF(AJ$13:AJ$46,AJ13)","v":1},{"$f":"IF(I13>0.5,IF(AK13>1,(AJ13*100)+(AC13*10)+AI13,AJ13*100),\"\")","v":1900100},{"$f":"IF(B13>10,RANK(AL13,AL$13:AL$46,1),\"\")","v":2},{"$f":"IF(AND(T13=\"V\",(U$4-0.0000001)<J13,B13>0.5),AL13*10,AL13)","v":1900100},{"$f":"IF(B13>10,RANK(AN13,AN$13:AN$46,1),\"\")","v":2},{"$f":"IF(AND(J13>(U$4-0.00000001),T13=\"V\"),\"P\",\"\")","v":""},0.35]
[{"$f":"AO14","v":4},169828,{"$f":"IF(B14>110,VLOOKUP(B14,Blad2!B:F,5,0),\"\")","v":"Renate Jansen-Albers"},{"$f":"IF(B14>110,VLOOKUP(B14,Blad2!B:Z,7,0),\"\")","v":"Slootermeer & Scholtenhof"},55,{"$f":"E14*S$5","v":330},6,298,226,1.3180000000000001,1.32,{"$f":"IF(I14>0,H14/(E14*6),\"\")","v":0.90303030303030307},{"$f":"IF(I14>0.01,IF(J14>0.01,VLOOKUP(K14,Blad3!A$1:E168,3),\"\"),\"\")","v":1.4},0.99848484848484853,{"$f":"Y14","v":4},{"$f":"IF(ISNUMBER(AB14),AB14,\"\")","v":6},{"$f":"AE14","v":7},{"$f":"AH14","v":4},{"$f":"IF(ISNUMBER(B14),IF(E6=\"vast aantal caramb.\",O14+P14,O14+Q14),\"\")","v":11},null,null,{"$f":"IF(AND(T14=\"\",S$4>J14),\"HD\",IF(AND(T14=\"V\",S$4>J14),\"D\",IF(AND(T14=\"V\",S$4>(J14*1.19999999999999)),\"D\",IF(AND(T14=\"V\",U$4<J14),\"DP\",IF(AND(T14=\"HD\",S$4>(J14*1.19999999999999)),\"D\",IF(AND(T14=\"\",J14>(U$4*1.19999999999999)),\"DP\",\"\"))))))","v":""},{"$f":"IF(I14>0.5,RANK(G14,G$13:G$46),\"\")","v":3},{"$f":"COUNTIF(W$13:W$46,W14)","v":3},{"$f":"IF(X14=2,(W14+W14+1)/2,IF(X14=3,(W14+W14+W14+3)/3,IF(X14=4,(W14+W14+W14+W14+6)/4,IF(X14=5,(W14+W14+W14+W14+W14+10)/5,IF(X14=6,(W14+W14+W14+W14+W14+W14+15)/6,W14)))))","v":4},{"$f":"RANK(J14,J$13:J$46)","v":6},{"$f":"COUNTIF(Z$13:Z$46,Z14)","v":1},{"$f":"IF(AA14=2,(Z14+Z14+1)/2,IF(AA14=3,(Z14+Z14+Z14+3)/3,IF(AA14=4,(Z14+Z14+Z14+Z14+6)/4,IF(AA14=5,(Z14+Z14+Z14+Z14+Z14+10)/5,Z14))))","v":6},{"$f":"IF(E14>1,RANK(L14,L$13:L$46),\"\")","v":7},{"$f":"COUNTIF(AC$13:AC$46,AC14)","v":1},{"$f":"IF(AD14=2,(AC14+AC14+1)/2,IF(AD14=3,(AC14+AC14+AC14+3)/3,IF(AD14=4,(AC14+AC14+AC14+AC14+6)/4,IF(AD14=5,(AC14+AC14+AC14+AC14+AC14+10)/5,AC14))))","v":7},{"$f":"IF(B14>1,RANK(N14,N$13:N$46),\"\")","v":4},{"$f":"COUNTIF(AF$13:AF$46,AF14)","v":1},{"$f":"IF(AG14=2,(AF14+AF14+1)/2,IF(AG14=3,(AF14+AF14+AF14+3)/3,IF(AG14=4,(AF14+AF14+AF14+AF14+6)/4,IF(AG14=5,(AF14+AF14+AF14+AF14+AF14+10)/5,AF14))))","v":4},2,{"$f":"(Y14*10000)+(AB14*1000)+2","v":46002},{"$f":"COUNTIF(AJ$13:AJ$46,AJ14)","v":1},4600200,{"$f":"IF(B14>10,RANK(AL14,AL$13:AL$46,1),\"\")","v":4},{"$f":"IF(AND(T14=\"V\",(U$4-0.0000001)<J14,B14>0.5),AL14*10,AL14)","v":4600200},{"$f":"IF(B14>10,RANK(AN14,AN$13:AN$46,1),\"\")","v":4},{"$f":"IF(AND(J14>(U$4-0.00000001),T14=\"V\"),\"P\",\"\")","v":""},0.39999999999999997]
[6,146509,{"$f":"IF(B15>110,VLOOKUP(B15,Blad2!B:F,5,0),\"\")","v":"Jozef Schabbink"},{"$f":"IF(B15>110,VLOOKUP(B15,Blad2!B:Z,7,0),\"\")","v":"Tapperij"},55,330,5,302,216,1.3979999999999999,1.4,0.91515151515151516,{"$f":"IF(I15>0.01,IF(J15>0.01,VLOOKUP(K15,Blad3!A$1:E169,3),\"\"),\"\")","v":1.5},0.99857142857142855,6.5,5,5,3,11.5,null,null,"",6,2,6.5,5,1,5,5,1,5,3,1,3,3,{"$f":"(Y15*10000)+(AB15*1000)+2","v":70002},1,7000200,6,7000200,{"$f":"IF(B15>10,RANK(AN15,AN$13:AN$46,1),\"\")","v":6},"",0.44999999999999996]
[7,149009,{"$f":"IF(B16>110,VLOOKUP(B16,Blad2!B:F,5,0),\"\")","v":"Coen Stiemer"},"De Pol",55,330,5,306,254,1.204,1.4,0.92727272727272725,{"$f":"IF(I16>0.01,IF(J16>0.01,VLOOKUP(K16,Blad3!A$1:E170,3),\"\"),\"\")","v":1.5},{"$f":"IF(F16>1,J16/K16,\"\")","v":0.86},6.5,9,4,9,10.5,null,null,"",6,2,6.5,9,1,9,4,1,4,9,1,9,4,{"$f":"(Y16*10000)+(AB16*1000)+3","v":74003},1,7400300,7,7400300,7,"",0.49999999999999994]
[9,136552,{"$f":"IF(B17>110,VLOOKUP(B17,Blad2!B:F,5,0),\"\")","v":"Cees Vikkerman"},{"$f":"IF(B17>110,VLOOKUP(B17,Blad2!B:Z,7,0),\"\")","v":"A.b.c."},55,330,4,274,216,1.268,1.53,0.83030303030303032,{"$f":"IF(I17>0.01,IF(J17>0.01,VLOOKUP(K17,Blad3!A$1:E171,3),\"\"),\"\")","v":1.6},0.82875816993464047,9,7,9,10,18,null,null,"",8,3,9,7,1,7,9,1,9,10,1,10,5,{"$f":"(Y17*10000)+(AB17*1000)+4","v":97004},1,9700400,9,9700400,9,"",0.54999999999999993]
[1,221956,{"$f":"IF(B18>110,VLOOKUP(B18,Blad2!B:F,5,0),\"\")","v":"Theo Greven"},{"$f":"IF(B18>110,VLOOKUP(B18,Blad2!B:Z,7,0),\"\")","v":"A.b.c."},55,330,10,322,210,1.5329999999999999,1.65,0.97575757575757571,{"$f":"IF(I18>0.01,IF(J18>0.01,VLOOKUP(K18,Blad3!A$1:E172,3),\"\"),\"\")","v":1.7},0.92909090909090908,1.5,1,1,6,2.5,null,null,"",1,2,1.5,1,1,1,1,1,1,6,1,6,6,{"$f":"(Y18*10000)+(AB18*1000)+5","v":16005},1,1600500,1,1600500,1,"",0.6]
[3,123631,{"$f":"IF(B19>110,VLOOKUP(B19,Blad2!B:F,5,0),\"\")","v":"Frank Stevens"},{"$f":"IF(B19>110,VLOOKUP(B19,Blad2!B:Z,7,0),\"\")","v":"D.L.S."},55,330,6,318,218,1.458,1.49,0.96363636363636362,{"$f":"IF(I19>0.01,IF(J19>0.01,VLOOKUP(K19,Blad3!A$1:E173,3),\"\"),\"\")","v":1.5},0.97852348993288585,4,2,3,5,7,null,null,"",3,3,4,2,1,2,3,1,3,5,1,5,8,{"$f":"(Y19*10000)+(AB19*1000)+6","v":42006},1,4200600,3,4200600,3,"",0.65]
[5,209553,{"$f":"IF(B20>110,VLOOKUP(B20,Blad2!B:F,5,0),\"\")","v":"Lucilio Cordeiro"},{"$f":"IF(B20>110,VLOOKUP(B20,Blad2!B:Z,7,0),\"\")","v":"Nijman"},55,330,6,301,243,1.238,1.42,0.91212121212121211,{"$f":"IF(I20>0.01,IF(J20>0.01,VLOOKUP(K20,Blad3!A$1:E174,3),\"\"),\"\")","v":1.5},0.87183098591549302,4,8,6,8,10,null,null,"",3,3,4,8,1,8,6,1,6,8,1,8,7,{"$f":"(Y20*10000)+(AB20*1000)+7","v":48007},1,4800700,5,4800700,5,"",0.70000000000000007]
[8,177750,{"$f":"IF(B21>110,VLOOKUP(B21,Blad2!B:F,5,0),\"\")","v":"Tonnie Bisselink"},{"$f":"IF(B21>110,VLOOKUP(B21,Blad2!B:Z,7,0),\"\")","v":"KÃ¶ster"},55,330,4,291,206,1.4119999999999999,1.41,0.88181818181818183,{"$f":"IF(I21>0.01,IF(J21>0.01,VLOOKUP(K21,Blad3!A$1:E175,3),\"\"),\"\")","v":1.5},1.0014184397163119,9,3,8,2,17,null,null,"",8,3,9,3,1,3,8,1,8,2,1,2,9,{"$f":"(Y21*10000)+(AB21*1000)+8","v":93008},1,{"$f":"IF(I21>0.5,IF(AK21>1,(AJ21*100)+(AC21*10)+AI21,AJ21*100),\"\")","v":9300800},8,9300800,8,"",0.75000000000000011]
[10,140583,{"$f":"IF(B22>110,VLOOKUP(B22,Blad2!B:F,5,0),\"\")","v":"Martin Koster"},{"$f":"IF(B22>110,VLOOKUP(B22,Blad2!B:Z,7,0),\"\")","v":"Concordia `54"},55,{"$f":"E22*S$5","v":330},4,265,229,1.157,1.1499999999999999,0.80303030303030298,{"$f":"IF(I22>0.01,IF(J22>0.01,VLOOKUP(K22,Blad3!A$1:E176,3),\"\"),\"\")","v":1.2},1.0060869565217392,{"$f":"Y22","v":9},{"$f":"IF(ISNUMBER(AB22),AB22,\"\")","v":10},{"$f":"AE22","v":10},{"$f":"AH22","v":1},19,null,null,"HD",8,3,9,10,1,10,10,1,10,{"$f":"IF(B22>1,RANK(N22,N$13:N$46),\"\")","v":1},{"$f":"COUNTIF(AF$13:AF$46,AF22)","v":1},{"$f":"IF(AG22=2,(AF22+AF22+1)/2,IF(AG22=3,(AF22+AF22+AF22+3)/3,IF(AG22=4,(AF22+AF22+AF22+AF22+6)/4,IF(AG22=5,(AF22+AF22+AF22+AF22+AF22+10)/5,AF22))))","v":1},10,{"$f":"(Y22*10000)+(AB22*1000)+9","v":100009},1,10000900,{"$f":"IF(B22>10,RANK(AL22,AL$13:AL$46,1),\"\")","v":10},10000900,10,"",0.80000000000000016]
["",null,{"$f":"IF(B23>110,VLOOKUP(B23,Blad2!B:F,5,0),\"\")","v":""},{"$f":"IF(B23>110,VLOOKUP(B23,Blad2!B:Z,7,0),\"\")","v":""},null,0,null,null,null,"",null,"",{"$f":"IF(I23>0.01,IF(J23>0.01,VLOOKUP(K23,Blad3!A$1:E177,3),\"\"),\"\")","v":""},"","","","","","",null,null,{"$error":"#VALUE!"},"",24,"",{"$error":"#VALUE!"},24,{"$error":"#VALUE!"},"",24,"","",24,"",11,{"$f":"(Y23*10000)+(AB23*1000)+10","v":{"$error":"#VALUE!"}},24,"","","","","",0.8500000000000002]
["",null,{"$f":"IF(B24>110,VLOOKUP(B24,Blad2!B:F,5,0),\"\")","v":""},{"$f":"IF(B24>110,VLOOKUP(B24,Blad2!B:Z,7,0),\"\")","v":""},null,0,null,null,null,"",null,"",{"$f":"IF(I24>0.01,IF(J24>0.01,VLOOKUP(K24,Blad3!A$1:E178,3),\"\"),\"\")","v":""},"","","","","","",null,null,{"$error":"#VALUE!"},"",24,"",{"$error":"#VALUE!"},24,{"$error":"#VALUE!"},"",24,"","",24,"",12,{"$f":"(Y24*10000)+(AB24*1000)+11","v":{"$error":"#VALUE!"}},24,"","","","","",0.90000000000000024]
["",null,{"$f":"IF(B25>110,VLOOKUP(B25,Blad2!B:F,5,0),\"\")","v":""},{"$f":"IF(B25>110,VLOOKUP(B25,Blad2!B:Z,7,0),\"\")","v":""},null,{"$f":"E25*S$5","v":0},null,null,null,"",null,"",{"$f":"IF(I25>0.01,IF(J25>0.01,VLOOKUP(K25,Blad3!A$1:E179,3),\"\"),\"\")","v":""},"","","","","","",null,null,{"$error":"#VALUE!"},"",24,"",{"$error":"#VALUE!"},24,{"$error":"#VALUE!"},"",24,"",{"$f":"IF(B25>1,RANK(N25,N$13:N$46),\"\")","v":""},{"$f":"COUNTIF(AF$13:AF$46,AF25)","v":24},{"$f":"IF(AG25=2,(AF25+AF25+1)/2,IF(AG25=3,(AF25+AF25+AF25+3)/3,IF(AG25=4,(AF25+AF25+AF25+AF25+6)/4,IF(AG25=5,(AF25+AF25+AF25+AF25+AF25+10)/5,AF25))))","v":""},13,{"$f":"(Y25*10000)+(AB25*1000)+212","v":{"$error":"#VALUE!"}},24,"",{"$f":"IF(B25>10,RANK(AL25,AL$13:AL$46,1),\"\")","v":""},"","","",0.95000000000000029]
["",null,{"$f":"IF(B26>110,VLOOKUP(B26,Blad2!B:F,5,0),\"\")","v":""},{"$f":"IF(B26>110,VLOOKUP(B26,Blad2!B:Z,7,0),\"\")","v":""},null,0,null,null,null,"",null,"",{"$f":"IF(I26>0.01,IF(J26>0.01,VLOOKUP(K26,Blad3!A$1:E180,3),\"\"),\"\")","v":""},"","","","","","",null,null,{"$error":"#VALUE!"},"",24,"",{"$error":"#VALUE!"},24,{"$error":"#VALUE!"},"",24,"","",24,"",14,{"$f":"(Y26*10000)+(AB26*1000)+13","v":{"$error":"#VALUE!"}},24,"","","","","",1.0000000000000002]
["",null,{"$f":"IF(B27>110,VLOOKUP(B27,Blad2!B:F,5,0),\"\")","v":""},{"$f":"IF(B27>110,VLOOKUP(B27,Blad2!B:Z,7,0),\"\")","v":""},null,0,null,null,null,"",null,"",{"$f":"IF(I27>0.01,IF(J27>0.01,VLOOKUP(K27,Blad3!A$1:E181,3),\"\"),\"\")","v":""},"","","","","","",null,null,{"$error":"#VALUE!"},"",24,"",{"$error":"#VALUE!"},24,{"$error":"#VALUE!"},"",24,"","",24,"",15,{"$f":"(Y27*10000)+(AB27*1000)+14","v":{"$error":"#VALUE!"}},24,"","","","","",1.0500000000000003]
["",null,{"$f":"IF(B28>110,VLOOKUP(B28,Blad2!B:F,5,0),\"\")","v":""},{"$f":"IF(B28>110,VLOOKUP(B28,Blad2!B:Z,7,0),\"\")","v":""},null,0,null,null,null,"",null,"",{"$f":"IF(I28>0.01,IF(J28>0.01,VLOOKUP(K28,Blad3!A$1:E182,3),\"\"),\"\")","v":""},"","","","","","",null,null,{"$error":"#VALUE!"},"",24,"",{"$error":"#VALUE!"},24,{"$error":"#VALUE!"},"",24,"","",24,"",16,{"$f":"(Y28*10000)+(AB28*1000)+15","v":{"$error":"#VALUE!"}},24,"","","","","",1.1000000000000003]
["",null,{"$f":"IF(B29>110,VLOOKUP(B29,Blad2!B:F,5,0),\"\")","v":""},{"$f":"IF(B29>110,VLOOKUP(B29,Blad2!B:Z,7,0),\"\")","v":""},null,0,null,null,null,"",null,"",{"$f":"IF(I29>0.01,IF(J29>0.01,VLOOKUP(K29,Blad3!A$1:E183,3),\"\"),\"\")","v":""},"","","","","","",null,null,{"$error":"#VALUE!"},"",24,"",{"$error":"#VALUE!"},24,{"$error":"#VALUE!"},"",24,"","",24,"",17,{"$f":"(Y29*10000)+(AB29*1000)+16","v":{"$error":"#VALUE!"}},24,"","","","","",1.1500000000000004]
["",null,{"$f":"IF(B30>110,VLOOKUP(B30,Blad2!B:F,5,0),\"\")","v":""},{"$f":"IF(B30>110,VLOOKUP(B30,Blad2!B:Z,7,0),\"\")","v":""},null,0,null,null,null,"",null,"",{"$f":"IF(I30>0.01,IF(J30>0.01,VLOOKUP(K30,Blad3!A$1:E184,3),\"\"),\"\")","v":""},"","","","","","",null,null,{"$error":"#VALUE!"},"",24,"",{"$error":"#VALUE!"},24,{"$error":"#VALUE!"},"",24,"","",24,"",18,{"$f":"(Y30*10000)+(AB30*1000)+17","v":{"$error":"#VALUE!"}},24,"","","","","",1.2000000000000004]
["",null,{"$f":"IF(B31>110,VLOOKUP(B31,Blad2!B:F,5,0),\"\")","v":""},{"$f":"IF(B31>110,VLOOKUP(B31,Blad2!B:Z,7,0),\"\")","v":""},null,0,null,null,null,"",null,"",{"$f":"IF(I31>0.01,IF(J31>0.01,VLOOKUP(K31,Blad3!A$1:E185,3),\"\"),\"\")","v":""},"","","","","","",null,null,{"$error":"#VALUE!"},"",24,"",{"$error":"#VALUE!"},24,{"$error":"#VALUE!"},"",24,"","",24,"",19,{"$f":"(Y31*10000)+(AB31*1000)+18","v":{"$error":"#VALUE!"}},24,"","","","","",1.2500000000000004]
["",null,{"$f":"IF(B32>110,VLOOKUP(B32,Blad2!B:F,5,0),\"\")","v":""},{"$f":"IF(B32>110,VLOOKUP(B32,Blad2!B:Z,7,0),\"\")","v":""},null,0,null,null,null,"",null,"",{"$f":"IF(I32>0.01,IF(J32>0.01,VLOOKUP(K32,Blad3!A$1:E186,3),\"\"),\"\")","v":""},"","","","","","",null,null,{"$error":"#VALUE!"},"",24,"",{"$error":"#VALUE!"},24,{"$error":"#VALUE!"},"",24,"","",24,"",20,{"$f":"(Y32*10000)+(AB32*1000)+19","v":{"$error":"#VALUE!"}},24,"","","","","",1.3000000000000005]
["",null,{"$f":"IF(B33>110,VLOOKUP(B33,Blad2!B:F,5,0),\"\")","v":""},{"$f":"IF(B33>110,VLOOKUP(B33,Blad2!B:Z,7,0),\"\")","v":""},null,0,null,null,null,"",null,"",{"$f":"IF(I33>0.01,IF(J33>0.01,VLOOKUP(K33,Blad3!A$1:E187,3),\"\"),\"\")","v":""},"","","","","","",null,null,{"$error":"#VALUE!"},"",24,"",{"$error":"#VALUE!"},24,{"$error":"#VALUE!"},"",24,"","",24,"",21,{"$f":"(Y33*10000)+(AB33*1000)+20","v":{"$error":"#VALUE!"}},24,"","","","","",1.3500000000000005]
["",null,{"$f":"IF(B34>110,VLOOKUP(B34,Blad2!B:F,5,0),\"\")","v":""},{"$f":"IF(B34>110,VLOOKUP(B34,Blad2!B:Z,7,0),\"\")","v":""},null,0,null,null,null,"",null,"",{"$f":"IF(I34>0.01,IF(J34>0.01,VLOOKUP(K34,Blad3!A$1:E188,3),\"\"),\"\")","v":""},"","","","","","",null,null,{"$error":"#VALUE!"},"",24,"",{"$error":"#VALUE!"},24,{"$error":"#VALUE!"},"",24,"","",24,"",22,{"$f":"(Y34*10000)+(AB34*1000)+21","v":{"$error":"#VALUE!"}},24,"","","","","",1.4000000000000006]
["",null,{"$f":"IF(B35>110,VLOOKUP(B35,Blad2!B:F,5,0),\"\")","v":""},{"$f":"IF(B35>110,VLOOKUP(B35,Blad2!B:Z,7,0),\"\")","v":""},null,0,null,null,null,"",null,"",{"$f":"IF(I35>0.01,IF(J35>0.01,VLOOKUP(K35,Blad3!A$1:E189,3),\"\"),\"\")","v":""},"","","","","","",null,null,{"$error":"#VALUE!"},"",24,"",{"$error":"#VALUE!"},24,{"$error":"#VALUE!"},"",24,"","",24,"",23,{"$f":"(Y35*10000)+(AB35*1000)+22","v":{"$error":"#VALUE!"}},24,"","","","","",1.4500000000000006]
["",null,{"$f":"IF(B36>110,VLOOKUP(B36,Blad2!B:F,5,0),\"\")","v":""},{"$f":"IF(B36>110,VLOOKUP(B36,Blad2!B:Z,7,0),\"\")","v":""},null,0,null,null,null,"",null,"",{"$f":"IF(I36>0.01,IF(J36>0.01,VLOOKUP(K36,Blad3!A$1:E190,3),\"\"),\"\")","v":""},"","","","","","",null,null,{"$error":"#VALUE!"},"",24,"",{"$error":"#VALUE!"},24,{"$error":"#VALUE!"},"",24,"","",24,"",null,{"$f":"(Y36*10000)+(AB36*1000)+23","v":{"$error":"#VALUE!"}},24,"","","","","",1.5000000000000007]
["",null,{"$f":"IF(B37>110,VLOOKUP(B37,Blad2!B:F,5,0),\"\")","v":""},{"$f":"IF(B37>110,VLOOKUP(B37,Blad2!B:Z,7,0),\"\")","v":""},null,0,null,null,null,"",null,"",{"$f":"IF(I37>0.01,IF(J37>0.01,VLOOKUP(K37,Blad3!A$1:E191,3),\"\"),\"\")","v":""},"","","","","","",null,null,{"$error":"#VALUE!"},"",24,"",{"$error":"#VALUE!"},24,{"$error":"#VALUE!"},"",24,"","",24,"",null,{"$f":"(Y37*10000)+(AB37*1000)+24","v":{"$error":"#VALUE!"}},24,"","","","","",1.5500000000000007]
["",null,{"$f":"IF(B38>110,VLOOKUP(B38,Blad2!B:F,5,0),\"\")","v":""},{"$f":"IF(B38>110,VLOOKUP(B38,Blad2!B:Z,7,0),\"\")","v":""},null,0,null,null,null,"",null,"",{"$f":"IF(I38>0.01,IF(J38>0.01,VLOOKUP(K38,Blad3!A$1:E192,3),\"\"),\"\")","v":""},"","","","","","",null,null,{"$error":"#VALUE!"},"",24,"",{"$error":"#VALUE!"},24,{"$error":"#VALUE!"},"",24,"","",24,"",null,{"$f":"(Y38*10000)+(AB38*1000)+25","v":{"$error":"#VALUE!"}},24,"","","","","",1.6000000000000008]
["",null,{"$f":"IF(B39>110,VLOOKUP(B39,Blad2!B:F,5,0),\"\")","v":""},{"$f":"IF(B39>110,VLOOKUP(B39,Blad2!B:Z,7,0),\"\")","v":""},null,0,null,null,null,"",null,"",{"$f":"IF(I39>0.01,IF(J39>0.01,VLOOKUP(K39,Blad3!A$1:E193,3),\"\"),\"\")","v":""},"","","","","","",null,null,{"$error":"#VALUE!"},"",24,"",{"$error":"#VALUE!"},24,{"$error":"#VALUE!"},"",24,"","",24,"",null,{"$f":"(Y39*10000)+(AB39*1000)+26","v":{"$error":"#VALUE!"}},24,"","","","","",1.6500000000000008]
["",null,{"$f":"IF(B40>110,VLOOKUP(B40,Blad2!B:F,5,0),\"\")","v":""},{"$f":"IF(B40>110,VLOOKUP(B40,Blad2!B:Z,7,0),\"\")","v":""},null,0,null,null,null,"",null,"",{"$f":"IF(I40>0.01,IF(J40>0.01,VLOOKUP(K40,Blad3!A$1:E194,3),\"\"),\"\")","v":""},"","","","","","",null,null,{"$error":"#VALUE!"},"",24,"",{"$error":"#VALUE!"},24,{"$error":"#VALUE!"},"",24,"","",24,"",null,{"$f":"(Y40*10000)+(AB40*1000)+27","v":{"$error":"#VALUE!"}},24,"","","","","",1.7000000000000008]
["",null,{"$f":"IF(B41>110,VLOOKUP(B41,Blad2!B:F,5,0),\"\")","v":""},{"$f":"IF(B41>110,VLOOKUP(B41,Blad2!B:Z,7,0),\"\")","v":""},null,0,null,null,null,"",null,"",{"$f":"IF(I41>0.01,IF(J41>0.01,VLOOKUP(K41,Blad3!A$1:E195,3),\"\"),\"\")","v":""},"","","","","","",null,null,{"$error":"#VALUE!"},"",24,"",{"$error":"#VALUE!"},24,{"$error":"#VALUE!"},"",24,"","",24,"",null,{"$f":"(Y41*10000)+(AB41*1000)+28","v":{"$error":"#VALUE!"}},24,"","","","","",1.7500000000000009]
["",null,{"$f":"IF(B42>110,VLOOKUP(B42,Blad2!B:F,5,0),\"\")","v":""},{"$f":"IF(B42>110,VLOOKUP(B42,Blad2!B:Z,7,0),\"\")","v":""},null,0,null,null,null,"",null,"",{"$f":"IF(I42>0.01,IF(J42>0.01,VLOOKUP(K42,Blad3!A$1:E196,3),\"\"),\"\")","v":""},"","","","","","",null,null,{"$error":"#VALUE!"},"",24,"",{"$error":"#VALUE!"},24,{"$error":"#VALUE!"},"",24,"","",24,"",null,{"$f":"(Y42*10000)+(AB42*1000)+29","v":{"$error":"#VALUE!"}},24,"","","","","",1.8000000000000009]
["",null,{"$f":"IF(B43>110,VLOOKUP(B43,Blad2!B:F,5,0),\"\")","v":""},{"$f":"IF(B43>110,VLOOKUP(B43,Blad2!B:Z,7,0),\"\")","v":""},null,0,null,null,null,"",null,"",{"$f":"IF(I43>0.01,IF(J43>0.01,VLOOKUP(K43,Blad3!A$1:E197,3),\"\"),\"\")","v":""},"","","","","","",null,null,{"$error":"#VALUE!"},"",24,"",{"$error":"#VALUE!"},24,{"$error":"#VALUE!"},"",24,"","",24,"",null,{"$f":"(Y43*10000)+(AB43*1000)+30","v":{"$error":"#VALUE!"}},24,"","","","","",1.850000000000001]
["",null,{"$f":"IF(B44>110,VLOOKUP(B44,Blad2!B:F,5,0),\"\")","v":""},{"$f":"IF(B44>110,VLOOKUP(B44,Blad2!B:Z,7,0),\"\")","v":""},null,0,null,null,null,"",null,"",{"$f":"IF(I44>0.01,IF(J44>0.01,VLOOKUP(K44,Blad3!A$1:E198,3),\"\"),\"\")","v":""},"","","","","","",null,null,{"$error":"#VALUE!"},"",24,"",{"$error":"#VALUE!"},24,{"$error":"#VALUE!"},"",24,"","",24,"",null,{"$f":"(Y44*10000)+(AB44*1000)+31","v":{"$error":"#VALUE!"}},24,"","","","","",1.900000000000001]
["",null,{"$f":"IF(B45>110,VLOOKUP(B45,Blad2!B:F,5,0),\"\")","v":""},{"$f":"IF(B45>110,VLOOKUP(B45,Blad2!B:Z,7,0),\"\")","v":""},null,0,null,null,null,"",null,"",{"$f":"IF(I45>0.01,IF(J45>0.01,VLOOKUP(K45,Blad3!A$1:E199,3),\"\"),\"\")","v":""},"","","","","","",null,null,{"$error":"#VALUE!"},"",24,"",{"$error":"#VALUE!"},24,{"$error":"#VALUE!"},"",24,"","",24,"",null,{"$f":"(Y45*10000)+(AB45*1000)+32","v":{"$error":"#VALUE!"}},24,"","","","","",1.9500000000000011]
["",null,{"$f":"IF(B46>110,VLOOKUP(B46,Blad2!B:F,5,0),\"\")","v":""},{"$f":"IF(B46>110,VLOOKUP(B46,Blad2!B:Z,7,0),\"\")","v":""},null,0,null,null,null,"",null,"",{"$f":"IF(I46>0.01,IF(J46>0.01,VLOOKUP(K46,Blad3!A$1:E200,3),\"\"),\"\")","v":""},"","","","","","",null,null,{"$error":"#VALUE!"},"",24,"",{"$error":"#VALUE!"},24,{"$error":"#VALUE!"},"",24,"","",24,"",null,{"$f":"(Y46*10000)+(AB46*1000)+33","v":{"$error":"#VALUE!"}},24,"","","","","",2.0000000000000009]
[null,null,null,null,null,null,null,null,null,null,null,null,null,null,null,null,null,null,null,null,null,null,null,null,null,null,null,null,null,null,null,null,null,null,null,null,null,null,null,null,null,null,2.0500000000000007]
[null,null,null,null,null,null,null,null,null,null,null,null,null,null,null,null,null,null,"HELP",null,null,null,null,null,null,null,null,null,null,null,null,null,null,null,null,null,null,null,null,null,null,null,2.1000000000000005]
[null,null,null,null,null,null,null,null,null,null,null,null,null,null,null,null,null,null,null,null,null,null,null,null,null,null,null,null,null,null,null,null,null,null,null,null,null,null,null,null,null,null,2.1500000000000004]
[null,null,null,null,null,null,null,null,null,null,null,null,null,null,null,null,null,null,null,null,null,null,null,null,null,null,null,null,null,null,null,null,null,null,null,null,null,null,null,null,null,null,2.2000000000000002]
[null,null,null,null,null,null,null,null,null,null,null,null,null,null,null,null,null,null,null,null,null,null,null,null,null,null,null,{"$f":"J13/M13","v":0.82529411764705884},null,null,null,null,null,null,null,null,null,null,null,null,null,null,2.25]
[null,null,null,null,null,null,null,null,null,null,null,null,null,null,null,null,null,null,null,null,null,null,null,null,null,null,null,null,null,null,null,null,null,null,null,null,null,null,null,null,null,null,2.2999999999999998]
[null,null,null,null,{"$f":"E2","v":"Resultaten voorwedstrijden"},null,null,null,null,null,null,null,null,null,null,null,null,null,null,null,null,null,null,null,null,null,null,{"$f":"0.25/0.57","v":0.43859649122807021},null,null,null,null,null,null,null,null,null,null,null,null,null,null,2.3499999999999996]
[null,null,null,"Spelsoort",{"$f":"E4","v":"libre"},null,null,"klasse",null,{"$f":"I4","v":"vierde klas"},null,null,null,null,"Moyenne grenzen",null,null,{"$f":"S4","v":1.2000000000000004},{"$f":"T4","v":"tot"},{"$f":"U4","v":1.7000000000000008},null,null,null,null,null,null,null,null,null,null,null,null,null,null,null,null,null,null,null,null,null,null,2.3999999999999995,null,null,null,null,null,{"$f":"CONCATENATE(\"Resultaten voorwedstrijden\",\"    seizoen     \",I5)","v":"Resultaten voorwedstrijden    seizoen     2017 - 2018"}]
[{"$f":"C5","v":0},null,null,null,{"$f":"E5","v":"vast aantal caramb."},null,null,"Seizoen",null,{"$f":"I5","v":"2017 - 2018"},null,null,null,null,"Aantal Partijen",null,null,{"$f":"S5","v":6},null,null,null,null,null,null,null,null,null,"breng de uitslagen in de gele vakken in ",null,null,null,{"$f":"ISNUMBER(B63)","v":true},null,null,null,null,null,null,null,null,null,null,2.4499999999999993]
[null,null,null,null,null,null,null,null,null,null,null,null,null,null,null,null,null,null,null,null,null,null,null,null,null,null,null,null,null,null,null,null,null,null,null,null,null,null,null,null,null,null,2.4999999999999991,null,null,null,null,null,"punte"]
["Nr.","B.nr.","Deelnemers","Vereniging","Te maken car. per partij","Totaal te maken caramboles","Punten","Totaal gem. car.","Beurten","Moyenne","Moyenne aanvang","% gem. car.","bovengrens moyenne","% moyenne","rang Punten ",{"$f":"IF(D55=\"interval\",\" rang perc. Gem. car.\",\"rang moyenne\")","v":"rang moyenne"},"rang gemaakte car. %",null,"rang percentage car. plus rang pnt.","opmerkingen","plaatsing finale",null,null,null,null,null,null,null,null,null,null,null,null,null,null,null,null,null,null,null,null,null,2.5499999999999989]
[null,null,null,null,null,null,null,null,null,null,null,null,null,null,null,null,null,"rang % moyenne",null,null,null,null,null,null,null,null,null,null,null,null,null,null,null,null,null,null,null,null,null,null,null,null,2.5999999999999988]
[null,null,null,null,null,null,null,null,null,null,null,null,null,null,null,null,null,null,null,null,null,null,null,null,null,null,null,null,null,null,null,null,null,null,null,null,null,null,null,null,null,null,2.6499999999999986]
[null,null,null,null,null,null,null,null,null,null,null,null,null,null,null,null,null,null,null,null,null,null,null,null,null,null,null,null,null,null,null,null,null,null,null,null,null,null,null,null,null,null,2.6999999999999984]
[null,null,null,null,null,null,null,null,null,null,null,null,null,null,null,null,null,null,null,null,null,null,null,null,null,null,null,null,null,null,null,null,null,null,null,null,null,null,null,null,null,null,2.7499999999999982]
[null,"b.nr.","naam","ver.","t.m.","t.t.m","brt","gem.","pnt",null,"moy.","perc.car",null,null,"rang pnt","rang perc","rang perc",null,"rang tot",null,null,null,null,null,null,null,null,null,null,null,null,null,null,null,null,null,null,null,null,null,null,null,2.799999999999998]
[1,{"$f":"IF($B13>10,VLOOKUP($A63,$A$13:$S$46,2,FALSE),\"\")","v":221956},{"$f":"IF($B13>10,VLOOKUP($A63,$A$13:$S$46,3,FALSE),\"\")","v":"Theo Greven"},{"$f":"IF($B13>10,VLOOKUP($A63,$A$13:$S$46,4,FALSE),\"\")","v":"A.b.c."},{"$f":"IF($B13>10,VLOOKUP($A63,$A$13:$S$46,5,FALSE),\"\")","v":55},{"$f":"IF($B13>10,VLOOKUP($A63,$A$13:$S$46,6,FALSE),\"\")","v":330},{"$f":"IF($B13>10,VLOOKUP($A63,$A$13:$S$46,7,FALSE),\"\")","v":10},{"$f":"IF($B13>10,VLOOKUP($A63,$A$13:$S$46,8,FALSE),\"\")","v":322},{"$f":"IF($B13>10,VLOOKUP($A63,$A$13:$S$46,9,FALSE),\"\")","v":210},{"$f":"IF($B13>10,VLOOKUP($A63,$A$13:$S$46,10,FALSE),\"\")","v":1.5329999999999999},{"$f":"IF($B13>10,VLOOKUP($A63,$A$13:$S$46,11,FALSE),\"\")","v":1.65},{"$f":"IF($B13>10,VLOOKUP($A63,$A$13:$S$46,12,FALSE),\"\")","v":0.97575757575757571},{"$f":"IF($B13>10,VLOOKUP($A63,$A$13:$S$46,13,FALSE),\"\")","v":1.7},{"$f":"IF($B13>10,VLOOKUP($A63,$A$13:$S$46,14,FALSE),\"\")","v":0.92909090909090908},{"$f":"IF($B13>10,VLOOKUP($A63,$A$13:$S$46,15,FALSE),\"\")","v":1.5},{"$f":"IF($B13>10,VLOOKUP($A63,$A$13:$S$46,16,FALSE),\"\")","v":1},{"$f":"IF($B13>10,VLOOKUP($A63,$A$13:$S$46,17,FALSE),\"\")","v":1},{"$f":"IF($B13>10,VLOOKUP($A63,$A$13:$S$46,18,FALSE),\"\")","v":6},{"$f":"IF(ISNUMBER(B63),IF(V63>4000,V63-4000,IF(V63>3000,V63-3000,IF(V63>2000,V63-2000,IF(V63>1000,V63-1000,V63)))),\"\")","v":2.5},{"$f":"IF(ISNUMBER(B63),IF(J63>U$4,\"PROMOTIE\",IF(J63<S$4,\"ONDER MOY.GRENS\",\"\")),\"\")","v":""},{"$f":"IF(ISNUMBER(B63),RANK(V63,V$63:V$96,1),\"0\")","v":1},{"$f":"IF(ISNUMBER(B63),VLOOKUP($A63,$A$13:$S$46,19,FALSE),\"\")","v":2.5},{"$f":"TEXT(J63,\"0,000\")","v":"1,533"},null,{"$f":"CONCATENATE(\"1.  \",C63,\"  \",D63,\"   \")","v":"1.  Theo Greven  A.b.c.   "},{"$f":"CONCATENATE(Y63,G63,\"  punten \",\"       gemaakt  \",H63)","v":"1.  Theo Greven  A.b.c.   10  punten        gemaakt  322"},{"$f":"CONCATENATE(Z63,\"  in  \",I63,\"   beurten,      moyenne van \",W63)","v":"1.  Theo Greven  A.b.c.   10  punten        gemaakt  322  in  210   beurten,      moyenne van 1,533"},{"$f":"CONCATENATE($AA63,\"     rang punten \",O63,\"        rang moyenne  \",P63)","v":"1.  Theo Greven  A.b.c.   10  punten        gemaakt  322  in  210   beurten,      moyenne van 1,533     rang punten 1,5        rang moyenne  1"},{"$f":"IF(ISNUMBER(B63),CONCATENATE(AB63,\"       totaal  \",S63,\"  punten\"),\"\")","v":"1.  Theo Greven  A.b.c.   10  punten        gemaakt  322  in  210   beurten,      moyenne van 1,533     rang punten 1,5        rang moyenne  1       totaal  2,5  punten"},null,null,null,null,null,null,{"$f":"CONCATENATE($AA63,\"       rang punten \",O63,\"        rang gem. caramboles \",Q63)","v":"1.  Theo Greven  A.b.c.   10  punten        gemaakt  322  in  210   beurten,      moyenne van 1,533       rang punten 1,5        rang gem. caramboles 1"},{"$f":"IF(ISNUMBER(B63),CONCATENATE(AJ63,\"          totaal  \",S63,\"  punten\"),\"\")","v":"1.  Theo Greven  A.b.c.   10  punten        gemaakt  322  in  210   beurten,      moyenne van 1,533       rang punten 1,5        rang gem. caramboles 1          totaal  2,5  punten"},null,null,null,null,null,2.8499999999999979,null,null,null,null,null,{"$f":"IF(E5=\"vast aantal caramb.\",AC63,AK63)","v":"1.  Theo Greven  A.b.c.   10  punten        gemaakt  322  in  210   beurten,      moyenne van 1,533     rang punten 1,5        rang moyenne  1       totaal  2,5  punten"}]
[2,{"$f":"IF($B14>10,VLOOKUP($A64,$A$13:$S$46,2,FALSE),\"\")","v":106584},{"$f":"IF($B14>10,VLOOKUP($A64,$A$13:$S$46,3,FALSE),\"\")","v":"Eddo Kohler"},{"$f":"IF($B14>10,VLOOKUP($A64,$A$13:$S$46,4,FALSE),\"\")","v":"Concordia `54"},{"$f":"IF($B14>10,VLOOKUP($A64,$A$13:$S$46,5,FALSE),\"\")","v":55},{"$f":"IF($B14>10,VLOOKUP($A64,$A$13:$S$46,6,FALSE),\"\")","v":330},{"$f":"IF($B14>10,VLOOKUP($A64,$A$13:$S$46,7,FALSE),\"\")","v":10},{"$f":"IF($B14>10,VLOOKUP($A64,$A$13:$S$46,8,FALSE),\"\")","v":320},{"$f":"IF($B14>10,VLOOKUP($A64,$A$13:$S$46,9,FALSE),\"\")","v":228},{"$f":"IF($B14>10,VLOOKUP($A64,$A$13:$S$46,10,FALSE),\"\")","v":1.403},{"$f":"IF($B14>10,VLOOKUP($A64,$A$13:$S$46,11,FALSE),\"\")","v":1.6},{"$f":"IF($B14>10,VLOOKUP($A64,$A$13:$S$46,12,FALSE),\"\")","v":0.96969696969696972},{"$f":"IF($B14>10,VLOOKUP($A64,$A$13:$S$46,13,FALSE),\"\")","v":1.7},{"$f":"IF($B14>10,VLOOKUP($A64,$A$13:$S$46,14,FALSE),\"\")","v":0.87687499999999996},{"$f":"IF($B14>10,VLOOKUP($A64,$A$13:$S$46,15,FALSE),\"\")","v":1.5},{"$f":"IF($B14>10,VLOOKUP($A64,$A$13:$S$46,16,FALSE),\"\")","v":4},{"$f":"IF($B14>10,VLOOKUP($A64,$A$13:$S$46,17,FALSE),\"\")","v":2},{"$f":"IF($B14>10,VLOOKUP($A64,$A$13:$S$46,18,FALSE),\"\")","v":7},{"$f":"IF(ISNUMBER(B64),IF(V64>4000,V64-4000,IF(V64>3000,V64-3000,IF(V64>2000,V64-2000,IF(V64>1000,V64-1000,V64)))),\"\")","v":5.5},{"$f":"IF(ISNUMBER(B64),IF(J64>U$4,\"PROMOTIE\",IF(J64<S$4,\"ONDER MOY.GRENS\",\"\")),\"\")","v":""},{"$f":"IF(ISNUMBER(B64),RANK(V64,V$63:V$96,1),\"\")","v":2},{"$f":"IF(ISNUMBER(B64),VLOOKUP($A64,$A$13:$S$46,19,FALSE),\"\")","v":5.5},"1,403",null,{"$f":"CONCATENATE(\"2.  \",C64,\"  \",D64,\"   \")","v":"2.  Eddo Kohler  Concordia `54   "},{"$f":"CONCATENATE(Y64,G64,\"  punten \",\"  gemaakt  \",H64)","v":"2.  Eddo Kohler  Concordia `54   10  punten   gemaakt  320"},{"$f":"CONCATENATE(Z64,\"  in  \",I64,\"   beurten, moyenne van \",J64)","v":"2.  Eddo Kohler  Concordia `54   10  punten   gemaakt  320  in  228   beurten, moyenne van 1,403"},{"$f":"CONCATENATE(AA64,\"  rang punten \",O64,\"   rang moyenne \",P64)","v":"2.  Eddo Kohler  Concordia `54   10  punten   gemaakt  320  in  228   beurten, moyenne van 1,403  rang punten 1,5   rang moyenne 4"},{"$f":"IF(ISNUMBER(B64),CONCATENATE(AB64,\"       totaal  \",S64,\"  punten\"),\"\")","v":"2.  Eddo Kohler  Concordia `54   10  punten   gemaakt  320  in  228   beurten, moyenne van 1,403  rang punten 1,5   rang moyenne 4       totaal  5,5  punten"},null,null,null,null,null,null,{"$f":"CONCATENATE($AA64,\"       rang punten \",O64,\"        rang gem. caramboles \",Q64)","v":"2.  Eddo Kohler  Concordia `54   10  punten   gemaakt  320  in  228   beurten, moyenne van 1,403       rang punten 1,5        rang gem. caramboles 2"},{"$f":"IF(ISNUMBER(B64),CONCATENATE(AJ64,\"          totaal  \",S64,\"  punten\"),\"\")","v":"2.  Eddo Kohler  Concordia `54   10  punten   gemaakt  320  in  228   beurten, moyenne van 1,403       rang punten 1,5        rang gem. caramboles 2          totaal  5,5  punten"},null,null,null,null,null,2.8999999999999977,null,null,null,null,null,"2.  Eddo Kohler  Concordia `54   10  punten   gemaakt  320  in  228   beurten, moyenne van 1,403       rang punten 1,5        rang gem. caramboles 2          totaal  5,5  punten"]
[3,123631,"Frank Stevens","D.L.S.",55,330,6,318,218,1.458,1.49,0.96363636363636362,1.5,0.97852348993288585,4,2,3,5,7,"",{"$f":"IF(ISNUMBER(B65),RANK(V65,V$63:V$96,1),\"\")","v":3},7,"1,458",null,{"$f":"CONCATENATE(\"3.  \",C65,\"  \",D65,\"   \")","v":"3.  Frank Stevens  D.L.S.   "},"3.  Frank Stevens  D.L.S.   6  punten   gemaakt  318","3.  Frank Stevens  D.L.S.   6  punten   gemaakt  318  in  218   beurten, moyenne van 1,458","3.  Frank Stevens  D.L.S.   6  punten   gemaakt  318  in  218   beurten, moyenne van 1,458  rang punten 4   rang moyenne 2","3.  Frank Stevens  D.L.S.   6  punten   gemaakt  318  in  218   beurten, moyenne van 1,458  rang punten 4   rang moyenne 2       totaal  7  punten",null,null,null,null,null,null,"3.  Frank Stevens  D.L.S.   6  punten   gemaakt  318  in  218   beurten, moyenne van 1,458       rang punten 4        rang gem. caramboles 3","3.  Frank Stevens  D.L.S.   6  punten   gemaakt  318  in  218   beurten, moyenne van 1,458       rang punten 4        rang gem. caramboles 3          totaal  7  punten",null,null,null,null,null,2.9499999999999975,null,null,null,null,null,"3.  Frank Stevens  D.L.S.   6  punten   gemaakt  318  in  218   beurten, moyenne van 1,458       rang punten 4        rang gem. caramboles 3          totaal  7  punten"]
[4,169828,"Renate Jansen-Albers","Slootermeer & Scholtenhof",55,330,6,298,226,1.3180000000000001,1.32,0.90303030303030307,1.4,0.99848484848484853,4,6,7,4,11,"",6,11,"1,318",null,{"$f":"CONCATENATE(\"4.  \",C66,\"  \",D66,\"   \")","v":"4.  Renate Jansen-Albers  Slootermeer & Scholtenhof   "},"4.  Renate Jansen-Albers  Slootermeer & Scholtenhof   6  punten   gemaakt  298","4.  Renate Jansen-Albers  Slootermeer & Scholtenhof   6  punten   gemaakt  298  in  226   beurten, moyenne van 1,318","4.  Renate Jansen-Albers  Slootermeer & Scholtenhof   6  punten   gemaakt  298  in  226   beurten, moyenne van 1,318  rang punten 4   rang moyenne 6","4.  Renate Jansen-Albers  Slootermeer & Scholtenhof   6  punten   gemaakt  298  in  226   beurten, moyenne van 1,318  rang punten 4   rang moyenne 6       totaal  11  punten",null,null,null,null,null,null,"4.  Renate Jansen-Albers  Slootermeer & Scholtenhof   6  punten   gemaakt  298  in  226   beurten, moyenne van 1,318       rang punten 4        rang gem. caramboles 7","4.  Renate Jansen-Albers  Slootermeer & Scholtenhof   6  punten   gemaakt  298  in  226   beurten, moyenne van 1,318       rang punten 4        rang gem. caramboles 7          totaal  11  punten",null,null,null,null,null,2.9999999999999973,null,null,null,null,null,"4.  Renate Jansen-Albers  Slootermeer & Scholtenhof   6  punten   gemaakt  298  in  226   beurten, moyenne van 1,318       rang punten 4        rang gem. caramboles 7          totaal  11  punten"]
[5,209553,"Lucilio Cordeiro","Nijman",55,330,6,301,243,1.238,1.42,0.91212121212121211,1.5,0.87183098591549302,4,8,6,8,10,"",4,10,"1,238",null,{"$f":"CONCATENATE(\"5.  \",C67,\"  \",D67,\"   \")","v":"5.  Lucilio Cordeiro  Nijman   "},"5.  Lucilio Cordeiro  Nijman   6  punten   gemaakt  301","5.  Lucilio Cordeiro  Nijman   6  punten   gemaakt  301  in  243   beurten, moyenne van 1,238","5.  Lucilio Cordeiro  Nijman   6  punten   gemaakt  301  in  243   beurten, moyenne van 1,238  rang punten 4   rang moyenne 8","5.  Lucilio Cordeiro  Nijman   6  punten   gemaakt  301  in  243   beurten, moyenne van 1,238  rang punten 4   rang moyenne 8       totaal  10  punten",null,null,null,null,null,null,"5.  Lucilio Cordeiro  Nijman   6  punten   gemaakt  301  in  243   beurten, moyenne van 1,238       rang punten 4        rang gem. caramboles 6","5.  Lucilio Cordeiro  Nijman   6  punten   gemaakt  301  in  243   beurten, moyenne van 1,238       rang punten 4        rang gem. caramboles 6          totaal  10  punten",null,null,null,null,null,3.0499999999999972,null,null,null,null,null,"5.  Lucilio Cordeiro  Nijman   6  punten   gemaakt  301  in  243   beurten, moyenne van 1,238       rang punten 4        rang gem. caramboles 6          totaal  10  punten"]
[6,146509,"Jozef Schabbink","Tapperij",55,330,5,302,216,1.3979999999999999,1.4,0.91515151515151516,1.5,0.99857142857142855,6.5,5,5,3,11.5,"",7,11.5,"1,398",null,{"$f":"CONCATENATE(\"6.  \",C68,\"  \",D68,\"   \")","v":"6.  Jozef Schabbink  Tapperij   "},"6.  Jozef Schabbink  Tapperij   5  punten   gemaakt  302","6.  Jozef Schabbink  Tapperij   5  punten   gemaakt  302  in  216   beurten, moyenne van 1,398","6.  Jozef Schabbink  Tapperij   5  punten   gemaakt  302  in  216   beurten, moyenne van 1,398  rang punten 6,5   rang moyenne 5","6.  Jozef Schabbink  Tapperij   5  punten   gemaakt  302  in  216   beurten, moyenne van 1,398  rang punten 6,5   rang moyenne 5       totaal  11,5  punten",null,null,null,null,null,null,"6.  Jozef Schabbink  Tapperij   5  punten   gemaakt  302  in  216   beurten, moyenne van 1,398       rang punten 6,5        rang gem. caramboles 5","6.  Jozef Schabbink  Tapperij   5  punten   gemaakt  302  in  216   beurten, moyenne van 1,398       rang punten 6,5        rang gem. caramboles 5          totaal  11,5  punten",null,null,null,null,null,3.099999999999997,null,null,null,null,null,"6.  Jozef Schabbink  Tapperij   5  punten   gemaakt  302  in  216   beurten, moyenne van 1,398       rang punten 6,5        rang gem. caramboles 5          totaal  11,5  punten"]
[7,149009,"Coen Stiemer","De Pol",55,330,5,306,254,1.204,1.4,0.92727272727272725,1.5,0.86,6.5,9,4,9,10.5,"",5,10.5,"1,204",null,{"$f":"CONCATENATE(\"7.  \",C69,\"  \",D69,\"   \")","v":"7.  Coen Stiemer  De Pol   "},"7.  Coen Stiemer  De Pol   5  punten   gemaakt  306","7.  Coen Stiemer  De Pol   5  punten   gemaakt  306  in  254   beurten, moyenne van 1,204","7.  Coen Stiemer  De Pol   5  punten   gemaakt  306  in  254   beurten, moyenne van 1,204  rang punten 6,5   rang moyenne 9","7.  Coen Stiemer  De Pol   5  punten   gemaakt  306  in  254   beurten, moyenne van 1,204  rang punten 6,5   rang moyenne 9       totaal  10,5  punten",null,null,null,null,null,null,"7.  Coen Stiemer  De Pol   5  punten   gemaakt  306  in  254   beurten, moyenne van 1,204       rang punten 6,5        rang gem. caramboles 4","7.  Coen Stiemer  De Pol   5  punten   gemaakt  306  in  254   beurten, moyenne van 1,204       rang punten 6,5        rang gem. caramboles 4          totaal  10,5  punten",null,null,null,null,null,3.1499999999999968,null,null,null,null,null,"7.  Coen Stiemer  De Pol   5  punten   gemaakt  306  in  254   beurten, moyenne van 1,204       rang punten 6,5        rang gem. caramboles 4          totaal  10,5  punten"]
[8,177750,"Tonnie Bisselink","KÃ¶ster",55,330,4,291,206,1.4119999999999999,1.41,0.88181818181818183,1.5,1.0014184397163119,9,3,8,2,17,"",8,17,"1,412",null,{"$f":"CONCATENATE(\"8.  \",C70,\"  \",D70,\"   \")","v":"8.  Tonnie Bisselink  KÃ¶ster   "},"8.  Tonnie Bisselink  KÃ¶ster   4  punten   gemaakt  291","8.  Tonnie Bisselink  KÃ¶ster   4  punten   gemaakt  291  in  206   beurten, moyenne van 1,412","8.  Tonnie Bisselink  KÃ¶ster   4  punten   gemaakt  291  in  206   beurten, moyenne van 1,412  rang punten 9   rang moyenne 3","8.  Tonnie Bisselink  KÃ¶ster   4  punten   gemaakt  291  in  206   beurten, moyenne van 1,412  rang punten 9   rang moyenne 3       totaal  17  punten",null,null,null,null,null,null,"8.  Tonnie Bisselink  KÃ¶ster   4  punten   gemaakt  291  in  206   beurten, moyenne van 1,412       rang punten 9        rang gem. caramboles 8","8.  Tonnie Bisselink  KÃ¶ster   4  punten   gemaakt  291  in  206   beurten, moyenne van 1,412       rang punten 9        rang gem. caramboles 8          totaal  17  punten",null,null,null,null,null,3.1999999999999966,null,null,null,null,null,"8.  Tonnie Bisselink  KÃ¶ster   4  punten   gemaakt  291  in  206   beurten, moyenne van 1,412       rang punten 9        rang gem. caramboles 8          totaal  17  punten"]
[9,136552,"Cees Vikkerman","A.b.c.",55,330,4,274,216,1.268,1.53,0.83030303030303032,1.6,0.82875816993464047,9,7,9,10,18,"",9,18,"1,268",null,{"$f":"CONCATENATE(\"9.  \",C71,\"  \",D71,\"   \")","v":"9.  Cees Vikkerman  A.b.c.   "},"9.  Cees Vikkerman  A.b.c.   4  punten   gemaakt  274","9.  Cees Vikkerman  A.b.c.   4  punten   gemaakt  274  in  216   beurten, moyenne van 1,268","9.  Cees Vikkerman  A.b.c.   4  punten   gemaakt  274  in  216   beurten, moyenne van 1,268  rang punten 9   rang moyenne 7","9.  Cees Vikkerman  A.b.c.   4  punten   gemaakt  274  in  216   beurten, moyenne van 1,268  rang punten 9   rang moyenne 7       totaal  18  punten",null,null,null,null,null,null,"9.  Cees Vikkerman  A.b.c.   4  punten   gemaakt  274  in  216   beurten, moyenne van 1,268       rang punten 9        rang gem. caramboles 9","9.  Cees Vikkerman  A.b.c.   4  punten   gemaakt  274  in  216   beurten, moyenne van 1,268       rang punten 9        rang gem. caramboles 9          totaal  18  punten",null,null,null,null,null,3.2499999999999964,null,null,null,null,null,"9.  Cees Vikkerman  A.b.c.   4  punten   gemaakt  274  in  216   beurten, moyenne van 1,268       rang punten 9        rang gem. caramboles 9          totaal  18  punten"]
[10,140583,"Martin Koster","Concordia `54",55,330,4,265,229,1.157,1.1499999999999999,0.80303030303030298,1.2,1.0060869565217392,9,10,10,1,19,"ONDER MOY.GRENS",10,19,"1,157",null,{"$f":"CONCATENATE(\"10.  \",C72,\"  \",D72,\"   \")","v":"10.  Martin Koster  Concordia `54   "},"10.  Martin Koster  Concordia `54   4  punten   gemaakt  265","10.  Martin Koster  Concordia `54   4  punten   gemaakt  265  in  229   beurten, moyenne van 1,157","10.  Martin Koster  Concordia `54   4  punten   gemaakt  265  in  229   beurten, moyenne van 1,157  rang punten 9   rang moyenne 10","10.  Martin Koster  Concordia `54   4  punten   gemaakt  265  in  229   beurten, moyenne van 1,157  rang punten 9   rang moyenne 10       totaal  19  punten",null,null,null,null,null,null,"10.  Martin Koster  Concordia `54   4  punten   gemaakt  265  in  229   beurten, moyenne van 1,157       rang punten 9        rang gem. caramboles 10","10.  Martin Koster  Concordia `54   4  punten   gemaakt  265  in  229   beurten, moyenne van 1,157       rang punten 9        rang gem. caramboles 10          totaal  19  punten",null,null,null,null,null,3.2999999999999963,null,null,null,null,null,"10.  Martin Koster  Concordia `54   4  punten   gemaakt  265  in  229   beurten, moyenne van 1,157       rang punten 9        rang gem. caramboles 10          totaal  19  punten"]
[11,"","","","","","","","","","","","","","","","","","","","","","",null,{"$f":"CONCATENATE(\"11.  \",C73,\"  \",D73,\"   \")","v":"11.       "},"11.         punten   gemaakt  ","11.         punten   gemaakt    in     beurten, moyenne van ","11.         punten   gemaakt    in     beurten, moyenne van   rang punten    rang moyenne ","",null,null,null,null,null,null,"11.         punten   gemaakt    in     beurten, moyenne van        rang punten         rang gem. caramboles ","",null,null,null,null,null,3.3499999999999961,null,null,null,null,null,""]
[12,"","","","","","","","","","","","","","","","","","","","","","",null,{"$f":"CONCATENATE(\"12.  \",C74,\"  \",D74,\"   \")","v":"12.       "},"12.         punten   gemaakt  ","12.         punten   gemaakt    in     beurten, moyenne van ","12.         punten   gemaakt    in     beurten, moyenne van   rang punten    rang moyenne ","",null,null,null,null,null,null,"12.         punten   gemaakt    in     beurten, moyenne van        rang punten         rang gem. caramboles ","",null,null,null,null,null,{"$f":"AQ73+0.05","v":3.3999999999999959},null,null,null,null,null,""]
[13,"","","","","","","","","","","","","","","","","","","","","","",null,{"$f":"CONCATENATE(\"13.  \",C75,\"  \",D75,\"   \")","v":"13.       "},"13.         punten   gemaakt  ","13.         punten   gemaakt    in     beurten, moyenne van ","13.         punten   gemaakt    in     beurten, moyenne van   rang punten    rang moyenne ","",null,null,null,null,null,null,"13.         punten   gemaakt    in     beurten, moyenne van        rang punten         rang gem. caramboles ","",null,null,null,null,null,3.4499999999999957,null,null,null,null,null,""]
[14,"","","","","","","","","","","","","","","","","","","","","","",null,{"$f":"CONCATENATE(\"14.  \",C76,\"  \",D76,\"   \")","v":"14.       "},"14.         punten   gemaakt  ","14.         punten   gemaakt    in     beurten, moyenne van ","14.         punten   gemaakt    in     beurten, moyenne van   rang punten    rang moyenne ","",null,null,null,null,null,null,"14.         punten   gemaakt    in     beurten, moyenne van        rang punten         rang gem. caramboles ","",null,null,null,null,null,3.4999999999999956,null,null,null,null,null,""]
[15,"","","","","","","","","","","","","","","","","","","","","","",null,{"$f":"CONCATENATE(\"15.  \",C77,\"  \",D77,\"   \")","v":"15.       "},"15.         punten   gemaakt  ","15.         punten   gemaakt    in     beurten, moyenne van ","15.         punten   gemaakt    in     beurten, moyenne van   rang punten    rang moyenne ","",null,null,null,null,null,null,"15.         punten   gemaakt    in     beurten, moyenne van        rang punten         rang gem. caramboles ","",null,null,null,null,null,3.5499999999999954,null,null,null,null,null,""]
[16,"","","","","","","","","","","","","","","","","","","","","","",null,{"$f":"CONCATENATE(\"16.  \",C78,\"  \",D78,\"   \")","v":"16.       "},"16.         punten   gemaakt  ","16.         punten   gemaakt    in     beurten, moyenne van ","16.         punten   gemaakt    in     beurten, moyenne van   rang punten    rang moyenne ",{"$f":"IF(ISNUMBER(B78),CONCATENATE(AB78,\"       totaal  \",V78,\"  punten\"),\"\")","v":""},null,null,null,null,null,null,"16.         punten   gemaakt    in     beurten, moyenne van        rang punten         rang gem. caramboles ","",null,null,null,null,null,3.5999999999999952,null,null,null,null,null,""]
[17,"","","","","","","","","","","","","","","","","","","","","","",null,{"$f":"CONCATENATE(\"17.  \",C79,\"  \",D79,\"   \")","v":"17.       "},"17.         punten   gemaakt  ","17.         punten   gemaakt    in     beurten, moyenne van ","17.         punten   gemaakt    in     beurten, moyenne van   rang punten    rang moyenne ","",null,null,null,null,null,null,"17.         punten   gemaakt    in     beurten, moyenne van        rang punten         rang gem. caramboles ","",null,null,null,null,null,3.649999999999995,null,null,null,null,null,""]
[18,"","","","","","","","","","","","","","","","","","","","","","",null,{"$f":"CONCATENATE(\"18.  \",C80,\"  \",D80,\"   \")","v":"18.       "},"18.         punten   gemaakt  ","18.         punten   gemaakt    in     beurten, moyenne van ","18.         punten   gemaakt    in     beurten, moyenne van   rang punten    rang moyenne ","",null,null,null,null,null,null,"18.         punten   gemaakt    in     beurten, moyenne van        rang punten         rang gem. caramboles ","",null,null,null,null,null,3.6999999999999948,null,null,null,null,null,""]
[19,"","","","","","","","","","","","","","","","","","","","","","",null,{"$f":"CONCATENATE(\"19.  \",C81,\"  \",D81,\"   \")","v":"19.       "},"19.         punten   gemaakt  ","19.         punten   gemaakt    in     beurten, moyenne van ","19.         punten   gemaakt    in     beurten, moyenne van   rang punten    rang moyenne ","",null,null,null,null,null,null,"19.         punten   gemaakt    in     beurten, moyenne van        rang punten         rang gem. caramboles ","",null,null,null,null,null,3.7499999999999947,null,null,null,null,null,""]
[20,"","","","","","","","","","","","","","","","","","","","","","",null,{"$f":"CONCATENATE(\"20.  \",C82,\"  \",D82,\"   \")","v":"20.       "},"20.         punten   gemaakt  ","20.         punten   gemaakt    in     beurten, moyenne van ","20.         punten   gemaakt    in     beurten, moyenne van   rang punten    rang moyenne ","",null,null,null,null,null,null,"20.         punten   gemaakt    in     beurten, moyenne van        rang punten         rang gem. caramboles ","",null,null,null,null,null,3.7999999999999945,null,null,null,null,null,""]
[21,"","","","","","","","","","","","","","","","","","","","","","",null,{"$f":"CONCATENATE(\"21.  \",C83,\"  \",D83,\"   \")","v":"21.       "},"21.         punten   gemaakt  ","21.         punten   gemaakt    in     beurten, moyenne van ","21.         punten   gemaakt    in     beurten, moyenne van   rang punten    rang moyenne ","",null,null,null,null,null,null,"21.         punten   gemaakt    in     beurten, moyenne van        rang punten         rang gem. caramboles ","",null,null,null,null,null,3.8499999999999943,null,null,null,null,null,""]
[22,"","","","","","","","","","","","","","","","","","","","","","",null,{"$f":"CONCATENATE(\"22.  \",C84,\"  \",D84,\"   \")","v":"22.       "},"22.         punten   gemaakt  ","22.         punten   gemaakt    in     beurten, moyenne van ","22.         punten   gemaakt    in     beurten, moyenne van   rang punten    rang moyenne ","",null,null,null,null,null,null,"22.         punten   gemaakt    in     beurten, moyenne van        rang punten         rang gem. caramboles ","",null,null,null,null,null,3.8999999999999941,null,null,null,null,null,""]
[23,"","","","","","","","","","","","","","","","","","","","","","",null,{"$f":"CONCATENATE(\"23.  \",C85,\"  \",D85,\"   \")","v":"23.       "},"23.         punten   gemaakt  ","23.         punten   gemaakt    in     beurten, moyenne van ","23.         punten   gemaakt    in     beurten, moyenne van   rang punten    rang moyenne ","",null,null,null,null,null,null,"23.         punten   gemaakt    in     beurten, moyenne van        rang punten         rang gem. caramboles ","",null,null,null,null,null,3.949999999999994,null,null,null,null,null,""]
[24,"","","","","","","","","","","","","","","","","","","","","","",null,{"$f":"CONCATENATE(\"24.  \",C86,\"  \",D86,\"   \")","v":"24.       "},"24.         punten   gemaakt  ","24.         punten   gemaakt    in     beurten, moyenne van ","24.         punten   gemaakt    in     beurten, moyenne van   rang punten    rang moyenne ","",null,null,null,null,null,null,"24.         punten   gemaakt    in     beurten, moyenne van        rang punten         rang gem. caramboles ","",null,null,null,null,null,3.9999999999999938,null,null,null,null,null,""]
[25,"","","","","","","","","","","","","","","","","","","","","","",null,{"$f":"CONCATENATE(\"25.  \",C87,\"  \",D87,\"   \")","v":"25.       "},"25.         punten   gemaakt  ","25.         punten   gemaakt    in     beurten, moyenne van ","25.         punten   gemaakt    in     beurten, moyenne van   rang punten    rang moyenne ","",null,null,null,null,null,null,"25.         punten   gemaakt    in     beurten, moyenne van        rang punten         rang gem. caramboles ","",null,null,null,null,null,4.0499999999999936,null,null,null,null,null,""]
[26,"","","","","","","","","","","","","","","","","","","","","","",null,{"$f":"CONCATENATE(\"26.  \",C88,\"  \",D88,\"   \")","v":"26.       "},"26.         punten   gemaakt  ","26.         punten   gemaakt    in     beurten, moyenne van ","26.         punten   gemaakt    in     beurten, moyenne van   rang punten    rang moyenne ","",null,null,null,null,null,null,"26.         punten   gemaakt    in     beurten, moyenne van        rang punten         rang gem. caramboles ","",null,null,null,null,null,4.0999999999999934,null,null,null,null,null,""]
[27,"","","","","","","","","","","","","","","","","","","","","","",null,{"$f":"CONCATENATE(\"27.  \",C89,\"  \",D89,\"   \")","v":"27.       "},"27.         punten   gemaakt  ","27.         punten   gemaakt    in     beurten, moyenne van ","27.         punten   gemaakt    in     beurten, moyenne van   rang punten    rang moyenne ","",null,null,null,null,null,null,"27.         punten   gemaakt    in     beurten, moyenne van        rang punten         rang gem. caramboles ","",null,null,null,null,null,4.1499999999999932,null,null,null,null,null,""]
[28,"","","","","","","","","","","","","","","","","","","","","","",null,{"$f":"CONCATENATE(\"28.  \",C90,\"  \",D90,\"   \")","v":"28.       "},"28.         punten   gemaakt  ","28.         punten   gemaakt    in     beurten, moyenne van ","28.         punten   gemaakt    in     beurten, moyenne van   rang punten    rang moyenne ","",null,null,null,null,null,null,"28.         punten   gemaakt    in     beurten, moyenne van        rang punten         rang gem. caramboles ","",null,null,null,null,null,4.1999999999999931,null,null,null,null,null,""]
[29,"","","","","","","","","","","","","","","","","","","","","","",null,{"$f":"CONCATENATE(\"29.  \",C91,\"  \",D91,\"   \")","v":"29.       "},"29.         punten   gemaakt  ","29.         punten   gemaakt    in     beurten, moyenne van ","29.         punten   gemaakt    in     beurten, moyenne van   rang punten    rang moyenne ","",null,null,null,null,null,null,"29.         punten   gemaakt    in     beurten, moyenne van        rang punten         rang gem. caramboles ","",null,null,null,null,null,4.2499999999999929,null,null,null,null,null,""]
[30,"","","","","","","","","","","","","","","","","","","","","","",null,{"$f":"CONCATENATE(\"30.  \",C92,\"  \",D92,\"   \")","v":"30.       "},"30.         punten   gemaakt  ","30.         punten   gemaakt    in     beurten, moyenne van ","30.         punten   gemaakt    in     beurten, moyenne van   rang punten    rang moyenne ","",null,null,null,null,null,null,"30.         punten   gemaakt    in     beurten, moyenne van        rang punten         rang gem. caramboles ","",null,null,null,null,null,4.2999999999999927,null,null,null,null,null,""]
[31,"","","","","","","","","","","","","","","","","","","","","","",null,{"$f":"CONCATENATE(\"31.  \",C93,\"  \",D93,\"   \")","v":"31.       "},"31.         punten   gemaakt  ","31.         punten   gemaakt    in     beurten, moyenne van ","31.         punten   gemaakt    in     beurten, moyenne van   rang punten    rang moyenne ","",null,null,null,null,null,null,"31.         punten   gemaakt    in     beurten, moyenne van        rang punten         rang gem. caramboles ","",null,null,null,null,null,4.3499999999999925,null,null,null,null,null,""]
[32,"","","","","","","","","","","","","","","","","","","","","","",null,{"$f":"CONCATENATE(\"32.  \",C94,\"  \",D94,\"   \")","v":"32.       "},"32.         punten   gemaakt  ","32.         punten   gemaakt    in     beurten, moyenne van ","32.         punten   gemaakt    in     beurten, moyenne van   rang punten    rang moyenne ","",null,null,null,null,null,null,"32.         punten   gemaakt    in     beurten, moyenne van        rang punten         rang gem. caramboles ","",null,null,null,null,null,4.3999999999999924,null,null,null,null,null,""]
[33,"","","","","","","","","","","","","","","","","","","","","","",null,{"$f":"CONCATENATE(\"33.  \",C95,\"  \",D95,\"   \")","v":"33.       "},"33.         punten   gemaakt  ","33.         punten   gemaakt    in     beurten, moyenne van ","33.         punten   gemaakt    in     beurten, moyenne van   rang punten    rang moyenne ","",null,null,null,null,null,null,"33.         punten   gemaakt    in     beurten, moyenne van        rang punten         rang gem. caramboles ","",null,null,null,null,null,4.4499999999999922,null,null,null,null,null,""]
[34,"","","","","","","","","","","","","","","","","","","","","","",null,{"$f":"CONCATENATE(\"34.  \",C96,\"  \",D96,\"   \")","v":"34.       "},"34.         punten   gemaakt  ","34.         punten   gemaakt    in     beurten, moyenne van ","34.         punten   gemaakt    in     beurten, moyenne van   rang punten    rang moyenne ","",null,null,null,null,null,null,"34.         punten   gemaakt    in     beurten, moyenne van        rang punten         rang gem. caramboles ","",null,null,null,null,null,4.499999999999992,null,null,null,null,null,""]
[null,null,null,null,null,null,null,null,null,null,null,null,null,null,null,null,null,null,null,{"$f":"IF(ISNUMBER(B97),IF(V97>4000,\"directe promotie\",IF(V97>3000,\"degradatie\",IF(V97>2000,\"halve degradatie\",IF(V97>1000,\"promotie\")))),\"\")","v":""},null,null,null,null,null,"  punten   gemaakt  ","  punten   gemaakt    in     beurten, moyenne van ","  punten   gemaakt    in     beurten, moyenne van   rang punten    rang moyenne ",{"$f":"IF(ISNUMBER(B97),CONCATENATE(AB97,\"       totaal  \",S97,\"  punten\"),\"\")","v":""},null,null,null,null,null,null,{"$f":"CONCATENATE($AA97,\"  rang punten \",W97,\"   rang gem. caramboles \",Q97)","v":"  punten   gemaakt    in     beurten, moyenne van   rang punten    rang gem. caramboles "},{"$f":"IF(ISNUMBER(B97),CONCATENATE(AJ97,\"          totaal  \",S97,\"  punten\"),\"\")","v":""},null,null,null,null,null,4.5499999999999918,null,null,null,null,null,""]
[null,null,null,null,null,null,null,null,null,null,null,null,null,null,null,null,null,null,null,null,null,null,null,null,null,null,null,null,null,null,null,null,null,null,null,null,{"$f":"IF(ISNUMBER(B98),CONCATENATE(AJ98,\"          totaal  \",S98,\"  punten\"),\"\")","v":""},null,null,null,null,null,4.5999999999999917,null,null,null,null,null,""]
[null,null,null,null,null,null,null,null,null,null,null,null,null,null,null,null,null,null,null,null,null,null,null,null,null,null,null,null,null,null,null,null,null,null,null,null,null,null,null,null,null,null,4.6499999999999915,null,null,null,null,null,0]
[null,null,null,null,null,null,null,null,null,null,null,null,null,null,null,null,null,null,null,null,null,null,null,null,null,null,null,null,null,null,null,null,null,null,null,null,null,null,null,null,null,null,4.6999999999999913,null,null,null,null,null,0]
[null,null,null,null,null,null,null,null,null,null,null,null,null,null,null,null,null,null,null,null,null,null,null,null,null,null,null,null,null,null,null,null,null,null,null,null,null,null,null,null,null,null,4.7499999999999911,null,null,null,null,null,0]
[null,null,null,null,null,null,null,null,null,null,null,null,null,null,null,null,null,null,null,null,null,null,null,null,null,null,null,null,null,null,null,null,null,null,null,null,null,null,null,null,null,null,4.7999999999999909,null,null,null,null,null,0]
[null,null,null,null,null,null,null,null,null,null,null,null,null,null,null,null,null,null,null,null,null,null,null,null,null,null,null,null,null,null,null,null,null,null,null,null,null,null,null,null,null,null,4.8499999999999908,null,null,null,null,null,0]
[null,null,null,null,null,null,null,null,null,null,null,null,null,null,null,null,null,null,null,null,null,null,null,null,null,null,null,null,null,null,null,null,null,null,null,null,null,null,null,null,null,null,4.8999999999999906]
[null,null,null,null,null,null,null,null,null,null,null,null,null,null,null,null,null,null,null,null,null,null,null,null,null,null,null,null,null,null,null,null,null,null,null,null,null,null,null,null,null,null,4.9499999999999904]
[null,null,null,null,null,null,null,null,null,null,null,null,null,null,null,null,null,null,null,null,null,null,null,null,null,null,null,null,null,null,null,null,null,null,null,null,null,null,null,null,null,null,4.9999999999999902]
[null,null,null,null,null,null,null,null,null,null,null,null,null,null,null,null,null,null,null,null,null,null,null,null,null,null,null,null,null,null,null,null,null,null,null,null,null,null,null,null,null,null,{"$f":"AQ106+0.1","v":5.0999999999999899}]
[null,null,null,null,null,null,null,null,null,null,null,null,null,null,null,null,null,null,null,null,null,null,null,null,null,null,null,null,null,null,null,null,null,null,null,null,null,null,null,null,null,null,{"$f":"AQ107+0.1","v":5.1999999999999895}]
[null,null,null,null,null,null,null,null,null,null,null,null,null,null,null,null,null,null,null,"opm.",null,null,null,null,null,null,null,null,null,null,null,null,null,null,null,null,null,null,null,null,null,null,5.2999999999999892]
[null,null,null,null,null,null,null,null,null,null,null,null,null,null,null,null,null,null,null,null,null,null,null,null,null,null,null,null,null,null,null,null,null,null,null,null,null,null,null,null,null,null,5.3999999999999888]
[null,null,null,null,null,null,null,null,null,null,null,null,null,null,null,null,null,null,null,null,null,null,null,null,null,null,null,null,null,null,null,null,null,null,null,null,null,null,null,null,null,null,5.4999999999999885]
[null,null,null,null,null,null,null,null,null,null,null,null,null,null,null,null,null,null,null,null,null,null,null,null,null,null,null,null,null,null,null,null,null,null,null,null,null,null,null,null,null,null,5.5999999999999881]
[null,null,null,null,null,null,null,null,null,null,null,null,null,null,null,null,null,null,null,null,null,null,null,null,null,null,null,null,null,null,null,null,null,null,null,null,null,null,null,null,null,null,5.6999999999999877]
[null,null,null,null,null,null,null,null,null,null,null,null,null,null,null,null,null,null,null,null,null,null,null,null,null,null,null,null,null,null,null,null,null,null,null,null,null,null,null,null,null,null,5.7999999999999874]
[null,null,null,null,null,null,null,null,null,null,null,null,null,null,null,null,null,null,null,null,null,null,null,null,null,null,null,null,null,null,null,null,null,null,null,null,null,null,null,null,null,null,5.899999999999987]
[null,null,null,null,null,null,null,null,null,null,null,null,null,null,null,null,null,null,null,null,null,null,null,null,null,null,null,null,null,null,null,null,null,null,null,null,null,null,null,null,null,null,5.9999999999999867]
[null,null,null,null,null,null,null,null,null,null,null,null,null,null,null,null,null,null,null,null,null,null,null,null,null,null,null,null,null,null,null,null,null,null,null,null,null,null,null,null,null,null,6.0999999999999863]
[null,null,null,null,null,null,null,null,null,null,null,null,null,null,null,null,null,null,null,null,null,null,null,null,null,null,null,null,null,null,null,null,null,null,null,null,null,null,null,null,null,null,6.199999999999986]
[null,null,null,null,null,null,null,null,null,null,null,null,null,null,null,null,null,null,null,null,null,null,null,null,null,null,null,null,null,null,null,null,null,null,null,null,null,null,null,null,null,null,6.2999999999999856]
[null,null,null,null,null,null,null,null,null,null,null,null,null,null,null,null,null,null,null,null,null,null,null,null,null,null,null,null,null,null,null,null,null,null,null,null,null,null,null,null,null,null,6.3999999999999853]
[null,null,null,null,null,null,null,null,null,null,null,null,null,null,null,null,null,null,null,null,null,null,null,null,null,null,null,null,null,null,null,null,null,null,null,null,null,null,null,null,null,null,6.4999999999999849]
[null,null,null,null,null,null,null,null,null,null,null,null,null,null,null,null,null,null,null,null,null,null,null,null,null,null,null,null,null,null,null,null,null,null,null,null,null,null,null,null,null,null,6.5999999999999845]
[null,null,null,null,null,null,null,null,null,null,null,null,null,null,null,null,null,null,null,null,null,null,null,null,null,null,null,null,null,null,null,null,null,null,null,null,null,null,null,null,null,null,6.6999999999999842]
[null,null,null,null,null,null,null,null,null,null,null,null,null,null,null,null,null,null,null,null,null,null,null,null,null,null,null,null,null,null,null,null,null,null,null,null,null,null,null,null,null,null,6.7999999999999838]
[null,null,null,null,null,null,null,null,null,null,null,null,null,null,null,null,null,null,null,null,null,null,null,null,null,null,null,null,null,null,null,null,null,null,null,null,null,null,null,null,null,null,6.8999999999999835]
[null,null,null,null,null,null,null,null,null,null,null,null,null,null,null,null,null,null,null,null,null,null,null,null,null,null,null,null,null,null,null,null,null,null,null,null,null,null,null,null,null,null,6.9999999999999831]
[null,null,null,null,null,null,null,null,null,null,null,null,null,null,null,null,null,null,null,null,null,null,null,null,null,null,null,null,null,null,null,null,null,null,null,null,null,null,null,null,null,null,7.0999999999999828]
[null,null,null,null,null,null,null,null,null,null,null,null,null,null,null,null,null,null,null,null,null,null,null,null,null,null,null,null,null,null,null,null,null,null,null,null,null,null,null,null,null,null,7.1999999999999824]
[null,null,null,null,null,null,null,null,null,null,null,null,null,null,null,null,null,null,null,null,null,null,null,null,null,null,null,null,null,null,null,null,null,null,null,null,null,null,null,null,null,null,7.2999999999999821]
[null,null,null,null,null,null,null,null,null,null,null,null,null,null,null,null,null,null,null,null,null,null,null,null,null,null,null,null,null,null,null,null,null,null,null,null,null,null,null,null,null,null,7.3999999999999817]
[null,null,null,null,null,null,null,null,null,null,null,null,null,null,null,null,null,null,null,null,null,null,null,null,null,null,null,null,null,null,null,null,null,null,null,null,null,null,null,null,null,null,7.4999999999999813]
[null,null,null,null,null,null,null,null,null,null,null,null,null,null,null,null,null,null,null,null,null,null,null,null,null,null,null,null,null,null,null,null,null,null,null,null,null,null,null,null,null,null,7.599999999999981]
[null,null,null,null,null,null,null,null,null,null,null,null,null,null,null,null,null,null,null,null,null,null,null,null,null,null,null,null,null,null,null,null,null,null,null,null,null,null,null,null,null,null,7.6999999999999806]
[null,null,null,null,null,null,null,null,null,null,null,null,null,null,null,null,null,null,null,null,null,null,null,null,null,null,null,null,null,null,null,null,null,null,null,null,null,null,null,null,null,null,7.7999999999999803]
[null,null,null,null,null,null,null,null,null,null,null,null,null,null,null,null,null,null,null,null,null,null,null,null,null,null,null,null,null,null,null,null,null,null,null,null,null,null,null,null,null,null,7.8999999999999799]
[null,null,null,null,null,null,null,null,null,null,null,null,null,null,null,null,null,null,null,null,null,null,null,null,null,null,null,null,null,null,null,null,null,null,null,null,null,null,null,null,null,null,7.9999999999999796]
[null,null,null,null,null,null,null,null,null,null,null,null,null,null,null,null,null,null,null,null,null,null,null,null,null,null,null,null,null,null,null,null,null,null,null,null,null,null,null,null,null,null,8.0999999999999801]
[null,null,null,null,null,null,null,null,null,null,null,null,null,null,null,null,null,null,null,null,null,null,null,null,null,null,null,null,null,null,null,null,null,null,null,null,null,null,null,null,null,null,8.1999999999999797]
[null,null,null,null,null,null,null,null,null,null,null,null,null,null,null,null,null,null,null,null,null,null,null,null,null,null,null,null,null,null,null,null,null,null,null,null,null,null,null,null,null,null,8.2999999999999794]
[null,null,null,null,null,null,null,null,null,null,null,null,null,null,null,null,null,null,null,null,null,null,null,null,null,null,null,null,null,null,null,null,null,null,null,null,null,null,null,null,null,null,8.399999999999979]
[null,null,null,null,null,null,null,null,null,null,null,null,null,null,null,null,null,null,null,null,null,null,null,null,null,null,null,null,null,null,null,null,null,null,null,null,null,null,null,null,null,null,8.4999999999999787]
[null,null,null,null,null,null,null,null,null,null,null,null,null,null,null,null,null,null,null,null,null,null,null,null,null,null,null,null,null,null,null,null,null,null,null,null,null,null,null,null,null,null,8.5999999999999783]
[null,null,null,null,null,null,null,null,null,null,null,null,null,null,null,null,null,null,null,null,null,null,null,null,null,null,null,null,null,null,null,null,null,null,null,null,null,null,null,null,null,null,8.699999999999978]
[null,null,null,null,null,null,null,null,null,null,null,null,null,null,null,null,null,null,null,null,null,null,null,null,null,null,null,null,null,null,null,null,null,null,null,null,null,null,null,null,null,null,8.7999999999999776]
[null,null,null,null,null,null,null,null,null,null,null,null,null,null,null,null,null,null,null,null,null,null,null,null,null,null,null,null,null,null,null,null,null,null,null,null,null,null,null,null,null,null,8.8999999999999773]
[null,null,null,null,null,null,null,null,null,null,null,null,null,null,null,null,null,null,null,null,null,null,null,null,null,null,null,null,null,null,null,null,null,null,null,null,null,null,null,null,null,null,8.9999999999999769]
[null,null,null,null,null,null,null,null,null,null,null,null,null,null,null,null,null,null,null,null,null,null,null,null,null,null,null,null,null,null,null,null,null,null,null,null,null,null,null,null,null,null,9.0999999999999766]
[null,null,null,null,null,null,null,null,null,null,null,null,null,null,null,null,null,null,null,null,null,null,null,null,null,null,null,null,null,null,null,null,null,null,null,null,null,null,null,null,null,null,9.1999999999999762]
[null,null,null,null,null,null,null,null,null,null,null,null,null,null,null,null,null,null,null,null,null,null,null,null,null,null,null,null,null,null,null,null,null,null,null,null,null,null,null,null,null,null,9.2999999999999758]
[null,null,null,null,null,null,null,null,null,null,null,null,null,null,null,null,null,null,null,null,null,null,null,null,null,null,null,null,null,null,null,null,null,null,null,null,null,null,null,null,null,null,9.3999999999999755]
[null,null,null,null,null,null,null,null,null,null,null,null,null,null,null,null,null,null,null,null,null,null,null,null,null,null,null,null,null,null,null,null,null,null,null,null,null,null,null,null,null,null,9.4999999999999751]
[null,null,null,null,null,null,null,null,null,null,null,null,null,null,null,null,null,null,null,null,null,null,null,null,null,null,null,null,null,null,null,null,null,null,null,null,null,null,null,null,null,null,9.5999999999999748]
[null,null,null,null,null,null,null,null,null,null,null,null,null,null,null,null,null,null,null,null,null,null,null,null,null,null,null,null,null,null,null,null,null,null,null,null,null,null,null,null,null,null,9.6999999999999744]
[null,null,null,null,null,null,null,null,null,null,null,null,null,null,null,null,null,null,null,null,null,null,null,null,null,null,null,null,null,null,null,null,null,null,null,null,null,null,null,null,null,null,9.7999999999999741]
[null,null,null,null,null,null,null,null,null,null,null,null,null,null,null,null,null,null,null,null,null,null,null,null,null,null,null,null,null,null,null,null,null,null,null,null,null,null,null,null,null,null,9.8999999999999737]
[null,null,null,null,null,null,null,null,null,null,null,null,null,null,null,null,null,null,null,null,null,null,null,null,null,null,null,null,null,null,null,null,null,null,null,null,null,null,null,null,null,null,9.9999999999999734]
[null,null,null,null,null,null,null,null,null,null,null,null,null,null,null,null,null,null,null,null,null,null,null,null,null,null,null,null,null,null,null,null,null,null,null,null,null,null,null,null,null,null,10.099999999999973]
[null,null,null,null,null,null,null,null,null,null,null,null,null,null,null,null,null,null,null,null,null,null,null,null,null,null,null,null,null,null,null,null,null,null,null,null,null,null,null,null,null,null,10.199999999999973]
[null,null,null,null,null,null,null,null,null,null,null,null,null,null,null,null,null,null,null,null,null,null,null,null,null,null,null,null,null,null,null,null,null,null,null,null,null,null,null,null,null,null,10.299999999999972]
[null,null,null,null,null,null,null,null,null,null,null,null,null,null,null,null,null,null,null,null,null,null,null,null,null,null,null,null,null,null,null,null,null,null,null,null,null,null,null,null,null,null,10.399999999999972]
[null,null,null,null,null,null,null,null,null,null,null,null,null,null,null,null,null,null,null,null,null,null,null,null,null,null,null,null,null,null,null,null,null,null,null,null,null,null,null,null,null,null,10.499999999999972]
[null,null,null,null,null,null,null,null,null,null,null,null,null,null,null,null,null,null,null,null,null,null,null,null,null,null,null,null,null,null,null,null,null,null,null,null,null,null,null,null,null,null,10.599999999999971]
[null,null,null,null,null,null,null,null,null,null,null,null,null,null,null,null,null,null,null,null,null,null,null,null,null,null,null,null,null,null,null,null,null,null,null,null,null,null,null,null,null,null,10.699999999999971]
[null,null,null,null,null,null,null,null,null,null,null,null,null,null,null,null,null,null,null,null,null,null,null,null,null,null,null,null,null,null,null,null,null,null,null,null,null,null,null,null,null,null,10.799999999999971]
[null,null,null,null,null,null,null,null,null,null,null,null,null,null,null,null,null,null,null,null,null,null,null,null,null,null,null,null,null,null,null,null,null,null,null,null,null,null,null,null,null,null,10.89999999999997]
[null,null,null,null,null,null,null,null,null,null,null,null,null,null,null,null,null,null,null,null,null,null,null,null,null,null,null,null,null,null,null,null,null,null,null,null,null,null,null,null,null,null,10.99999999999997]
[null,null,null,null,null,null,null,null,null,null,null,null,null,null,null,null,null,null,null,null,null,null,null,null,null,null,null,null,null,null,null,null,null,null,null,null,null,null,null,null,null,null,11.099999999999969]
[null,null,null,null,null,null,null,null,null,null,null,null,null,null,null,null,null,null,null,null,null,null,null,null,null,null,null,null,null,null,null,null,null,null,null,null,null,null,null,null,null,null,11.199999999999969]
[null,null,null,null,null,null,null,null,null,null,null,null,null,null,null,null,null,null,null,null,null,null,null,null,null,null,null,null,null,null,null,null,null,null,null,null,null,null,null,null,null,null,11.299999999999969]
[null,null,null,null,null,null,null,null,null,null,null,null,null,null,null,null,null,null,null,null,null,null,null,null,null,null,null,null,null,null,null,null,null,null,null,null,null,null,null,null,null,null,11.399999999999968]
[null,null,null,null,null,null,null,null,null,null,null,null,null,null,null,null,null,null,null,null,null,null,null,null,null,null,null,null,null,null,null,null,null,null,null,null,null,null,null,null,null,null,11.499999999999968]
[null,null,null,null,null,null,null,null,null,null,null,null,null,null,null,null,null,null,null,null,null,null,null,null,null,null,null,null,null,null,null,null,null,null,null,null,null,null,null,null,null,null,{"$f":"AQ171+0.1","v":11.599999999999968}]
[null,null,null,null,null,null,null,null,null,null,null,null,null,null,null,null,null,null,null,null,null,null,null,null,null,null,null,null,null,null,null,null,null,null,null,null,null,null,null,null,null,null,11.699999999999967]
[null,null,null,null,null,null,null,null,null,null,null,null,null,null,null,null,null,null,null,null,null,null,null,null,null,null,null,null,null,null,null,null,null,null,null,null,null,null,null,null,null,null,11.799999999999967]
[null,null,null,null,null,null,null,null,null,null,null,null,null,null,null,null,null,null,null,null,null,null,null,null,null,null,null,null,null,null,null,null,null,null,null,null,null,null,null,null,null,null,11.899999999999967]
[null,null,null,null,null,null,null,null,null,null,null,null,null,null,null,null,null,null,null,null,null,null,null,null,null,null,null,null,null,null,null,null,null,null,null,null,null,null,null,null,null,null,11.999999999999966]
[null,null,null,null,null,null,null,null,null,null,null,null,null,null,null,null,null,null,null,null,null,null,null,null,null,null,null,null,null,null,null,null,null,null,null,null,null,null,null,null,null,null,12.099999999999966]
[null,null,null,null,null,null,null,null,null,null,null,null,null,null,null,null,null,null,null,null,null,null,null,null,null,null,null,null,null,null,null,null,null,null,null,null,null,null,null,null,null,null,12.199999999999966]
[null,null,null,null,null,null,null,null,null,null,null,null,null,null,null,null,null,null,null,null,null,null,null,null,null,null,null,null,null,null,null,null,null,null,null,null,null,null,null,null,null,null,12.299999999999965]
[null,null,null,null,null,null,null,null,null,null,null,null,null,null,null,null,null,null,null,null,null,null,null,null,null,null,null,null,null,null,null,null,null,null,null,null,null,null,null,null,null,null,12.399999999999965]
[null,null,null,null,null,null,null,null,null,null,null,null,null,null,null,null,null,null,null,null,null,null,null,null,null,null,null,null,null,null,null,null,null,null,null,null,null,null,null,null,null,null,12.499999999999964]
[null,null,null,null,null,null,null,null,null,null,null,null,null,null,null,null,null,null,null,null,null,null,null,null,null,null,null,null,null,null,null,null,null,null,null,null,null,null,null,null,null,null,12.599999999999964]
[null,null,null,null,null,null,null,null,null,null,null,null,null,null,null,null,null,null,null,null,null,null,null,null,null,null,null,null,null,null,null,null,null,null,null,null,null,null,null,null,null,null,12.699999999999964]
[null,null,null,null,null,null,null,null,null,null,null,null,null,null,null,null,null,null,null,null,null,null,null,null,null,null,null,null,null,null,null,null,null,null,null,null,null,null,null,null,null,null,12.799999999999963]
[null,null,null,null,null,null,null,null,null,null,null,null,null,null,null,null,null,null,null,null,null,null,null,null,null,null,null,null,null,null,null,null,null,null,null,null,null,null,null,null,null,null,12.899999999999963]
[null,null,null,null,null,null,null,null,null,null,null,null,null,null,null,null,null,null,null,null,null,null,null,null,null,null,null,null,null,null,null,null,null,null,null,null,null,null,null,null,null,null,12.999999999999963]
[null,null,null,null,null,null,null,null,null,null,null,null,null,null,null,null,null,null,null,null,null,null,null,null,null,null,null,null,null,null,null,null,null,null,null,null,null,null,null,null,null,null,13.099999999999962]
[null,null,null,null,null,null,null,null,null,null,null,null,null,null,null,null,null,null,null,null,null,null,null,null,null,null,null,null,null,null,null,null,null,null,null,null,null,null,null,null,null,null,13.199999999999962]
[null,null,null,null,null,null,null,null,null,null,null,null,null,null,null,null,null,null,null,null,null,null,null,null,null,null,null,null,null,null,null,null,null,null,null,null,null,null,null,null,null,null,13.299999999999962]
[null,null,null,null,null,null,null,null,null,null,null,null,null,null,null,null,null,null,null,null,null,null,null,null,null,null,null,null,null,null,null,null,null,null,null,null,null,null,null,null,null,null,13.399999999999961]
[null,null,null,null,null,null,null,null,null,null,null,null,null,null,null,null,null,null,null,null,null,null,null,null,null,null,null,null,null,null,null,null,null,null,null,null,null,null,null,null,null,null,13.499999999999961]
[null,null,null,null,null,null,null,null,null,null,null,null,null,null,null,null,null,null,null,null,null,null,null,null,null,null,null,null,null,null,null,null,null,null,null,null,null,null,null,null,null,null,13.599999999999961]
[null,null,null,null,null,null,null,null,null,null,null,null,null,null,null,null,null,null,null,null,null,null,null,null,null,null,null,null,null,null,null,null,null,null,null,null,null,null,null,null,null,null,13.69999999999996]
[null,null,null,null,null,null,null,null,null,null,null,null,null,null,null,null,null,null,null,null,null,null,null,null,null,null,null,null,null,null,null,null,null,null,null,null,null,null,null,null,null,null,13.79999999999996]
[null,null,null,null,null,null,null,null,null,null,null,null,null,null,null,null,null,null,null,null,null,null,null,null,null,null,null,null,null,null,null,null,null,null,null,null,null,null,null,null,null,null,13.899999999999959]
[null,null,null,null,null,null,null,null,null,null,null,null,null,null,null,null,null,null,null,null,null,null,null,null,null,null,null,null,null,null,null,null,null,null,null,null,null,null,null,null,null,null,13.999999999999959]
[null,null,null,null,null,null,null,null,null,null,null,null,null,null,null,null,null,null,null,null,null,null,null,null,null,null,null,null,null,null,null,null,null,null,null,null,null,null,null,null,null,null,14.099999999999959]
[null,null,null,null,null,null,null,null,null,null,null,null,null,null,null,null,null,null,null,null,null,null,null,null,null,null,null,null,null,null,null,null,null,null,null,null,null,null,null,null,null,null,14.199999999999958]
[null,null,null,null,null,null,null,null,null,null,null,null,null,null,null,null,null,null,null,null,null,null,null,null,null,null,null,null,null,null,null,null,null,null,null,null,null,null,null,null,null,null,14.299999999999958]
[null,null,null,null,null,null,null,null,null,null,null,null,null,null,null,null,null,null,null,null,null,null,null,null,null,null,null,null,null,null,null,null,null,null,null,null,null,null,null,null,null,null,14.399999999999958]
[null,null,null,null,null,null,null,null,null,null,null,null,null,null,null,null,null,null,null,null,null,null,null,null,null,null,null,null,null,null,null,null,null,null,null,null,null,null,null,null,null,null,14.499999999999957]
[null,null,null,null,null,null,null,null,null,null,null,null,null,null,null,null,null,null,null,null,null,null,null,null,null,null,null,null,null,null,null,null,null,null,null,null,null,null,null,null,null,null,14.599999999999957]
[null,null,null,null,null,null,null,null,null,null,null,null,null,null,null,null,null,null,null,null,null,null,null,null,null,null,null,null,null,null,null,null,null,null,null,null,null,null,null,null,null,null,14.699999999999957]
[null,null,null,null,null,null,null,null,null,null,null,null,null,null,null,null,null,null,null,null,null,null,null,null,null,null,null,null,null,null,null,null,null,null,null,null,null,null,null,null,null,null,14.799999999999956]
[null,null,null,null,null,null,null,null,null,null,null,null,null,null,null,null,null,null,null,null,null,null,null,null,null,null,null,null,null,null,null,null,null,null,null,null,null,null,null,null,null,null,14.899999999999956]
[null,null,null,null,null,null,null,null,null,null,null,null,null,null,null,null,null,null,null,null,null,null,null,null,null,null,null,null,null,null,null,null,null,null,null,null,null,null,null,null,null,null,14.999999999999956]
[null,null,null,null,null,null,null,null,null,null,null,null,null,null,null,null,null,null,null,null,null,null,null,null,null,null,null,null,null,null,null,null,null,null,null,null,null,null,null,null,null,null,15.099999999999955]
[null,null,null,null,null,null,null,null,null,null,null,null,null,null,null,null,null,null,null,null,null,null,null,null,null,null,null,null,null,null,null,null,null,null,null,null,null,null,null,null,null,null,15.199999999999955]
[null,null,null,null,null,null,null,null,null,null,null,null,null,null,null,null,null,null,null,null,null,null,null,null,null,null,null,null,null,null,null,null,null,null,null,null,null,null,null,null,null,null,15.299999999999955]
[null,null,null,null,null,null,null,null,null,null,null,null,null,null,null,null,null,null,null,null,null,null,null,null,null,null,null,null,null,null,null,null,null,null,null,null,null,null,null,null,null,null,15.399999999999954]
[null,null,null,null,null,null,null,null,null,null,null,null,null,null,null,null,null,null,null,null,null,null,null,null,null,null,null,null,null,null,null,null,null,null,null,null,null,null,null,null,null,null,15.499999999999954]
[null,null,null,null,null,null,null,null,null,null,null,null,null,null,null,null,null,null,null,null,null,null,null,null,null,null,null,null,null,null,null,null,null,null,null,null,null,null,null,null,null,null,15.599999999999953]
[null,null,null,null,null,null,null,null,null,null,null,null,null,null,null,null,null,null,null,null,null,null,null,null,null,null,null,null,null,null,null,null,null,null,null,null,null,null,null,null,null,null,15.699999999999953]
[null,null,null,null,null,null,null,null,null,null,null,null,null,null,null,null,null,null,null,null,null,null,null,null,null,null,null,null,null,null,null,null,null,null,null,null,null,null,null,null,null,null,15.799999999999953]
[null,null,null,null,null,null,null,null,null,null,null,null,null,null,null,null,null,null,null,null,null,null,null,null,null,null,null,null,null,null,null,null,null,null,null,null,null,null,null,null,null,null,15.899999999999952]
[null,null,null,null,null,null,null,null,null,null,null,null,null,null,null,null,null,null,null,null,null,null,null,null,null,null,null,null,null,null,null,null,null,null,null,null,null,null,null,null,null,null,15.999999999999952]
[null,null,null,null,null,null,null,null,null,null,null,null,null,null,null,null,null,null,null,null,null,null,null,null,null,null,null,null,null,null,null,null,null,null,null,null,null,null,null,null,null,null,16.099999999999952]
[null,null,null,null,null,null,null,null,null,null,null,null,null,null,null,null,null,null,null,null,null,null,null,null,null,null,null,null,null,null,null,null,null,null,null,null,null,null,null,null,null,null,16.199999999999953]
[null,null,null,null,null,null,null,null,null,null,null,null,null,null,null,null,null,null,null,null,null,null,null,null,null,null,null,null,null,null,null,null,null,null,null,null,null,null,null,null,null,null,16.299999999999955]
[null,null,null,null,null,null,null,null,null,null,null,null,null,null,null,null,null,null,null,null,null,null,null,null,null,null,null,null,null,null,null,null,null,null,null,null,null,null,null,null,null,null,16.399999999999956]
[null,null,null,null,null,null,null,null,null,null,null,null,null,null,null,null,null,null,null,null,null,null,null,null,null,null,null,null,null,null,null,null,null,null,null,null,null,null,null,null,null,null,16.499999999999957]
[null,null,null,null,null,null,null,null,null,null,null,null,null,null,null,null,null,null,null,null,null,null,null,null,null,null,null,null,null,null,null,null,null,null,null,null,null,null,null,null,null,null,16.599999999999959]
[null,null,null,null,null,null,null,null,null,null,null,null,null,null,null,null,null,null,null,null,null,null,null,null,null,null,null,null,null,null,null,null,null,null,null,null,null,null,null,null,null,null,16.69999999999996]
[null,null,null,null,null,null,null,null,null,null,null,null,null,null,null,null,null,null,null,null,null,null,null,null,null,null,null,null,null,null,null,null,null,null,null,null,null,null,null,null,null,null,16.799999999999962]
[null,null,null,null,null,null,null,null,null,null,null,null,null,null,null,null,null,null,null,null,null,null,null,null,null,null,null,null,null,null,null,null,null,null,null,null,null,null,null,null,null,null,16.899999999999963]
[null,null,null,null,null,null,null,null,null,null,null,null,null,null,null,null,null,null,null,null,null,null,null,null,null,null,null,null,null,null,null,null,null,null,null,null,null,null,null,null,null,null,16.999999999999964]
[null,null,null,null,null,null,null,null,null,null,null,null,null,null,null,null,null,null,null,null,null,null,null,null,null,null,null,null,null,null,null,null,null,null,null,null,null,null,null,null,null,null,17.099999999999966]
[null,null,null,null,null,null,null,null,null,null,null,null,null,null,null,null,null,null,null,null,null,null,null,null,null,null,null,null,null,null,null,null,null,null,null,null,null,null,null,null,null,null,17.199999999999967]
[null,null,null,null,null,null,null,null,null,null,null,null,null,null,null,null,null,null,null,null,null,null,null,null,null,null,null,null,null,null,null,null,null,null,null,null,null,null,null,null,null,null,17.299999999999969]
[null,null,null,null,null,null,null,null,null,null,null,null,null,null,null,null,null,null,null,null,null,null,null,null,null,null,null,null,null,null,null,null,null,null,null,null,null,null,null,null,null,null,17.39999999999997]
[null,null,null,null,null,null,null,null,null,null,null,null,null,null,null,null,null,null,null,null,null,null,null,null,null,null,null,null,null,null,null,null,null,null,null,null,null,null,null,null,null,null,17.499999999999972]
[null,null,null,null,null,null,null,null,null,null,null,null,null,null,null,null,null,null,null,null,null,null,null,null,null,null,null,null,null,null,null,null,null,null,null,null,null,null,null,null,null,null,17.599999999999973]
[null,null,null,null,null,null,null,null,null,null,null,null,null,null,null,null,null,null,null,null,null,null,null,null,null,null,null,null,null,null,null,null,null,null,null,null,null,null,null,null,null,null,17.699999999999974]
[null,null,null,null,null,null,null,null,null,null,null,null,null,null,null,null,null,null,null,null,null,null,null,null,null,null,null,null,null,null,null,null,null,null,null,null,null,null,null,null,null,null,17.799999999999976]
[null,null,null,null,null,null,null,null,null,null,null,null,null,null,null,null,null,null,null,null,null,null,null,null,null,null,null,null,null,null,null,null,null,null,null,null,null,null,null,null,null,null,17.899999999999977]
[null,null,null,null,null,null,null,null,null,null,null,null,null,null,null,null,null,null,null,null,null,null,null,null,null,null,null,null,null,null,null,null,null,null,null,null,null,null,null,null,null,null,{"$f":"AQ235+0.1","v":17.999999999999979}]
[null,null,null,null,null,null,null,null,null,null,null,null,null,null,null,null,null,null,null,null,null,null,null,null,null,null,null,null,null,null,null,null,null,null,null,null,null,null,null,null,null,null,18.09999999999998]
[null,null,null,null,null,null,null,null,null,null,null,null,null,null,null,null,null,null,null,null,null,null,null,null,null,null,null,null,null,null,null,null,null,null,null,null,null,null,null,null,null,null,18.199999999999982]
[null,null,null,null,null,null,null,null,null,null,null,null,null,null,null,null,null,null,null,null,null,null,null,null,null,null,null,null,null,null,null,null,null,null,null,null,null,null,null,null,null,null,18.299999999999983]
[null,null,null,null,null,null,null,null,null,null,null,null,null,null,null,null,null,null,null,null,null,null,null,null,null,null,null,null,null,null,null,null,null,null,null,null,null,null,null,null,null,null,18.399999999999984]
[null,null,null,null,null,null,null,null,null,null,null,null,null,null,null,null,null,null,null,null,null,null,null,null,null,null,null,null,null,null,null,null,null,null,null,null,null,null,null,null,null,null,18.499999999999986]
[null,null,null,null,null,null,null,null,null,null,null,null,null,null,null,null,null,null,null,null,null,null,null,null,null,null,null,null,null,null,null,null,null,null,null,null,null,null,null,null,null,null,18.599999999999987]
[null,null,null,null,null,null,null,null,null,null,null,null,null,null,null,null,null,null,null,null,null,null,null,null,null,null,null,null,null,null,null,null,null,null,null,null,null,null,null,null,null,null,18.699999999999989]
[null,null,null,null,null,null,null,null,null,null,null,null,null,null,null,null,null,null,null,null,null,null,null,null,null,null,null,null,null,null,null,null,null,null,null,null,null,null,null,null,null,null,18.79999999999999]
[null,null,null,null,null,null,null,null,null,null,null,null,null,null,null,null,null,null,null,null,null,null,null,null,null,null,null,null,null,null,null,null,null,null,null,null,null,null,null,null,null,null,18.899999999999991]
[null,null,null,null,null,null,null,null,null,null,null,null,null,null,null,null,null,null,null,null,null,null,null,null,null,null,null,null,null,null,null,null,null,null,null,null,null,null,null,null,null,null,18.999999999999993]
[null,null,null,null,null,null,null,null,null,null,null,null,null,null,null,null,null,null,null,null,null,null,null,null,null,null,null,null,null,null,null,null,null,null,null,null,null,null,null,null,null,null,19.099999999999994]
[null,null,null,null,null,null,null,null,null,null,null,null,null,null,null,null,null,null,null,null,null,null,null,null,null,null,null,null,null,null,null,null,null,null,null,null,null,null,null,null,null,null,19.199999999999996]
[null,null,null,null,null,null,null,null,null,null,null,null,null,null,null,null,null,null,null,null,null,null,null,null,null,null,null,null,null,null,null,null,null,null,null,null,null,null,null,null,null,null,19.299999999999997]
[null,null,null,null,null,null,null,null,null,null,null,null,null,null,null,null,null,null,null,null,null,null,null,null,null,null,null,null,null,null,null,null,null,null,null,null,null,null,null,null,null,null,19.399999999999999]
[null,null,null,null,null,null,null,null,null,null,null,null,null,null,null,null,null,null,null,null,null,null,null,null,null,null,null,null,null,null,null,null,null,null,null,null,null,null,null,null,null,null,19.5]
[null,null,null,null,null,null,null,null,null,null,null,null,null,null,null,null,null,null,null,null,null,null,null,null,null,null,null,null,null,null,null,null,null,null,null,null,null,null,null,null,null,null,19.600000000000001]
[null,null,null,null,null,null,null,null,null,null,null,null,null,null,null,null,null,null,null,null,null,null,null,null,null,null,null,null,null,null,null,null,null,null,null,null,null,null,null,null,null,null,19.700000000000003]
[null,null,null,null,null,null,null,null,null,null,null,null,null,null,null,null,null,null,null,null,null,null,null,null,null,null,null,null,null,null,null,null,null,null,null,null,null,null,null,null,null,null,19.800000000000004]
[null,null,null,null,null,null,null,null,null,null,null,null,null,null,null,null,null,null,null,null,null,null,null,null,null,null,null,null,null,null,null,null,null,null,null,null,null,null,null,null,null,null,19.900000000000006]
[null,null,null,null,null,null,null,null,null,null,null,null,null,null,null,null,null,null,null,null,null,null,null,null,null,null,null,null,null,null,null,null,null,null,null,null,null,null,null,null,null,null,20.000000000000007]
[null,null,null,null,null,null,null,null,null,null,null,null,null,null,null,null,null,null,null,null,null,null,null,null,null,null,null,null,null,null,null,null,null,null,null,null,null,null,null,null,null,null,20.100000000000009]
[null,null,null,null,null,null,null,null,null,null,null,null,null,null,null,null,null,null,null,null,null,null,null,null,null,null,null,null,null,null,null,null,null,null,null,null,null,null,null,null,null,null,20.20000000000001]
[null,null,null,null,null,null,null,null,null,null,null,null,null,null,null,null,null,null,null,null,null,null,null,null,null,null,null,null,null,null,null,null,null,null,null,null,null,null,null,null,null,null,20.300000000000011]
[null,null,null,null,null,null,null,null,null,null,null,null,null,null,null,null,null,null,null,null,null,null,null,null,null,null,null,null,null,null,null,null,null,null,null,null,null,null,null,null,null,null,20.400000000000013]
[null,null,null,null,null,null,null,null,null,null,null,null,null,null,null,null,null,null,null,null,null,null,null,null,null,null,null,null,null,null,null,null,null,null,null,null,null,null,null,null,null,null,20.500000000000014]

{"sheet":"uitslag","index":1,"n_rows":42,"n_cols":22,"rows_kept":42,"cut":false,"hidden":false,"merged":[[0,11,4,11],[0,6,4,6],[0,7,4,7],[0,8,4,8],[0,9,4,9],[0,10,4,10],[0,1,4,1],[0,2,4,2],[0,3,4,3],[0,4,4,4],[0,5,4,5],[0,13,4,13],[0,14,4,14],[0,15,4,15],[0,16,4,16],[0,12,4,12]]}
[null,"B.nr.","Deelnemers","Vereniging","Te maken ","Te maken ","gemaakt","beurten","punten","moyenne","% gemaakt","% moyenne","bovengrens",{"$f":"Blad1!O7","v":"rang Punten "},{"$f":"IF(Blad1!E$5=\"interval\",Blad1!Q7,Blad1!P7)","v":"rang moyenne"},"rang totaal","opmerking"]
[null,null,null,null,null,null,null,null,null,null,null,null,null,null,null,null,null,null,null,null,null,"UITSLAGEN VAN DE VOORWEDSTRIJDEN"]
[]
[null,null,null,null,null,null,null,null,null,null,null,null,null,null,null,null,null,null,null,null,null,{"$f":"CONCATENATE(Blad1!E4,\"   \",Blad1!I4,\"     \",Blad1!I5)","v":"libre   vierde klas     2017 - 2018"}]
[null,null,null,null,null,null,null,null,null,null,null,null,null,null,null,null,null,null,{"$f":"CONCATENATE(\"1. Bondsnummer  \",B6)","v":"1. Bondsnummer  221956"}]
[1,{"$f":"IF(Blad1!G13>1,VLOOKUP($A6,Blad1!$A:$AO,2,FALSE),\"\")","v":221956},{"$f":"IF(Blad1!G13>1,VLOOKUP($A6,Blad1!$A:$AO,3,FALSE),\"\")","v":"Theo Greven"},{"$f":"IF(Blad1!H13>1,VLOOKUP($A6,Blad1!$A:$AO,4,FALSE),\"\")","v":"A.b.c."},{"$f":"IF(Blad1!$B13>1,VLOOKUP($A6,Blad1!$A:$AO,5,FALSE),\"\")","v":55},{"$f":"IF(Blad1!$B13>1,VLOOKUP($A6,Blad1!$A:$AO,6,FALSE),\"\")","v":330},{"$f":"IF(Blad1!$B13>1,VLOOKUP($A6,Blad1!$A:$AO,7,FALSE),\"\")","v":10},{"$f":"IF(Blad1!$B13>1,VLOOKUP($A6,Blad1!$A:$AO,8,FALSE),\"\")","v":322},{"$f":"IF(Blad1!$B13>1,VLOOKUP($A6,Blad1!$A:$AO,9,FALSE),\"\")","v":210},{"$f":"IF(Blad1!$B13>1,VLOOKUP($A6,Blad1!$A:$AO,10,FALSE),\"\")","v":1.5329999999999999},{"$f":"IF(Blad1!$B13>1,VLOOKUP($A6,Blad1!$A:$AO,11,FALSE),\"\")","v":1.65},{"$f":"IF(Blad1!$B13>1,VLOOKUP($A6,Blad1!$A:$AO,12,FALSE),\"\")","v":0.97575757575757571},{"$f":"IF(Blad1!$B13>1,VLOOKUP($A6,Blad1!$A:$AO,13,FALSE),\"\")","v":1.7},{"$f":"IF(Blad1!G13>1,VLOOKUP($A6,Blad1!$A:$AO,15,FALSE),\"\")","v":1.5},{"$f":"IF(B6>1,IF(Blad1!E$5=\"interval\",IF(Blad1!B13>1,VLOOKUP($A6,Blad1!$A:$AO,17,FALSE),\"\"),IF(Blad1!B13>1,VLOOKUP($A6,Blad1!$A:$AO,16,FALSE),\"\")),\"\")","v":1},{"$f":"IF(B6>12,IF(Blad1!F$5=\"interval\",IF(Blad1!H13>1,VLOOKUP($A6,Blad1!$A:$AO,19,FALSE),\"\"),IF(Blad1!H13>1,VLOOKUP($A6,Blad1!$A:$AO,19,FALSE),\"\")),\"\")","v":2.5},"finale"]
[{"$f":"A6+1","v":2},{"$f":"VLOOKUP($A7,Blad1!$A$13:$T$46,2)","v":106584},{"$f":"IF(Blad1!G14>1,VLOOKUP($A7,Blad1!$A:$AO,3,FALSE),\"\")","v":"Eddo Kohler"},{"$f":"IF(Blad1!H14>1,VLOOKUP($A7,Blad1!$A:$AO,4,FALSE),\"\")","v":"Concordia `54"},{"$f":"IF(Blad1!G14>1,VLOOKUP($A7,Blad1!$A:$AO,5,FALSE),\"\")","v":55},{"$f":"IF(Blad1!G14>1,VLOOKUP($A7,Blad1!$A:$AO,6,FALSE),\"\")","v":330},{"$f":"IF(Blad1!G14>1,VLOOKUP($A7,Blad1!$A:$AO,7,FALSE),\"\")","v":10},{"$f":"IF(Blad1!G14>1,VLOOKUP($A7,Blad1!$A:$AO,8,FALSE),\"\")","v":320},{"$f":"IF(Blad1!G14>1,VLOOKUP($A7,Blad1!$A:$AO,9,FALSE),\"\")","v":228},{"$f":"IF(Blad1!G14>1,VLOOKUP($A7,Blad1!$A:$AO,10,FALSE),\"\")","v":1.403},{"$f":"IF(Blad1!G14>1,VLOOKUP($A7,Blad1!$A:$AO,11,FALSE),\"\")","v":1.6},{"$f":"IF(Blad1!G14>1,VLOOKUP($A7,Blad1!$A:$AO,12,FALSE),\"\")","v":0.96969696969696972},{"$f":"IF(Blad1!G14>1,VLOOKUP($A7,Blad1!$A:$AO,13,FALSE),\"\")","v":1.7},{"$f":"IF(Blad1!G14>1,VLOOKUP($A7,Blad1!$A:$AO,15,FALSE),\"\")","v":1.5},{"$f":"IF(B7>1,IF(Blad1!E$5=\"interval\",IF(Blad1!B14>1,VLOOKUP($A7,Blad1!$A:$AO,17,FALSE),\"\"),IF(Blad1!B14>1,VLOOKUP($A7,Blad1!$A:$AO,16,FALSE),\"\")),\"\")","v":4},{"$f":"IF(B7>12,IF(Blad1!F$5=\"interval\",IF(Blad1!H14>1,VLOOKUP($A7,Blad1!$A:$AO,19,FALSE),\"\"),IF(Blad1!H14>1,VLOOKUP($A7,Blad1!$A:$AO,19,FALSE),\"\")),\"\")","v":5.5},"finale"]
[{"$f":"A7+1","v":3},{"$f":"IF(Blad1!G15>1,VLOOKUP($A8,Blad1!$A:$AO,2,FALSE),\"\")","v":123631},{"$f":"IF(Blad1!G15>1,VLOOKUP($A8,Blad1!$A:$AO,3,FALSE),\"\")","v":"Frank Stevens"},{"$f":"IF(Blad1!H15>1,VLOOKUP($A8,Blad1!$A:$AO,4,FALSE),\"\")","v":"D.L.S."},{"$f":"IF(Blad1!G15>1,VLOOKUP($A8,Blad1!$A:$AO,5,FALSE),\"\")","v":55},{"$f":"IF(Blad1!G15>1,VLOOKUP($A8,Blad1!$A:$AO,6,FALSE),\"\")","v":330},{"$f":"IF(Blad1!G15>1,VLOOKUP($A8,Blad1!$A:$AO,7,FALSE),\"\")","v":6},{"$f":"IF(Blad1!G15>1,VLOOKUP($A8,Blad1!$A:$AO,8,FALSE),\"\")","v":318},{"$f":"IF(Blad1!G15>1,VLOOKUP($A8,Blad1!$A:$AO,9,FALSE),\"\")","v":218},{"$f":"IF(Blad1!G15>1,VLOOKUP($A8,Blad1!$A:$AO,10,FALSE),\"\")","v":1.458},{"$f":"IF(Blad1!G15>1,VLOOKUP($A8,Blad1!$A:$AO,11,FALSE),\"\")","v":1.49},{"$f":"IF(Blad1!G15>1,VLOOKUP($A8,Blad1!$A:$AO,12,FALSE),\"\")","v":0.96363636363636362},{"$f":"IF(Blad1!G15>1,VLOOKUP($A8,Blad1!$A:$AO,13,FALSE),\"\")","v":1.5},{"$f":"IF(Blad1!G15>1,VLOOKUP($A8,Blad1!$A:$AO,15,FALSE),\"\")","v":4},{"$f":"IF(B8>1,IF(Blad1!E$5=\"interval\",IF(Blad1!B15>1,VLOOKUP($A8,Blad1!$A:$AO,17,FALSE),\"\"),IF(Blad1!B15>1,VLOOKUP($A8,Blad1!$A:$AO,16,FALSE),\"\")),\"\")","v":2},{"$f":"IF(B8>12,IF(Blad1!F$5=\"interval\",IF(Blad1!H15>1,VLOOKUP($A8,Blad1!$A:$AO,19,FALSE),\"\"),IF(Blad1!H15>1,VLOOKUP($A8,Blad1!$A:$AO,19,FALSE),\"\")),\"\")","v":7},"finale"]
[4,{"$f":"IF(Blad1!G16>1,VLOOKUP($A9,Blad1!$A:$AO,2,FALSE),\"\")","v":169828},{"$f":"IF(Blad1!G16>1,VLOOKUP($A9,Blad1!$A:$AO,3,FALSE),\"\")","v":"Renate Jansen-Albers"},{"$f":"IF(Blad1!H16>1,VLOOKUP($A9,Blad1!$A:$AO,4,FALSE),\"\")","v":"Slootermeer & Scholtenhof"},{"$f":"IF(Blad1!G16>1,VLOOKUP($A9,Blad1!$A:$AO,5,FALSE),\"\")","v":55},{"$f":"IF(Blad1!G16>1,VLOOKUP($A9,Blad1!$A:$AO,6,FALSE),\"\")","v":330},{"$f":"IF(Blad1!G16>1,VLOOKUP($A9,Blad1!$A:$AO,7,FALSE),\"\")","v":6},{"$f":"IF(Blad1!G16>1,VLOOKUP($A9,Blad1!$A:$AO,8,FALSE),\"\")","v":298},{"$f":"IF(Blad1!G16>1,VLOOKUP($A9,Blad1!$A:$AO,9,FALSE),\"\")","v":226},{"$f":"IF(Blad1!G16>1,VLOOKUP($A9,Blad1!$A:$AO,10,FALSE),\"\")","v":1.3180000000000001},{"$f":"IF(Blad1!G16>1,VLOOKUP($A9,Blad1!$A:$AO,11,FALSE),\"\")","v":1.32},{"$f":"IF(Blad1!G16>1,VLOOKUP($A9,Blad1!$A:$AO,12,FALSE),\"\")","v":0.90303030303030307},{"$f":"IF(Blad1!G16>1,VLOOKUP($A9,Blad1!$A:$AO,13,FALSE),\"\")","v":1.4},{"$f":"IF(Blad1!G16>1,VLOOKUP($A9,Blad1!$A:$AO,15,FALSE),\"\")","v":4},{"$f":"IF(B9>1,IF(Blad1!E$5=\"interval\",IF(Blad1!B16>1,VLOOKUP($A9,Blad1!$A:$AO,17,FALSE),\"\"),IF(Blad1!B16>1,VLOOKUP($A9,Blad1!$A:$AO,16,FALSE),\"\")),\"\")","v":6},{"$f":"IF(B9>12,IF(Blad1!F$5=\"interval\",IF(Blad1!H16>1,VLOOKUP($A9,Blad1!$A:$AO,19,FALSE),\"\"),IF(Blad1!H16>1,VLOOKUP($A9,Blad1!$A:$AO,19,FALSE),\"\")),\"\")","v":11},"finale"]
[5,{"$f":"IF(Blad1!G17>1,VLOOKUP($A10,Blad1!$A:$AO,2,FALSE),\"\")","v":209553},{"$f":"IF(Blad1!G17>1,VLOOKUP($A10,Blad1!$A:$AO,3,FALSE),\"\")","v":"Lucilio Cordeiro"},{"$f":"IF(Blad1!H17>1,VLOOKUP($A10,Blad1!$A:$AO,4,FALSE),\"\")","v":"Nijman"},{"$f":"IF(Blad1!G17>1,VLOOKUP($A10,Blad1!$A:$AO,5,FALSE),\"\")","v":55},{"$f":"IF(Blad1!G17>1,VLOOKUP($A10,Blad1!$A:$AO,6,FALSE),\"\")","v":330},{"$f":"IF(Blad1!G17>1,VLOOKUP($A10,Blad1!$A:$AO,7,FALSE),\"\")","v":6},{"$f":"IF(Blad1!G17>1,VLOOKUP($A10,Blad1!$A:$AO,8,FALSE),\"\")","v":301},{"$f":"IF(Blad1!G17>1,VLOOKUP($A10,Blad1!$A:$AO,9,FALSE),\"\")","v":243},{"$f":"IF(Blad1!G17>1,VLOOKUP($A10,Blad1!$A:$AO,10,FALSE),\"\")","v":1.238},{"$f":"IF(Blad1!G17>1,VLOOKUP($A10,Blad1!$A:$AO,11,FALSE),\"\")","v":1.42},{"$f":"IF(Blad1!G17>1,VLOOKUP($A10,Blad1!$A:$AO,12,FALSE),\"\")","v":0.91212121212121211},{"$f":"IF(Blad1!G17>1,VLOOKUP($A10,Blad1!$A:$AO,13,FALSE),\"\")","v":1.5},{"$f":"IF(Blad1!G17>1,VLOOKUP($A10,Blad1!$A:$AO,15,FALSE),\"\")","v":4},{"$f":"IF(B10>1,IF(Blad1!E$5=\"interval\",IF(Blad1!B17>1,VLOOKUP($A10,Blad1!$A:$AO,17,FALSE),\"\"),IF(Blad1!B17>1,VLOOKUP($A10,Blad1!$A:$AO,16,FALSE),\"\")),\"\")","v":8},{"$f":"IF(B10>12,IF(Blad1!F$5=\"interval\",IF(Blad1!H17>1,VLOOKUP($A10,Blad1!$A:$AO,19,FALSE),\"\"),IF(Blad1!H17>1,VLOOKUP($A10,Blad1!$A:$AO,19,FALSE),\"\")),\"\")","v":10},"finale"]
[6,{"$f":"IF(Blad1!G18>1,VLOOKUP($A11,Blad1!$A:$AO,2,FALSE),\"\")","v":146509},{"$f":"IF(Blad1!G18>1,VLOOKUP($A11,Blad1!$A:$AO,3,FALSE),\"\")","v":"Jozef Schabbink"},{"$f":"IF(Blad1!H18>1,VLOOKUP($A11,Blad1!$A:$AO,4,FALSE),\"\")","v":"Tapperij"},{"$f":"IF(Blad1!G18>1,VLOOKUP($A11,Blad1!$A:$AO,5,FALSE),\"\")","v":55},{"$f":"IF(Blad1!G18>1,VLOOKUP($A11,Blad1!$A:$AO,6,FALSE),\"\")","v":330},{"$f":"IF(Blad1!G18>1,VLOOKUP($A11,Blad1!$A:$AO,7,FALSE),\"\")","v":5},{"$f":"IF(Blad1!G18>1,VLOOKUP($A11,Blad1!$A:$AO,8,FALSE),\"\")","v":302},{"$f":"IF(Blad1!G18>1,VLOOKUP($A11,Blad1!$A:$AO,9,FALSE),\"\")","v":216},{"$f":"IF(Blad1!G18>1,VLOOKUP($A11,Blad1!$A:$AO,10,FALSE),\"\")","v":1.3979999999999999},{"$f":"IF(Blad1!G18>1,VLOOKUP($A11,Blad1!$A:$AO,11,FALSE),\"\")","v":1.4},{"$f":"IF(Blad1!G18>1,VLOOKUP($A11,Blad1!$A:$AO,12,FALSE),\"\")","v":0.91515151515151516},{"$f":"IF(Blad1!G18>1,VLOOKUP($A11,Blad1!$A:$AO,13,FALSE),\"\")","v":1.5},{"$f":"IF(Blad1!G18>1,VLOOKUP($A11,Blad1!$A:$AO,15,FALSE),\"\")","v":6.5},{"$f":"IF(B11>1,IF(Blad1!E$5=\"interval\",IF(Blad1!B18>1,VLOOKUP($A11,Blad1!$A:$AO,17,FALSE),\"\"),IF(Blad1!B18>1,VLOOKUP($A11,Blad1!$A:$AO,16,FALSE),\"\")),\"\")","v":5},{"$f":"IF(B11>12,IF(Blad1!F$5=\"interval\",IF(Blad1!H18>1,VLOOKUP($A11,Blad1!$A:$AO,19,FALSE),\"\"),IF(Blad1!H18>1,VLOOKUP($A11,Blad1!$A:$AO,19,FALSE),\"\")),\"\")","v":11.5},"finale"]
[7,{"$f":"IF(Blad1!G19>1,VLOOKUP($A12,Blad1!$A:$AO,2,FALSE),\"\")","v":149009},{"$f":"IF(Blad1!G19>1,VLOOKUP($A12,Blad1!$A:$AO,3,FALSE),\"\")","v":"Coen Stiemer"},{"$f":"IF(Blad1!H19>1,VLOOKUP($A12,Blad1!$A:$AO,4,FALSE),\"\")","v":"De Pol"},{"$f":"IF(Blad1!G19>1,VLOOKUP($A12,Blad1!$A:$AO,5,FALSE),\"\")","v":55},{"$f":"IF(Blad1!G19>1,VLOOKUP($A12,Blad1!$A:$AO,6,FALSE),\"\")","v":330},{"$f":"IF(Blad1!G19>1,VLOOKUP($A12,Blad1!$A:$AO,7,FALSE),\"\")","v":5},{"$f":"IF(Blad1!G19>1,VLOOKUP($A12,Blad1!$A:$AO,8,FALSE),\"\")","v":306},{"$f":"IF(Blad1!G19>1,VLOOKUP($A12,Blad1!$A:$AO,9,FALSE),\"\")","v":254},{"$f":"IF(Blad1!G19>1,VLOOKUP($A12,Blad1!$A:$AO,10,FALSE),\"\")","v":1.204},{"$f":"IF(Blad1!G19>1,VLOOKUP($A12,Blad1!$A:$AO,11,FALSE),\"\")","v":1.4},{"$f":"IF(Blad1!G19>1,VLOOKUP($A12,Blad1!$A:$AO,12,FALSE),\"\")","v":0.92727272727272725},{"$f":"IF(Blad1!G19>1,VLOOKUP($A12,Blad1!$A:$AO,13,FALSE),\"\")","v":1.5},{"$f":"IF(Blad1!G19>1,VLOOKUP($A12,Blad1!$A:$AO,15,FALSE),\"\")","v":6.5},{"$f":"IF(B12>1,IF(Blad1!E$5=\"interval\",IF(Blad1!B19>1,VLOOKUP($A12,Blad1!$A:$AO,17,FALSE),\"\"),IF(Blad1!B19>1,VLOOKUP($A12,Blad1!$A:$AO,16,FALSE),\"\")),\"\")","v":9},{"$f":"IF(B12>12,IF(Blad1!F$5=\"interval\",IF(Blad1!H19>1,VLOOKUP($A12,Blad1!$A:$AO,19,FALSE),\"\"),IF(Blad1!H19>1,VLOOKUP($A12,Blad1!$A:$AO,19,FALSE),\"\")),\"\")","v":10.5},"1e reserve"]
[8,{"$f":"IF(Blad1!G20>1,VLOOKUP($A13,Blad1!$A:$AO,2,FALSE),\"\")","v":177750},{"$f":"IF(Blad1!G20>1,VLOOKUP($A13,Blad1!$A:$AO,3,FALSE),\"\")","v":"Tonnie Bisselink"},{"$f":"IF(Blad1!H20>1,VLOOKUP($A13,Blad1!$A:$AO,4,FALSE),\"\")","v":"KÃ¶ster"},{"$f":"IF(Blad1!G20>1,VLOOKUP($A13,Blad1!$A:$AO,5,FALSE),\"\")","v":55},{"$f":"IF(Blad1!G20>1,VLOOKUP($A13,Blad1!$A:$AO,6,FALSE),\"\")","v":330},{"$f":"IF(Blad1!G20>1,VLOOKUP($A13,Blad1!$A:$AO,7,FALSE),\"\")","v":4},{"$f":"IF(Blad1!G20>1,VLOOKUP($A13,Blad1!$A:$AO,8,FALSE),\"\")","v":291},{"$f":"IF(Blad1!G20>1,VLOOKUP($A13,Blad1!$A:$AO,9,FALSE),\"\")","v":206},{"$f":"IF(Blad1!G20>1,VLOOKUP($A13,Blad1!$A:$AO,10,FALSE),\"\")","v":1.4119999999999999},{"$f":"IF(Blad1!G20>1,VLOOKUP($A13,Blad1!$A:$AO,11,FALSE),\"\")","v":1.41},{"$f":"IF(Blad1!G20>1,VLOOKUP($A13,Blad1!$A:$AO,12,FALSE),\"\")","v":0.88181818181818183},{"$f":"IF(Blad1!G20>1,VLOOKUP($A13,Blad1!$A:$AO,13,FALSE),\"\")","v":1.5},{"$f":"IF(Blad1!G20>1,VLOOKUP($A13,Blad1!$A:$AO,15,FALSE),\"\")","v":9},{"$f":"IF(B13>1,IF(Blad1!E$5=\"interval\",IF(Blad1!B20>1,VLOOKUP($A13,Blad1!$A:$AO,17,FALSE),\"\"),IF(Blad1!B20>1,VLOOKUP($A13,Blad1!$A:$AO,16,FALSE),\"\")),\"\")","v":3},{"$f":"IF(B13>12,IF(Blad1!F$5=\"interval\",IF(Blad1!H20>1,VLOOKUP($A13,Blad1!$A:$AO,19,FALSE),\"\"),IF(Blad1!H20>1,VLOOKUP($A13,Blad1!$A:$AO,19,FALSE),\"\")),\"\")","v":17},"2e reserve"]
[9,{"$f":"IF(Blad1!G21>1,VLOOKUP($A14,Blad1!$A:$AO,2,FALSE),\"\")","v":136552},{"$f":"IF(Blad1!G21>1,VLOOKUP($A14,Blad1!$A:$AO,3,FALSE),\"\")","v":"Cees Vikkerman"},{"$f":"IF(Blad1!H21>1,VLOOKUP($A14,Blad1!$A:$AO,4,FALSE),\"\")","v":"A.b.c."},{"$f":"IF(Blad1!G21>1,VLOOKUP($A14,Blad1!$A:$AO,5,FALSE),\"\")","v":55},{"$f":"IF(Blad1!G21>1,VLOOKUP($A14,Blad1!$A:$AO,6,FALSE),\"\")","v":330},{"$f":"IF(Blad1!G21>1,VLOOKUP($A14,Blad1!$A:$AO,7,FALSE),\"\")","v":4},{"$f":"IF(Blad1!G21>1,VLOOKUP($A14,Blad1!$A:$AO,8,FALSE),\"\")","v":274},{"$f":"IF(Blad1!G21>1,VLOOKUP($A14,Blad1!$A:$AO,9,FALSE),\"\")","v":216},{"$f":"IF(Blad1!G21>1,VLOOKUP($A14,Blad1!$A:$AO,10,FALSE),\"\")","v":1.268},{"$f":"IF(Blad1!G21>1,VLOOKUP($A14,Blad1!$A:$AO,11,FALSE),\"\")","v":1.53},{"$f":"IF(Blad1!G21>1,VLOOKUP($A14,Blad1!$A:$AO,12,FALSE),\"\")","v":0.83030303030303032},{"$f":"IF(Blad1!G21>1,VLOOKUP($A14,Blad1!$A:$AO,13,FALSE),\"\")","v":1.6},{"$f":"IF(Blad1!G21>1,VLOOKUP($A14,Blad1!$A:$AO,15,FALSE),\"\")","v":9},{"$f":"IF(B14>1,IF(Blad1!E$5=\"interval\",IF(Blad1!B21>1,VLOOKUP($A14,Blad1!$A:$AO,17,FALSE),\"\"),IF(Blad1!B21>1,VLOOKUP($A14,Blad1!$A:$AO,16,FALSE),\"\")),\"\")","v":7},{"$f":"IF(B14>12,IF(Blad1!F$5=\"interval\",IF(Blad1!H21>1,VLOOKUP($A14,Blad1!$A:$AO,19,FALSE),\"\"),IF(Blad1!H21>1,VLOOKUP($A14,Blad1!$A:$AO,19,FALSE),\"\")),\"\")","v":18}]
[10,{"$f":"IF(Blad1!G22>1,VLOOKUP($A15,Blad1!$A:$AO,2,FALSE),\"\")","v":140583},{"$f":"IF(Blad1!G22>1,VLOOKUP($A15,Blad1!$A:$AO,3,FALSE),\"\")","v":"Martin Koster"},{"$f":"IF(Blad1!H22>1,VLOOKUP($A15,Blad1!$A:$AO,4,FALSE),\"\")","v":"Concordia `54"},{"$f":"IF(Blad1!G22>1,VLOOKUP($A15,Blad1!$A:$AO,5,FALSE),\"\")","v":55},{"$f":"IF(Blad1!G22>1,VLOOKUP($A15,Blad1!$A:$AO,6,FALSE),\"\")","v":330},{"$f":"IF(Blad1!G22>1,VLOOKUP($A15,Blad1!$A:$AO,7,FALSE),\"\")","v":4},{"$f":"IF(Blad1!G22>1,VLOOKUP($A15,Blad1!$A:$AO,8,FALSE),\"\")","v":265},{"$f":"IF(Blad1!G22>1,VLOOKUP($A15,Blad1!$A:$AO,9,FALSE),\"\")","v":229},{"$f":"IF(Blad1!G22>1,VLOOKUP($A15,Blad1!$A:$AO,10,FALSE),\"\")","v":1.157},{"$f":"IF(Blad1!G22>1,VLOOKUP($A15,Blad1!$A:$AO,11,FALSE),\"\")","v":1.1499999999999999},{"$f":"IF(Blad1!G22>1,VLOOKUP($A15,Blad1!$A:$AO,12,FALSE),\"\")","v":0.80303030303030298},{"$f":"IF(Blad1!G22>1,VLOOKUP($A15,Blad1!$A:$AO,13,FALSE),\"\")","v":1.2},{"$f":"IF(Blad1!G22>1,VLOOKUP($A15,Blad1!$A:$AO,15,FALSE),\"\")","v":9},{"$f":"IF(B15>1,IF(Blad1!E$5=\"interval\",IF(Blad1!B22>1,VLOOKUP($A15,Blad1!$A:$AO,17,FALSE),\"\"),IF(Blad1!B22>1,VLOOKUP($A15,Blad1!$A:$AO,16,FALSE),\"\")),\"\")","v":10},{"$f":"IF(B15>12,IF(Blad1!F$5=\"interval\",IF(Blad1!H22>1,VLOOKUP($A15,Blad1!$A:$AO,19,FALSE),\"\"),IF(Blad1!H22>1,VLOOKUP($A15,Blad1!$A:$AO,19,FALSE),\"\")),\"\")","v":19}]
[11,{"$f":"IF(Blad1!G23>1,VLOOKUP($A16,Blad1!$A:$AO,2,FALSE),\"\")","v":""},{"$f":"IF(Blad1!G23>1,VLOOKUP($A16,Blad1!$A:$AO,3,FALSE),\"\")","v":""},{"$f":"IF(Blad1!H23>1,VLOOKUP($A16,Blad1!$A:$AO,4,FALSE),\"\")","v":""},{"$f":"IF(Blad1!G23>1,VLOOKUP($A16,Blad1!$A:$AO,5,FALSE),\"\")","v":""},{"$f":"IF(Blad1!G23>1,VLOOKUP($A16,Blad1!$A:$AO,6,FALSE),\"\")","v":""},{"$f":"IF(Blad1!G23>1,VLOOKUP($A16,Blad1!$A:$AO,7,FALSE),\"\")","v":""},{"$f":"IF(Blad1!G23>1,VLOOKUP($A16,Blad1!$A:$AO,8,FALSE),\"\")","v":""},{"$f":"IF(Blad1!G23>1,VLOOKUP($A16,Blad1!$A:$AO,9,FALSE),\"\")","v":""},{"$f":"IF(Blad1!G23>1,VLOOKUP($A16,Blad1!$A:$AO,10,FALSE),\"\")","v":""},{"$f":"IF(Blad1!G23>1,VLOOKUP($A16,Blad1!$A:$AO,11,FALSE),\"\")","v":""},{"$f":"IF(Blad1!G23>1,VLOOKUP($A16,Blad1!$A:$AO,12,FALSE),\"\")","v":""},{"$f":"IF(Blad1!G23>1,VLOOKUP($A16,Blad1!$A:$AO,13,FALSE),\"\")","v":""},{"$f":"IF(Blad1!G23>1,VLOOKUP($A16,Blad1!$A:$AO,15,FALSE),\"\")","v":""},{"$f":"IF(B16>1,IF(Blad1!E$5=\"interval\",IF(Blad1!B23>1,VLOOKUP($A16,Blad1!$A:$AO,17,FALSE),\"\"),IF(Blad1!B23>1,VLOOKUP($A16,Blad1!$A:$AO,16,FALSE),\"\")),\"\")","v":""},{"$f":"IF(B16>12,IF(Blad1!F$5=\"interval\",IF(Blad1!H23>1,VLOOKUP($A16,Blad1!$A:$AO,19,FALSE),\"\"),IF(Blad1!H23>1,VLOOKUP($A16,Blad1!$A:$AO,19,FALSE),\"\")),\"\")","v":""}]
[12,{"$f":"IF(Blad1!G24>1,VLOOKUP($A17,Blad1!$A:$AO,2,FALSE),\"\")","v":""},{"$f":"IF(Blad1!G24>1,VLOOKUP($A17,Blad1!$A:$AO,3,FALSE),\"\")","v":""},{"$f":"IF(Blad1!H24>1,VLOOKUP($A17,Blad1!$A:$AO,4,FALSE),\"\")","v":""},{"$f":"IF(Blad1!G24>1,VLOOKUP($A17,Blad1!$A:$AO,5,FALSE),\"\")","v":""},{"$f":"IF(Blad1!G24>1,VLOOKUP($A17,Blad1!$A:$AO,6,FALSE),\"\")","v":""},{"$f":"IF(Blad1!G24>1,VLOOKUP($A17,Blad1!$A:$AO,7,FALSE),\"\")","v":""},{"$f":"IF(Blad1!G24>1,VLOOKUP($A17,Blad1!$A:$AO,8,FALSE),\"\")","v":""},{"$f":"IF(Blad1!G24>1,VLOOKUP($A17,Blad1!$A:$AO,9,FALSE),\"\")","v":""},{"$f":"IF(Blad1!G24>1,VLOOKUP($A17,Blad1!$A:$AO,10,FALSE),\"\")","v":""},{"$f":"IF(Blad1!G24>1,VLOOKUP($A17,Blad1!$A:$AO,11,FALSE),\"\")","v":""},{"$f":"IF(Blad1!G24>1,VLOOKUP($A17,Blad1!$A:$AO,12,FALSE),\"\")","v":""},{"$f":"IF(Blad1!G24>1,VLOOKUP($A17,Blad1!$A:$AO,13,FALSE),\"\")","v":""},{"$f":"IF(Blad1!G24>1,VLOOKUP($A17,Blad1!$A:$AO,15,FALSE),\"\")","v":""},{"$f":"IF(B17>1,IF(Blad1!E$5=\"interval\",IF(Blad1!B24>1,VLOOKUP($A17,Blad1!$A:$AO,17,FALSE),\"\"),IF(Blad1!B24>1,VLOOKUP($A17,Blad1!$A:$AO,16,FALSE),\"\")),\"\")","v":""},{"$f":"IF(B17>12,IF(Blad1!F$5=\"interval\",IF(Blad1!H24>1,VLOOKUP($A17,Blad1!$A:$AO,19,FALSE),\"\"),IF(Blad1!H24>1,VLOOKUP($A17,Blad1!$A:$AO,19,FALSE),\"\")),\"\")","v":""}]
[13,{"$f":"IF(Blad1!G25>1,VLOOKUP($A18,Blad1!$A:$AO,2,FALSE),\"\")","v":""},{"$f":"IF(Blad1!G25>1,VLOOKUP($A18,Blad1!$A:$AO,3,FALSE),\"\")","v":""},{"$f":"IF(Blad1!H25>1,VLOOKUP($A18,Blad1!$A:$AO,4,FALSE),\"\")","v":""},{"$f":"IF(Blad1!G25>1,VLOOKUP($A18,Blad1!$A:$AO,5,FALSE),\"\")","v":""},{"$f":"IF(Blad1!G25>1,VLOOKUP($A18,Blad1!$A:$AO,6,FALSE),\"\")","v":""},{"$f":"IF(Blad1!G25>1,VLOOKUP($A18,Blad1!$A:$AO,7,FALSE),\"\")","v":""},{"$f":"IF(Blad1!G25>1,VLOOKUP($A18,Blad1!$A:$AO,8,FALSE),\"\")","v":""},{"$f":"IF(Blad1!G25>1,VLOOKUP($A18,Blad1!$A:$AO,9,FALSE),\"\")","v":""},{"$f":"IF(Blad1!G25>1,VLOOKUP($A18,Blad1!$A:$AO,10,FALSE),\"\")","v":""},{"$f":"IF(Blad1!G25>1,VLOOKUP($A18,Blad1!$A:$AO,11,FALSE),\"\")","v":""},{"$f":"IF(Blad1!G25>1,VLOOKUP($A18,Blad1!$A:$AO,12,FALSE),\"\")","v":""},{"$f":"IF(Blad1!G25>1,VLOOKUP($A18,Blad1!$A:$AO,13,FALSE),\"\")","v":""},{"$f":"IF(Blad1!G25>1,VLOOKUP($A18,Blad1!$A:$AO,15,FALSE),\"\")","v":""},{"$f":"IF(B18>1,IF(Blad1!E$5=\"interval\",IF(Blad1!B25>1,VLOOKUP($A18,Blad1!$A:$AO,17,FALSE),\"\"),IF(Blad1!B25>1,VLOOKUP($A18,Blad1!$A:$AO,16,FALSE),\"\")),\"\")","v":""},{"$f":"IF(B18>12,IF(Blad1!F$5=\"interval\",IF(Blad1!H25>1,VLOOKUP($A18,Blad1!$A:$AO,19,FALSE),\"\"),IF(Blad1!H25>1,VLOOKUP($A18,Blad1!$A:$AO,19,FALSE),\"\")),\"\")","v":""}]
[14,{"$f":"IF(Blad1!G26>1,VLOOKUP($A19,Blad1!$A:$AO,2,FALSE),\"\")","v":""},{"$f":"IF(Blad1!G26>1,VLOOKUP($A19,Blad1!$A:$AO,3,FALSE),\"\")","v":""},{"$f":"IF(Blad1!H26>1,VLOOKUP($A19,Blad1!$A:$AO,4,FALSE),\"\")","v":""},{"$f":"IF(Blad1!G26>1,VLOOKUP($A19,Blad1!$A:$AO,5,FALSE),\"\")","v":""},{"$f":"IF(Blad1!G26>1,VLOOKUP($A19,Blad1!$A:$AO,6,FALSE),\"\")","v":""},{"$f":"IF(Blad1!G26>1,VLOOKUP($A19,Blad1!$A:$AO,7,FALSE),\"\")","v":""},{"$f":"IF(Blad1!G26>1,VLOOKUP($A19,Blad1!$A:$AO,8,FALSE),\"\")","v":""},{"$f":"IF(Blad1!G26>1,VLOOKUP($A19,Blad1!$A:$AO,9,FALSE),\"\")","v":""},{"$f":"IF(Blad1!G26>1,VLOOKUP($A19,Blad1!$A:$AO,10,FALSE),\"\")","v":""},{"$f":"IF(Blad1!G26>1,VLOOKUP($A19,Blad1!$A:$AO,11,FALSE),\"\")","v":""},{"$f":"IF(Blad1!G26>1,VLOOKUP($A19,Blad1!$A:$AO,12,FALSE),\"\")","v":""},{"$f":"IF(Blad1!G26>1,VLOOKUP($A19,Blad1!$A:$AO,13,FALSE),\"\")","v":""},{"$f":"IF(Blad1!G26>1,VLOOKUP($A19,Blad1!$A:$AO,15,FALSE),\"\")","v":""},{"$f":"IF(B19>1,IF(Blad1!E$5=\"interval\",IF(Blad1!B26>1,VLOOKUP($A19,Blad1!$A:$AO,17,FALSE),\"\"),IF(Blad1!B26>1,VLOOKUP($A19,Blad1!$A:$AO,16,FALSE),\"\")),\"\")","v":""},{"$f":"IF(B19>12,IF(Blad1!F$5=\"interval\",IF(Blad1!H26>1,VLOOKUP($A19,Blad1!$A:$AO,19,FALSE),\"\"),IF(Blad1!H26>1,VLOOKUP($A19,Blad1!$A:$AO,19,FALSE),\"\")),\"\")","v":""}]
[15,{"$f":"IF(Blad1!G27>1,VLOOKUP($A20,Blad1!$A:$AO,2,FALSE),\"\")","v":""},{"$f":"IF(Blad1!G27>1,VLOOKUP($A20,Blad1!$A:$AO,3,FALSE),\"\")","v":""},{"$f":"IF(Blad1!H27>1,VLOOKUP($A20,Blad1!$A:$AO,4,FALSE),\"\")","v":""},{"$f":"IF(Blad1!G27>1,VLOOKUP($A20,Blad1!$A:$AO,5,FALSE),\"\")","v":""},{"$f":"IF(Blad1!G27>1,VLOOKUP($A20,Blad1!$A:$AO,6,FALSE),\"\")","v":""},{"$f":"IF(Blad1!G27>1,VLOOKUP($A20,Blad1!$A:$AO,7,FALSE),\"\")","v":""},{"$f":"IF(Blad1!G27>1,VLOOKUP($A20,Blad1!$A:$AO,8,FALSE),\"\")","v":""},{"$f":"IF(Blad1!G27>1,VLOOKUP($A20,Blad1!$A:$AO,9,FALSE),\"\")","v":""},{"$f":"IF(Blad1!G27>1,VLOOKUP($A20,Blad1!$A:$AO,10,FALSE),\"\")","v":""},{"$f":"IF(Blad1!G27>1,VLOOKUP($A20,Blad1!$A:$AO,11,FALSE),\"\")","v":""},{"$f":"IF(Blad1!G27>1,VLOOKUP($A20,Blad1!$A:$AO,12,FALSE),\"\")","v":""},{"$f":"IF(Blad1!G27>1,VLOOKUP($A20,Blad1!$A:$AO,13,FALSE),\"\")","v":""},{"$f":"IF(Blad1!G27>1,VLOOKUP($A20,Blad1!$A:$AO,15,FALSE),\"\")","v":""},{"$f":"IF(B20>1,IF(Blad1!E$5=\"interval\",IF(Blad1!B27>1,VLOOKUP($A20,Blad1!$A:$AO,17,FALSE),\"\"),IF(Blad1!B27>1,VLOOKUP($A20,Blad1!$A:$AO,16,FALSE),\"\")),\"\")","v":""},{"$f":"IF(B20>12,IF(Blad1!F$5=\"interval\",IF(Blad1!H27>1,VLOOKUP($A20,Blad1!$A:$AO,19,FALSE),\"\"),IF(Blad1!H27>1,VLOOKUP($A20,Blad1!$A:$AO,19,FALSE),\"\")),\"\")","v":""}]
[16,{"$f":"IF(Blad1!G28>1,VLOOKUP($A21,Blad1!$A:$AO,2,FALSE),\"\")","v":""},{"$f":"IF(Blad1!G28>1,VLOOKUP($A21,Blad1!$A:$AO,3,FALSE),\"\")","v":""},{"$f":"IF(Blad1!H28>1,VLOOKUP($A21,Blad1!$A:$AO,4,FALSE),\"\")","v":""},{"$f":"IF(Blad1!G28>1,VLOOKUP($A21,Blad1!$A:$AO,5,FALSE),\"\")","v":""},{"$f":"IF(Blad1!G28>1,VLOOKUP($A21,Blad1!$A:$AO,6,FALSE),\"\")","v":""},{"$f":"IF(Blad1!G28>1,VLOOKUP($A21,Blad1!$A:$AO,7,FALSE),\"\")","v":""},{"$f":"IF(Blad1!G28>1,VLOOKUP($A21,Blad1!$A:$AO,8,FALSE),\"\")","v":""},{"$f":"IF(Blad1!G28>1,VLOOKUP($A21,Blad1!$A:$AO,9,FALSE),\"\")","v":""},{"$f":"IF(Blad1!G28>1,VLOOKUP($A21,Blad1!$A:$AO,10,FALSE),\"\")","v":""},{"$f":"IF(Blad1!G28>1,VLOOKUP($A21,Blad1!$A:$AO,11,FALSE),\"\")","v":""},{"$f":"IF(Blad1!G28>1,VLOOKUP($A21,Blad1!$A:$AO,12,FALSE),\"\")","v":""},{"$f":"IF(Blad1!G28>1,VLOOKUP($A21,Blad1!$A:$AO,13,FALSE),\"\")","v":""},{"$f":"IF(Blad1!G28>1,VLOOKUP($A21,Blad1!$A:$AO,15,FALSE),\"\")","v":""},{"$f":"IF(B21>1,IF(Blad1!E$5=\"interval\",IF(Blad1!B28>1,VLOOKUP($A21,Blad1!$A:$AO,17,FALSE),\"\"),IF(Blad1!B28>1,VLOOKUP($A21,Blad1!$A:$AO,16,FALSE),\"\")),\"\")","v":""},{"$f":"IF(B21>12,IF(Blad1!F$5=\"interval\",IF(Blad1!H28>1,VLOOKUP($A21,Blad1!$A:$AO,19,FALSE),\"\"),IF(Blad1!H28>1,VLOOKUP($A21,Blad1!$A:$AO,19,FALSE),\"\")),\"\")","v":""}]
[17,{"$f":"IF(Blad1!G29>1,VLOOKUP($A22,Blad1!$A:$AO,2,FALSE),\"\")","v":""},{"$f":"IF(Blad1!G29>1,VLOOKUP($A22,Blad1!$A:$AO,3,FALSE),\"\")","v":""},{"$f":"IF(Blad1!H29>1,VLOOKUP($A22,Blad1!$A:$AO,4,FALSE),\"\")","v":""},{"$f":"IF(Blad1!G29>1,VLOOKUP($A22,Blad1!$A:$AO,5,FALSE),\"\")","v":""},{"$f":"IF(Blad1!G29>1,VLOOKUP($A22,Blad1!$A:$AO,6,FALSE),\"\")","v":""},{"$f":"IF(Blad1!G29>1,VLOOKUP($A22,Blad1!$A:$AO,7,FALSE),\"\")","v":""},{"$f":"IF(Blad1!G29>1,VLOOKUP($A22,Blad1!$A:$AO,8,FALSE),\"\")","v":""},{"$f":"IF(Blad1!G29>1,VLOOKUP($A22,Blad1!$A:$AO,9,FALSE),\"\")","v":""},{"$f":"IF(Blad1!G29>1,VLOOKUP($A22,Blad1!$A:$AO,10,FALSE),\"\")","v":""},{"$f":"IF(Blad1!G29>1,VLOOKUP($A22,Blad1!$A:$AO,11,FALSE),\"\")","v":""},{"$f":"IF(Blad1!G29>1,VLOOKUP($A22,Blad1!$A:$AO,12,FALSE),\"\")","v":""},{"$f":"IF(Blad1!G29>1,VLOOKUP($A22,Blad1!$A:$AO,13,FALSE),\"\")","v":""},{"$f":"IF(Blad1!G29>1,VLOOKUP($A22,Blad1!$A:$AO,15,FALSE),\"\")","v":""},{"$f":"IF(B22>1,IF(Blad1!E$5=\"interval\",IF(Blad1!B29>1,VLOOKUP($A22,Blad1!$A:$AO,17,FALSE),\"\"),IF(Blad1!B29>1,VLOOKUP($A22,Blad1!$A:$AO,16,FALSE),\"\")),\"\")","v":""},{"$f":"IF(B22>12,IF(Blad1!F$5=\"interval\",IF(Blad1!H29>1,VLOOKUP($A22,Blad1!$A:$AO,19,FALSE),\"\"),IF(Blad1!H29>1,VLOOKUP($A22,Blad1!$A:$AO,19,FALSE),\"\")),\"\")","v":""}]
[18,{"$f":"IF(Blad1!G30>1,VLOOKUP($A23,Blad1!$A:$AO,2,FALSE),\"\")","v":""},{"$f":"IF(Blad1!G30>1,VLOOKUP($A23,Blad1!$A:$AO,3,FALSE),\"\")","v":""},{"$f":"IF(Blad1!H30>1,VLOOKUP($A23,Blad1!$A:$AO,4,FALSE),\"\")","v":""},{"$f":"IF(Blad1!G30>1,VLOOKUP($A23,Blad1!$A:$AO,5,FALSE),\"\")","v":""},{"$f":"IF(Blad1!G30>1,VLOOKUP($A23,Blad1!$A:$AO,6,FALSE),\"\")","v":""},{"$f":"IF(Blad1!G30>1,VLOOKUP($A23,Blad1!$A:$AO,7,FALSE),\"\")","v":""},{"$f":"IF(Blad1!G30>1,VLOOKUP($A23,Blad1!$A:$AO,8,FALSE),\"\")","v":""},{"$f":"IF(Blad1!G30>1,VLOOKUP($A23,Blad1!$A:$AO,9,FALSE),\"\")","v":""},{"$f":"IF(Blad1!G30>1,VLOOKUP($A23,Blad1!$A:$AO,10,FALSE),\"\")","v":""},{"$f":"IF(Blad1!G30>1,VLOOKUP($A23,Blad1!$A:$AO,11,FALSE),\"\")","v":""},{"$f":"IF(Blad1!G30>1,VLOOKUP($A23,Blad1!$A:$AO,12,FALSE),\"\")","v":""},{"$f":"IF(Blad1!G30>1,VLOOKUP($A23,Blad1!$A:$AO,13,FALSE),\"\")","v":""},{"$f":"IF(Blad1!G30>1,VLOOKUP($A23,Blad1!$A:$AO,15,FALSE),\"\")","v":""},{"$f":"IF(B23>1,IF(Blad1!E$5=\"interval\",IF(Blad1!B30>1,VLOOKUP($A23,Blad1!$A:$AO,17,FALSE),\"\"),IF(Blad1!B30>1,VLOOKUP($A23,Blad1!$A:$AO,16,FALSE),\"\")),\"\")","v":""},{"$f":"IF(B23>12,IF(Blad1!F$5=\"interval\",IF(Blad1!H30>1,VLOOKUP($A23,Blad1!$A:$AO,19,FALSE),\"\"),IF(Blad1!H30>1,VLOOKUP($A23,Blad1!$A:$AO,19,FALSE),\"\")),\"\")","v":""}]
[19,{"$f":"IF(Blad1!G31>1,VLOOKUP($A24,Blad1!$A:$AO,2,FALSE),\"\")","v":""},{"$f":"IF(Blad1!G31>1,VLOOKUP($A24,Blad1!$A:$AO,3,FALSE),\"\")","v":""},{"$f":"IF(Blad1!H31>1,VLOOKUP($A24,Blad1!$A:$AO,4,FALSE),\"\")","v":""},{"$f":"IF(Blad1!G31>1,VLOOKUP($A24,Blad1!$A:$AO,5,FALSE),\"\")","v":""},{"$f":"IF(Blad1!G31>1,VLOOKUP($A24,Blad1!$A:$AO,6,FALSE),\"\")","v":""},{"$f":"IF(Blad1!G31>1,VLOOKUP($A24,Blad1!$A:$AO,7,FALSE),\"\")","v":""},{"$f":"IF(Blad1!G31>1,VLOOKUP($A24,Blad1!$A:$AO,8,FALSE),\"\")","v":""},{"$f":"IF(Blad1!G31>1,VLOOKUP($A24,Blad1!$A:$AO,9,FALSE),\"\")","v":""},{"$f":"IF(Blad1!G31>1,VLOOKUP($A24,Blad1!$A:$AO,10,FALSE),\"\")","v":""},{"$f":"IF(Blad1!G31>1,VLOOKUP($A24,Blad1!$A:$AO,11,FALSE),\"\")","v":""},{"$f":"IF(Blad1!G31>1,VLOOKUP($A24,Blad1!$A:$AO,12,FALSE),\"\")","v":""},{"$f":"IF(Blad1!G31>1,VLOOKUP($A24,Blad1!$A:$AO,13,FALSE),\"\")","v":""},{"$f":"IF(Blad1!G31>1,VLOOKUP($A24,Blad1!$A:$AO,15,FALSE),\"\")","v":""},{"$f":"IF(B24>1,IF(Blad1!E$5=\"interval\",IF(Blad1!B31>1,VLOOKUP($A24,Blad1!$A:$AO,17,FALSE),\"\"),IF(Blad1!B31>1,VLOOKUP($A24,Blad1!$A:$AO,16,FALSE),\"\")),\"\")","v":""},{"$f":"IF(B24>12,IF(Blad1!F$5=\"interval\",IF(Blad1!H31>1,VLOOKUP($A24,Blad1!$A:$AO,19,FALSE),\"\"),IF(Blad1!H31>1,VLOOKUP($A24,Blad1!$A:$AO,19,FALSE),\"\")),\"\")","v":""}]
[20,{"$f":"IF(Blad1!G32>1,VLOOKUP($A25,Blad1!$A:$AO,2,FALSE),\"\")","v":""},{"$f":"IF(Blad1!G32>1,VLOOKUP($A25,Blad1!$A:$AO,3,FALSE),\"\")","v":""},{"$f":"IF(Blad1!H32>1,VLOOKUP($A25,Blad1!$A:$AO,4,FALSE),\"\")","v":""},{"$f":"IF(Blad1!G32>1,VLOOKUP($A25,Blad1!$A:$AO,5,FALSE),\"\")","v":""},{"$f":"IF(Blad1!G32>1,VLOOKUP($A25,Blad1!$A:$AO,6,FALSE),\"\")","v":""},{"$f":"IF(Blad1!G32>1,VLOOKUP($A25,Blad1!$A:$AO,7,FALSE),\"\")","v":""},{"$f":"IF(Blad1!G32>1,VLOOKUP($A25,Blad1!$A:$AO,8,FALSE),\"\")","v":""},{"$f":"IF(Blad1!G32>1,VLOOKUP($A25,Blad1!$A:$AO,9,FALSE),\"\")","v":""},{"$f":"IF(Blad1!G32>1,VLOOKUP($A25,Blad1!$A:$AO,10,FALSE),\"\")","v":""},{"$f":"IF(Blad1!G32>1,VLOOKUP($A25,Blad1!$A:$AO,11,FALSE),\"\")","v":""},{"$f":"IF(Blad1!G32>1,VLOOKUP($A25,Blad1!$A:$AO,12,FALSE),\"\")","v":""},{"$f":"IF(Blad1!G32>1,VLOOKUP($A25,Blad1!$A:$AO,13,FALSE),\"\")","v":""},{"$f":"IF(Blad1!G32>1,VLOOKUP($A25,Blad1!$A:$AO,15,FALSE),\"\")","v":""},{"$f":"IF(B25>1,IF(Blad1!E$5=\"interval\",IF(Blad1!B32>1,VLOOKUP($A25,Blad1!$A:$AO,17,FALSE),\"\"),IF(Blad1!B32>1,VLOOKUP($A25,Blad1!$A:$AO,16,FALSE),\"\")),\"\")","v":""},{"$f":"IF(B25>12,IF(Blad1!F$5=\"interval\",IF(Blad1!H32>1,VLOOKUP($A25,Blad1!$A:$AO,19,FALSE),\"\"),IF(Blad1!H32>1,VLOOKUP($A25,Blad1!$A:$AO,19,FALSE),\"\")),\"\")","v":""}]
[21,{"$f":"IF(Blad1!G33>1,VLOOKUP($A26,Blad1!$A:$AO,2,FALSE),\"\")","v":""},{"$f":"IF(Blad1!G33>1,VLOOKUP($A26,Blad1!$A:$AO,3,FALSE),\"\")","v":""},{"$f":"IF(Blad1!H33>1,VLOOKUP($A26,Blad1!$A:$AO,4,FALSE),\"\")","v":""},{"$f":"IF(Blad1!G33>1,VLOOKUP($A26,Blad1!$A:$AO,5,FALSE),\"\")","v":""},{"$f":"IF(Blad1!G33>1,VLOOKUP($A26,Blad1!$A:$AO,6,FALSE),\"\")","v":""},{"$f":"IF(Blad1!G33>1,VLOOKUP($A26,Blad1!$A:$AO,7,FALSE),\"\")","v":""},{"$f":"IF(Blad1!G33>1,VLOOKUP($A26,Blad1!$A:$AO,8,FALSE),\"\")","v":""},{"$f":"IF(Blad1!G33>1,VLOOKUP($A26,Blad1!$A:$AO,9,FALSE),\"\")","v":""},{"$f":"IF(Blad1!G33>1,VLOOKUP($A26,Blad1!$A:$AO,10,FALSE),\"\")","v":""},{"$f":"IF(Blad1!G33>1,VLOOKUP($A26,Blad1!$A:$AO,11,FALSE),\"\")","v":""},{"$f":"IF(Blad1!G33>1,VLOOKUP($A26,Blad1!$A:$AO,12,FALSE),\"\")","v":""},{"$f":"IF(Blad1!G33>1,VLOOKUP($A26,Blad1!$A:$AO,13,FALSE),\"\")","v":""},{"$f":"IF(Blad1!G33>1,VLOOKUP($A26,Blad1!$A:$AO,15,FALSE),\"\")","v":""},{"$f":"IF(B26>1,IF(Blad1!E$5=\"interval\",IF(Blad1!B33>1,VLOOKUP($A26,Blad1!$A:$AO,17,FALSE),\"\"),IF(Blad1!B33>1,VLOOKUP($A26,Blad1!$A:$AO,16,FALSE),\"\")),\"\")","v":""},{"$f":"IF(B26>12,IF(Blad1!F$5=\"interval\",IF(Blad1!H33>1,VLOOKUP($A26,Blad1!$A:$AO,19,FALSE),\"\"),IF(Blad1!H33>1,VLOOKUP($A26,Blad1!$A:$AO,19,FALSE),\"\")),\"\")","v":""}]
[22,{"$f":"IF(Blad1!G34>1,VLOOKUP($A27,Blad1!$A:$AO,2,FALSE),\"\")","v":""},{"$f":"IF(Blad1!G34>1,VLOOKUP($A27,Blad1!$A:$AO,3,FALSE),\"\")","v":""},{"$f":"IF(Blad1!H34>1,VLOOKUP($A27,Blad1!$A:$AO,4,FALSE),\"\")","v":""},{"$f":"IF(Blad1!G34>1,VLOOKUP($A27,Blad1!$A:$AO,5,FALSE),\"\")","v":""},{"$f":"IF(Blad1!G34>1,VLOOKUP($A27,Blad1!$A:$AO,6,FALSE),\"\")","v":""},{"$f":"IF(Blad1!G34>1,VLOOKUP($A27,Blad1!$A:$AO,7,FALSE),\"\")","v":""},{"$f":"IF(Blad1!G34>1,VLOOKUP($A27,Blad1!$A:$AO,8,FALSE),\"\")","v":""},{"$f":"IF(Blad1!G34>1,VLOOKUP($A27,Blad1!$A:$AO,9,FALSE),\"\")","v":""},{"$f":"IF(Blad1!G34>1,VLOOKUP($A27,Blad1!$A:$AO,10,FALSE),\"\")","v":""},{"$f":"IF(Blad1!G34>1,VLOOKUP($A27,Blad1!$A:$AO,11,FALSE),\"\")","v":""},{"$f":"IF(Blad1!G34>1,VLOOKUP($A27,Blad1!$A:$AO,12,FALSE),\"\")","v":""},{"$f":"IF(Blad1!G34>1,VLOOKUP($A27,Blad1!$A:$AO,13,FALSE),\"\")","v":""},{"$f":"IF(Blad1!G34>1,VLOOKUP($A27,Blad1!$A:$AO,15,FALSE),\"\")","v":""},{"$f":"IF(B27>1,IF(Blad1!E$5=\"interval\",IF(Blad1!B34>1,VLOOKUP($A27,Blad1!$A:$AO,17,FALSE),\"\"),IF(Blad1!B34>1,VLOOKUP($A27,Blad1!$A:$AO,16,FALSE),\"\")),\"\")","v":""},{"$f":"IF(B27>12,IF(Blad1!F$5=\"interval\",IF(Blad1!H34>1,VLOOKUP($A27,Blad1!$A:$AO,19,FALSE),\"\"),IF(Blad1!H34>1,VLOOKUP($A27,Blad1!$A:$AO,19,FALSE),\"\")),\"\")","v":""}]
[23,{"$f":"IF(Blad1!G35>1,VLOOKUP($A28,Blad1!$A:$AO,2,FALSE),\"\")","v":""},{"$f":"IF(Blad1!G35>1,VLOOKUP($A28,Blad1!$A:$AO,3,FALSE),\"\")","v":""},{"$f":"IF(Blad1!H35>1,VLOOKUP($A28,Blad1!$A:$AO,4,FALSE),\"\")","v":""},{"$f":"IF(Blad1!G35>1,VLOOKUP($A28,Blad1!$A:$AO,5,FALSE),\"\")","v":""},{"$f":"IF(Blad1!G35>1,VLOOKUP($A28,Blad1!$A:$AO,6,FALSE),\"\")","v":""},{"$f":"IF(Blad1!G35>1,VLOOKUP($A28,Blad1!$A:$AO,7,FALSE),\"\")","v":""},{"$f":"IF(Blad1!G35>1,VLOOKUP($A28,Blad1!$A:$AO,8,FALSE),\"\")","v":""},{"$f":"IF(Blad1!G35>1,VLOOKUP($A28,Blad1!$A:$AO,9,FALSE),\"\")","v":""},{"$f":"IF(Blad1!G35>1,VLOOKUP($A28,Blad1!$A:$AO,10,FALSE),\"\")","v":""},{"$f":"IF(Blad1!G35>1,VLOOKUP($A28,Blad1!$A:$AO,11,FALSE),\"\")","v":""},{"$f":"IF(Blad1!G35>1,VLOOKUP($A28,Blad1!$A:$AO,12,FALSE),\"\")","v":""},{"$f":"IF(Blad1!G35>1,VLOOKUP($A28,Blad1!$A:$AO,13,FALSE),\"\")","v":""},{"$f":"IF(Blad1!G35>1,VLOOKUP($A28,Blad1!$A:$AO,15,FALSE),\"\")","v":""},{"$f":"IF(B28>1,IF(Blad1!E$5=\"interval\",IF(Blad1!B35>1,VLOOKUP($A28,Blad1!$A:$AO,17,FALSE),\"\"),IF(Blad1!B35>1,VLOOKUP($A28,Blad1!$A:$AO,16,FALSE),\"\")),\"\")","v":""},{"$f":"IF(B28>12,IF(Blad1!F$5=\"interval\",IF(Blad1!H35>1,VLOOKUP($A28,Blad1!$A:$AO,19,FALSE),\"\"),IF(Blad1!H35>1,VLOOKUP($A28,Blad1!$A:$AO,19,FALSE),\"\")),\"\")","v":""}]
[24,{"$f":"IF(Blad1!G36>1,VLOOKUP($A29,Blad1!$A:$AO,2,FALSE),\"\")","v":""},{"$f":"IF(Blad1!G36>1,VLOOKUP($A29,Blad1!$A:$AO,3,FALSE),\"\")","v":""},{"$f":"IF(Blad1!H36>1,VLOOKUP($A29,Blad1!$A:$AO,4,FALSE),\"\")","v":""},{"$f":"IF(Blad1!G36>1,VLOOKUP($A29,Blad1!$A:$AO,5,FALSE),\"\")","v":""},{"$f":"IF(Blad1!G36>1,VLOOKUP($A29,Blad1!$A:$AO,6,FALSE),\"\")","v":""},{"$f":"IF(Blad1!G36>1,VLOOKUP($A29,Blad1!$A:$AO,7,FALSE),\"\")","v":""},{"$f":"IF(Blad1!G36>1,VLOOKUP($A29,Blad1!$A:$AO,8,FALSE),\"\")","v":""},{"$f":"IF(Blad1!G36>1,VLOOKUP($A29,Blad1!$A:$AO,9,FALSE),\"\")","v":""},{"$f":"IF(Blad1!G36>1,VLOOKUP($A29,Blad1!$A:$AO,10,FALSE),\"\")","v":""},{"$f":"IF(Blad1!G36>1,VLOOKUP($A29,Blad1!$A:$AO,11,FALSE),\"\")","v":""},{"$f":"IF(Blad1!G36>1,VLOOKUP($A29,Blad1!$A:$AO,12,FALSE),\"\")","v":""},{"$f":"IF(Blad1!G36>1,VLOOKUP($A29,Blad1!$A:$AO,13,FALSE),\"\")","v":""},{"$f":"IF(Blad1!G36>1,VLOOKUP($A29,Blad1!$A:$AO,15,FALSE),\"\")","v":""},{"$f":"IF(B29>1,IF(Blad1!E$5=\"interval\",IF(Blad1!B36>1,VLOOKUP($A29,Blad1!$A:$AO,17,FALSE),\"\"),IF(Blad1!B36>1,VLOOKUP($A29,Blad1!$A:$AO,16,FALSE),\"\")),\"\")","v":""},{"$f":"IF(B29>12,IF(Blad1!F$5=\"interval\",IF(Blad1!H36>1,VLOOKUP($A29,Blad1!$A:$AO,19,FALSE),\"\"),IF(Blad1!H36>1,VLOOKUP($A29,Blad1!$A:$AO,19,FALSE),\"\")),\"\")","v":""}]
[25,{"$f":"IF(Blad1!G37>1,VLOOKUP($A30,Blad1!$A:$AO,2,FALSE),\"\")","v":""},{"$f":"IF(Blad1!G37>1,VLOOKUP($A30,Blad1!$A:$AO,3,FALSE),\"\")","v":""},{"$f":"IF(Blad1!H37>1,VLOOKUP($A30,Blad1!$A:$AO,4,FALSE),\"\")","v":""},{"$f":"IF(Blad1!G37>1,VLOOKUP($A30,Blad1!$A:$AO,5,FALSE),\"\")","v":""},{"$f":"IF(Blad1!G37>1,VLOOKUP($A30,Blad1!$A:$AO,6,FALSE),\"\")","v":""},{"$f":"IF(Blad1!G37>1,VLOOKUP($A30,Blad1!$A:$AO,7,FALSE),\"\")","v":""},{"$f":"IF(Blad1!G37>1,VLOOKUP($A30,Blad1!$A:$AO,8,FALSE),\"\")","v":""},{"$f":"IF(Blad1!G37>1,VLOOKUP($A30,Blad1!$A:$AO,9,FALSE),\"\")","v":""},{"$f":"IF(Blad1!G37>1,VLOOKUP($A30,Blad1!$A:$AO,10,FALSE),\"\")","v":""},{"$f":"IF(Blad1!G37>1,VLOOKUP($A30,Blad1!$A:$AO,11,FALSE),\"\")","v":""},{"$f":"IF(Blad1!G37>1,VLOOKUP($A30,Blad1!$A:$AO,12,FALSE),\"\")","v":""},{"$f":"IF(Blad1!G37>1,VLOOKUP($A30,Blad1!$A:$AO,13,FALSE),\"\")","v":""},{"$f":"IF(Blad1!G37>1,VLOOKUP($A30,Blad1!$A:$AO,15,FALSE),\"\")","v":""},{"$f":"IF(B30>1,IF(Blad1!E$5=\"interval\",IF(Blad1!B37>1,VLOOKUP($A30,Blad1!$A:$AO,17,FALSE),\"\"),IF(Blad1!B37>1,VLOOKUP($A30,Blad1!$A:$AO,16,FALSE),\"\")),\"\")","v":""},{"$f":"IF(B30>12,IF(Blad1!F$5=\"interval\",IF(Blad1!H37>1,VLOOKUP($A30,Blad1!$A:$AO,19,FALSE),\"\"),IF(Blad1!H37>1,VLOOKUP($A30,Blad1!$A:$AO,19,FALSE),\"\")),\"\")","v":""}]
[26,{"$f":"IF(Blad1!G38>1,VLOOKUP($A31,Blad1!$A:$AO,2,FALSE),\"\")","v":""},{"$f":"IF(Blad1!G38>1,VLOOKUP($A31,Blad1!$A:$AO,3,FALSE),\"\")","v":""},{"$f":"IF(Blad1!H38>1,VLOOKUP($A31,Blad1!$A:$AO,4,FALSE),\"\")","v":""},{"$f":"IF(Blad1!G38>1,VLOOKUP($A31,Blad1!$A:$AO,5,FALSE),\"\")","v":""},{"$f":"IF(Blad1!G38>1,VLOOKUP($A31,Blad1!$A:$AO,6,FALSE),\"\")","v":""},{"$f":"IF(Blad1!G38>1,VLOOKUP($A31,Blad1!$A:$AO,7,FALSE),\"\")","v":""},{"$f":"IF(Blad1!G38>1,VLOOKUP($A31,Blad1!$A:$AO,8,FALSE),\"\")","v":""},{"$f":"IF(Blad1!G38>1,VLOOKUP($A31,Blad1!$A:$AO,9,FALSE),\"\")","v":""},{"$f":"IF(Blad1!G38>1,VLOOKUP($A31,Blad1!$A:$AO,10,FALSE),\"\")","v":""},{"$f":"IF(Blad1!G38>1,VLOOKUP($A31,Blad1!$A:$AO,11,FALSE),\"\")","v":""},{"$f":"IF(Blad1!G38>1,VLOOKUP($A31,Blad1!$A:$AO,12,FALSE),\"\")","v":""},{"$f":"IF(Blad1!G38>1,VLOOKUP($A31,Blad1!$A:$AO,13,FALSE),\"\")","v":""},{"$f":"IF(Blad1!G38>1,VLOOKUP($A31,Blad1!$A:$AO,15,FALSE),\"\")","v":""},{"$f":"IF(B31>1,IF(Blad1!E$5=\"interval\",IF(Blad1!B38>1,VLOOKUP($A31,Blad1!$A:$AO,17,FALSE),\"\"),IF(Blad1!B38>1,VLOOKUP($A31,Blad1!$A:$AO,16,FALSE),\"\")),\"\")","v":""},{"$f":"IF(B31>12,IF(Blad1!F$5=\"interval\",IF(Blad1!H38>1,VLOOKUP($A31,Blad1!$A:$AO,19,FALSE),\"\"),IF(Blad1!H38>1,VLOOKUP($A31,Blad1!$A:$AO,19,FALSE),\"\")),\"\")","v":""}]
[27,{"$f":"IF(Blad1!G39>1,VLOOKUP($A32,Blad1!$A:$AO,2,FALSE),\"\")","v":""},{"$f":"IF(Blad1!G39>1,VLOOKUP($A32,Blad1!$A:$AO,3,FALSE),\"\")","v":""},{"$f":"IF(Blad1!H39>1,VLOOKUP($A32,Blad1!$A:$AO,4,FALSE),\"\")","v":""},{"$f":"IF(Blad1!G39>1,VLOOKUP($A32,Blad1!$A:$AO,5,FALSE),\"\")","v":""},{"$f":"IF(Blad1!G39>1,VLOOKUP($A32,Blad1!$A:$AO,6,FALSE),\"\")","v":""},{"$f":"IF(Blad1!G39>1,VLOOKUP($A32,Blad1!$A:$AO,7,FALSE),\"\")","v":""},{"$f":"IF(Blad1!G39>1,VLOOKUP($A32,Blad1!$A:$AO,8,FALSE),\"\")","v":""},{"$f":"IF(Blad1!G39>1,VLOOKUP($A32,Blad1!$A:$AO,9,FALSE),\"\")","v":""},{"$f":"IF(Blad1!G39>1,VLOOKUP($A32,Blad1!$A:$AO,10,FALSE),\"\")","v":""},{"$f":"IF(Blad1!G39>1,VLOOKUP($A32,Blad1!$A:$AO,11,FALSE),\"\")","v":""},{"$f":"IF(Blad1!G39>1,VLOOKUP($A32,Blad1!$A:$AO,12,FALSE),\"\")","v":""},{"$f":"IF(Blad1!G39>1,VLOOKUP($A32,Blad1!$A:$AO,13,FALSE),\"\")","v":""},{"$f":"IF(Blad1!G39>1,VLOOKUP($A32,Blad1!$A:$AO,15,FALSE),\"\")","v":""},{"$f":"IF(B32>1,IF(Blad1!E$5=\"interval\",IF(Blad1!B39>1,VLOOKUP($A32,Blad1!$A:$AO,17,FALSE),\"\"),IF(Blad1!B39>1,VLOOKUP($A32,Blad1!$A:$AO,16,FALSE),\"\")),\"\")","v":""},{"$f":"IF(B32>12,IF(Blad1!F$5=\"interval\",IF(Blad1!H39>1,VLOOKUP($A32,Blad1!$A:$AO,19,FALSE),\"\"),IF(Blad1!H39>1,VLOOKUP($A32,Blad1!$A:$AO,19,FALSE),\"\")),\"\")","v":""}]
[28,{"$f":"IF(Blad1!G40>1,VLOOKUP($A33,Blad1!$A:$AO,2,FALSE),\"\")","v":""},{"$f":"IF(Blad1!G40>1,VLOOKUP($A33,Blad1!$A:$AO,3,FALSE),\"\")","v":""},{"$f":"IF(Blad1!H40>1,VLOOKUP($A33,Blad1!$A:$AO,4,FALSE),\"\")","v":""},{"$f":"IF(Blad1!G40>1,VLOOKUP($A33,Blad1!$A:$AO,5,FALSE),\"\")","v":""},{"$f":"IF(Blad1!G40>1,VLOOKUP($A33,Blad1!$A:$AO,6,FALSE),\"\")","v":""},{"$f":"IF(Blad1!G40>1,VLOOKUP($A33,Blad1!$A:$AO,7,FALSE),\"\")","v":""},{"$f":"IF(Blad1!G40>1,VLOOKUP($A33,Blad1!$A:$AO,8,FALSE),\"\")","v":""},{"$f":"IF(Blad1!G40>1,VLOOKUP($A33,Blad1!$A:$AO,9,FALSE),\"\")","v":""},{"$f":"IF(Blad1!G40>1,VLOOKUP($A33,Blad1!$A:$AO,10,FALSE),\"\")","v":""},{"$f":"IF(Blad1!G40>1,VLOOKUP($A33,Blad1!$A:$AO,11,FALSE),\"\")","v":""},{"$f":"IF(Blad1!G40>1,VLOOKUP($A33,Blad1!$A:$AO,12,FALSE),\"\")","v":""},{"$f":"IF(Blad1!G40>1,VLOOKUP($A33,Blad1!$A:$AO,13,FALSE),\"\")","v":""},{"$f":"IF(Blad1!G40>1,VLOOKUP($A33,Blad1!$A:$AO,15,FALSE),\"\")","v":""},{"$f":"IF(B33>1,IF(Blad1!E$5=\"interval\",IF(Blad1!B40>1,VLOOKUP($A33,Blad1!$A:$AO,17,FALSE),\"\"),IF(Blad1!B40>1,VLOOKUP($A33,Blad1!$A:$AO,16,FALSE),\"\")),\"\")","v":""},{"$f":"IF(B33>12,IF(Blad1!F$5=\"interval\",IF(Blad1!H40>1,VLOOKUP($A33,Blad1!$A:$AO,19,FALSE),\"\"),IF(Blad1!H40>1,VLOOKUP($A33,Blad1!$A:$AO,19,FALSE),\"\")),\"\")","v":""}]
[29,{"$f":"IF(Blad1!G41>1,VLOOKUP($A34,Blad1!$A:$AO,2,FALSE),\"\")","v":""},{"$f":"IF(Blad1!G41>1,VLOOKUP($A34,Blad1!$A:$AO,3,FALSE),\"\")","v":""},{"$f":"IF(Blad1!H41>1,VLOOKUP($A34,Blad1!$A:$AO,4,FALSE),\"\")","v":""},{"$f":"IF(Blad1!G41>1,VLOOKUP($A34,Blad1!$A:$AO,5,FALSE),\"\")","v":""},{"$f":"IF(Blad1!G41>1,VLOOKUP($A34,Blad1!$A:$AO,6,FALSE),\"\")","v":""},{"$f":"IF(Blad1!G41>1,VLOOKUP($A34,Blad1!$A:$AO,7,FALSE),\"\")","v":""},{"$f":"IF(Blad1!G41>1,VLOOKUP($A34,Blad1!$A:$AO,8,FALSE),\"\")","v":""},{"$f":"IF(Blad1!G41>1,VLOOKUP($A34,Blad1!$A:$AO,9,FALSE),\"\")","v":""},{"$f":"IF(Blad1!G41>1,VLOOKUP($A34,Blad1!$A:$AO,10,FALSE),\"\")","v":""},{"$f":"IF(Blad1!G41>1,VLOOKUP($A34,Blad1!$A:$AO,11,FALSE),\"\")","v":""},{"$f":"IF(Blad1!G41>1,VLOOKUP($A34,Blad1!$A:$AO,12,FALSE),\"\")","v":""},{"$f":"IF(Blad1!G41>1,VLOOKUP($A34,Blad1!$A:$AO,13,FALSE),\"\")","v":""},{"$f":"IF(Blad1!G41>1,VLOOKUP($A34,Blad1!$A:$AO,15,FALSE),\"\")","v":""},{"$f":"IF(B34>1,IF(Blad1!E$5=\"interval\",IF(Blad1!B41>1,VLOOKUP($A34,Blad1!$A:$AO,17,FALSE),\"\"),IF(Blad1!B41>1,VLOOKUP($A34,Blad1!$A:$AO,16,FALSE),\"\")),\"\")","v":""},{"$f":"IF(B34>12,IF(Blad1!F$5=\"interval\",IF(Blad1!H41>1,VLOOKUP($A34,Blad1!$A:$AO,19,FALSE),\"\"),IF(Blad1!H41>1,VLOOKUP($A34,Blad1!$A:$AO,19,FALSE),\"\")),\"\")","v":""}]
[30,{"$f":"IF(Blad1!G42>1,VLOOKUP($A35,Blad1!$A:$AO,2,FALSE),\"\")","v":""},{"$f":"IF(Blad1!G42>1,VLOOKUP($A35,Blad1!$A:$AO,3,FALSE),\"\")","v":""},{"$f":"IF(Blad1!H42>1,VLOOKUP($A35,Blad1!$A:$AO,4,FALSE),\"\")","v":""},{"$f":"IF(Blad1!G42>1,VLOOKUP($A35,Blad1!$A:$AO,5,FALSE),\"\")","v":""},{"$f":"IF(Blad1!G42>1,VLOOKUP($A35,Blad1!$A:$AO,6,FALSE),\"\")","v":""},{"$f":"IF(Blad1!G42>1,VLOOKUP($A35,Blad1!$A:$AO,7,FALSE),\"\")","v":""},{"$f":"IF(Blad1!G42>1,VLOOKUP($A35,Blad1!$A:$AO,8,FALSE),\"\")","v":""},{"$f":"IF(Blad1!G42>1,VLOOKUP($A35,Blad1!$A:$AO,9,FALSE),\"\")","v":""},{"$f":"IF(Blad1!G42>1,VLOOKUP($A35,Blad1!$A:$AO,10,FALSE),\"\")","v":""},{"$f":"IF(Blad1!G42>1,VLOOKUP($A35,Blad1!$A:$AO,11,FALSE),\"\")","v":""},{"$f":"IF(Blad1!G42>1,VLOOKUP($A35,Blad1!$A:$AO,12,FALSE),\"\")","v":""},{"$f":"IF(Blad1!G42>1,VLOOKUP($A35,Blad1!$A:$AO,13,FALSE),\"\")","v":""},{"$f":"IF(Blad1!G42>1,VLOOKUP($A35,Blad1!$A:$AO,15,FALSE),\"\")","v":""},{"$f":"IF(B35>1,IF(Blad1!E$5=\"interval\",IF(Blad1!B42>1,VLOOKUP($A35,Blad1!$A:$AO,17,FALSE),\"\"),IF(Blad1!B42>1,VLOOKUP($A35,Blad1!$A:$AO,16,FALSE),\"\")),\"\")","v":""},{"$f":"IF(B35>12,IF(Blad1!F$5=\"interval\",IF(Blad1!H42>1,VLOOKUP($A35,Blad1!$A:$AO,19,FALSE),\"\"),IF(Blad1!H42>1,VLOOKUP($A35,Blad1!$A:$AO,19,FALSE),\"\")),\"\")","v":""}]
[31,{"$f":"IF(Blad1!G43>1,VLOOKUP($A36,Blad1!$A:$AO,2,FALSE),\"\")","v":""},{"$f":"IF(Blad1!G43>1,VLOOKUP($A36,Blad1!$A:$AO,3,FALSE),\"\")","v":""},{"$f":"IF(Blad1!H43>1,VLOOKUP($A36,Blad1!$A:$AO,4,FALSE),\"\")","v":""},{"$f":"IF(Blad1!G43>1,VLOOKUP($A36,Blad1!$A:$AO,5,FALSE),\"\")","v":""},{"$f":"IF(Blad1!G43>1,VLOOKUP($A36,Blad1!$A:$AO,6,FALSE),\"\")","v":""},{"$f":"IF(Blad1!G43>1,VLOOKUP($A36,Blad1!$A:$AO,7,FALSE),\"\")","v":""},{"$f":"IF(Blad1!G43>1,VLOOKUP($A36,Blad1!$A:$AO,8,FALSE),\"\")","v":""},{"$f":"IF(Blad1!G43>1,VLOOKUP($A36,Blad1!$A:$AO,9,FALSE),\"\")","v":""},{"$f":"IF(Blad1!G43>1,VLOOKUP($A36,Blad1!$A:$AO,10,FALSE),\"\")","v":""},{"$f":"IF(Blad1!G43>1,VLOOKUP($A36,Blad1!$A:$AO,11,FALSE),\"\")","v":""},{"$f":"IF(Blad1!G43>1,VLOOKUP($A36,Blad1!$A:$AO,12,FALSE),\"\")","v":""},{"$f":"IF(Blad1!G43>1,VLOOKUP($A36,Blad1!$A:$AO,13,FALSE),\"\")","v":""},{"$f":"IF(Blad1!G43>1,VLOOKUP($A36,Blad1!$A:$AO,15,FALSE),\"\")","v":""},{"$f":"IF(B36>1,IF(Blad1!E$5=\"interval\",IF(Blad1!B43>1,VLOOKUP($A36,Blad1!$A:$AO,17,FALSE),\"\"),IF(Blad1!B43>1,VLOOKUP($A36,Blad1!$A:$AO,16,FALSE),\"\")),\"\")","v":""},{"$f":"IF(B36>12,IF(Blad1!F$5=\"interval\",IF(Blad1!H43>1,VLOOKUP($A36,Blad1!$A:$AO,19,FALSE),\"\"),IF(Blad1!H43>1,VLOOKUP($A36,Blad1!$A:$AO,19,FALSE),\"\")),\"\")","v":""}]
[32,{"$f":"IF(Blad1!G44>1,VLOOKUP($A37,Blad1!$A:$AO,2,FALSE),\"\")","v":""},{"$f":"IF(Blad1!G44>1,VLOOKUP($A37,Blad1!$A:$AO,3,FALSE),\"\")","v":""},{"$f":"IF(Blad1!H44>1,VLOOKUP($A37,Blad1!$A:$AO,4,FALSE),\"\")","v":""},{"$f":"IF(Blad1!G44>1,VLOOKUP($A37,Blad1!$A:$AO,5,FALSE),\"\")","v":""},{"$f":"IF(Blad1!G44>1,VLOOKUP($A37,Blad1!$A:$AO,6,FALSE),\"\")","v":""},{"$f":"IF(Blad1!G44>1,VLOOKUP($A37,Blad1!$A:$AO,7,FALSE),\"\")","v":""},{"$f":"IF(Blad1!G44>1,VLOOKUP($A37,Blad1!$A:$AO,8,FALSE),\"\")","v":""},{"$f":"IF(Blad1!G44>1,VLOOKUP($A37,Blad1!$A:$AO,9,FALSE),\"\")","v":""},{"$f":"IF(Blad1!G44>1,VLOOKUP($A37,Blad1!$A:$AO,10,FALSE),\"\")","v":""},{"$f":"IF(Blad1!G44>1,VLOOKUP($A37,Blad1!$A:$AO,11,FALSE),\"\")","v":""},{"$f":"IF(Blad1!G44>1,VLOOKUP($A37,Blad1!$A:$AO,12,FALSE),\"\")","v":""},{"$f":"IF(Blad1!G44>1,VLOOKUP($A37,Blad1!$A:$AO,13,FALSE),\"\")","v":""},{"$f":"IF(Blad1!G44>1,VLOOKUP($A37,Blad1!$A:$AO,15,FALSE),\"\")","v":""},{"$f":"IF(B37>1,IF(Blad1!E$5=\"interval\",IF(Blad1!B44>1,VLOOKUP($A37,Blad1!$A:$AO,17,FALSE),\"\"),IF(Blad1!B44>1,VLOOKUP($A37,Blad1!$A:$AO,16,FALSE),\"\")),\"\")","v":""},{"$f":"IF(B37>12,IF(Blad1!F$5=\"interval\",IF(Blad1!H44>1,VLOOKUP($A37,Blad1!$A:$AO,19,FALSE),\"\"),IF(Blad1!H44>1,VLOOKUP($A37,Blad1!$A:$AO,19,FALSE),\"\")),\"\")","v":""}]
[33,{"$f":"IF(Blad1!G45>1,VLOOKUP($A38,Blad1!$A:$AO,2,FALSE),\"\")","v":""},{"$f":"IF(Blad1!G45>1,VLOOKUP($A38,Blad1!$A:$AO,3,FALSE),\"\")","v":""},{"$f":"IF(Blad1!H45>1,VLOOKUP($A38,Blad1!$A:$AO,4,FALSE),\"\")","v":""},{"$f":"IF(Blad1!G45>1,VLOOKUP($A38,Blad1!$A:$AO,5,FALSE),\"\")","v":""},{"$f":"IF(Blad1!G45>1,VLOOKUP($A38,Blad1!$A:$AO,6,FALSE),\"\")","v":""},{"$f":"IF(Blad1!G45>1,VLOOKUP($A38,Blad1!$A:$AO,7,FALSE),\"\")","v":""},{"$f":"IF(Blad1!G45>1,VLOOKUP($A38,Blad1!$A:$AO,8,FALSE),\"\")","v":""},{"$f":"IF(Blad1!G45>1,VLOOKUP($A38,Blad1!$A:$AO,9,FALSE),\"\")","v":""},{"$f":"IF(Blad1!G45>1,VLOOKUP($A38,Blad1!$A:$AO,10,FALSE),\"\")","v":""},{"$f":"IF(Blad1!G45>1,VLOOKUP($A38,Blad1!$A:$AO,11,FALSE),\"\")","v":""},{"$f":"IF(Blad1!G45>1,VLOOKUP($A38,Blad1!$A:$AO,12,FALSE),\"\")","v":""},{"$f":"IF(Blad1!G45>1,VLOOKUP($A38,Blad1!$A:$AO,13,FALSE),\"\")","v":""},{"$f":"IF(Blad1!G45>1,VLOOKUP($A38,Blad1!$A:$AO,15,FALSE),\"\")","v":""},{"$f":"IF(B38>1,IF(Blad1!E$5=\"interval\",IF(Blad1!B45>1,VLOOKUP($A38,Blad1!$A:$AO,17,FALSE),\"\"),IF(Blad1!B45>1,VLOOKUP($A38,Blad1!$A:$AO,16,FALSE),\"\")),\"\")","v":""},{"$f":"IF(B38>12,IF(Blad1!F$5=\"interval\",IF(Blad1!H45>1,VLOOKUP($A38,Blad1!$A:$AO,19,FALSE),\"\"),IF(Blad1!H45>1,VLOOKUP($A38,Blad1!$A:$AO,19,FALSE),\"\")),\"\")","v":""}]
[34,{"$f":"IF(Blad1!G46>1,VLOOKUP($A39,Blad1!$A:$AO,2,FALSE),\"\")","v":""},{"$f":"IF(Blad1!G46>1,VLOOKUP($A39,Blad1!$A:$AO,3,FALSE),\"\")","v":""},{"$f":"IF(Blad1!H46>1,VLOOKUP($A39,Blad1!$A:$AO,4,FALSE),\"\")","v":""},{"$f":"IF(Blad1!G46>1,VLOOKUP($A39,Blad1!$A:$AO,5,FALSE),\"\")","v":""},{"$f":"IF(Blad1!G46>1,VLOOKUP($A39,Blad1!$A:$AO,6,FALSE),\"\")","v":""},{"$f":"IF(Blad1!G46>1,VLOOKUP($A39,Blad1!$A:$AO,7,FALSE),\"\")","v":""},{"$f":"IF(Blad1!G46>1,VLOOKUP($A39,Blad1!$A:$AO,8,FALSE),\"\")","v":""},{"$f":"IF(Blad1!G46>1,VLOOKUP($A39,Blad1!$A:$AO,9,FALSE),\"\")","v":""},{"$f":"IF(Blad1!G46>1,VLOOKUP($A39,Blad1!$A:$AO,10,FALSE),\"\")","v":""},{"$f":"IF(Blad1!G46>1,VLOOKUP($A39,Blad1!$A:$AO,11,FALSE),\"\")","v":""},{"$f":"IF(Blad1!G46>1,VLOOKUP($A39,Blad1!$A:$AO,12,FALSE),\"\")","v":""},{"$f":"IF(Blad1!G46>1,VLOOKUP($A39,Blad1!$A:$AO,13,FALSE),\"\")","v":""},{"$f":"IF(Blad1!G46>1,VLOOKUP($A39,Blad1!$A:$AO,15,FALSE),\"\")","v":""},{"$f":"IF(B39>1,IF(Blad1!E$5=\"interval\",IF(Blad1!B46>1,VLOOKUP($A39,Blad1!$A:$AO,17,FALSE),\"\"),IF(Blad1!B46>1,VLOOKUP($A39,Blad1!$A:$AO,16,FALSE),\"\")),\"\")","v":""},{"$f":"IF(B39>12,IF(Blad1!F$5=\"interval\",IF(Blad1!H46>1,VLOOKUP($A39,Blad1!$A:$AO,19,FALSE),\"\"),IF(Blad1!H46>1,VLOOKUP($A39,Blad1!$A:$AO,19,FALSE),\"\")),\"\")","v":""}]
[35,{"$f":"IF(Blad1!G47>1,VLOOKUP($A40,Blad1!$A:$AO,2,FALSE),\"\")","v":""},{"$f":"IF(Blad1!G47>1,VLOOKUP($A40,Blad1!$A:$AO,3,FALSE),\"\")","v":""},{"$f":"IF(Blad1!H47>1,VLOOKUP($A40,Blad1!$A:$AO,4,FALSE),\"\")","v":""},{"$f":"IF(Blad1!G47>1,VLOOKUP($A40,Blad1!$A:$AO,5,FALSE),\"\")","v":""},{"$f":"IF(Blad1!G47>1,VLOOKUP($A40,Blad1!$A:$AO,6,FALSE),\"\")","v":""},{"$f":"IF(Blad1!G47>1,VLOOKUP($A40,Blad1!$A:$AO,7,FALSE),\"\")","v":""},{"$f":"IF(Blad1!G47>1,VLOOKUP($A40,Blad1!$A:$AO,8,FALSE),\"\")","v":""},{"$f":"IF(Blad1!G47>1,VLOOKUP($A40,Blad1!$A:$AO,9,FALSE),\"\")","v":""},{"$f":"IF(Blad1!G47>1,VLOOKUP($A40,Blad1!$A:$AO,10,FALSE),\"\")","v":""},{"$f":"IF(Blad1!G47>1,VLOOKUP($A40,Blad1!$A:$AO,11,FALSE),\"\")","v":""},{"$f":"IF(Blad1!G47>1,VLOOKUP($A40,Blad1!$A:$AO,12,FALSE),\"\")","v":""},{"$f":"IF(Blad1!G47>1,VLOOKUP($A40,Blad1!$A:$AO,13,FALSE),\"\")","v":""},{"$f":"IF(Blad1!G47>1,VLOOKUP($A40,Blad1!$A:$AO,15,FALSE),\"\")","v":""},{"$f":"IF(B40>1,IF(Blad1!E$5=\"interval\",IF(Blad1!B47>1,VLOOKUP($A40,Blad1!$A:$AO,17,FALSE),\"\"),IF(Blad1!B47>1,VLOOKUP($A40,Blad1!$A:$AO,16,FALSE),\"\")),\"\")","v":""},{"$f":"IF(B40>12,IF(Blad1!F$5=\"interval\",IF(Blad1!H47>1,VLOOKUP($A40,Blad1!$A:$AO,19,FALSE),\"\"),IF(Blad1!H47>1,VLOOKUP($A40,Blad1!$A:$AO,19,FALSE),\"\")),\"\")","v":""}]
[36,{"$f":"IF(Blad1!G48>1,VLOOKUP($A41,Blad1!$A:$AO,2,FALSE),\"\")","v":""},{"$f":"IF(Blad1!G48>1,VLOOKUP($A41,Blad1!$A:$AO,3,FALSE),\"\")","v":""},{"$f":"IF(Blad1!H48>1,VLOOKUP($A41,Blad1!$A:$AO,4,FALSE),\"\")","v":""},{"$f":"IF(Blad1!G48>1,VLOOKUP($A41,Blad1!$A:$AO,5,FALSE),\"\")","v":""},{"$f":"IF(Blad1!G48>1,VLOOKUP($A41,Blad1!$A:$AO,6,FALSE),\"\")","v":""},{"$f":"IF(Blad1!G48>1,VLOOKUP($A41,Blad1!$A:$AO,7,FALSE),\"\")","v":""},{"$f":"IF(Blad1!G48>1,VLOOKUP($A41,Blad1!$A:$AO,8,FALSE),\"\")","v":""},{"$f":"IF(Blad1!G48>1,VLOOKUP($A41,Blad1!$A:$AO,9,FALSE),\"\")","v":""},{"$f":"IF(Blad1!G48>1,VLOOKUP($A41,Blad1!$A:$AO,10,FALSE),\"\")","v":""},{"$f":"IF(Blad1!G48>1,VLOOKUP($A41,Blad1!$A:$AO,11,FALSE),\"\")","v":""},{"$f":"IF(Blad1!G48>1,VLOOKUP($A41,Blad1!$A:$AO,12,FALSE),\"\")","v":""},{"$f":"IF(Blad1!G48>1,VLOOKUP($A41,Blad1!$A:$AO,13,FALSE),\"\")","v":""},{"$f":"IF(Blad1!G48>1,VLOOKUP($A41,Blad1!$A:$AO,15,FALSE),\"\")","v":""},{"$f":"IF(B41>1,IF(Blad1!E$5=\"interval\",IF(Blad1!B48>1,VLOOKUP($A41,Blad1!$A:$AO,17,FALSE),\"\"),IF(Blad1!B48>1,VLOOKUP($A41,Blad1!$A:$AO,16,FALSE),\"\")),\"\")","v":""},{"$f":"IF(B41>12,IF(Blad1!F$5=\"interval\",IF(Blad1!H48>1,VLOOKUP($A41,Blad1!$A:$AO,19,FALSE),\"\"),IF(Blad1!H48>1,VLOOKUP($A41,Blad1!$A:$AO,19,FALSE),\"\")),\"\")","v":""}]
[37,{"$f":"IF(Blad1!G49>1,VLOOKUP($A42,Blad1!$A:$AO,2,FALSE),\"\")","v":""},{"$f":"IF(Blad1!G49>1,VLOOKUP($A42,Blad1!$A:$AO,3,FALSE),\"\")","v":""},{"$f":"IF(Blad1!H49>1,VLOOKUP($A42,Blad1!$A:$AO,4,FALSE),\"\")","v":""},{"$f":"IF(Blad1!G49>1,VLOOKUP($A42,Blad1!$A:$AO,5,FALSE),\"\")","v":""},{"$f":"IF(Blad1!G49>1,VLOOKUP($A42,Blad1!$A:$AO,6,FALSE),\"\")","v":""},{"$f":"IF(Blad1!G49>1,VLOOKUP($A42,Blad1!$A:$AO,7,FALSE),\"\")","v":""},{"$f":"IF(Blad1!G49>1,VLOOKUP($A42,Blad1!$A:$AO,8,FALSE),\"\")","v":""},{"$f":"IF(Blad1!G49>1,VLOOKUP($A42,Blad1!$A:$AO,9,FALSE),\"\")","v":""},{"$f":"IF(Blad1!G49>1,VLOOKUP($A42,Blad1!$A:$AO,10,FALSE),\"\")","v":""},{"$f":"IF(Blad1!G49>1,VLOOKUP($A42,Blad1!$A:$AO,11,FALSE),\"\")","v":""},{"$f":"IF(Blad1!G49>1,VLOOKUP($A42,Blad1!$A:$AO,12,FALSE),\"\")","v":""},{"$f":"IF(Blad1!G49>1,VLOOKUP($A42,Blad1!$A:$AO,13,FALSE),\"\")","v":""},{"$f":"IF(Blad1!G49>1,VLOOKUP($A42,Blad1!$A:$AO,15,FALSE),\"\")","v":""}," ",{"$f":"IF(B42>12,IF(Blad1!F$5=\"interval\",IF(Blad1!H49>1,VLOOKUP($A42,Blad1!$A:$AO,19,FALSE),\"\"),IF(Blad1!H49>1,VLOOKUP($A42,Blad1!$A:$AO,19,FALSE),\"\")),\"\")","v":""}]

{"sheet":"Blad3","index":2,"n_rows":36,"n_cols":6,"rows_kept":36,"cut":false,"hidden":false,"merged":[]}
[1E-3,"  - "," 0,25"," 12"," 15"]
[" 0,25","  - "," 0,30"," 13"," 17"]
[" 0,30","  - "," 0,35"," 15"," 18"]
[" 0,35","  - "," 0,40"," 17"," 20"]
[" 0,40","  - "," 0,45"," 18"," 22"]
[" 0,45","  - "," 0,50"," 20"," 24"]
[" 0,50","  - "," 0,55"," 22"," 26"]
[" 0,55","  - "," 0,60"," 24"," 28"]
[" 0,60","  - "," 0,65"," 26"," 30"]
[0.65,"- ",0.7,28,32]
[0.7,"- ",0.75,30,34]
[0.75,"- ",0.8,32,35]
[0.8,"- ",0.85,34,37]
[0.85,"- ",0.9,35,39]
[0.9,"- ",0.95,37,42]
[0.95,"- ",1,38,45]
[1,"- ",1.1000000000000001,42,49]
[1.1000000000000001,"- ",1.2,45,52]
[1.2,"-",1.3,49,57]
[1.3,"-",1.4,52,61]
[1.4,"-",1.5,57,65]
[1.5,"-",1.6,61,69]
[1.6,"-",1.7,65,73]
[1.7,"-",1.8,69,77]
[1.8,"-",1.9,73,85]
[1.9,"-",2,77,93]
[2,"-",2.2000000000000002,85,101]
[2.2000000000000002,null,2.4,93,null,109]
[2.4,null,2.6,101,null,117]
[2.6,null,2.8,109,null,125]
[2.8,null,3,117,null,133]
[3,null,3.2,125,null,141]
[3.2,null,3.4,133,null,149]
[3.4,null,3.6,141,null,157]
[3.6,null,3.8,149,null,165]
[3.8,null,4,157,null,173]

{"sheet":"Blad2","index":3,"n_rows":2059,"n_cols":8,"rows_kept":2059,"cut":false,"hidden":false,"merged":[]}
[{"$f":"IF([1]Sheet1!A4=113,0,[1]Sheet1!A4)","v":0},{"$f":"IF([1]Sheet1!A4=113,0,[1]Sheet1!F4)","v":0},{"$f":"[1]Sheet1!G4","v":"Nijman"},{"$f":"[1]Sheet1!H4","v":"Henk"},{"$f":"[1]Sheet1!J4","v":0},{"$f":"IF(E1=0,CONCATENATE(D1,\" \",C1),CONCATENATE(D1,\" \",E1,\" \",C1))","v":"Henk Nijman"},null,{"$f":"IF(A1=113,0,[1]Sheet1!B4)","v":"DOETINCHEM EN OMSTREKEN"}]
[{"$f":"IF([1]Sheet1!A5=113,0,[1]Sheet1!A5)","v":10382},{"$f":"IF([1]Sheet1!A5=113,0,[1]Sheet1!F5)","v":203307},{"$f":"[1]Sheet1!G5","v":"Timmermans"},{"$f":"[1]Sheet1!H5","v":"Wim"},{"$f":"[1]Sheet1!J5","v":0},{"$f":"IF(E2=0,CONCATENATE(D2,\" \",C2),CONCATENATE(D2,\" \",E2,\" \",C2))","v":"Wim Timmermans"},null,{"$f":"IF(A2=113,0,[1]Sheet1!B5)","v":"Uutkiek"}]
[{"$f":"IF([1]Sheet1!A6=113,0,[1]Sheet1!A6)","v":10382},{"$f":"IF([1]Sheet1!A6=113,0,[1]Sheet1!F6)","v":203307},{"$f":"[1]Sheet1!G6","v":"Timmermans"},{"$f":"[1]Sheet1!H6","v":"Wim"},{"$f":"[1]Sheet1!J6","v":0},"Wim Timmermans",null,{"$f":"IF(A3=113,0,[1]Sheet1!B6)","v":"Uutkiek"}]
[{"$f":"IF([1]Sheet1!A7=113,0,[1]Sheet1!A7)","v":10554},{"$f":"IF([1]Sheet1!A7=113,0,[1]Sheet1!F7)","v":112032},{"$f":"[1]Sheet1!G7","v":"Kemperman"},{"$f":"[1]Sheet1!H7","v":"Sjef"},{"$f":"[1]Sheet1!J7","v":0},"Sjef Kemperman",null,{"$f":"IF(A4=113,0,[1]Sheet1!B7)","v":"D.L.S."}]
[{"$f":"IF([1]Sheet1!A8=113,0,[1]Sheet1!A8)","v":10554},{"$f":"IF([1]Sheet1!A8=113,0,[1]Sheet1!F8)","v":112032},{"$f":"[1]Sheet1!G8","v":"Kemperman"},{"$f":"[1]Sheet1!H8","v":"Sjef"},{"$f":"[1]Sheet1!J8","v":0},"Sjef Kemperman",null,{"$f":"IF(A5=113,0,[1]Sheet1!B8)","v":"D.L.S."}]
[{"$f":"IF([1]Sheet1!A9=113,0,[1]Sheet1!A9)","v":10555},{"$f":"IF([1]Sheet1!A9=113,0,[1]Sheet1!F9)","v":109625},{"$f":"[1]Sheet1!G9","v":"Dikkers"},{"$f":"[1]Sheet1!H9","v":"Carlo"},{"$f":"[1]Sheet1!J9","v":0},"Carlo Dikkers",null,{"$f":"IF(A6=113,0,[1]Sheet1!B9)","v":"Martin"}]
[{"$f":"IF([1]Sheet1!A10=113,0,[1]Sheet1!A10)","v":10555},{"$f":"IF([1]Sheet1!A10=113,0,[1]Sheet1!F10)","v":109625},{"$f":"[1]Sheet1!G10","v":"Dikkers"},{"$f":"[1]Sheet1!H10","v":"Carlo"},{"$f":"[1]Sheet1!J10","v":0},"Carlo Dikkers",null,{"$f":"IF(A7=113,0,[1]Sheet1!B10)","v":"Martin"}]
[{"$f":"IF([1]Sheet1!A11=113,0,[1]Sheet1!A11)","v":10556},{"$f":"IF([1]Sheet1!A11=113,0,[1]Sheet1!F11)","v":183056},{"$f":"[1]Sheet1!G11","v":"Scheers"},{"$f":"[1]Sheet1!H11","v":"Joop"},{"$f":"[1]Sheet1!J11","v":0},"Joop Scheers",null,{"$f":"IF(A8=113,0,[1]Sheet1!B11)","v":"Graafschap"}]
[{"$f":"IF([1]Sheet1!A12=113,0,[1]Sheet1!A12)","v":10556},{"$f":"IF([1]Sheet1!A12=113,0,[1]Sheet1!F12)","v":183056},{"$f":"[1]Sheet1!G12","v":"Scheers"},{"$f":"[1]Sheet1!H12","v":"Joop"},{"$f":"[1]Sheet1!J12","v":0},"Joop Scheers",null,{"$f":"IF(A9=113,0,[1]Sheet1!B12)","v":"Graafschap"}]
[{"$f":"IF([1]Sheet1!A13=113,0,[1]Sheet1!A13)","v":10559},{"$f":"IF([1]Sheet1!A13=113,0,[1]Sheet1!F13)","v":148178},{"$f":"[1]Sheet1!G13","v":"Vermeiren"},{"$f":"[1]Sheet1!H13","v":"Leo"},{"$f":"[1]Sheet1!J13","v":0},"Leo Vermeiren",null,{"$f":"IF(A10=113,0,[1]Sheet1!B13)","v":"Veemarkt"}]
[{"$f":"IF([1]Sheet1!A14=113,0,[1]Sheet1!A14)","v":10559},{"$f":"IF([1]Sheet1!A14=113,0,[1]Sheet1!F14)","v":148178},{"$f":"[1]Sheet1!G14","v":"Vermeiren"},{"$f":"[1]Sheet1!H14","v":"Leo"},{"$f":"[1]Sheet1!J14","v":0},"Leo Vermeiren",null,{"$f":"IF(A11=113,0,[1]Sheet1!B14)","v":"Veemarkt"}]
[{"$f":"IF([1]Sheet1!A15=113,0,[1]Sheet1!A15)","v":10559},{"$f":"IF([1]Sheet1!A15=113,0,[1]Sheet1!F15)","v":148178},{"$f":"[1]Sheet1!G15","v":"Vermeiren"},{"$f":"[1]Sheet1!H15","v":"Leo"},{"$f":"[1]Sheet1!J15","v":0},"Leo Vermeiren",null,{"$f":"IF(A12=113,0,[1]Sheet1!B15)","v":"Veemarkt"}]
[{"$f":"IF([1]Sheet1!A16=113,0,[1]Sheet1!A16)","v":10560},{"$f":"IF([1]Sheet1!A16=113,0,[1]Sheet1!F16)","v":112083},{"$f":"[1]Sheet1!G16","v":"Have"},{"$f":"[1]Sheet1!H16","v":"Bennie"},{"$f":"[1]Sheet1!J16","v":"ten"},"Bennie ten Have",null,{"$f":"IF(A13=113,0,[1]Sheet1!B16)","v":"Waldeslust"}]
[{"$f":"IF([1]Sheet1!A17=113,0,[1]Sheet1!A17)","v":10560},{"$f":"IF([1]Sheet1!A17=113,0,[1]Sheet1!F17)","v":112083},{"$f":"[1]Sheet1!G17","v":"Have"},{"$f":"[1]Sheet1!H17","v":"Bennie"},{"$f":"[1]Sheet1!J17","v":"ten"},"Bennie ten Have",null,{"$f":"IF(A14=113,0,[1]Sheet1!B17)","v":"Waldeslust"}]
[{"$f":"IF([1]Sheet1!A18=113,0,[1]Sheet1!A18)","v":10563},{"$f":"IF([1]Sheet1!A18=113,0,[1]Sheet1!F18)","v":111125},{"$f":"[1]Sheet1!G18","v":"Roelofsen"},{"$f":"[1]Sheet1!H18","v":"Jan"},{"$f":"[1]Sheet1!J18","v":0},"Jan Roelofsen",null,{"$f":"IF(A15=113,0,[1]Sheet1!B18)","v":"Concordia `54"}]
[{"$f":"IF([1]Sheet1!A19=113,0,[1]Sheet1!A19)","v":10563},{"$f":"IF([1]Sheet1!A19=113,0,[1]Sheet1!F19)","v":111125},{"$f":"[1]Sheet1!G19","v":"Roelofsen"},{"$f":"[1]Sheet1!H19","v":"Jan"},{"$f":"[1]Sheet1!J19","v":0},"Jan Roelofsen",null,{"$f":"IF(A16=113,0,[1]Sheet1!B19)","v":"Concordia `54"}]
[{"$f":"IF([1]Sheet1!A20=113,0,[1]Sheet1!A20)","v":10567},{"$f":"IF([1]Sheet1!A20=113,0,[1]Sheet1!F20)","v":153849},{"$f":"[1]Sheet1!G20","v":"Bergervoet"},{"$f":"[1]Sheet1!H20","v":"Wilbert"},{"$f":"[1]Sheet1!J20","v":0},"Wilbert Bergervoet",null,{"$f":"IF(A17=113,0,[1]Sheet1!B20)","v":"Tapperij"}]
[{"$f":"IF([1]Sheet1!A21=113,0,[1]Sheet1!A21)","v":10567},{"$f":"IF([1]Sheet1!A21=113,0,[1]Sheet1!F21)","v":153849},{"$f":"[1]Sheet1!G21","v":"Bergervoet"},{"$f":"[1]Sheet1!H21","v":"Wilbert"},{"$f":"[1]Sheet1!J21","v":0},"Wilbert Bergervoet",null,{"$f":"IF(A18=113,0,[1]Sheet1!B21)","v":"Tapperij"}]
[{"$f":"IF([1]Sheet1!A22=113,0,[1]Sheet1!A22)","v":10570},{"$f":"IF([1]Sheet1!A22=113,0,[1]Sheet1!F22)","v":128077},{"$f":"[1]Sheet1!G22","v":"Buunk-Berenpas"},{"$f":"[1]Sheet1!H22","v":"Berdy"},{"$f":"[1]Sheet1!J22","v":0},"Berdy Buunk-Berenpas",null,{"$f":"IF(A19=113,0,[1]Sheet1!B22)","v":"Ons Genoegen Zelhem"}]
[{"$f":"IF([1]Sheet1!A23=113,0,[1]Sheet1!A23)","v":10570},{"$f":"IF([1]Sheet1!A23=113,0,[1]Sheet1!F23)","v":128077},{"$f":"[1]Sheet1!G23","v":"Buunk-Berenpas"},{"$f":"[1]Sheet1!H23","v":"Berdy"},{"$f":"[1]Sheet1!J23","v":0},"Berdy Buunk-Berenpas",null,{"$f":"IF(A20=113,0,[1]Sheet1!B23)","v":"Ons Genoegen Zelhem"}]
[{"$f":"IF([1]Sheet1!A24=113,0,[1]Sheet1!A24)","v":10572},{"$f":"IF([1]Sheet1!A24=113,0,[1]Sheet1!F24)","v":143630},{"$f":"[1]Sheet1!G24","v":"Peppelman"},{"$f":"[1]Sheet1!H24","v":"Gerwin"},{"$f":"[1]Sheet1!J24","v":0},{"$f":"IF(E21=0,CONCATENATE(D21,\" \",C21),CONCATENATE(D21,\" \",E21,\" \",C21))","v":"Gerwin Peppelman"},null,{"$f":"IF(A21=113,0,[1]Sheet1!B24)","v":"Nieuwe Rosegaar"}]
[{"$f":"IF([1]Sheet1!A25=113,0,[1]Sheet1!A25)","v":10572},{"$f":"IF([1]Sheet1!A25=113,0,[1]Sheet1!F25)","v":143630},{"$f":"[1]Sheet1!G25","v":"Peppelman"},{"$f":"[1]Sheet1!H25","v":"Gerwin"},{"$f":"[1]Sheet1!J25","v":0},"Gerwin Peppelman",null,{"$f":"IF(A22=113,0,[1]Sheet1!B25)","v":"Nieuwe Rosegaar"}]
[{"$f":"IF([1]Sheet1!A26=113,0,[1]Sheet1!A26)","v":10572},{"$f":"IF([1]Sheet1!A26=113,0,[1]Sheet1!F26)","v":143630},{"$f":"[1]Sheet1!G26","v":"Peppelman"},{"$f":"[1]Sheet1!H26","v":"Gerwin"},{"$f":"[1]Sheet1!J26","v":0},"Gerwin Peppelman",null,{"$f":"IF(A23=113,0,[1]Sheet1!B26)","v":"Nieuwe Rosegaar"}]
[{"$f":"IF([1]Sheet1!A27=113,0,[1]Sheet1!A27)","v":10574},{"$f":"IF([1]Sheet1!A27=113,0,[1]Sheet1!F27)","v":160924},{"$f":"[1]Sheet1!G27","v":"Leijzer"},{"$f":"[1]Sheet1!H27","v":"Nico"},{"$f":"[1]Sheet1!J27","v":0},"Nico Leijzer",null,{"$f":"IF(A24=113,0,[1]Sheet1!B27)","v":"KÃ¶ster"}]
[{"$f":"IF([1]Sheet1!A28=113,0,[1]Sheet1!A28)","v":10574},{"$f":"IF([1]Sheet1!A28=113,0,[1]Sheet1!F28)","v":160924},{"$f":"[1]Sheet1!G28","v":"Leijzer"},{"$f":"[1]Sheet1!H28","v":"Nico"},{"$f":"[1]Sheet1!J28","v":0},"Nico Leijzer",null,{"$f":"IF(A25=113,0,[1]Sheet1!B28)","v":"KÃ¶ster"}]
[{"$f":"IF([1]Sheet1!A29=113,0,[1]Sheet1!A29)","v":10576},{"$f":"IF([1]Sheet1!A29=113,0,[1]Sheet1!F29)","v":109704},{"$f":"[1]Sheet1!G29","v":"Beest"},{"$f":"[1]Sheet1!H29","v":"Gerard"},{"$f":"[1]Sheet1!J29","v":"te"},"Gerard te Beest",null,{"$f":"IF(A26=113,0,[1]Sheet1!B29)","v":"Ons Genoegen Heurne"}]
[{"$f":"IF([1]Sheet1!A30=113,0,[1]Sheet1!A30)","v":10576},{"$f":"IF([1]Sheet1!A30=113,0,[1]Sheet1!F30)","v":109704},{"$f":"[1]Sheet1!G30","v":"Beest"},{"$f":"[1]Sheet1!H30","v":"Gerard"},{"$f":"[1]Sheet1!J30","v":"te"},"Gerard te Beest",null,{"$f":"IF(A27=113,0,[1]Sheet1!B30)","v":"Ons Genoegen Heurne"}]
[{"$f":"IF([1]Sheet1!A31=113,0,[1]Sheet1!A31)","v":10578},{"$f":"IF([1]Sheet1!A31=113,0,[1]Sheet1!F31)","v":177710},{"$f":"[1]Sheet1!G31","v":"Derksen"},{"$f":"[1]Sheet1!H31","v":"Julius"},{"$f":"[1]Sheet1!J31","v":0},"Julius Derksen",null,{"$f":"IF(A28=113,0,[1]Sheet1!B31)","v":"A.b.c."}]
[{"$f":"IF([1]Sheet1!A32=113,0,[1]Sheet1!A32)","v":10578},{"$f":"IF([1]Sheet1!A32=113,0,[1]Sheet1!F32)","v":177710},{"$f":"[1]Sheet1!G32","v":"Derksen"},{"$f":"[1]Sheet1!H32","v":"Julius"},{"$f":"[1]Sheet1!J32","v":0},"Julius Derksen",null,{"$f":"IF(A29=113,0,[1]Sheet1!B32)","v":"A.b.c."}]
[{"$f":"IF([1]Sheet1!A33=113,0,[1]Sheet1!A33)","v":10580},{"$f":"IF([1]Sheet1!A33=113,0,[1]Sheet1!F33)","v":216961},{"$f":"[1]Sheet1!G33","v":"Gieling"},{"$f":"[1]Sheet1!H33","v":"Willy"},{"$f":"[1]Sheet1!J33","v":0},"Willy Gieling",null,{"$f":"IF(A30=113,0,[1]Sheet1!B33)","v":"Harmonie"}]
[{"$f":"IF([1]Sheet1!A34=113,0,[1]Sheet1!A34)","v":10580},{"$f":"IF([1]Sheet1!A34=113,0,[1]Sheet1!F34)","v":216961},{"$f":"[1]Sheet1!G34","v":"Gieling"},{"$f":"[1]Sheet1!H34","v":"Willy"},{"$f":"[1]Sheet1!J34","v":0},"Willy Gieling",null,{"$f":"IF(A31=113,0,[1]Sheet1!B34)","v":"Harmonie"}]
[{"$f":"IF([1]Sheet1!A35=113,0,[1]Sheet1!A35)","v":10580},{"$f":"IF([1]Sheet1!A35=113,0,[1]Sheet1!F35)","v":216961},{"$f":"[1]Sheet1!G35","v":"Gieling"},{"$f":"[1]Sheet1!H35","v":"Willy"},{"$f":"[1]Sheet1!J35","v":0},"Willy Gieling",null,{"$f":"IF(A32=113,0,[1]Sheet1!B35)","v":"Harmonie"}]
[{"$f":"IF([1]Sheet1!A36=113,0,[1]Sheet1!A36)","v":10583},{"$f":"IF([1]Sheet1!A36=113,0,[1]Sheet1!F36)","v":174657},{"$f":"[1]Sheet1!G36","v":"Horstik"},{"$f":"[1]Sheet1!H36","v":"Alfred"},{"$f":"[1]Sheet1!J36","v":0},"Alfred Horstik",null,{"$f":"IF(A33=113,0,[1]Sheet1!B36)","v":"Ter Voert"}]
[{"$f":"IF([1]Sheet1!A37=113,0,[1]Sheet1!A37)","v":10583},{"$f":"IF([1]Sheet1!A37=113,0,[1]Sheet1!F37)","v":174657},{"$f":"[1]Sheet1!G37","v":"Horstik"},{"$f":"[1]Sheet1!H37","v":"Alfred"},{"$f":"[1]Sheet1!J37","v":0},"Alfred Horstik",null,{"$f":"IF(A34=113,0,[1]Sheet1!B37)","v":"Ter Voert"}]
[{"$f":"IF([1]Sheet1!A38=113,0,[1]Sheet1!A38)","v":10586},{"$f":"IF([1]Sheet1!A38=113,0,[1]Sheet1!F38)","v":213312},{"$f":"[1]Sheet1!G38","v":"Fokkink"},{"$f":"[1]Sheet1!H38","v":"Freddy"},{"$f":"[1]Sheet1!J38","v":0},"Freddy Fokkink",null,{"$f":"IF(A35=113,0,[1]Sheet1!B38)","v":"Nijman"}]
[{"$f":"IF([1]Sheet1!A39=113,0,[1]Sheet1!A39)","v":10586},{"$f":"IF([1]Sheet1!A39=113,0,[1]Sheet1!F39)","v":213312},{"$f":"[1]Sheet1!G39","v":"Fokkink"},{"$f":"[1]Sheet1!H39","v":"Freddy"},{"$f":"[1]Sheet1!J39","v":0},"Freddy Fokkink",null,{"$f":"IF(A36=113,0,[1]Sheet1!B39)","v":"Nijman"}]
[{"$f":"IF([1]Sheet1!A40=113,0,[1]Sheet1!A40)","v":10594},{"$f":"IF([1]Sheet1!A40=113,0,[1]Sheet1!F40)","v":109794},{"$f":"[1]Sheet1!G40","v":"Tannemaat"},{"$f":"[1]Sheet1!H40","v":"Bernard"},{"$f":"[1]Sheet1!J40","v":0},"Bernard Tannemaat",null,{"$f":"IF(A37=113,0,[1]Sheet1!B40)","v":"W.S.S."}]
[{"$f":"IF([1]Sheet1!A41=113,0,[1]Sheet1!A41)","v":10594},{"$f":"IF([1]Sheet1!A41=113,0,[1]Sheet1!F41)","v":109794},{"$f":"[1]Sheet1!G41","v":"Tannemaat"},{"$f":"[1]Sheet1!H41","v":"Bernard"},{"$f":"[1]Sheet1!J41","v":0},"Bernard Tannemaat",null,{"$f":"IF(A38=113,0,[1]Sheet1!B41)","v":"W.S.S."}]
[{"$f":"IF([1]Sheet1!A42=113,0,[1]Sheet1!A42)","v":10599},{"$f":"IF([1]Sheet1!A42=113,0,[1]Sheet1!F42)","v":229677},{"$f":"[1]Sheet1!G42","v":"Meijer"},{"$f":"[1]Sheet1!H42","v":"Rene"},{"$f":"[1]Sheet1!J42","v":0},"Rene Meijer",null,{"$f":"IF(A39=113,0,[1]Sheet1!B42)","v":"Te Pas"}]
[{"$f":"IF([1]Sheet1!A43=113,0,[1]Sheet1!A43)","v":10599},{"$f":"IF([1]Sheet1!A43=113,0,[1]Sheet1!F43)","v":229677},{"$f":"[1]Sheet1!G43","v":"Meijer"},{"$f":"[1]Sheet1!H43","v":"Rene"},{"$f":"[1]Sheet1!J43","v":0},"Rene Meijer",null,{"$f":"IF(A40=113,0,[1]Sheet1!B43)","v":"Te Pas"}]
[{"$f":"IF([1]Sheet1!A44=113,0,[1]Sheet1!A44)","v":10605},{"$f":"IF([1]Sheet1!A44=113,0,[1]Sheet1!F44)","v":109638},{"$f":"[1]Sheet1!G44","v":"Hietbrink"},{"$f":"[1]Sheet1!H44","v":"Gerrit"},{"$f":"[1]Sheet1!J44","v":0},"Gerrit Hietbrink",null,{"$f":"IF(A41=113,0,[1]Sheet1!B44)","v":"Veldhoek"}]
[{"$f":"IF([1]Sheet1!A45=113,0,[1]Sheet1!A45)","v":10605},{"$f":"IF([1]Sheet1!A45=113,0,[1]Sheet1!F45)","v":109638},{"$f":"[1]Sheet1!G45","v":"Hietbrink"},{"$f":"[1]Sheet1!H45","v":"Gerrit"},{"$f":"[1]Sheet1!J45","v":0},"Gerrit Hietbrink",null,{"$f":"IF(A42=113,0,[1]Sheet1!B45)","v":"Veldhoek"}]
[{"$f":"IF([1]Sheet1!A46=113,0,[1]Sheet1!A46)","v":10751},{"$f":"IF([1]Sheet1!A46=113,0,[1]Sheet1!F46)","v":160893},{"$f":"[1]Sheet1!G46","v":"Bannink"},{"$f":"[1]Sheet1!H46","v":"Jan"},{"$f":"[1]Sheet1!J46","v":0},"Jan Bannink",null,{"$f":"IF(A43=113,0,[1]Sheet1!B46)","v":"Wapen Van Ulft"}]
[{"$f":"IF([1]Sheet1!A47=113,0,[1]Sheet1!A47)","v":10751},{"$f":"IF([1]Sheet1!A47=113,0,[1]Sheet1!F47)","v":160893},{"$f":"[1]Sheet1!G47","v":"Bannink"},{"$f":"[1]Sheet1!H47","v":"Jan"},{"$f":"[1]Sheet1!J47","v":0},"Jan Bannink",null,{"$f":"IF(A44=113,0,[1]Sheet1!B47)","v":"Wapen Van Ulft"}]
[{"$f":"IF([1]Sheet1!A48=113,0,[1]Sheet1!A48)","v":11901},{"$f":"IF([1]Sheet1!A48=113,0,[1]Sheet1!F48)","v":145343},{"$f":"[1]Sheet1!G48","v":"Cent"},{"$f":"[1]Sheet1!H48","v":"Frank"},{"$f":"[1]Sheet1!J48","v":0},"Frank Cent",null,{"$f":"IF(A45=113,0,[1]Sheet1!B48)","v":"De Ploeg"}]
[{"$f":"IF([1]Sheet1!A49=113,0,[1]Sheet1!A49)","v":11901},{"$f":"IF([1]Sheet1!A49=113,0,[1]Sheet1!F49)","v":145343},{"$f":"[1]Sheet1!G49","v":"Cent"},{"$f":"[1]Sheet1!H49","v":"Frank"},{"$f":"[1]Sheet1!J49","v":0},"Frank Cent",null,{"$f":"IF(A46=113,0,[1]Sheet1!B49)","v":"De Ploeg"}]
[{"$f":"IF([1]Sheet1!A50=113,0,[1]Sheet1!A50)","v":12031},{"$f":"IF([1]Sheet1!A50=113,0,[1]Sheet1!F50)","v":123455},{"$f":"[1]Sheet1!G50","v":"Freriks"},{"$f":"[1]Sheet1!H50","v":"Mike"},{"$f":"[1]Sheet1!J50","v":0},"Mike Freriks",null,{"$f":"IF(A47=113,0,[1]Sheet1!B50)","v":"Tiemessen"}]
[{"$f":"IF([1]Sheet1!A51=113,0,[1]Sheet1!A51)","v":12031},{"$f":"IF([1]Sheet1!A51=113,0,[1]Sheet1!F51)","v":123455},{"$f":"[1]Sheet1!G51","v":"Freriks"},{"$f":"[1]Sheet1!H51","v":"Mike"},{"$f":"[1]Sheet1!J51","v":0},"Mike Freriks",null,{"$f":"IF(A48=113,0,[1]Sheet1!B51)","v":"Tiemessen"}]
[{"$f":"IF([1]Sheet1!A52=113,0,[1]Sheet1!A52)","v":12031},{"$f":"IF([1]Sheet1!A52=113,0,[1]Sheet1!F52)","v":123455},{"$f":"[1]Sheet1!G52","v":"Freriks"},{"$f":"[1]Sheet1!H52","v":"Mike"},{"$f":"[1]Sheet1!J52","v":0},"Mike Freriks",null,{"$f":"IF(A49=113,0,[1]Sheet1!B52)","v":"Tiemessen"}]
[{"$f":"IF([1]Sheet1!A53=113,0,[1]Sheet1!A53)","v":12129},{"$f":"IF([1]Sheet1!A53=113,0,[1]Sheet1!F53)","v":203301},{"$f":"[1]Sheet1!G53","v":"Schreurs"},{"$f":"[1]Sheet1!H53","v":"Piet"},{"$f":"[1]Sheet1!J53","v":0},"Piet Schreurs",null,{"$f":"IF(A50=113,0,[1]Sheet1!B53)","v":"D`n Draejer"}]
[{"$f":"IF([1]Sheet1!A54=113,0,[1]Sheet1!A54)","v":12129},{"$f":"IF([1]Sheet1!A54=113,0,[1]Sheet1!F54)","v":203301},{"$f":"[1]Sheet1!G54","v":"Schreurs"},{"$f":"[1]Sheet1!H54","v":"Piet"},{"$f":"[1]Sheet1!J54","v":0},"Piet Schreurs",null,{"$f":"IF(A51=113,0,[1]Sheet1!B54)","v":"D`n Draejer"}]
[{"$f":"IF([1]Sheet1!A55=113,0,[1]Sheet1!A55)","v":12214},{"$f":"IF([1]Sheet1!A55=113,0,[1]Sheet1!F55)","v":218403},{"$f":"[1]Sheet1!G55","v":"Ratering"},{"$f":"[1]Sheet1!H55","v":"Wim"},{"$f":"[1]Sheet1!J55","v":0},"Wim Ratering",null,{"$f":"IF(A52=113,0,[1]Sheet1!B55)","v":"Kievit"}]
[{"$f":"IF([1]Sheet1!A56=113,0,[1]Sheet1!A56)","v":12214},{"$f":"IF([1]Sheet1!A56=113,0,[1]Sheet1!F56)","v":218403},{"$f":"[1]Sheet1!G56","v":"Ratering"},{"$f":"[1]Sheet1!H56","v":"Wim"},{"$f":"[1]Sheet1!J56","v":0},"Wim Ratering",null,{"$f":"IF(A53=113,0,[1]Sheet1!B56)","v":"Kievit"}]
[{"$f":"IF([1]Sheet1!A57=113,0,[1]Sheet1!A57)","v":12381},{"$f":"IF([1]Sheet1!A57=113,0,[1]Sheet1!F57)","v":157670},{"$f":"[1]Sheet1!G57","v":"Smeijer"},{"$f":"[1]Sheet1!H57","v":"Marco"},{"$f":"[1]Sheet1!J57","v":0},"Marco Smeijer",null,{"$f":"IF(A54=113,0,[1]Sheet1!B57)","v":"Markt Doesburg"}]
[{"$f":"IF([1]Sheet1!A58=113,0,[1]Sheet1!A58)","v":12381},{"$f":"IF([1]Sheet1!A58=113,0,[1]Sheet1!F58)","v":157670},{"$f":"[1]Sheet1!G58","v":"Smeijer"},{"$f":"[1]Sheet1!H58","v":"Marco"},{"$f":"[1]Sheet1!J58","v":0},"Marco Smeijer",null,{"$f":"IF(A55=113,0,[1]Sheet1!B58)","v":"Markt Doesburg"}]
[{"$f":"IF([1]Sheet1!A59=113,0,[1]Sheet1!A59)","v":12381},{"$f":"IF([1]Sheet1!A59=113,0,[1]Sheet1!F59)","v":157670},{"$f":"[1]Sheet1!G59","v":"Smeijer"},{"$f":"[1]Sheet1!H59","v":"Marco"},{"$f":"[1]Sheet1!J59","v":0},"Marco Smeijer",null,{"$f":"IF(A56=113,0,[1]Sheet1!B59)","v":"Markt Doesburg"}]
[{"$f":"IF([1]Sheet1!A60=113,0,[1]Sheet1!A60)","v":12584},{"$f":"IF([1]Sheet1!A60=113,0,[1]Sheet1!F60)","v":144162},{"$f":"[1]Sheet1!G60","v":"Horst"},{"$f":"[1]Sheet1!H60","v":"Henny"},{"$f":"[1]Sheet1!J60","v":"ter"},"Henny ter Horst",null,{"$f":"IF(A57=113,0,[1]Sheet1!B60)","v":"RBC Doetinchem eo"}]
[{"$f":"IF([1]Sheet1!A61=113,0,[1]Sheet1!A61)","v":12584},{"$f":"IF([1]Sheet1!A61=113,0,[1]Sheet1!F61)","v":144162},{"$f":"[1]Sheet1!G61","v":"Horst"},{"$f":"[1]Sheet1!H61","v":"Henny"},{"$f":"[1]Sheet1!J61","v":"ter"},"Henny ter Horst",null,{"$f":"IF(A58=113,0,[1]Sheet1!B61)","v":"RBC Doetinchem eo"}]
[{"$f":"IF([1]Sheet1!A62=113,0,[1]Sheet1!A62)","v":12594},{"$f":"IF([1]Sheet1!A62=113,0,[1]Sheet1!F62)","v":109105},{"$f":"[1]Sheet1!G62","v":"Boekhorst"},{"$f":"[1]Sheet1!H62","v":"Wim"},{"$f":"[1]Sheet1!J62","v":"te"},"Wim te Boekhorst",null,{"$f":"IF(A59=113,0,[1]Sheet1!B62)","v":"Masse/de Waggel BV"}]
[{"$f":"IF([1]Sheet1!A63=113,0,[1]Sheet1!A63)","v":12594},{"$f":"IF([1]Sheet1!A63=113,0,[1]Sheet1!F63)","v":109105},{"$f":"[1]Sheet1!G63","v":"Boekhorst"},{"$f":"[1]Sheet1!H63","v":"Wim"},{"$f":"[1]Sheet1!J63","v":"te"},"Wim te Boekhorst",null,{"$f":"IF(A60=113,0,[1]Sheet1!B63)","v":"Masse/de Waggel BV"}]
[{"$f":"IF([1]Sheet1!A64=113,0,[1]Sheet1!A64)","v":12751},{"$f":"IF([1]Sheet1!A64=113,0,[1]Sheet1!F64)","v":222474},{"$f":"[1]Sheet1!G64","v":"Kraus"},{"$f":"[1]Sheet1!H64","v":"Peter"},{"$f":"[1]Sheet1!J64","v":0},"Peter Kraus",null,{"$f":"IF(A61=113,0,[1]Sheet1!B64)","v":"U-niek"}]
[{"$f":"IF([1]Sheet1!A65=113,0,[1]Sheet1!A65)","v":12751},{"$f":"IF([1]Sheet1!A65=113,0,[1]Sheet1!F65)","v":222474},{"$f":"[1]Sheet1!G65","v":"Kraus"},{"$f":"[1]Sheet1!H65","v":"Peter"},{"$f":"[1]Sheet1!J65","v":0},"Peter Kraus",null,{"$f":"IF(A62=113,0,[1]Sheet1!B65)","v":"U-niek"}]
[{"$f":"IF([1]Sheet1!A66=113,0,[1]Sheet1!A66)","v":12828},{"$f":"IF([1]Sheet1!A66=113,0,[1]Sheet1!F66)","v":182978},{"$f":"[1]Sheet1!G66","v":"Zegers"},{"$f":"[1]Sheet1!H66","v":"Ed"},{"$f":"[1]Sheet1!J66","v":0},"Ed Zegers",null,{"$f":"IF(A63=113,0,[1]Sheet1!B66)","v":"Taveerne"}]
[{"$f":"IF([1]Sheet1!A67=113,0,[1]Sheet1!A67)","v":12828},{"$f":"IF([1]Sheet1!A67=113,0,[1]Sheet1!F67)","v":182978},{"$f":"[1]Sheet1!G67","v":"Zegers"},{"$f":"[1]Sheet1!H67","v":"Ed"},{"$f":"[1]Sheet1!J67","v":0},"Ed Zegers",null,{"$f":"IF(A64=113,0,[1]Sheet1!B67)","v":"Taveerne"}]
[{"$f":"IF([1]Sheet1!A68=113,0,[1]Sheet1!A68)","v":12828},{"$f":"IF([1]Sheet1!A68=113,0,[1]Sheet1!F68)","v":182978},{"$f":"[1]Sheet1!G68","v":"Zegers"},{"$f":"[1]Sheet1!H68","v":"Ed"},{"$f":"[1]Sheet1!J68","v":0},"Ed Zegers",null,{"$f":"IF(A65=113,0,[1]Sheet1!B68)","v":"Taveerne"}]
[{"$f":"IF([1]Sheet1!A69=113,0,[1]Sheet1!A69)","v":13141},{"$f":"IF([1]Sheet1!A69=113,0,[1]Sheet1!F69)","v":109615},{"$f":"[1]Sheet1!G69","v":"Ketels"},{"$f":"[1]Sheet1!H69","v":"Harry"},{"$f":"[1]Sheet1!J69","v":0},"Harry Ketels",null,{"$f":"IF(A66=113,0,[1]Sheet1!B69)","v":"Tante Dies"}]
[{"$f":"IF([1]Sheet1!A70=113,0,[1]Sheet1!A70)","v":13141},{"$f":"IF([1]Sheet1!A70=113,0,[1]Sheet1!F70)","v":109615},{"$f":"[1]Sheet1!G70","v":"Ketels"},{"$f":"[1]Sheet1!H70","v":"Harry"},{"$f":"[1]Sheet1!J70","v":0},"Harry Ketels",null,{"$f":"IF(A67=113,0,[1]Sheet1!B70)","v":"Tante Dies"}]
[{"$f":"IF([1]Sheet1!A71=113,0,[1]Sheet1!A71)","v":13230},{"$f":"IF([1]Sheet1!A71=113,0,[1]Sheet1!F71)","v":214205},{"$f":"[1]Sheet1!G71","v":"Beek"},{"$f":"[1]Sheet1!H71","v":"Eef"},{"$f":"[1]Sheet1!J71","v":0},"Eef Beek",null,{"$f":"IF(A68=113,0,[1]Sheet1!B71)","v":"De Keu"}]
[{"$f":"IF([1]Sheet1!A72=113,0,[1]Sheet1!A72)","v":13230},{"$f":"IF([1]Sheet1!A72=113,0,[1]Sheet1!F72)","v":214205},{"$f":"[1]Sheet1!G72","v":"Beek"},{"$f":"[1]Sheet1!H72","v":"Eef"},{"$f":"[1]Sheet1!J72","v":0},"Eef Beek",null,{"$f":"IF(A69=113,0,[1]Sheet1!B72)","v":"De Keu"}]
[{"$f":"IF([1]Sheet1!A73=113,0,[1]Sheet1!A73)","v":13390},{"$f":"IF([1]Sheet1!A73=113,0,[1]Sheet1!F73)","v":263876},{"$f":"[1]Sheet1!G73","v":"Meijer"},{"$f":"[1]Sheet1!H73","v":"Henk"},{"$f":"[1]Sheet1!J73","v":0},"Henk Meijer",null,{"$f":"IF(A70=113,0,[1]Sheet1!B73)","v":"De Tol"}]
[{"$f":"IF([1]Sheet1!A74=113,0,[1]Sheet1!A74)","v":13390},{"$f":"IF([1]Sheet1!A74=113,0,[1]Sheet1!F74)","v":263876},{"$f":"[1]Sheet1!G74","v":"Meijer"},{"$f":"[1]Sheet1!H74","v":"Henk"},{"$f":"[1]Sheet1!J74","v":0},"Henk Meijer",null,{"$f":"IF(A71=113,0,[1]Sheet1!B74)","v":"De Tol"}]
[{"$f":"IF([1]Sheet1!A75=113,0,[1]Sheet1!A75)","v":13498},{"$f":"IF([1]Sheet1!A75=113,0,[1]Sheet1!F75)","v":147673},{"$f":"[1]Sheet1!G75","v":"Ederveen"},{"$f":"[1]Sheet1!H75","v":"Ans"},{"$f":"[1]Sheet1!J75","v":0},"Ans Ederveen",null,{"$f":"IF(A72=113,0,[1]Sheet1!B75)","v":"Doetinchem 2000"}]
[{"$f":"IF([1]Sheet1!A76=113,0,[1]Sheet1!A76)","v":13498},{"$f":"IF([1]Sheet1!A76=113,0,[1]Sheet1!F76)","v":147673},{"$f":"[1]Sheet1!G76","v":"Ederveen"},{"$f":"[1]Sheet1!H76","v":"Ans"},{"$f":"[1]Sheet1!J76","v":0},"Ans Ederveen",null,{"$f":"IF(A73=113,0,[1]Sheet1!B76)","v":"Doetinchem 2000"}]
[{"$f":"IF([1]Sheet1!A77=113,0,[1]Sheet1!A77)","v":13498},{"$f":"IF([1]Sheet1!A77=113,0,[1]Sheet1!F77)","v":147673},{"$f":"[1]Sheet1!G77","v":"Ederveen"},{"$f":"[1]Sheet1!H77","v":"Ans"},{"$f":"[1]Sheet1!J77","v":0},"Ans Ederveen",null,{"$f":"IF(A74=113,0,[1]Sheet1!B77)","v":"Doetinchem 2000"}]
[{"$f":"IF([1]Sheet1!A78=113,0,[1]Sheet1!A78)","v":13564},{"$f":"IF([1]Sheet1!A78=113,0,[1]Sheet1!F78)","v":219722},{"$f":"[1]Sheet1!G78","v":"Breukers"},{"$f":"[1]Sheet1!H78","v":"Rick"},{"$f":"[1]Sheet1!J78","v":0},"Rick Breukers",null,{"$f":"IF(A75=113,0,[1]Sheet1!B78)","v":"Pand 8"}]
[{"$f":"IF([1]Sheet1!A79=113,0,[1]Sheet1!A79)","v":13564},{"$f":"IF([1]Sheet1!A79=113,0,[1]Sheet1!F79)","v":219722},{"$f":"[1]Sheet1!G79","v":"Breukers"},{"$f":"[1]Sheet1!H79","v":"Rick"},{"$f":"[1]Sheet1!J79","v":0},"Rick Breukers",null,{"$f":"IF(A76=113,0,[1]Sheet1!B79)","v":"Pand 8"}]
[{"$f":"IF([1]Sheet1!A80=113,0,[1]Sheet1!A80)","v":13583},{"$f":"IF([1]Sheet1!A80=113,0,[1]Sheet1!F80)","v":204341},{"$f":"[1]Sheet1!G80","v":"Vreman"},{"$f":"[1]Sheet1!H80","v":"Theo"},{"$f":"[1]Sheet1!J80","v":0},"Theo Vreman",null,{"$f":"IF(A77=113,0,[1]Sheet1!B80)","v":"Oude Rijn"}]
[{"$f":"IF([1]Sheet1!A81=113,0,[1]Sheet1!A81)","v":13583},{"$f":"IF([1]Sheet1!A81=113,0,[1]Sheet1!F81)","v":204341},{"$f":"[1]Sheet1!G81","v":"Vreman"},{"$f":"[1]Sheet1!H81","v":"Theo"},{"$f":"[1]Sheet1!J81","v":0},"Theo Vreman",null,{"$f":"IF(A78=113,0,[1]Sheet1!B81)","v":"Oude Rijn"}]
[{"$f":"IF([1]Sheet1!A82=113,0,[1]Sheet1!A82)","v":13619},{"$f":"IF([1]Sheet1!A82=113,0,[1]Sheet1!F82)","v":160921},{"$f":"[1]Sheet1!G82","v":"Egging"},{"$f":"[1]Sheet1!H82","v":"Edwin"},{"$f":"[1]Sheet1!J82","v":0},"Edwin Egging",null,{"$f":"IF(A79=113,0,[1]Sheet1!B82)","v":"Slootermeer & Scholtenhof"}]
[{"$f":"IF([1]Sheet1!A83=113,0,[1]Sheet1!A83)","v":13619},{"$f":"IF([1]Sheet1!A83=113,0,[1]Sheet1!F83)","v":160921},{"$f":"[1]Sheet1!G83","v":"Egging"},{"$f":"[1]Sheet1!H83","v":"Edwin"},{"$f":"[1]Sheet1!J83","v":0},"Edwin Egging",null,{"$f":"IF(A80=113,0,[1]Sheet1!B83)","v":"Slootermeer & Scholtenhof"}]
[{"$f":"IF([1]Sheet1!A84=113,0,[1]Sheet1!A84)","v":13619},{"$f":"IF([1]Sheet1!A84=113,0,[1]Sheet1!F84)","v":160921},{"$f":"[1]Sheet1!G84","v":"Egging"},{"$f":"[1]Sheet1!H84","v":"Edwin"},{"$f":"[1]Sheet1!J84","v":0},"Edwin Egging",null,{"$f":"IF(A81=113,0,[1]Sheet1!B84)","v":"Slootermeer & Scholtenhof"}]
[{"$f":"IF([1]Sheet1!A85=113,0,[1]Sheet1!A85)","v":14100},{"$f":"IF([1]Sheet1!A85=113,0,[1]Sheet1!F85)","v":220373},{"$f":"[1]Sheet1!G85","v":"Jeurissen"},{"$f":"[1]Sheet1!H85","v":"Theo"},{"$f":"[1]Sheet1!J85","v":0},"Theo Jeurissen",null,{"$f":"IF(A82=113,0,[1]Sheet1!B85)","v":"Buitenmolen"}]
[{"$f":"IF([1]Sheet1!A86=113,0,[1]Sheet1!A86)","v":14100},{"$f":"IF([1]Sheet1!A86=113,0,[1]Sheet1!F86)","v":220373},{"$f":"[1]Sheet1!G86","v":"Jeurissen"},{"$f":"[1]Sheet1!H86","v":"Theo"},{"$f":"[1]Sheet1!J86","v":0},"Theo Jeurissen",null,{"$f":"IF(A83=113,0,[1]Sheet1!B86)","v":"Buitenmolen"}]
[{"$f":"IF([1]Sheet1!A87=113,0,[1]Sheet1!A87)","v":15421},{"$f":"IF([1]Sheet1!A87=113,0,[1]Sheet1!F87)","v":263828},{"$f":"[1]Sheet1!G87","v":"Rutten"},{"$f":"[1]Sheet1!H87","v":"Erik"},{"$f":"[1]Sheet1!J87","v":0},"Erik Rutten",null,{"$f":"IF(A84=113,0,[1]Sheet1!B87)","v":"V.o.p."}]
[{"$f":"IF([1]Sheet1!A88=113,0,[1]Sheet1!A88)","v":15421},{"$f":"IF([1]Sheet1!A88=113,0,[1]Sheet1!F88)","v":263828},{"$f":"[1]Sheet1!G88","v":"Rutten"},{"$f":"[1]Sheet1!H88","v":"Erik"},{"$f":"[1]Sheet1!J88","v":0},{"$f":"IF(E85=0,CONCATENATE(D85,\" \",C85),CONCATENATE(D85,\" \",E85,\" \",C85))","v":"Erik Rutten"},null,{"$f":"IF(A85=113,0,[1]Sheet1!B88)","v":"V.o.p."}]
[{"$f":"IF([1]Sheet1!A89=113,0,[1]Sheet1!A89)","v":15529},{"$f":"IF([1]Sheet1!A89=113,0,[1]Sheet1!F89)","v":215423},{"$f":"[1]Sheet1!G89","v":"Winterink"},{"$f":"[1]Sheet1!H89","v":"Bennie"},{"$f":"[1]Sheet1!J89","v":0},"Bennie Winterink",null,{"$f":"IF(A86=113,0,[1]Sheet1!B89)","v":"D.S.S."}]
[{"$f":"IF([1]Sheet1!A90=113,0,[1]Sheet1!A90)","v":15529},{"$f":"IF([1]Sheet1!A90=113,0,[1]Sheet1!F90)","v":215423},{"$f":"[1]Sheet1!G90","v":"Winterink"},{"$f":"[1]Sheet1!H90","v":"Bennie"},{"$f":"[1]Sheet1!J90","v":0},"Bennie Winterink",null,{"$f":"IF(A87=113,0,[1]Sheet1!B90)","v":"D.S.S."}]
[{"$f":"IF([1]Sheet1!A91=113,0,[1]Sheet1!A91)","v":15683},{"$f":"IF([1]Sheet1!A91=113,0,[1]Sheet1!F91)","v":225798},{"$f":"[1]Sheet1!G91","v":"Visser"},{"$f":"[1]Sheet1!H91","v":"Bennie"},{"$f":"[1]Sheet1!J91","v":0},"Bennie Visser",null,{"$f":"IF(A88=113,0,[1]Sheet1!B91)","v":"De Knijp"}]
[{"$f":"IF([1]Sheet1!A92=113,0,[1]Sheet1!A92)","v":15683},{"$f":"IF([1]Sheet1!A92=113,0,[1]Sheet1!F92)","v":225798},{"$f":"[1]Sheet1!G92","v":"Visser"},{"$f":"[1]Sheet1!H92","v":"Bennie"},{"$f":"[1]Sheet1!J92","v":0},"Bennie Visser",null,{"$f":"IF(A89=113,0,[1]Sheet1!B92)","v":"De Knijp"}]
[{"$f":"IF([1]Sheet1!A93=113,0,[1]Sheet1!A93)","v":15686},{"$f":"IF([1]Sheet1!A93=113,0,[1]Sheet1!F93)","v":161005},{"$f":"[1]Sheet1!G93","v":"Meurkes"},{"$f":"[1]Sheet1!H93","v":"Martin"},{"$f":"[1]Sheet1!J93","v":0},"Martin Meurkes",null,{"$f":"IF(A90=113,0,[1]Sheet1!B93)","v":"\"t GILDE CAFE"}]
[{"$f":"IF([1]Sheet1!A94=113,0,[1]Sheet1!A94)","v":15686},{"$f":"IF([1]Sheet1!A94=113,0,[1]Sheet1!F94)","v":161005},{"$f":"[1]Sheet1!G94","v":"Meurkes"},{"$f":"[1]Sheet1!H94","v":"Martin"},{"$f":"[1]Sheet1!J94","v":0},"Martin Meurkes",null,{"$f":"IF(A91=113,0,[1]Sheet1!B94)","v":"\"t GILDE CAFE"}]
[{"$f":"IF([1]Sheet1!A95=113,0,[1]Sheet1!A95)","v":15688},{"$f":"IF([1]Sheet1!A95=113,0,[1]Sheet1!F95)","v":225780},{"$f":"[1]Sheet1!G95","v":"Jansen"},{"$f":"[1]Sheet1!H95","v":"Nick"},{"$f":"[1]Sheet1!J95","v":0},"Nick Jansen",null,{"$f":"IF(A92=113,0,[1]Sheet1!B95)","v":"De Smid"}]
[{"$f":"IF([1]Sheet1!A96=113,0,[1]Sheet1!A96)","v":15688},{"$f":"IF([1]Sheet1!A96=113,0,[1]Sheet1!F96)","v":225780},{"$f":"[1]Sheet1!G96","v":"Jansen"},{"$f":"[1]Sheet1!H96","v":"Nick"},{"$f":"[1]Sheet1!J96","v":0},"Nick Jansen",null,{"$f":"IF(A93=113,0,[1]Sheet1!B96)","v":"De Smid"}]
[{"$f":"IF([1]Sheet1!A97=113,0,[1]Sheet1!A97)","v":15688},{"$f":"IF([1]Sheet1!A97=113,0,[1]Sheet1!F97)","v":225780},{"$f":"[1]Sheet1!G97","v":"Jansen"},{"$f":"[1]Sheet1!H97","v":"Nick"},{"$f":"[1]Sheet1!J97","v":0},"Nick Jansen",null,{"$f":"IF(A94=113,0,[1]Sheet1!B97)","v":"De Smid"}]
[{"$f":"IF([1]Sheet1!A98=113,0,[1]Sheet1!A98)","v":15747},{"$f":"IF([1]Sheet1!A98=113,0,[1]Sheet1!F98)","v":221942},{"$f":"[1]Sheet1!G98","v":"Beun"},{"$f":"[1]Sheet1!H98","v":"Thomas"},{"$f":"[1]Sheet1!J98","v":0},"Thomas Beun",null,{"$f":"IF(A95=113,0,[1]Sheet1!B98)","v":"Pol Zelhem"}]
[{"$f":"IF([1]Sheet1!A99=113,0,[1]Sheet1!A99)","v":15747},{"$f":"IF([1]Sheet1!A99=113,0,[1]Sheet1!F99)","v":221942},{"$f":"[1]Sheet1!G99","v":"Beun"},{"$f":"[1]Sheet1!H99","v":"Thomas"},{"$f":"[1]Sheet1!J99","v":0},"Thomas Beun",null,{"$f":"IF(A96=113,0,[1]Sheet1!B99)","v":"Pol Zelhem"}]
[{"$f":"IF([1]Sheet1!A100=113,0,[1]Sheet1!A100)","v":0},{"$f":"IF([1]Sheet1!A100=113,0,[1]Sheet1!F100)","v":0},{"$f":"[1]Sheet1!G100","v":"Jansen"},{"$f":"[1]Sheet1!H100","v":"Chris"},{"$f":"[1]Sheet1!J100","v":0},"Chris Jansen",null,{"$f":"IF(A97=113,0,[1]Sheet1!B100)","v":"DOETINCHEM EN OMSTREKEN"}]
[{"$f":"IF([1]Sheet1!A101=113,0,[1]Sheet1!A101)","v":0},{"$f":"IF([1]Sheet1!A101=113,0,[1]Sheet1!F101)","v":0},{"$f":"[1]Sheet1!G101","v":"Roelofsen"},{"$f":"[1]Sheet1!H101","v":"Jan"},{"$f":"[1]Sheet1!J101","v":0},"Jan Roelofsen",null,{"$f":"IF(A98=113,0,[1]Sheet1!B101)","v":"DOETINCHEM EN OMSTREKEN"}]
[{"$f":"IF([1]Sheet1!A102=113,0,[1]Sheet1!A102)","v":0},{"$f":"IF([1]Sheet1!A102=113,0,[1]Sheet1!F102)","v":0},{"$f":"[1]Sheet1!G102","v":"Schmitz"},{"$f":"[1]Sheet1!H102","v":"Wim"},{"$f":"[1]Sheet1!J102","v":0},"Wim Schmitz",null,{"$f":"IF(A99=113,0,[1]Sheet1!B102)","v":"DOETINCHEM EN OMSTREKEN"}]
[{"$f":"IF([1]Sheet1!A103=113,0,[1]Sheet1!A103)","v":0},{"$f":"IF([1]Sheet1!A103=113,0,[1]Sheet1!F103)","v":0},{"$f":"[1]Sheet1!G103","v":"Schmitz"},{"$f":"[1]Sheet1!H103","v":"Wim"},{"$f":"[1]Sheet1!J103","v":0},"Wim Schmitz",null,{"$f":"IF(A100=113,0,[1]Sheet1!B103)","v":"DOETINCHEM EN OMSTREKEN"}]
[{"$f":"IF([1]Sheet1!A104=113,0,[1]Sheet1!A104)","v":0},{"$f":"IF([1]Sheet1!A104=113,0,[1]Sheet1!F104)","v":0},{"$f":"[1]Sheet1!G104","v":"Stortelder"},{"$f":"[1]Sheet1!H104","v":"Toon"},{"$f":"[1]Sheet1!J104","v":0},"Toon Stortelder",null,{"$f":"IF(A101=113,0,[1]Sheet1!B104)","v":"DOETINCHEM EN OMSTREKEN"}]
[{"$f":"IF([1]Sheet1!A105=113,0,[1]Sheet1!A105)","v":10382},{"$f":"IF([1]Sheet1!A105=113,0,[1]Sheet1!F105)","v":247968},{"$f":"[1]Sheet1!G105","v":"Albers"},{"$f":"[1]Sheet1!H105","v":"Toon"},{"$f":"[1]Sheet1!J105","v":0},"Toon Albers",null,{"$f":"IF(A102=113,0,[1]Sheet1!B105)","v":"Uutkiek"}]
[{"$f":"IF([1]Sheet1!A106=113,0,[1]Sheet1!A106)","v":10382},{"$f":"IF([1]Sheet1!A106=113,0,[1]Sheet1!F106)","v":122673},{"$f":"[1]Sheet1!G106","v":"Anker"},{"$f":"[1]Sheet1!H106","v":"Maikel"},{"$f":"[1]Sheet1!J106","v":"van den"},"Maikel van den Anker",null,{"$f":"IF(A103=113,0,[1]Sheet1!B106)","v":"Uutkiek"}]
[{"$f":"IF([1]Sheet1!A107=113,0,[1]Sheet1!A107)","v":10382},{"$f":"IF([1]Sheet1!A107=113,0,[1]Sheet1!F107)","v":213376},{"$f":"[1]Sheet1!G107","v":"Brouwer"},{"$f":"[1]Sheet1!H107","v":"John"},{"$f":"[1]Sheet1!J107","v":0},"John Brouwer",null,{"$f":"IF(A104=113,0,[1]Sheet1!B107)","v":"Uutkiek"}]
[{"$f":"IF([1]Sheet1!A108=113,0,[1]Sheet1!A108)","v":10382},{"$f":"IF([1]Sheet1!A108=113,0,[1]Sheet1!F108)","v":263892},{"$f":"[1]Sheet1!G108","v":"Elissen"},{"$f":"[1]Sheet1!H108","v":"Richard"},{"$f":"[1]Sheet1!J108","v":0},"Richard Elissen",null,{"$f":"IF(A105=113,0,[1]Sheet1!B108)","v":"Uutkiek"}]
[{"$f":"IF([1]Sheet1!A109=113,0,[1]Sheet1!A109)","v":10382},{"$f":"IF([1]Sheet1!A109=113,0,[1]Sheet1!F109)","v":122671},{"$f":"[1]Sheet1!G109","v":"Hendriks"},{"$f":"[1]Sheet1!H109","v":"Fred"},{"$f":"[1]Sheet1!J109","v":0},"Fred Hendriks",null,{"$f":"IF(A106=113,0,[1]Sheet1!B109)","v":"Uutkiek"}]
[{"$f":"IF([1]Sheet1!A110=113,0,[1]Sheet1!A110)","v":10382},{"$f":"IF([1]Sheet1!A110=113,0,[1]Sheet1!F110)","v":169441},{"$f":"[1]Sheet1!G110","v":"Seegers"},{"$f":"[1]Sheet1!H110","v":"Ton"},{"$f":"[1]Sheet1!J110","v":0},"Ton Seegers",null,{"$f":"IF(A107=113,0,[1]Sheet1!B110)","v":"Uutkiek"}]
[{"$f":"IF([1]Sheet1!A111=113,0,[1]Sheet1!A111)","v":10382},{"$f":"IF([1]Sheet1!A111=113,0,[1]Sheet1!F111)","v":136212},{"$f":"[1]Sheet1!G111","v":"Smeets"},{"$f":"[1]Sheet1!H111","v":"Peter"},{"$f":"[1]Sheet1!J111","v":0},"Peter Smeets",null,{"$f":"IF(A108=113,0,[1]Sheet1!B111)","v":"Uutkiek"}]
[{"$f":"IF([1]Sheet1!A112=113,0,[1]Sheet1!A112)","v":10382},{"$f":"IF([1]Sheet1!A112=113,0,[1]Sheet1!F112)","v":141106},{"$f":"[1]Sheet1!G112","v":"Veen"},{"$f":"[1]Sheet1!H112","v":"Crist"},{"$f":"[1]Sheet1!J112","v":"ten"},"Crist ten Veen",null,{"$f":"IF(A109=113,0,[1]Sheet1!B112)","v":"Uutkiek"}]
[{"$f":"IF([1]Sheet1!A113=113,0,[1]Sheet1!A113)","v":10554},{"$f":"IF([1]Sheet1!A113=113,0,[1]Sheet1!F113)","v":112024},{"$f":"[1]Sheet1!G113","v":"Arentsen"},{"$f":"[1]Sheet1!H113","v":"Rudy"},{"$f":"[1]Sheet1!J113","v":0},"Rudy Arentsen",null,{"$f":"IF(A110=113,0,[1]Sheet1!B113)","v":"D.L.S."}]
[{"$f":"IF([1]Sheet1!A114=113,0,[1]Sheet1!A114)","v":10554},{"$f":"IF([1]Sheet1!A114=113,0,[1]Sheet1!F114)","v":215739},{"$f":"[1]Sheet1!G114","v":"Bruggink"},{"$f":"[1]Sheet1!H114","v":"Wim"},{"$f":"[1]Sheet1!J114","v":0},"Wim Bruggink",null,{"$f":"IF(A111=113,0,[1]Sheet1!B114)","v":"D.L.S."}]
[{"$f":"IF([1]Sheet1!A115=113,0,[1]Sheet1!A115)","v":10554},{"$f":"IF([1]Sheet1!A115=113,0,[1]Sheet1!F115)","v":204300},{"$f":"[1]Sheet1!G115","v":"Gerards"},{"$f":"[1]Sheet1!H115","v":"Arnold"},{"$f":"[1]Sheet1!J115","v":0},"Arnold Gerards",null,{"$f":"IF(A112=113,0,[1]Sheet1!B115)","v":"D.L.S."}]
[{"$f":"IF([1]Sheet1!A116=113,0,[1]Sheet1!A116)","v":10554},{"$f":"IF([1]Sheet1!A116=113,0,[1]Sheet1!F116)","v":210744},{"$f":"[1]Sheet1!G116","v":"Gesink"},{"$f":"[1]Sheet1!H116","v":"Han"},{"$f":"[1]Sheet1!J116","v":0},"Han Gesink",null,{"$f":"IF(A113=113,0,[1]Sheet1!B116)","v":"D.L.S."}]
[{"$f":"IF([1]Sheet1!A117=113,0,[1]Sheet1!A117)","v":10554},{"$f":"IF([1]Sheet1!A117=113,0,[1]Sheet1!F117)","v":210744},{"$f":"[1]Sheet1!G117","v":"Gesink"},{"$f":"[1]Sheet1!H117","v":"Han"},{"$f":"[1]Sheet1!J117","v":0},"Han Gesink",null,{"$f":"IF(A114=113,0,[1]Sheet1!B117)","v":"D.L.S."}]
[{"$f":"IF([1]Sheet1!A118=113,0,[1]Sheet1!A118)","v":10554},{"$f":"IF([1]Sheet1!A118=113,0,[1]Sheet1!F118)","v":223239},{"$f":"[1]Sheet1!G118","v":"Hartogsveld"},{"$f":"[1]Sheet1!H118","v":"Jan"},{"$f":"[1]Sheet1!J118","v":0},"Jan Hartogsveld",null,{"$f":"IF(A115=113,0,[1]Sheet1!B118)","v":"D.L.S."}]
[{"$f":"IF([1]Sheet1!A119=113,0,[1]Sheet1!A119)","v":10554},{"$f":"IF([1]Sheet1!A119=113,0,[1]Sheet1!F119)","v":151872},{"$f":"[1]Sheet1!G119","v":"Hengeveld"},{"$f":"[1]Sheet1!H119","v":"Henk"},{"$f":"[1]Sheet1!J119","v":0},"Henk Hengeveld",null,{"$f":"IF(A116=113,0,[1]Sheet1!B119)","v":"D.L.S."}]
[{"$f":"IF([1]Sheet1!A120=113,0,[1]Sheet1!A120)","v":10554},{"$f":"IF([1]Sheet1!A120=113,0,[1]Sheet1!F120)","v":212514},{"$f":"[1]Sheet1!G120","v":"Hengeveld"},{"$f":"[1]Sheet1!H120","v":"Henk"},{"$f":"[1]Sheet1!J120","v":0},"Henk Hengeveld",null,{"$f":"IF(A117=113,0,[1]Sheet1!B120)","v":"D.L.S."}]
[{"$f":"IF([1]Sheet1!A121=113,0,[1]Sheet1!A121)","v":10554},{"$f":"IF([1]Sheet1!A121=113,0,[1]Sheet1!F121)","v":117024},{"$f":"[1]Sheet1!G121","v":"Huyink"},{"$f":"[1]Sheet1!H121","v":"Paul"},{"$f":"[1]Sheet1!J121","v":0},"Paul Huyink",null,{"$f":"IF(A118=113,0,[1]Sheet1!B121)","v":"D.L.S."}]
[{"$f":"IF([1]Sheet1!A122=113,0,[1]Sheet1!A122)","v":10554},{"$f":"IF([1]Sheet1!A122=113,0,[1]Sheet1!F122)","v":147287},{"$f":"[1]Sheet1!G122","v":"Kuiper"},{"$f":"[1]Sheet1!H122","v":"Chris"},{"$f":"[1]Sheet1!J122","v":0},"Chris Kuiper",null,{"$f":"IF(A119=113,0,[1]Sheet1!B122)","v":"D.L.S."}]
[{"$f":"IF([1]Sheet1!A123=113,0,[1]Sheet1!A123)","v":10554},{"$f":"IF([1]Sheet1!A123=113,0,[1]Sheet1!F123)","v":207378},{"$f":"[1]Sheet1!G123","v":"Lindert"},{"$f":"[1]Sheet1!H123","v":"Gerben"},{"$f":"[1]Sheet1!J123","v":"te"},"Gerben te Lindert",null,{"$f":"IF(A120=113,0,[1]Sheet1!B123)","v":"D.L.S."}]
[{"$f":"IF([1]Sheet1!A124=113,0,[1]Sheet1!A124)","v":10554},{"$f":"IF([1]Sheet1!A124=113,0,[1]Sheet1!F124)","v":112036},{"$f":"[1]Sheet1!G124","v":"Oldenkortte"},{"$f":"[1]Sheet1!H124","v":"RenÃ©"},{"$f":"[1]Sheet1!J124","v":0},"RenÃ© Oldenkortte",null,{"$f":"IF(A121=113,0,[1]Sheet1!B124)","v":"D.L.S."}]
[{"$f":"IF([1]Sheet1!A125=113,0,[1]Sheet1!A125)","v":10554},{"$f":"IF([1]Sheet1!A125=113,0,[1]Sheet1!F125)","v":115643},{"$f":"[1]Sheet1!G125","v":"Oostendorp"},{"$f":"[1]Sheet1!H125","v":"Anton"},{"$f":"[1]Sheet1!J125","v":0},"Anton Oostendorp",null,{"$f":"IF(A122=113,0,[1]Sheet1!B125)","v":"D.L.S."}]
[{"$f":"IF([1]Sheet1!A126=113,0,[1]Sheet1!A126)","v":10554},{"$f":"IF([1]Sheet1!A126=113,0,[1]Sheet1!F126)","v":147974},{"$f":"[1]Sheet1!G126","v":"Overbeek"},{"$f":"[1]Sheet1!H126","v":"Gerard"},{"$f":"[1]Sheet1!J126","v":0},"Gerard Overbeek",null,{"$f":"IF(A123=113,0,[1]Sheet1!B126)","v":"D.L.S."}]
[{"$f":"IF([1]Sheet1!A127=113,0,[1]Sheet1!A127)","v":10554},{"$f":"IF([1]Sheet1!A127=113,0,[1]Sheet1!F127)","v":128055},{"$f":"[1]Sheet1!G127","v":"Sietsma"},{"$f":"[1]Sheet1!H127","v":"Hessel"},{"$f":"[1]Sheet1!J127","v":0},"Hessel Sietsma",null,{"$f":"IF(A124=113,0,[1]Sheet1!B127)","v":"D.L.S."}]
[{"$f":"IF([1]Sheet1!A128=113,0,[1]Sheet1!A128)","v":10554},{"$f":"IF([1]Sheet1!A128=113,0,[1]Sheet1!F128)","v":123631},{"$f":"[1]Sheet1!G128","v":"Stevens"},{"$f":"[1]Sheet1!H128","v":"Frank"},{"$f":"[1]Sheet1!J128","v":0},"Frank Stevens",null,{"$f":"IF(A125=113,0,[1]Sheet1!B128)","v":"D.L.S."}]
[{"$f":"IF([1]Sheet1!A129=113,0,[1]Sheet1!A129)","v":10554},{"$f":"IF([1]Sheet1!A129=113,0,[1]Sheet1!F129)","v":237626},{"$f":"[1]Sheet1!G129","v":"Stroet"},{"$f":"[1]Sheet1!H129","v":"Toon"},{"$f":"[1]Sheet1!J129","v":0},"Toon Stroet",null,{"$f":"IF(A126=113,0,[1]Sheet1!B129)","v":"D.L.S."}]
[{"$f":"IF([1]Sheet1!A130=113,0,[1]Sheet1!A130)","v":10554},{"$f":"IF([1]Sheet1!A130=113,0,[1]Sheet1!F130)","v":123552},{"$f":"[1]Sheet1!G130","v":"Surenbroek"},{"$f":"[1]Sheet1!H130","v":"Gerrit"},{"$f":"[1]Sheet1!J130","v":0},"Gerrit Surenbroek",null,{"$f":"IF(A127=113,0,[1]Sheet1!B130)","v":"D.L.S."}]
[{"$f":"IF([1]Sheet1!A131=113,0,[1]Sheet1!A131)","v":10554},{"$f":"IF([1]Sheet1!A131=113,0,[1]Sheet1!F131)","v":145148},{"$f":"[1]Sheet1!G131","v":"Vinkenvleugel"},{"$f":"[1]Sheet1!H131","v":"Nicol"},{"$f":"[1]Sheet1!J131","v":0},"Nicol Vinkenvleugel",null,{"$f":"IF(A128=113,0,[1]Sheet1!B131)","v":"D.L.S."}]
[{"$f":"IF([1]Sheet1!A132=113,0,[1]Sheet1!A132)","v":10554},{"$f":"IF([1]Sheet1!A132=113,0,[1]Sheet1!F132)","v":145148},{"$f":"[1]Sheet1!G132","v":"Vinkenvleugel"},{"$f":"[1]Sheet1!H132","v":"Nicol"},{"$f":"[1]Sheet1!J132","v":0},"Nicol Vinkenvleugel",null,{"$f":"IF(A129=113,0,[1]Sheet1!B132)","v":"D.L.S."}]
[{"$f":"IF([1]Sheet1!A133=113,0,[1]Sheet1!A133)","v":10555},{"$f":"IF([1]Sheet1!A133=113,0,[1]Sheet1!F133)","v":177738},{"$f":"[1]Sheet1!G133","v":"Beijer"},{"$f":"[1]Sheet1!H133","v":"Jo"},{"$f":"[1]Sheet1!J133","v":0},"Jo Beijer",null,{"$f":"IF(A130=113,0,[1]Sheet1!B133)","v":"Martin"}]
[{"$f":"IF([1]Sheet1!A134=113,0,[1]Sheet1!A134)","v":10555},{"$f":"IF([1]Sheet1!A134=113,0,[1]Sheet1!F134)","v":211702},{"$f":"[1]Sheet1!G134","v":"Berendsen"},{"$f":"[1]Sheet1!H134","v":"DaniÃ«l"},{"$f":"[1]Sheet1!J134","v":0},"DaniÃ«l Berendsen",null,{"$f":"IF(A131=113,0,[1]Sheet1!B134)","v":"Martin"}]
[{"$f":"IF([1]Sheet1!A135=113,0,[1]Sheet1!A135)","v":10555},{"$f":"IF([1]Sheet1!A135=113,0,[1]Sheet1!F135)","v":213062},{"$f":"[1]Sheet1!G135","v":"Berendsen"},{"$f":"[1]Sheet1!H135","v":"Gerrie"},{"$f":"[1]Sheet1!J135","v":0},"Gerrie Berendsen",null,{"$f":"IF(A132=113,0,[1]Sheet1!B135)","v":"Martin"}]
[{"$f":"IF([1]Sheet1!A136=113,0,[1]Sheet1!A136)","v":10555},{"$f":"IF([1]Sheet1!A136=113,0,[1]Sheet1!F136)","v":107871},{"$f":"[1]Sheet1!G136","v":"Berendsen"},{"$f":"[1]Sheet1!H136","v":"Theo"},{"$f":"[1]Sheet1!J136","v":0},"Theo Berendsen",null,{"$f":"IF(A133=113,0,[1]Sheet1!B136)","v":"Martin"}]
[{"$f":"IF([1]Sheet1!A137=113,0,[1]Sheet1!A137)","v":10555},{"$f":"IF([1]Sheet1!A137=113,0,[1]Sheet1!F137)","v":107369},{"$f":"[1]Sheet1!G137","v":"Boerboom"},{"$f":"[1]Sheet1!H137","v":"Bennie"},{"$f":"[1]Sheet1!J137","v":0},"Bennie Boerboom",null,{"$f":"IF(A134=113,0,[1]Sheet1!B137)","v":"Martin"}]
[{"$f":"IF([1]Sheet1!A138=113,0,[1]Sheet1!A138)","v":10555},{"$f":"IF([1]Sheet1!A138=113,0,[1]Sheet1!F138)","v":228105},{"$f":"[1]Sheet1!G138","v":"Boerstal"},{"$f":"[1]Sheet1!H138","v":"Benny"},{"$f":"[1]Sheet1!J138","v":0},"Benny Boerstal",null,{"$f":"IF(A135=113,0,[1]Sheet1!B138)","v":"Martin"}]
[{"$f":"IF([1]Sheet1!A139=113,0,[1]Sheet1!A139)","v":10555},{"$f":"IF([1]Sheet1!A139=113,0,[1]Sheet1!F139)","v":224263},{"$f":"[1]Sheet1!G139","v":"Brink"},{"$f":"[1]Sheet1!H139","v":"Klaas"},{"$f":"[1]Sheet1!J139","v":0},"Klaas Brink",null,{"$f":"IF(A136=113,0,[1]Sheet1!B139)","v":"Martin"}]
[{"$f":"IF([1]Sheet1!A140=113,0,[1]Sheet1!A140)","v":10555},{"$f":"IF([1]Sheet1!A140=113,0,[1]Sheet1!F140)","v":224263},{"$f":"[1]Sheet1!G140","v":"Brink"},{"$f":"[1]Sheet1!H140","v":"Klaas"},{"$f":"[1]Sheet1!J140","v":0},"Klaas Brink",null,{"$f":"IF(A137=113,0,[1]Sheet1!B140)","v":"Martin"}]
[{"$f":"IF([1]Sheet1!A141=113,0,[1]Sheet1!A141)","v":10555},{"$f":"IF([1]Sheet1!A141=113,0,[1]Sheet1!F141)","v":225329},{"$f":"[1]Sheet1!G141","v":"De Reus"},{"$f":"[1]Sheet1!H141","v":"Jan"},{"$f":"[1]Sheet1!J141","v":0},"Jan De Reus",null,{"$f":"IF(A138=113,0,[1]Sheet1!B141)","v":"Martin"}]
[{"$f":"IF([1]Sheet1!A142=113,0,[1]Sheet1!A142)","v":10555},{"$f":"IF([1]Sheet1!A142=113,0,[1]Sheet1!F142)","v":208962},{"$f":"[1]Sheet1!G142","v":"Driessen"},{"$f":"[1]Sheet1!H142","v":"Albert"},{"$f":"[1]Sheet1!J142","v":0},"Albert Driessen",null,{"$f":"IF(A139=113,0,[1]Sheet1!B142)","v":"Martin"}]
[{"$f":"IF([1]Sheet1!A143=113,0,[1]Sheet1!A143)","v":10555},{"$f":"IF([1]Sheet1!A143=113,0,[1]Sheet1!F143)","v":215409},{"$f":"[1]Sheet1!G143","v":"Duis"},{"$f":"[1]Sheet1!H143","v":"Jarno"},{"$f":"[1]Sheet1!J143","v":0},"Jarno Duis",null,{"$f":"IF(A140=113,0,[1]Sheet1!B143)","v":"Martin"}]
[{"$f":"IF([1]Sheet1!A144=113,0,[1]Sheet1!A144)","v":10555},{"$f":"IF([1]Sheet1!A144=113,0,[1]Sheet1!F144)","v":220327},{"$f":"[1]Sheet1!G144","v":"Kamerman"},{"$f":"[1]Sheet1!H144","v":"Wim"},{"$f":"[1]Sheet1!J144","v":0},"Wim Kamerman",null,{"$f":"IF(A141=113,0,[1]Sheet1!B144)","v":"Martin"}]
[{"$f":"IF([1]Sheet1!A145=113,0,[1]Sheet1!A145)","v":10555},{"$f":"IF([1]Sheet1!A145=113,0,[1]Sheet1!F145)","v":226652},{"$f":"[1]Sheet1!G145","v":"Koster"},{"$f":"[1]Sheet1!H145","v":"Toon"},{"$f":"[1]Sheet1!J145","v":0},"Toon Koster",null,{"$f":"IF(A142=113,0,[1]Sheet1!B145)","v":"Martin"}]
[{"$f":"IF([1]Sheet1!A146=113,0,[1]Sheet1!A146)","v":10555},{"$f":"IF([1]Sheet1!A146=113,0,[1]Sheet1!F146)","v":167028},{"$f":"[1]Sheet1!G146","v":"Kupper"},{"$f":"[1]Sheet1!H146","v":"Fred"},{"$f":"[1]Sheet1!J146","v":0},"Fred Kupper",null,{"$f":"IF(A143=113,0,[1]Sheet1!B146)","v":"Martin"}]
[{"$f":"IF([1]Sheet1!A147=113,0,[1]Sheet1!A147)","v":10555},{"$f":"IF([1]Sheet1!A147=113,0,[1]Sheet1!F147)","v":208963},{"$f":"[1]Sheet1!G147","v":"Lintsen"},{"$f":"[1]Sheet1!H147","v":"Henk"},{"$f":"[1]Sheet1!J147","v":0},"Henk Lintsen",null,{"$f":"IF(A144=113,0,[1]Sheet1!B147)","v":"Martin"}]
[{"$f":"IF([1]Sheet1!A148=113,0,[1]Sheet1!A148)","v":10555},{"$f":"IF([1]Sheet1!A148=113,0,[1]Sheet1!F148)","v":202470},{"$f":"[1]Sheet1!G148","v":"Luiten"},{"$f":"[1]Sheet1!H148","v":"AndrÃ©"},{"$f":"[1]Sheet1!J148","v":0},"AndrÃ© Luiten",null,{"$f":"IF(A145=113,0,[1]Sheet1!B148)","v":"Martin"}]
[{"$f":"IF([1]Sheet1!A149=113,0,[1]Sheet1!A149)","v":10555},{"$f":"IF([1]Sheet1!A149=113,0,[1]Sheet1!F149)","v":109617},{"$f":"[1]Sheet1!G149","v":"Maassen"},{"$f":"[1]Sheet1!H149","v":"Hans"},{"$f":"[1]Sheet1!J149","v":0},"Hans Maassen",null,{"$f":"IF(A146=113,0,[1]Sheet1!B149)","v":"Martin"}]
[{"$f":"IF([1]Sheet1!A150=113,0,[1]Sheet1!A150)","v":10555},{"$f":"IF([1]Sheet1!A150=113,0,[1]Sheet1!F150)","v":107343},{"$f":"[1]Sheet1!G150","v":"Mourik"},{"$f":"[1]Sheet1!H150","v":"Henk"},{"$f":"[1]Sheet1!J150","v":"van"},"Henk van Mourik",null,{"$f":"IF(A147=113,0,[1]Sheet1!B150)","v":"Martin"}]
[{"$f":"IF([1]Sheet1!A151=113,0,[1]Sheet1!A151)","v":10555},{"$f":"IF([1]Sheet1!A151=113,0,[1]Sheet1!F151)","v":107366},{"$f":"[1]Sheet1!G151","v":"Nova"},{"$f":"[1]Sheet1!H151","v":"Wim"},{"$f":"[1]Sheet1!J151","v":0},"Wim Nova",null,{"$f":"IF(A148=113,0,[1]Sheet1!B151)","v":"Martin"}]
[{"$f":"IF([1]Sheet1!A152=113,0,[1]Sheet1!A152)","v":10555},{"$f":"IF([1]Sheet1!A152=113,0,[1]Sheet1!F152)","v":154954},{"$f":"[1]Sheet1!G152","v":"Ratering"},{"$f":"[1]Sheet1!H152","v":"Hans"},{"$f":"[1]Sheet1!J152","v":0},{"$f":"IF(E149=0,CONCATENATE(D149,\" \",C149),CONCATENATE(D149,\" \",E149,\" \",C149))","v":"Hans Ratering"},null,{"$f":"IF(A149=113,0,[1]Sheet1!B152)","v":"Martin"}]
[{"$f":"IF([1]Sheet1!A153=113,0,[1]Sheet1!A153)","v":10555},{"$f":"IF([1]Sheet1!A153=113,0,[1]Sheet1!F153)","v":230253},{"$f":"[1]Sheet1!G153","v":"Reus"},{"$f":"[1]Sheet1!H153","v":"Theo"},{"$f":"[1]Sheet1!J153","v":"de"},"Theo de Reus",null,{"$f":"IF(A150=113,0,[1]Sheet1!B153)","v":"Martin"}]
[{"$f":"IF([1]Sheet1!A154=113,0,[1]Sheet1!A154)","v":10555},{"$f":"IF([1]Sheet1!A154=113,0,[1]Sheet1!F154)","v":158410},{"$f":"[1]Sheet1!G154","v":"Rutjes"},{"$f":"[1]Sheet1!H154","v":"Theo"},{"$f":"[1]Sheet1!J154","v":0},"Theo Rutjes",null,{"$f":"IF(A151=113,0,[1]Sheet1!B154)","v":"Martin"}]
[{"$f":"IF([1]Sheet1!A155=113,0,[1]Sheet1!A155)","v":10555},{"$f":"IF([1]Sheet1!A155=113,0,[1]Sheet1!F155)","v":264036},{"$f":"[1]Sheet1!G155","v":"Scholten"},{"$f":"[1]Sheet1!H155","v":"Gilbert"},{"$f":"[1]Sheet1!J155","v":0},"Gilbert Scholten",null,{"$f":"IF(A152=113,0,[1]Sheet1!B155)","v":"Martin"}]
[{"$f":"IF([1]Sheet1!A156=113,0,[1]Sheet1!A156)","v":10555},{"$f":"IF([1]Sheet1!A156=113,0,[1]Sheet1!F156)","v":225331},{"$f":"[1]Sheet1!G156","v":"Spee"},{"$f":"[1]Sheet1!H156","v":"Rob"},{"$f":"[1]Sheet1!J156","v":0},"Rob Spee",null,{"$f":"IF(A153=113,0,[1]Sheet1!B156)","v":"Martin"}]
[{"$f":"IF([1]Sheet1!A157=113,0,[1]Sheet1!A157)","v":10555},{"$f":"IF([1]Sheet1!A157=113,0,[1]Sheet1!F157)","v":154974},{"$f":"[1]Sheet1!G157","v":"Ussen"},{"$f":"[1]Sheet1!H157","v":"Ronald"},{"$f":"[1]Sheet1!J157","v":"van"},"Ronald van Ussen",null,{"$f":"IF(A154=113,0,[1]Sheet1!B157)","v":"Martin"}]
[{"$f":"IF([1]Sheet1!A158=113,0,[1]Sheet1!A158)","v":10555},{"$f":"IF([1]Sheet1!A158=113,0,[1]Sheet1!F158)","v":154974},{"$f":"[1]Sheet1!G158","v":"Ussen"},{"$f":"[1]Sheet1!H158","v":"Ronald"},{"$f":"[1]Sheet1!J158","v":"van"},"Ronald van Ussen",null,{"$f":"IF(A155=113,0,[1]Sheet1!B158)","v":"Martin"}]
[{"$f":"IF([1]Sheet1!A159=113,0,[1]Sheet1!A159)","v":10555},{"$f":"IF([1]Sheet1!A159=113,0,[1]Sheet1!F159)","v":152246},{"$f":"[1]Sheet1!G159","v":"Wessel"},{"$f":"[1]Sheet1!H159","v":"Ally"},{"$f":"[1]Sheet1!J159","v":"van"},"Ally van Wessel",null,{"$f":"IF(A156=113,0,[1]Sheet1!B159)","v":"Martin"}]
[{"$f":"IF([1]Sheet1!A160=113,0,[1]Sheet1!A160)","v":10555},{"$f":"IF([1]Sheet1!A160=113,0,[1]Sheet1!F160)","v":226690},{"$f":"[1]Sheet1!G160","v":"Wessel"},{"$f":"[1]Sheet1!H160","v":"Willy"},{"$f":"[1]Sheet1!J160","v":"van"},"Willy van Wessel",null,{"$f":"IF(A157=113,0,[1]Sheet1!B160)","v":"Martin"}]
[{"$f":"IF([1]Sheet1!A161=113,0,[1]Sheet1!A161)","v":10556},{"$f":"IF([1]Sheet1!A161=113,0,[1]Sheet1!F161)","v":120810},{"$f":"[1]Sheet1!G161","v":"Arendsen"},{"$f":"[1]Sheet1!H161","v":"Rob"},{"$f":"[1]Sheet1!J161","v":0},"Rob Arendsen",null,{"$f":"IF(A158=113,0,[1]Sheet1!B161)","v":"Graafschap"}]
[{"$f":"IF([1]Sheet1!A162=113,0,[1]Sheet1!A162)","v":10556},{"$f":"IF([1]Sheet1!A162=113,0,[1]Sheet1!F162)","v":209138},{"$f":"[1]Sheet1!G162","v":"Baardwijk"},{"$f":"[1]Sheet1!H162","v":"Kees"},{"$f":"[1]Sheet1!J162","v":"van"},"Kees van Baardwijk",null,{"$f":"IF(A159=113,0,[1]Sheet1!B162)","v":"Graafschap"}]
[{"$f":"IF([1]Sheet1!A163=113,0,[1]Sheet1!A163)","v":10556},{"$f":"IF([1]Sheet1!A163=113,0,[1]Sheet1!F163)","v":154226},{"$f":"[1]Sheet1!G163","v":"Heuskes"},{"$f":"[1]Sheet1!H163","v":"Marcel"},{"$f":"[1]Sheet1!J163","v":0},"Marcel Heuskes",null,{"$f":"IF(A160=113,0,[1]Sheet1!B163)","v":"Graafschap"}]
[{"$f":"IF([1]Sheet1!A164=113,0,[1]Sheet1!A164)","v":10556},{"$f":"IF([1]Sheet1!A164=113,0,[1]Sheet1!F164)","v":154226},{"$f":"[1]Sheet1!G164","v":"Heuskes"},{"$f":"[1]Sheet1!H164","v":"Marcel"},{"$f":"[1]Sheet1!J164","v":0},"Marcel Heuskes",null,{"$f":"IF(A161=113,0,[1]Sheet1!B164)","v":"Graafschap"}]
[{"$f":"IF([1]Sheet1!A165=113,0,[1]Sheet1!A165)","v":10556},{"$f":"IF([1]Sheet1!A165=113,0,[1]Sheet1!F165)","v":234531},{"$f":"[1]Sheet1!G165","v":"Horst"},{"$f":"[1]Sheet1!H165","v":"Ben"},{"$f":"[1]Sheet1!J165","v":"ter"},"Ben ter Horst",null,{"$f":"IF(A162=113,0,[1]Sheet1!B165)","v":"Graafschap"}]
[{"$f":"IF([1]Sheet1!A166=113,0,[1]Sheet1!A166)","v":10556},{"$f":"IF([1]Sheet1!A166=113,0,[1]Sheet1!F166)","v":220456},{"$f":"[1]Sheet1!G166","v":"Kramp"},{"$f":"[1]Sheet1!H166","v":"Gerjan"},{"$f":"[1]Sheet1!J166","v":0},"Gerjan Kramp",null,{"$f":"IF(A163=113,0,[1]Sheet1!B166)","v":"Graafschap"}]
[{"$f":"IF([1]Sheet1!A167=113,0,[1]Sheet1!A167)","v":10556},{"$f":"IF([1]Sheet1!A167=113,0,[1]Sheet1!F167)","v":218736},{"$f":"[1]Sheet1!G167","v":"Pasmans"},{"$f":"[1]Sheet1!H167","v":"Mary"},{"$f":"[1]Sheet1!J167","v":0},"Mary Pasmans",null,{"$f":"IF(A164=113,0,[1]Sheet1!B167)","v":"Graafschap"}]
[{"$f":"IF([1]Sheet1!A168=113,0,[1]Sheet1!A168)","v":10556},{"$f":"IF([1]Sheet1!A168=113,0,[1]Sheet1!F168)","v":154947},{"$f":"[1]Sheet1!G168","v":"Tap"},{"$f":"[1]Sheet1!H168","v":"Addie"},{"$f":"[1]Sheet1!J168","v":0},"Addie Tap",null,{"$f":"IF(A165=113,0,[1]Sheet1!B168)","v":"Graafschap"}]
[{"$f":"IF([1]Sheet1!A169=113,0,[1]Sheet1!A169)","v":10556},{"$f":"IF([1]Sheet1!A169=113,0,[1]Sheet1!F169)","v":213741},{"$f":"[1]Sheet1!G169","v":"Tutschek"},{"$f":"[1]Sheet1!H169","v":"Willie"},{"$f":"[1]Sheet1!J169","v":0},"Willie Tutschek",null,{"$f":"IF(A166=113,0,[1]Sheet1!B169)","v":"Graafschap"}]
[{"$f":"IF([1]Sheet1!A170=113,0,[1]Sheet1!A170)","v":10556},{"$f":"IF([1]Sheet1!A170=113,0,[1]Sheet1!F170)","v":134356},{"$f":"[1]Sheet1!G170","v":"Veenhuis"},{"$f":"[1]Sheet1!H170","v":"Hans"},{"$f":"[1]Sheet1!J170","v":0},"Hans Veenhuis",null,{"$f":"IF(A167=113,0,[1]Sheet1!B170)","v":"Graafschap"}]
[{"$f":"IF([1]Sheet1!A171=113,0,[1]Sheet1!A171)","v":10556},{"$f":"IF([1]Sheet1!A171=113,0,[1]Sheet1!F171)","v":134356},{"$f":"[1]Sheet1!G171","v":"Veenhuis"},{"$f":"[1]Sheet1!H171","v":"Hans"},{"$f":"[1]Sheet1!J171","v":0},"Hans Veenhuis",null,{"$f":"IF(A168=113,0,[1]Sheet1!B171)","v":"Graafschap"}]
[{"$f":"IF([1]Sheet1!A172=113,0,[1]Sheet1!A172)","v":10559},{"$f":"IF([1]Sheet1!A172=113,0,[1]Sheet1!F172)","v":126875},{"$f":"[1]Sheet1!G172","v":"Alink"},{"$f":"[1]Sheet1!H172","v":"Boudewijn"},{"$f":"[1]Sheet1!J172","v":0},"Boudewijn Alink",null,{"$f":"IF(A169=113,0,[1]Sheet1!B172)","v":"Veemarkt"}]
[{"$f":"IF([1]Sheet1!A173=113,0,[1]Sheet1!A173)","v":10559},{"$f":"IF([1]Sheet1!A173=113,0,[1]Sheet1!F173)","v":204609},{"$f":"[1]Sheet1!G173","v":"Baars"},{"$f":"[1]Sheet1!H173","v":"Gert"},{"$f":"[1]Sheet1!J173","v":0},"Gert Baars",null,{"$f":"IF(A170=113,0,[1]Sheet1!B173)","v":"Veemarkt"}]
[{"$f":"IF([1]Sheet1!A174=113,0,[1]Sheet1!A174)","v":10559},{"$f":"IF([1]Sheet1!A174=113,0,[1]Sheet1!F174)","v":162192},{"$f":"[1]Sheet1!G174","v":"Bakker"},{"$f":"[1]Sheet1!H174","v":"Matthijs"},{"$f":"[1]Sheet1!J174","v":0},"Matthijs Bakker",null,{"$f":"IF(A171=113,0,[1]Sheet1!B174)","v":"Veemarkt"}]
[{"$f":"IF([1]Sheet1!A175=113,0,[1]Sheet1!A175)","v":10559},{"$f":"IF([1]Sheet1!A175=113,0,[1]Sheet1!F175)","v":217549},{"$f":"[1]Sheet1!G175","v":"Berendsen"},{"$f":"[1]Sheet1!H175","v":"Ap"},{"$f":"[1]Sheet1!J175","v":0},"Ap Berendsen",null,{"$f":"IF(A172=113,0,[1]Sheet1!B175)","v":"Veemarkt"}]
[{"$f":"IF([1]Sheet1!A176=113,0,[1]Sheet1!A176)","v":10559},{"$f":"IF([1]Sheet1!A176=113,0,[1]Sheet1!F176)","v":216609},{"$f":"[1]Sheet1!G176","v":"Bloemenkamp"},{"$f":"[1]Sheet1!H176","v":"Eric"},{"$f":"[1]Sheet1!J176","v":0},"Eric Bloemenkamp",null,{"$f":"IF(A173=113,0,[1]Sheet1!B176)","v":"Veemarkt"}]
[{"$f":"IF([1]Sheet1!A177=113,0,[1]Sheet1!A177)","v":10559},{"$f":"IF([1]Sheet1!A177=113,0,[1]Sheet1!F177)","v":169454},{"$f":"[1]Sheet1!G177","v":"Bremer"},{"$f":"[1]Sheet1!H177","v":"Theo"},{"$f":"[1]Sheet1!J177","v":0},"Theo Bremer",null,{"$f":"IF(A174=113,0,[1]Sheet1!B177)","v":"Veemarkt"}]
[{"$f":"IF([1]Sheet1!A178=113,0,[1]Sheet1!A178)","v":10559},{"$f":"IF([1]Sheet1!A178=113,0,[1]Sheet1!F178)","v":154909},{"$f":"[1]Sheet1!G178","v":"Bruggink"},{"$f":"[1]Sheet1!H178","v":"Han"},{"$f":"[1]Sheet1!J178","v":0},"Han Bruggink",null,{"$f":"IF(A175=113,0,[1]Sheet1!B178)","v":"Veemarkt"}]
[{"$f":"IF([1]Sheet1!A179=113,0,[1]Sheet1!A179)","v":10559},{"$f":"IF([1]Sheet1!A179=113,0,[1]Sheet1!F179)","v":172652},{"$f":"[1]Sheet1!G179","v":"Bruin"},{"$f":"[1]Sheet1!H179","v":"Gert"},{"$f":"[1]Sheet1!J179","v":"de"},"Gert de Bruin",null,{"$f":"IF(A176=113,0,[1]Sheet1!B179)","v":"Veemarkt"}]
[{"$f":"IF([1]Sheet1!A180=113,0,[1]Sheet1!A180)","v":10559},{"$f":"IF([1]Sheet1!A180=113,0,[1]Sheet1!F180)","v":130389},{"$f":"[1]Sheet1!G180","v":"Dericks"},{"$f":"[1]Sheet1!H180","v":"Rene"},{"$f":"[1]Sheet1!J180","v":0},"Rene Dericks",null,{"$f":"IF(A177=113,0,[1]Sheet1!B180)","v":"Veemarkt"}]
[{"$f":"IF([1]Sheet1!A181=113,0,[1]Sheet1!A181)","v":10559},{"$f":"IF([1]Sheet1!A181=113,0,[1]Sheet1!F181)","v":109746},{"$f":"[1]Sheet1!G181","v":"Dierssen"},{"$f":"[1]Sheet1!H181","v":"Willy"},{"$f":"[1]Sheet1!J181","v":0},"Willy Dierssen",null,{"$f":"IF(A178=113,0,[1]Sheet1!B181)","v":"Veemarkt"}]
[{"$f":"IF([1]Sheet1!A182=113,0,[1]Sheet1!A182)","v":10559},{"$f":"IF([1]Sheet1!A182=113,0,[1]Sheet1!F182)","v":205824},{"$f":"[1]Sheet1!G182","v":"Dolleman"},{"$f":"[1]Sheet1!H182","v":"Ronald"},{"$f":"[1]Sheet1!J182","v":0},"Ronald Dolleman",null,{"$f":"IF(A179=113,0,[1]Sheet1!B182)","v":"Veemarkt"}]
[{"$f":"IF([1]Sheet1!A183=113,0,[1]Sheet1!A183)","v":10559},{"$f":"IF([1]Sheet1!A183=113,0,[1]Sheet1!F183)","v":264152},{"$f":"[1]Sheet1!G183","v":"Gerrits"},{"$f":"[1]Sheet1!H183","v":"Karel"},{"$f":"[1]Sheet1!J183","v":0},"Karel Gerrits",null,{"$f":"IF(A180=113,0,[1]Sheet1!B183)","v":"Veemarkt"}]
[{"$f":"IF([1]Sheet1!A184=113,0,[1]Sheet1!A184)","v":10559},{"$f":"IF([1]Sheet1!A184=113,0,[1]Sheet1!F184)","v":264152},{"$f":"[1]Sheet1!G184","v":"Gerrits"},{"$f":"[1]Sheet1!H184","v":"Karel"},{"$f":"[1]Sheet1!J184","v":0},"Karel Gerrits",null,{"$f":"IF(A181=113,0,[1]Sheet1!B184)","v":"Veemarkt"}]
[{"$f":"IF([1]Sheet1!A185=113,0,[1]Sheet1!A185)","v":10559},{"$f":"IF([1]Sheet1!A185=113,0,[1]Sheet1!F185)","v":214970},{"$f":"[1]Sheet1!G185","v":"Gerritsen"},{"$f":"[1]Sheet1!H185","v":"Frans"},{"$f":"[1]Sheet1!J185","v":0},"Frans Gerritsen",null,{"$f":"IF(A182=113,0,[1]Sheet1!B185)","v":"Veemarkt"}]
[{"$f":"IF([1]Sheet1!A186=113,0,[1]Sheet1!A186)","v":10559},{"$f":"IF([1]Sheet1!A186=113,0,[1]Sheet1!F186)","v":172686},{"$f":"[1]Sheet1!G186","v":"Gooswilligen"},{"$f":"[1]Sheet1!H186","v":"Ronald"},{"$f":"[1]Sheet1!J186","v":"van"},"Ronald van Gooswilligen",null,{"$f":"IF(A183=113,0,[1]Sheet1!B186)","v":"Veemarkt"}]
[{"$f":"IF([1]Sheet1!A187=113,0,[1]Sheet1!A187)","v":10559},{"$f":"IF([1]Sheet1!A187=113,0,[1]Sheet1!F187)","v":263819},{"$f":"[1]Sheet1!G187","v":"Hemert"},{"$f":"[1]Sheet1!H187","v":"Ingrid"},{"$f":"[1]Sheet1!J187","v":"van"},"Ingrid van Hemert",null,{"$f":"IF(A184=113,0,[1]Sheet1!B187)","v":"Veemarkt"}]
[{"$f":"IF([1]Sheet1!A188=113,0,[1]Sheet1!A188)","v":10559},{"$f":"IF([1]Sheet1!A188=113,0,[1]Sheet1!F188)","v":263821},{"$f":"[1]Sheet1!G188","v":"Hemert"},{"$f":"[1]Sheet1!H188","v":"Jolanda"},{"$f":"[1]Sheet1!J188","v":"van"},"Jolanda van Hemert",null,{"$f":"IF(A185=113,0,[1]Sheet1!B188)","v":"Veemarkt"}]
[{"$f":"IF([1]Sheet1!A189=113,0,[1]Sheet1!A189)","v":10559},{"$f":"IF([1]Sheet1!A189=113,0,[1]Sheet1!F189)","v":233349},{"$f":"[1]Sheet1!G189","v":"Holtslag"},{"$f":"[1]Sheet1!H189","v":"Marcel"},{"$f":"[1]Sheet1!J189","v":0},"Marcel Holtslag",null,{"$f":"IF(A186=113,0,[1]Sheet1!B189)","v":"Veemarkt"}]
[{"$f":"IF([1]Sheet1!A190=113,0,[1]Sheet1!A190)","v":10559},{"$f":"IF([1]Sheet1!A190=113,0,[1]Sheet1!F190)","v":154171},{"$f":"[1]Sheet1!G190","v":"Hornschemeyer"},{"$f":"[1]Sheet1!H190","v":"Jurgen"},{"$f":"[1]Sheet1!J190","v":0},"Jurgen Hornschemeyer",null,{"$f":"IF(A187=113,0,[1]Sheet1!B190)","v":"Veemarkt"}]
[{"$f":"IF([1]Sheet1!A191=113,0,[1]Sheet1!A191)","v":10559},{"$f":"IF([1]Sheet1!A191=113,0,[1]Sheet1!F191)","v":154171},{"$f":"[1]Sheet1!G191","v":"Hornschemeyer"},{"$f":"[1]Sheet1!H191","v":"Jurgen"},{"$f":"[1]Sheet1!J191","v":0},"Jurgen Hornschemeyer",null,{"$f":"IF(A188=113,0,[1]Sheet1!B191)","v":"Veemarkt"}]
[{"$f":"IF([1]Sheet1!A192=113,0,[1]Sheet1!A192)","v":10559},{"$f":"IF([1]Sheet1!A192=113,0,[1]Sheet1!F192)","v":218095},{"$f":"[1]Sheet1!G192","v":"Huntink"},{"$f":"[1]Sheet1!H192","v":"Henk"},{"$f":"[1]Sheet1!J192","v":0},"Henk Huntink",null,{"$f":"IF(A189=113,0,[1]Sheet1!B192)","v":"Veemarkt"}]
[{"$f":"IF([1]Sheet1!A193=113,0,[1]Sheet1!A193)","v":10559},{"$f":"IF([1]Sheet1!A193=113,0,[1]Sheet1!F193)","v":225583},{"$f":"[1]Sheet1!G193","v":"Jansen"},{"$f":"[1]Sheet1!H193","v":"Johan"},{"$f":"[1]Sheet1!J193","v":0},"Johan Jansen",null,{"$f":"IF(A190=113,0,[1]Sheet1!B193)","v":"Veemarkt"}]
[{"$f":"IF([1]Sheet1!A194=113,0,[1]Sheet1!A194)","v":10559},{"$f":"IF([1]Sheet1!A194=113,0,[1]Sheet1!F194)","v":203373},{"$f":"[1]Sheet1!G194","v":"Jansen"},{"$f":"[1]Sheet1!H194","v":"Yannik"},{"$f":"[1]Sheet1!J194","v":0},"Yannik Jansen",null,{"$f":"IF(A191=113,0,[1]Sheet1!B194)","v":"Veemarkt"}]
[{"$f":"IF([1]Sheet1!A195=113,0,[1]Sheet1!A195)","v":10559},{"$f":"IF([1]Sheet1!A195=113,0,[1]Sheet1!F195)","v":205485},{"$f":"[1]Sheet1!G195","v":"Jolink"},{"$f":"[1]Sheet1!H195","v":"Mike"},{"$f":"[1]Sheet1!J195","v":0},"Mike Jolink",null,{"$f":"IF(A192=113,0,[1]Sheet1!B195)","v":"Veemarkt"}]
[{"$f":"IF([1]Sheet1!A196=113,0,[1]Sheet1!A196)","v":10559},{"$f":"IF([1]Sheet1!A196=113,0,[1]Sheet1!F196)","v":208121},{"$f":"[1]Sheet1!G196","v":"Kampkuiper"},{"$f":"[1]Sheet1!H196","v":"Herbert"},{"$f":"[1]Sheet1!J196","v":0},"Herbert Kampkuiper",null,{"$f":"IF(A193=113,0,[1]Sheet1!B196)","v":"Veemarkt"}]
[{"$f":"IF([1]Sheet1!A197=113,0,[1]Sheet1!A197)","v":10559},{"$f":"IF([1]Sheet1!A197=113,0,[1]Sheet1!F197)","v":236892},{"$f":"[1]Sheet1!G197","v":"Kemp"},{"$f":"[1]Sheet1!H197","v":"Stef"},{"$f":"[1]Sheet1!J197","v":"van der"},"Stef van der Kemp",null,{"$f":"IF(A194=113,0,[1]Sheet1!B197)","v":"Veemarkt"}]
[{"$f":"IF([1]Sheet1!A198=113,0,[1]Sheet1!A198)","v":10559},{"$f":"IF([1]Sheet1!A198=113,0,[1]Sheet1!F198)","v":154985},{"$f":"[1]Sheet1!G198","v":"Kleinpenning"},{"$f":"[1]Sheet1!H198","v":"Hans"},{"$f":"[1]Sheet1!J198","v":0},"Hans Kleinpenning",null,{"$f":"IF(A195=113,0,[1]Sheet1!B198)","v":"Veemarkt"}]
[{"$f":"IF([1]Sheet1!A199=113,0,[1]Sheet1!A199)","v":10559},{"$f":"IF([1]Sheet1!A199=113,0,[1]Sheet1!F199)","v":154985},{"$f":"[1]Sheet1!G199","v":"Kleinpenning"},{"$f":"[1]Sheet1!H199","v":"Hans"},{"$f":"[1]Sheet1!J199","v":0},"Hans Kleinpenning",null,{"$f":"IF(A196=113,0,[1]Sheet1!B199)","v":"Veemarkt"}]
[{"$f":"IF([1]Sheet1!A200=113,0,[1]Sheet1!A200)","v":10559},{"$f":"IF([1]Sheet1!A200=113,0,[1]Sheet1!F200)","v":154985},{"$f":"[1]Sheet1!G200","v":"Kleinpenning"},{"$f":"[1]Sheet1!H200","v":"Hans"},{"$f":"[1]Sheet1!J200","v":0},"Hans Kleinpenning",null,{"$f":"IF(A197=113,0,[1]Sheet1!B200)","v":"Veemarkt"}]
[{"$f":"IF([1]Sheet1!A201=113,0,[1]Sheet1!A201)","v":10559},{"$f":"IF([1]Sheet1!A201=113,0,[1]Sheet1!F201)","v":122953},{"$f":"[1]Sheet1!G201","v":"Klok"},{"$f":"[1]Sheet1!H201","v":"Hans"},{"$f":"[1]Sheet1!J201","v":0},"Hans Klok",null,{"$f":"IF(A198=113,0,[1]Sheet1!B201)","v":"Veemarkt"}]
[{"$f":"IF([1]Sheet1!A202=113,0,[1]Sheet1!A202)","v":10559},{"$f":"IF([1]Sheet1!A202=113,0,[1]Sheet1!F202)","v":111180},{"$f":"[1]Sheet1!G202","v":"Klomp"},{"$f":"[1]Sheet1!H202","v":"Frits"},{"$f":"[1]Sheet1!J202","v":0},"Frits Klomp",null,{"$f":"IF(A199=113,0,[1]Sheet1!B202)","v":"Veemarkt"}]
[{"$f":"IF([1]Sheet1!A203=113,0,[1]Sheet1!A203)","v":10559},{"$f":"IF([1]Sheet1!A203=113,0,[1]Sheet1!F203)","v":158316},{"$f":"[1]Sheet1!G203","v":"Lassig"},{"$f":"[1]Sheet1!H203","v":"Carsten"},{"$f":"[1]Sheet1!J203","v":0},"Carsten Lassig",null,{"$f":"IF(A200=113,0,[1]Sheet1!B203)","v":"Veemarkt"}]
[{"$f":"IF([1]Sheet1!A204=113,0,[1]Sheet1!A204)","v":10559},{"$f":"IF([1]Sheet1!A204=113,0,[1]Sheet1!F204)","v":220377},{"$f":"[1]Sheet1!G204","v":"Meijer"},{"$f":"[1]Sheet1!H204","v":"Leo"},{"$f":"[1]Sheet1!J204","v":0},"Leo Meijer",null,{"$f":"IF(A201=113,0,[1]Sheet1!B204)","v":"Veemarkt"}]
[{"$f":"IF([1]Sheet1!A205=113,0,[1]Sheet1!A205)","v":10559},{"$f":"IF([1]Sheet1!A205=113,0,[1]Sheet1!F205)","v":162816},{"$f":"[1]Sheet1!G205","v":"Mennings"},{"$f":"[1]Sheet1!H205","v":"Joop"},{"$f":"[1]Sheet1!J205","v":0},"Joop Mennings",null,{"$f":"IF(A202=113,0,[1]Sheet1!B205)","v":"Veemarkt"}]
[{"$f":"IF([1]Sheet1!A206=113,0,[1]Sheet1!A206)","v":10559},{"$f":"IF([1]Sheet1!A206=113,0,[1]Sheet1!F206)","v":112151},{"$f":"[1]Sheet1!G206","v":"Mijnen"},{"$f":"[1]Sheet1!H206","v":"Willem"},{"$f":"[1]Sheet1!J206","v":0},"Willem Mijnen",null,{"$f":"IF(A203=113,0,[1]Sheet1!B206)","v":"Veemarkt"}]
[{"$f":"IF([1]Sheet1!A207=113,0,[1]Sheet1!A207)","v":10559},{"$f":"IF([1]Sheet1!A207=113,0,[1]Sheet1!F207)","v":112151},{"$f":"[1]Sheet1!G207","v":"Mijnen"},{"$f":"[1]Sheet1!H207","v":"Willem"},{"$f":"[1]Sheet1!J207","v":0},"Willem Mijnen",null,{"$f":"IF(A204=113,0,[1]Sheet1!B207)","v":"Veemarkt"}]
[{"$f":"IF([1]Sheet1!A208=113,0,[1]Sheet1!A208)","v":10559},{"$f":"IF([1]Sheet1!A208=113,0,[1]Sheet1!F208)","v":263820},{"$f":"[1]Sheet1!G208","v":"Mulderij"},{"$f":"[1]Sheet1!H208","v":"Manuela"},{"$f":"[1]Sheet1!J208","v":0},"Manuela Mulderij",null,{"$f":"IF(A205=113,0,[1]Sheet1!B208)","v":"Veemarkt"}]
[{"$f":"IF([1]Sheet1!A209=113,0,[1]Sheet1!A209)","v":10559},{"$f":"IF([1]Sheet1!A209=113,0,[1]Sheet1!F209)","v":107366},{"$f":"[1]Sheet1!G209","v":"Nova"},{"$f":"[1]Sheet1!H209","v":"Wim"},{"$f":"[1]Sheet1!J209","v":0},"Wim Nova",null,{"$f":"IF(A206=113,0,[1]Sheet1!B209)","v":"Veemarkt"}]
[{"$f":"IF([1]Sheet1!A210=113,0,[1]Sheet1!A210)","v":10559},{"$f":"IF([1]Sheet1!A210=113,0,[1]Sheet1!F210)","v":210677},{"$f":"[1]Sheet1!G210","v":"Pennekamp"},{"$f":"[1]Sheet1!H210","v":"Hans"},{"$f":"[1]Sheet1!J210","v":0},"Hans Pennekamp",null,{"$f":"IF(A207=113,0,[1]Sheet1!B210)","v":"Veemarkt"}]
[{"$f":"IF([1]Sheet1!A211=113,0,[1]Sheet1!A211)","v":10559},{"$f":"IF([1]Sheet1!A211=113,0,[1]Sheet1!F211)","v":130563},{"$f":"[1]Sheet1!G211","v":"Raaij"},{"$f":"[1]Sheet1!H211","v":"Bennie"},{"$f":"[1]Sheet1!J211","v":"van"},"Bennie van Raaij",null,{"$f":"IF(A208=113,0,[1]Sheet1!B211)","v":"Veemarkt"}]
[{"$f":"IF([1]Sheet1!A212=113,0,[1]Sheet1!A212)","v":10559},{"$f":"IF([1]Sheet1!A212=113,0,[1]Sheet1!F212)","v":225674},{"$f":"[1]Sheet1!G212","v":"Raben"},{"$f":"[1]Sheet1!H212","v":"Frank"},{"$f":"[1]Sheet1!J212","v":0},"Frank Raben",null,{"$f":"IF(A209=113,0,[1]Sheet1!B212)","v":"Veemarkt"}]
[{"$f":"IF([1]Sheet1!A213=113,0,[1]Sheet1!A213)","v":10559},{"$f":"IF([1]Sheet1!A213=113,0,[1]Sheet1!F213)","v":203691},{"$f":"[1]Sheet1!G213","v":"Ratelband"},{"$f":"[1]Sheet1!H213","v":"Tim"},{"$f":"[1]Sheet1!J213","v":0},"Tim Ratelband",null,{"$f":"IF(A210=113,0,[1]Sheet1!B213)","v":"Veemarkt"}]
[{"$f":"IF([1]Sheet1!A214=113,0,[1]Sheet1!A214)","v":10559},{"$f":"IF([1]Sheet1!A214=113,0,[1]Sheet1!F214)","v":157965},{"$f":"[1]Sheet1!G214","v":"Reintjes"},{"$f":"[1]Sheet1!H214","v":"Robin"},{"$f":"[1]Sheet1!J214","v":0},"Robin Reintjes",null,{"$f":"IF(A211=113,0,[1]Sheet1!B214)","v":"Veemarkt"}]
[{"$f":"IF([1]Sheet1!A215=113,0,[1]Sheet1!A215)","v":10559},{"$f":"IF([1]Sheet1!A215=113,0,[1]Sheet1!F215)","v":139536},{"$f":"[1]Sheet1!G215","v":"Rutjes"},{"$f":"[1]Sheet1!H215","v":"Jan"},{"$f":"[1]Sheet1!J215","v":0},"Jan Rutjes",null,{"$f":"IF(A212=113,0,[1]Sheet1!B215)","v":"Veemarkt"}]
[{"$f":"IF([1]Sheet1!A216=113,0,[1]Sheet1!A216)","v":10559},{"$f":"IF([1]Sheet1!A216=113,0,[1]Sheet1!F216)","v":263829},{"$f":"[1]Sheet1!G216","v":"Sala"},{"$f":"[1]Sheet1!H216","v":"Alexander"},{"$f":"[1]Sheet1!J216","v":0},{"$f":"IF(E213=0,CONCATENATE(D213,\" \",C213),CONCATENATE(D213,\" \",E213,\" \",C213))","v":"Alexander Sala"},null,{"$f":"IF(A213=113,0,[1]Sheet1!B216)","v":"Veemarkt"}]
[{"$f":"IF([1]Sheet1!A217=113,0,[1]Sheet1!A217)","v":10559},{"$f":"IF([1]Sheet1!A217=113,0,[1]Sheet1!F217)","v":128240},{"$f":"[1]Sheet1!G217","v":"Siebelink"},{"$f":"[1]Sheet1!H217","v":"Bart"},{"$f":"[1]Sheet1!J217","v":0},"Bart Siebelink",null,{"$f":"IF(A214=113,0,[1]Sheet1!B217)","v":"Veemarkt"}]
[{"$f":"IF([1]Sheet1!A218=113,0,[1]Sheet1!A218)","v":10559},{"$f":"IF([1]Sheet1!A218=113,0,[1]Sheet1!F218)","v":139471},{"$f":"[1]Sheet1!G218","v":"Siebelink"},{"$f":"[1]Sheet1!H218","v":"Diny"},{"$f":"[1]Sheet1!J218","v":0},"Diny Siebelink",null,{"$f":"IF(A215=113,0,[1]Sheet1!B218)","v":"Veemarkt"}]
[{"$f":"IF([1]Sheet1!A219=113,0,[1]Sheet1!A219)","v":10559},{"$f":"IF([1]Sheet1!A219=113,0,[1]Sheet1!F219)","v":218059},{"$f":"[1]Sheet1!G219","v":"Siebelink"},{"$f":"[1]Sheet1!H219","v":"Piet"},{"$f":"[1]Sheet1!J219","v":0},"Piet Siebelink",null,{"$f":"IF(A216=113,0,[1]Sheet1!B219)","v":"Veemarkt"}]
[{"$f":"IF([1]Sheet1!A220=113,0,[1]Sheet1!A220)","v":10559},{"$f":"IF([1]Sheet1!A220=113,0,[1]Sheet1!F220)","v":144362},{"$f":"[1]Sheet1!G220","v":"Siebelink"},{"$f":"[1]Sheet1!H220","v":"Willem"},{"$f":"[1]Sheet1!J220","v":0},"Willem Siebelink",null,{"$f":"IF(A217=113,0,[1]Sheet1!B220)","v":"Veemarkt"}]
[{"$f":"IF([1]Sheet1!A221=113,0,[1]Sheet1!A221)","v":10559},{"$f":"IF([1]Sheet1!A221=113,0,[1]Sheet1!F221)","v":114297},{"$f":"[1]Sheet1!G221","v":"Sloots"},{"$f":"[1]Sheet1!H221","v":"Sander"},{"$f":"[1]Sheet1!J221","v":0},"Sander Sloots",null,{"$f":"IF(A218=113,0,[1]Sheet1!B221)","v":"Veemarkt"}]
[{"$f":"IF([1]Sheet1!A222=113,0,[1]Sheet1!A222)","v":10559},{"$f":"IF([1]Sheet1!A222=113,0,[1]Sheet1!F222)","v":181446},{"$f":"[1]Sheet1!G222","v":"Smeitink"},{"$f":"[1]Sheet1!H222","v":"Steven"},{"$f":"[1]Sheet1!J222","v":0},"Steven Smeitink",null,{"$f":"IF(A219=113,0,[1]Sheet1!B222)","v":"Veemarkt"}]
[{"$f":"IF([1]Sheet1!A223=113,0,[1]Sheet1!A223)","v":10559},{"$f":"IF([1]Sheet1!A223=113,0,[1]Sheet1!F223)","v":236889},{"$f":"[1]Sheet1!G223","v":"Smit"},{"$f":"[1]Sheet1!H223","v":"Jaap"},{"$f":"[1]Sheet1!J223","v":"de"},"Jaap de Smit",null,{"$f":"IF(A220=113,0,[1]Sheet1!B223)","v":"Veemarkt"}]
[{"$f":"IF([1]Sheet1!A224=113,0,[1]Sheet1!A224)","v":10559},{"$f":"IF([1]Sheet1!A224=113,0,[1]Sheet1!F224)","v":263880},{"$f":"[1]Sheet1!G224","v":"Smit-Bosz"},{"$f":"[1]Sheet1!H224","v":"Hennie"},{"$f":"[1]Sheet1!J224","v":"de"},"Hennie de Smit-Bosz",null,{"$f":"IF(A221=113,0,[1]Sheet1!B224)","v":"Veemarkt"}]
[{"$f":"IF([1]Sheet1!A225=113,0,[1]Sheet1!A225)","v":10559},{"$f":"IF([1]Sheet1!A225=113,0,[1]Sheet1!F225)","v":108904},{"$f":"[1]Sheet1!G225","v":"Strien"},{"$f":"[1]Sheet1!H225","v":"Jan"},{"$f":"[1]Sheet1!J225","v":"van"},"Jan van Strien",null,{"$f":"IF(A222=113,0,[1]Sheet1!B225)","v":"Veemarkt"}]
[{"$f":"IF([1]Sheet1!A226=113,0,[1]Sheet1!A226)","v":10559},{"$f":"IF([1]Sheet1!A226=113,0,[1]Sheet1!F226)","v":257361},{"$f":"[1]Sheet1!G226","v":"Strien"},{"$f":"[1]Sheet1!H226","v":"Jan jr."},{"$f":"[1]Sheet1!J226","v":"van"},"Jan jr. van Strien",null,{"$f":"IF(A223=113,0,[1]Sheet1!B226)","v":"Veemarkt"}]
[{"$f":"IF([1]Sheet1!A227=113,0,[1]Sheet1!A227)","v":10559},{"$f":"IF([1]Sheet1!A227=113,0,[1]Sheet1!F227)","v":214861},{"$f":"[1]Sheet1!G227","v":"Susebeek"},{"$f":"[1]Sheet1!H227","v":"Everlien"},{"$f":"[1]Sheet1!J227","v":0},"Everlien Susebeek",null,{"$f":"IF(A224=113,0,[1]Sheet1!B227)","v":"Veemarkt"}]
[{"$f":"IF([1]Sheet1!A228=113,0,[1]Sheet1!A228)","v":10559},{"$f":"IF([1]Sheet1!A228=113,0,[1]Sheet1!F228)","v":210741},{"$f":"[1]Sheet1!G228","v":"Tieben"},{"$f":"[1]Sheet1!H228","v":"Henk"},{"$f":"[1]Sheet1!J228","v":0},"Henk Tieben",null,{"$f":"IF(A225=113,0,[1]Sheet1!B228)","v":"Veemarkt"}]
[{"$f":"IF([1]Sheet1!A229=113,0,[1]Sheet1!A229)","v":10559},{"$f":"IF([1]Sheet1!A229=113,0,[1]Sheet1!F229)","v":215980},{"$f":"[1]Sheet1!G229","v":"Tijssen"},{"$f":"[1]Sheet1!H229","v":"Frans"},{"$f":"[1]Sheet1!J229","v":0},"Frans Tijssen",null,{"$f":"IF(A226=113,0,[1]Sheet1!B229)","v":"Veemarkt"}]
[{"$f":"IF([1]Sheet1!A230=113,0,[1]Sheet1!A230)","v":10559},{"$f":"IF([1]Sheet1!A230=113,0,[1]Sheet1!F230)","v":120652},{"$f":"[1]Sheet1!G230","v":"Veenendaal"},{"$f":"[1]Sheet1!H230","v":"Robert"},{"$f":"[1]Sheet1!J230","v":"van"},"Robert van Veenendaal",null,{"$f":"IF(A227=113,0,[1]Sheet1!B230)","v":"Veemarkt"}]
[{"$f":"IF([1]Sheet1!A231=113,0,[1]Sheet1!A231)","v":10559},{"$f":"IF([1]Sheet1!A231=113,0,[1]Sheet1!F231)","v":220116},{"$f":"[1]Sheet1!G231","v":"Vermeer"},{"$f":"[1]Sheet1!H231","v":"Martin"},{"$f":"[1]Sheet1!J231","v":0},"Martin Vermeer",null,{"$f":"IF(A228=113,0,[1]Sheet1!B231)","v":"Veemarkt"}]
[{"$f":"IF([1]Sheet1!A232=113,0,[1]Sheet1!A232)","v":10559},{"$f":"IF([1]Sheet1!A232=113,0,[1]Sheet1!F232)","v":220116},{"$f":"[1]Sheet1!G232","v":"Vermeer"},{"$f":"[1]Sheet1!H232","v":"Martin"},{"$f":"[1]Sheet1!J232","v":0},"Martin Vermeer",null,{"$f":"IF(A229=113,0,[1]Sheet1!B232)","v":"Veemarkt"}]
[{"$f":"IF([1]Sheet1!A233=113,0,[1]Sheet1!A233)","v":10559},{"$f":"IF([1]Sheet1!A233=113,0,[1]Sheet1!F233)","v":208423},{"$f":"[1]Sheet1!G233","v":"Vos"},{"$f":"[1]Sheet1!H233","v":0},{"$f":"[1]Sheet1!J233","v":0},"0 Vos",null,{"$f":"IF(A230=113,0,[1]Sheet1!B233)","v":"Veemarkt"}]
[{"$f":"IF([1]Sheet1!A234=113,0,[1]Sheet1!A234)","v":10559},{"$f":"IF([1]Sheet1!A234=113,0,[1]Sheet1!F234)","v":125189},{"$f":"[1]Sheet1!G234","v":"Vos"},{"$f":"[1]Sheet1!H234","v":"Hans"},{"$f":"[1]Sheet1!J234","v":0},"Hans Vos",null,{"$f":"IF(A231=113,0,[1]Sheet1!B234)","v":"Veemarkt"}]
[{"$f":"IF([1]Sheet1!A235=113,0,[1]Sheet1!A235)","v":10559},{"$f":"IF([1]Sheet1!A235=113,0,[1]Sheet1!F235)","v":166247},{"$f":"[1]Sheet1!G235","v":"Vries"},{"$f":"[1]Sheet1!H235","v":"Hilbert"},{"$f":"[1]Sheet1!J235","v":"de"},"Hilbert de Vries",null,{"$f":"IF(A232=113,0,[1]Sheet1!B235)","v":"Veemarkt"}]
[{"$f":"IF([1]Sheet1!A236=113,0,[1]Sheet1!A236)","v":10559},{"$f":"IF([1]Sheet1!A236=113,0,[1]Sheet1!F236)","v":208174},{"$f":"[1]Sheet1!G236","v":"Vriezen"},{"$f":"[1]Sheet1!H236","v":"Joop"},{"$f":"[1]Sheet1!J236","v":0},"Joop Vriezen",null,{"$f":"IF(A233=113,0,[1]Sheet1!B236)","v":"Veemarkt"}]
[{"$f":"IF([1]Sheet1!A237=113,0,[1]Sheet1!A237)","v":10559},{"$f":"IF([1]Sheet1!A237=113,0,[1]Sheet1!F237)","v":229648},{"$f":"[1]Sheet1!G237","v":"Vriezen"},{"$f":"[1]Sheet1!H237","v":"Theo"},{"$f":"[1]Sheet1!J237","v":0},"Theo Vriezen",null,{"$f":"IF(A234=113,0,[1]Sheet1!B237)","v":"Veemarkt"}]
[{"$f":"IF([1]Sheet1!A238=113,0,[1]Sheet1!A238)","v":10559},{"$f":"IF([1]Sheet1!A238=113,0,[1]Sheet1!F238)","v":133725},{"$f":"[1]Sheet1!G238","v":"Vriezen"},{"$f":"[1]Sheet1!H238","v":"Willem"},{"$f":"[1]Sheet1!J238","v":0},"Willem Vriezen",null,{"$f":"IF(A235=113,0,[1]Sheet1!B238)","v":"Veemarkt"}]
[{"$f":"IF([1]Sheet1!A239=113,0,[1]Sheet1!A239)","v":10559},{"$f":"IF([1]Sheet1!A239=113,0,[1]Sheet1!F239)","v":153137},{"$f":"[1]Sheet1!G239","v":"Waenink"},{"$f":"[1]Sheet1!H239","v":"Gerard"},{"$f":"[1]Sheet1!J239","v":0},"Gerard Waenink",null,{"$f":"IF(A236=113,0,[1]Sheet1!B239)","v":"Veemarkt"}]
[{"$f":"IF([1]Sheet1!A240=113,0,[1]Sheet1!A240)","v":10559},{"$f":"IF([1]Sheet1!A240=113,0,[1]Sheet1!F240)","v":236210},{"$f":"[1]Sheet1!G240","v":"Welsing"},{"$f":"[1]Sheet1!H240","v":"Frits"},{"$f":"[1]Sheet1!J240","v":0},"Frits Welsing",null,{"$f":"IF(A237=113,0,[1]Sheet1!B240)","v":"Veemarkt"}]
[{"$f":"IF([1]Sheet1!A241=113,0,[1]Sheet1!A241)","v":10559},{"$f":"IF([1]Sheet1!A241=113,0,[1]Sheet1!F241)","v":173614},{"$f":"[1]Sheet1!G241","v":"Wilkowski"},{"$f":"[1]Sheet1!H241","v":"Huub"},{"$f":"[1]Sheet1!J241","v":0},"Huub Wilkowski",null,{"$f":"IF(A238=113,0,[1]Sheet1!B241)","v":"Veemarkt"}]
[{"$f":"IF([1]Sheet1!A242=113,0,[1]Sheet1!A242)","v":10559},{"$f":"IF([1]Sheet1!A242=113,0,[1]Sheet1!F242)","v":165024},{"$f":"[1]Sheet1!G242","v":"Wilkowski"},{"$f":"[1]Sheet1!H242","v":"Monique"},{"$f":"[1]Sheet1!J242","v":0},"Monique Wilkowski",null,{"$f":"IF(A239=113,0,[1]Sheet1!B242)","v":"Veemarkt"}]
[{"$f":"IF([1]Sheet1!A243=113,0,[1]Sheet1!A243)","v":10559},{"$f":"IF([1]Sheet1!A243=113,0,[1]Sheet1!F243)","v":169831},{"$f":"[1]Sheet1!G243","v":"Wolde"},{"$f":"[1]Sheet1!H243","v":"Tonny"},{"$f":"[1]Sheet1!J243","v":"ten"},"Tonny ten Wolde",null,{"$f":"IF(A240=113,0,[1]Sheet1!B243)","v":"Veemarkt"}]
[{"$f":"IF([1]Sheet1!A244=113,0,[1]Sheet1!A244)","v":10559},{"$f":"IF([1]Sheet1!A244=113,0,[1]Sheet1!F244)","v":105122},{"$f":"[1]Sheet1!G244","v":"Zieverink"},{"$f":"[1]Sheet1!H244","v":"Henk"},{"$f":"[1]Sheet1!J244","v":0},"Henk Zieverink",null,{"$f":"IF(A241=113,0,[1]Sheet1!B244)","v":"Veemarkt"}]
[{"$f":"IF([1]Sheet1!A245=113,0,[1]Sheet1!A245)","v":10560},{"$f":"IF([1]Sheet1!A245=113,0,[1]Sheet1!F245)","v":134817},{"$f":"[1]Sheet1!G245","v":"Bischoff"},{"$f":"[1]Sheet1!H245","v":"Ronnie"},{"$f":"[1]Sheet1!J245","v":0},"Ronnie Bischoff",null,{"$f":"IF(A242=113,0,[1]Sheet1!B245)","v":"Waldeslust"}]
[{"$f":"IF([1]Sheet1!A246=113,0,[1]Sheet1!A246)","v":10560},{"$f":"IF([1]Sheet1!A246=113,0,[1]Sheet1!F246)","v":108543},{"$f":"[1]Sheet1!G246","v":"Bulten"},{"$f":"[1]Sheet1!H246","v":"Bennie"},{"$f":"[1]Sheet1!J246","v":0},"Bennie Bulten",null,{"$f":"IF(A243=113,0,[1]Sheet1!B246)","v":"Waldeslust"}]
[{"$f":"IF([1]Sheet1!A247=113,0,[1]Sheet1!A247)","v":10560},{"$f":"IF([1]Sheet1!A247=113,0,[1]Sheet1!F247)","v":218127},{"$f":"[1]Sheet1!G247","v":"Dam"},{"$f":"[1]Sheet1!H247","v":"Patrick"},{"$f":"[1]Sheet1!J247","v":"van"},"Patrick van Dam",null,{"$f":"IF(A244=113,0,[1]Sheet1!B247)","v":"Waldeslust"}]
[{"$f":"IF([1]Sheet1!A248=113,0,[1]Sheet1!A248)","v":10560},{"$f":"IF([1]Sheet1!A248=113,0,[1]Sheet1!F248)","v":180936},{"$f":"[1]Sheet1!G248","v":"Gorgulu"},{"$f":"[1]Sheet1!H248","v":"Hadji"},{"$f":"[1]Sheet1!J248","v":0},"Hadji Gorgulu",null,{"$f":"IF(A245=113,0,[1]Sheet1!B248)","v":"Waldeslust"}]
[{"$f":"IF([1]Sheet1!A249=113,0,[1]Sheet1!A249)","v":10560},{"$f":"IF([1]Sheet1!A249=113,0,[1]Sheet1!F249)","v":181118},{"$f":"[1]Sheet1!G249","v":"Lierop"},{"$f":"[1]Sheet1!H249","v":"Japio"},{"$f":"[1]Sheet1!J249","v":0},"Japio Lierop",null,{"$f":"IF(A246=113,0,[1]Sheet1!B249)","v":"Waldeslust"}]
[{"$f":"IF([1]Sheet1!A250=113,0,[1]Sheet1!A250)","v":10560},{"$f":"IF([1]Sheet1!A250=113,0,[1]Sheet1!F250)","v":160969},{"$f":"[1]Sheet1!G250","v":"Masselink"},{"$f":"[1]Sheet1!H250","v":"Danny"},{"$f":"[1]Sheet1!J250","v":0},"Danny Masselink",null,{"$f":"IF(A247=113,0,[1]Sheet1!B250)","v":"Waldeslust"}]
[{"$f":"IF([1]Sheet1!A251=113,0,[1]Sheet1!A251)","v":10560},{"$f":"IF([1]Sheet1!A251=113,0,[1]Sheet1!F251)","v":160969},{"$f":"[1]Sheet1!G251","v":"Masselink"},{"$f":"[1]Sheet1!H251","v":"Danny"},{"$f":"[1]Sheet1!J251","v":0},"Danny Masselink",null,{"$f":"IF(A248=113,0,[1]Sheet1!B251)","v":"Waldeslust"}]
[{"$f":"IF([1]Sheet1!A252=113,0,[1]Sheet1!A252)","v":10560},{"$f":"IF([1]Sheet1!A252=113,0,[1]Sheet1!F252)","v":112086},{"$f":"[1]Sheet1!G252","v":"Peters"},{"$f":"[1]Sheet1!H252","v":"Ronnie"},{"$f":"[1]Sheet1!J252","v":0},"Ronnie Peters",null,{"$f":"IF(A249=113,0,[1]Sheet1!B252)","v":"Waldeslust"}]
[{"$f":"IF([1]Sheet1!A253=113,0,[1]Sheet1!A253)","v":10560},{"$f":"IF([1]Sheet1!A253=113,0,[1]Sheet1!F253)","v":251308},{"$f":"[1]Sheet1!G253","v":"Roddenhof"},{"$f":"[1]Sheet1!H253","v":"Henk"},{"$f":"[1]Sheet1!J253","v":0},"Henk Roddenhof",null,{"$f":"IF(A250=113,0,[1]Sheet1!B253)","v":"Waldeslust"}]
[{"$f":"IF([1]Sheet1!A254=113,0,[1]Sheet1!A254)","v":10560},{"$f":"IF([1]Sheet1!A254=113,0,[1]Sheet1!F254)","v":167418},{"$f":"[1]Sheet1!G254","v":"Verheij"},{"$f":"[1]Sheet1!H254","v":"Rudy"},{"$f":"[1]Sheet1!J254","v":0},"Rudy Verheij",null,{"$f":"IF(A251=113,0,[1]Sheet1!B254)","v":"Waldeslust"}]
[{"$f":"IF([1]Sheet1!A255=113,0,[1]Sheet1!A255)","v":10563},{"$f":"IF([1]Sheet1!A255=113,0,[1]Sheet1!F255)","v":214205},{"$f":"[1]Sheet1!G255","v":"Beek"},{"$f":"[1]Sheet1!H255","v":"Eef"},{"$f":"[1]Sheet1!J255","v":0},"Eef Beek",null,{"$f":"IF(A252=113,0,[1]Sheet1!B255)","v":"Concordia `54"}]
[{"$f":"IF([1]Sheet1!A256=113,0,[1]Sheet1!A256)","v":10563},{"$f":"IF([1]Sheet1!A256=113,0,[1]Sheet1!F256)","v":105377},{"$f":"[1]Sheet1!G256","v":"Berendsen"},{"$f":"[1]Sheet1!H256","v":"Bertie"},{"$f":"[1]Sheet1!J256","v":0},"Bertie Berendsen",null,{"$f":"IF(A253=113,0,[1]Sheet1!B256)","v":"Concordia `54"}]
[{"$f":"IF([1]Sheet1!A257=113,0,[1]Sheet1!A257)","v":10563},{"$f":"IF([1]Sheet1!A257=113,0,[1]Sheet1!F257)","v":142678},{"$f":"[1]Sheet1!G257","v":"Bulten"},{"$f":"[1]Sheet1!H257","v":"Winand"},{"$f":"[1]Sheet1!J257","v":0},"Winand Bulten",null,{"$f":"IF(A254=113,0,[1]Sheet1!B257)","v":"Concordia `54"}]
[{"$f":"IF([1]Sheet1!A258=113,0,[1]Sheet1!A258)","v":10563},{"$f":"IF([1]Sheet1!A258=113,0,[1]Sheet1!F258)","v":247993},{"$f":"[1]Sheet1!G258","v":"Buunk"},{"$f":"[1]Sheet1!H258","v":"Dennis"},{"$f":"[1]Sheet1!J258","v":0},"Dennis Buunk",null,{"$f":"IF(A255=113,0,[1]Sheet1!B258)","v":"Concordia `54"}]
[{"$f":"IF([1]Sheet1!A259=113,0,[1]Sheet1!A259)","v":10563},{"$f":"IF([1]Sheet1!A259=113,0,[1]Sheet1!F259)","v":109634},{"$f":"[1]Sheet1!G259","v":"Derksen"},{"$f":"[1]Sheet1!H259","v":"Gertie"},{"$f":"[1]Sheet1!J259","v":0},"Gertie Derksen",null,{"$f":"IF(A256=113,0,[1]Sheet1!B259)","v":"Concordia `54"}]
[{"$f":"IF([1]Sheet1!A260=113,0,[1]Sheet1!A260)","v":10563},{"$f":"IF([1]Sheet1!A260=113,0,[1]Sheet1!F260)","v":247832},{"$f":"[1]Sheet1!G260","v":"Derksen"},{"$f":"[1]Sheet1!H260","v":"Johan"},{"$f":"[1]Sheet1!J260","v":0},"Johan Derksen",null,{"$f":"IF(A257=113,0,[1]Sheet1!B260)","v":"Concordia `54"}]
[{"$f":"IF([1]Sheet1!A261=113,0,[1]Sheet1!A261)","v":10563},{"$f":"IF([1]Sheet1!A261=113,0,[1]Sheet1!F261)","v":218087},{"$f":"[1]Sheet1!G261","v":"Essing"},{"$f":"[1]Sheet1!H261","v":"Marcel"},{"$f":"[1]Sheet1!J261","v":0},"Marcel Essing",null,{"$f":"IF(A258=113,0,[1]Sheet1!B261)","v":"Concordia `54"}]
[{"$f":"IF([1]Sheet1!A262=113,0,[1]Sheet1!A262)","v":10563},{"$f":"IF([1]Sheet1!A262=113,0,[1]Sheet1!F262)","v":210742},{"$f":"[1]Sheet1!G262","v":"Franke"},{"$f":"[1]Sheet1!H262","v":"RenÃ©"},{"$f":"[1]Sheet1!J262","v":0},"RenÃ© Franke",null,{"$f":"IF(A259=113,0,[1]Sheet1!B262)","v":"Concordia `54"}]
[{"$f":"IF([1]Sheet1!A263=113,0,[1]Sheet1!A263)","v":10563},{"$f":"IF([1]Sheet1!A263=113,0,[1]Sheet1!F263)","v":177741},{"$f":"[1]Sheet1!G263","v":"Gerritsen"},{"$f":"[1]Sheet1!H263","v":"Rudi"},{"$f":"[1]Sheet1!J263","v":0},"Rudi Gerritsen",null,{"$f":"IF(A260=113,0,[1]Sheet1!B263)","v":"Concordia `54"}]
[{"$f":"IF([1]Sheet1!A264=113,0,[1]Sheet1!A264)","v":10563},{"$f":"IF([1]Sheet1!A264=113,0,[1]Sheet1!F264)","v":110942},{"$f":"[1]Sheet1!G264","v":"Groot Bruinderink"},{"$f":"[1]Sheet1!H264","v":"Aloys"},{"$f":"[1]Sheet1!J264","v":0},"Aloys Groot Bruinderink",null,{"$f":"IF(A261=113,0,[1]Sheet1!B264)","v":"Concordia `54"}]
[{"$f":"IF([1]Sheet1!A265=113,0,[1]Sheet1!A265)","v":10563},{"$f":"IF([1]Sheet1!A265=113,0,[1]Sheet1!F265)","v":123509},{"$f":"[1]Sheet1!G265","v":"Groot Bruinderink"},{"$f":"[1]Sheet1!H265","v":"RenÃ©"},{"$f":"[1]Sheet1!J265","v":0},"RenÃ© Groot Bruinderink",null,{"$f":"IF(A262=113,0,[1]Sheet1!B265)","v":"Concordia `54"}]
[{"$f":"IF([1]Sheet1!A266=113,0,[1]Sheet1!A266)","v":10563},{"$f":"IF([1]Sheet1!A266=113,0,[1]Sheet1!F266)","v":123510},{"$f":"[1]Sheet1!G266","v":"Groot Bruinderink"},{"$f":"[1]Sheet1!H266","v":"Theo"},{"$f":"[1]Sheet1!J266","v":0},"Theo Groot Bruinderink",null,{"$f":"IF(A263=113,0,[1]Sheet1!B266)","v":"Concordia `54"}]
[{"$f":"IF([1]Sheet1!A267=113,0,[1]Sheet1!A267)","v":10563},{"$f":"IF([1]Sheet1!A267=113,0,[1]Sheet1!F267)","v":141816},{"$f":"[1]Sheet1!G267","v":"Groot Bruinderink"},{"$f":"[1]Sheet1!H267","v":"Wim"},{"$f":"[1]Sheet1!J267","v":0},"Wim Groot Bruinderink",null,{"$f":"IF(A264=113,0,[1]Sheet1!B267)","v":"Concordia `54"}]
[{"$f":"IF([1]Sheet1!A268=113,0,[1]Sheet1!A268)","v":10563},{"$f":"IF([1]Sheet1!A268=113,0,[1]Sheet1!F268)","v":136245},{"$f":"[1]Sheet1!G268","v":"Hofman"},{"$f":"[1]Sheet1!H268","v":"Fred"},{"$f":"[1]Sheet1!J268","v":0},"Fred Hofman",null,{"$f":"IF(A265=113,0,[1]Sheet1!B268)","v":"Concordia `54"}]
[{"$f":"IF([1]Sheet1!A269=113,0,[1]Sheet1!A269)","v":10563},{"$f":"IF([1]Sheet1!A269=113,0,[1]Sheet1!F269)","v":136245},{"$f":"[1]Sheet1!G269","v":"Hofman"},{"$f":"[1]Sheet1!H269","v":"Fred"},{"$f":"[1]Sheet1!J269","v":0},"Fred Hofman",null,{"$f":"IF(A266=113,0,[1]Sheet1!B269)","v":"Concordia `54"}]
[{"$f":"IF([1]Sheet1!A270=113,0,[1]Sheet1!A270)","v":10563},{"$f":"IF([1]Sheet1!A270=113,0,[1]Sheet1!F270)","v":106584},{"$f":"[1]Sheet1!G270","v":"Kohler"},{"$f":"[1]Sheet1!H270","v":"Eddo"},{"$f":"[1]Sheet1!J270","v":0},"Eddo Kohler",null,{"$f":"IF(A267=113,0,[1]Sheet1!B270)","v":"Concordia `54"}]
[{"$f":"IF([1]Sheet1!A271=113,0,[1]Sheet1!A271)","v":10563},{"$f":"IF([1]Sheet1!A271=113,0,[1]Sheet1!F271)","v":140582},{"$f":"[1]Sheet1!G271","v":"Koster"},{"$f":"[1]Sheet1!H271","v":"Francis"},{"$f":"[1]Sheet1!J271","v":0},"Francis Koster",null,{"$f":"IF(A268=113,0,[1]Sheet1!B271)","v":"Concordia `54"}]
[{"$f":"IF([1]Sheet1!A272=113,0,[1]Sheet1!A272)","v":10563},{"$f":"IF([1]Sheet1!A272=113,0,[1]Sheet1!F272)","v":140583},{"$f":"[1]Sheet1!G272","v":"Koster"},{"$f":"[1]Sheet1!H272","v":"Martin"},{"$f":"[1]Sheet1!J272","v":0},"Martin Koster",null,{"$f":"IF(A269=113,0,[1]Sheet1!B272)","v":"Concordia `54"}]
[{"$f":"IF([1]Sheet1!A273=113,0,[1]Sheet1!A273)","v":10563},{"$f":"IF([1]Sheet1!A273=113,0,[1]Sheet1!F273)","v":106575},{"$f":"[1]Sheet1!G273","v":"Kuykhoven"},{"$f":"[1]Sheet1!H273","v":"Diana"},{"$f":"[1]Sheet1!J273","v":0},"Diana Kuykhoven",null,{"$f":"IF(A270=113,0,[1]Sheet1!B273)","v":"Concordia `54"}]
[{"$f":"IF([1]Sheet1!A274=113,0,[1]Sheet1!A274)","v":10563},{"$f":"IF([1]Sheet1!A274=113,0,[1]Sheet1!F274)","v":111119},{"$f":"[1]Sheet1!G274","v":"Lende"},{"$f":"[1]Sheet1!H274","v":"Gert"},{"$f":"[1]Sheet1!J274","v":"van der"},"Gert van der Lende",null,{"$f":"IF(A271=113,0,[1]Sheet1!B274)","v":"Concordia `54"}]
[{"$f":"IF([1]Sheet1!A275=113,0,[1]Sheet1!A275)","v":10563},{"$f":"IF([1]Sheet1!A275=113,0,[1]Sheet1!F275)","v":110953},{"$f":"[1]Sheet1!G275","v":"Lenderink"},{"$f":"[1]Sheet1!H275","v":"Jan"},{"$f":"[1]Sheet1!J275","v":0},"Jan Lenderink",null,{"$f":"IF(A272=113,0,[1]Sheet1!B275)","v":"Concordia `54"}]
[{"$f":"IF([1]Sheet1!A276=113,0,[1]Sheet1!A276)","v":10563},{"$f":"IF([1]Sheet1!A276=113,0,[1]Sheet1!F276)","v":130620},{"$f":"[1]Sheet1!G276","v":"Lenselink"},{"$f":"[1]Sheet1!H276","v":"Gerdjan"},{"$f":"[1]Sheet1!J276","v":0},"Gerdjan Lenselink",null,{"$f":"IF(A273=113,0,[1]Sheet1!B276)","v":"Concordia `54"}]
[{"$f":"IF([1]Sheet1!A277=113,0,[1]Sheet1!A277)","v":10563},{"$f":"IF([1]Sheet1!A277=113,0,[1]Sheet1!F277)","v":108408},{"$f":"[1]Sheet1!G277","v":"Maas"},{"$f":"[1]Sheet1!H277","v":"Raymonda"},{"$f":"[1]Sheet1!J277","v":0},"Raymonda Maas",null,{"$f":"IF(A274=113,0,[1]Sheet1!B277)","v":"Concordia `54"}]
[{"$f":"IF([1]Sheet1!A278=113,0,[1]Sheet1!A278)","v":10563},{"$f":"IF([1]Sheet1!A278=113,0,[1]Sheet1!F278)","v":149843},{"$f":"[1]Sheet1!G278","v":"Meerbeek"},{"$f":"[1]Sheet1!H278","v":"Antoon"},{"$f":"[1]Sheet1!J278","v":0},"Antoon Meerbeek",null,{"$f":"IF(A275=113,0,[1]Sheet1!B278)","v":"Concordia `54"}]
[{"$f":"IF([1]Sheet1!A279=113,0,[1]Sheet1!A279)","v":10563},{"$f":"IF([1]Sheet1!A279=113,0,[1]Sheet1!F279)","v":177776},{"$f":"[1]Sheet1!G279","v":"Meerbeek"},{"$f":"[1]Sheet1!H279","v":"Henk"},{"$f":"[1]Sheet1!J279","v":0},"Henk Meerbeek",null,{"$f":"IF(A276=113,0,[1]Sheet1!B279)","v":"Concordia `54"}]
[{"$f":"IF([1]Sheet1!A280=113,0,[1]Sheet1!A280)","v":10563},{"$f":"IF([1]Sheet1!A280=113,0,[1]Sheet1!F280)","v":111121},{"$f":"[1]Sheet1!G280","v":"Oortgiesen"},{"$f":"[1]Sheet1!H280","v":"Jan"},{"$f":"[1]Sheet1!J280","v":0},{"$f":"IF(E277=0,CONCATENATE(D277,\" \",C277),CONCATENATE(D277,\" \",E277,\" \",C277))","v":"Jan Oortgiesen"},null,{"$f":"IF(A277=113,0,[1]Sheet1!B280)","v":"Concordia `54"}]
[{"$f":"IF([1]Sheet1!A281=113,0,[1]Sheet1!A281)","v":10563},{"$f":"IF([1]Sheet1!A281=113,0,[1]Sheet1!F281)","v":111127},{"$f":"[1]Sheet1!G281","v":"Slaa"},{"$f":"[1]Sheet1!H281","v":"Arie"},{"$f":"[1]Sheet1!J281","v":"te"},"Arie te Slaa",null,{"$f":"IF(A278=113,0,[1]Sheet1!B281)","v":"Concordia `54"}]
[{"$f":"IF([1]Sheet1!A282=113,0,[1]Sheet1!A282)","v":10563},{"$f":"IF([1]Sheet1!A282=113,0,[1]Sheet1!F282)","v":108021},{"$f":"[1]Sheet1!G282","v":"Stortelder"},{"$f":"[1]Sheet1!H282","v":"Toon"},{"$f":"[1]Sheet1!J282","v":0},"Toon Stortelder",null,{"$f":"IF(A279=113,0,[1]Sheet1!B282)","v":"Concordia `54"}]
[{"$f":"IF([1]Sheet1!A283=113,0,[1]Sheet1!A283)","v":10563},{"$f":"IF([1]Sheet1!A283=113,0,[1]Sheet1!F283)","v":108021},{"$f":"[1]Sheet1!G283","v":"Stortelder"},{"$f":"[1]Sheet1!H283","v":"Toon"},{"$f":"[1]Sheet1!J283","v":0},"Toon Stortelder",null,{"$f":"IF(A280=113,0,[1]Sheet1!B283)","v":"Concordia `54"}]
[{"$f":"IF([1]Sheet1!A284=113,0,[1]Sheet1!A284)","v":10563},{"$f":"IF([1]Sheet1!A284=113,0,[1]Sheet1!F284)","v":160934},{"$f":"[1]Sheet1!G284","v":"Tangelder"},{"$f":"[1]Sheet1!H284","v":"Eddie"},{"$f":"[1]Sheet1!J284","v":0},"Eddie Tangelder",null,{"$f":"IF(A281=113,0,[1]Sheet1!B284)","v":"Concordia `54"}]
[{"$f":"IF([1]Sheet1!A285=113,0,[1]Sheet1!A285)","v":10563},{"$f":"IF([1]Sheet1!A285=113,0,[1]Sheet1!F285)","v":111128},{"$f":"[1]Sheet1!G285","v":"Teunissen"},{"$f":"[1]Sheet1!H285","v":"Dick"},{"$f":"[1]Sheet1!J285","v":0},"Dick Teunissen",null,{"$f":"IF(A282=113,0,[1]Sheet1!B285)","v":"Concordia `54"}]
[{"$f":"IF([1]Sheet1!A286=113,0,[1]Sheet1!A286)","v":10563},{"$f":"IF([1]Sheet1!A286=113,0,[1]Sheet1!F286)","v":146352},{"$f":"[1]Sheet1!G286","v":"Teunissen"},{"$f":"[1]Sheet1!H286","v":"Gertie"},{"$f":"[1]Sheet1!J286","v":0},"Gertie Teunissen",null,{"$f":"IF(A283=113,0,[1]Sheet1!B286)","v":"Concordia `54"}]
[{"$f":"IF([1]Sheet1!A287=113,0,[1]Sheet1!A287)","v":10563},{"$f":"IF([1]Sheet1!A287=113,0,[1]Sheet1!F287)","v":247831},{"$f":"[1]Sheet1!G287","v":"Thuss"},{"$f":"[1]Sheet1!H287","v":"Bennie"},{"$f":"[1]Sheet1!J287","v":0},"Bennie Thuss",null,{"$f":"IF(A284=113,0,[1]Sheet1!B287)","v":"Concordia `54"}]
[{"$f":"IF([1]Sheet1!A288=113,0,[1]Sheet1!A288)","v":10563},{"$f":"IF([1]Sheet1!A288=113,0,[1]Sheet1!F288)","v":206220},{"$f":"[1]Sheet1!G288","v":"Veerink"},{"$f":"[1]Sheet1!H288","v":"Richard"},{"$f":"[1]Sheet1!J288","v":0},"Richard Veerink",null,{"$f":"IF(A285=113,0,[1]Sheet1!B288)","v":"Concordia `54"}]
[{"$f":"IF([1]Sheet1!A289=113,0,[1]Sheet1!A289)","v":10563},{"$f":"IF([1]Sheet1!A289=113,0,[1]Sheet1!F289)","v":177720},{"$f":"[1]Sheet1!G289","v":"Visser"},{"$f":"[1]Sheet1!H289","v":"Raymond"},{"$f":"[1]Sheet1!J289","v":0},"Raymond Visser",null,{"$f":"IF(A286=113,0,[1]Sheet1!B289)","v":"Concordia `54"}]
[{"$f":"IF([1]Sheet1!A290=113,0,[1]Sheet1!A290)","v":10563},{"$f":"IF([1]Sheet1!A290=113,0,[1]Sheet1!F290)","v":142632},{"$f":"[1]Sheet1!G290","v":"Wasseveld"},{"$f":"[1]Sheet1!H290","v":"Geert"},{"$f":"[1]Sheet1!J290","v":0},"Geert Wasseveld",null,{"$f":"IF(A287=113,0,[1]Sheet1!B290)","v":"Concordia `54"}]
[{"$f":"IF([1]Sheet1!A291=113,0,[1]Sheet1!A291)","v":10563},{"$f":"IF([1]Sheet1!A291=113,0,[1]Sheet1!F291)","v":207288},{"$f":"[1]Sheet1!G291","v":"Wijnen"},{"$f":"[1]Sheet1!H291","v":"Nick"},{"$f":"[1]Sheet1!J291","v":"van"},"Nick van Wijnen",null,{"$f":"IF(A288=113,0,[1]Sheet1!B291)","v":"Concordia `54"}]
[{"$f":"IF([1]Sheet1!A292=113,0,[1]Sheet1!A292)","v":10567},{"$f":"IF([1]Sheet1!A292=113,0,[1]Sheet1!F292)","v":215369},{"$f":"[1]Sheet1!G292","v":"Aken"},{"$f":"[1]Sheet1!H292","v":"Theo"},{"$f":"[1]Sheet1!J292","v":"van"},"Theo van Aken",null,{"$f":"IF(A289=113,0,[1]Sheet1!B292)","v":"Tapperij"}]
[{"$f":"IF([1]Sheet1!A293=113,0,[1]Sheet1!A293)","v":10567},{"$f":"IF([1]Sheet1!A293=113,0,[1]Sheet1!F293)","v":166181},{"$f":"[1]Sheet1!G293","v":"Ankersmit"},{"$f":"[1]Sheet1!H293","v":"Theo"},{"$f":"[1]Sheet1!J293","v":0},"Theo Ankersmit",null,{"$f":"IF(A290=113,0,[1]Sheet1!B293)","v":"Tapperij"}]
[{"$f":"IF([1]Sheet1!A294=113,0,[1]Sheet1!A294)","v":10567},{"$f":"IF([1]Sheet1!A294=113,0,[1]Sheet1!F294)","v":179556},{"$f":"[1]Sheet1!G294","v":"Bos"},{"$f":"[1]Sheet1!H294","v":"Bertus"},{"$f":"[1]Sheet1!J294","v":0},"Bertus Bos",null,{"$f":"IF(A291=113,0,[1]Sheet1!B294)","v":"Tapperij"}]
[{"$f":"IF([1]Sheet1!A295=113,0,[1]Sheet1!A295)","v":10567},{"$f":"IF([1]Sheet1!A295=113,0,[1]Sheet1!F295)","v":109766},{"$f":"[1]Sheet1!G295","v":"Bourgondien"},{"$f":"[1]Sheet1!H295","v":"Marcel"},{"$f":"[1]Sheet1!J295","v":0},"Marcel Bourgondien",null,{"$f":"IF(A292=113,0,[1]Sheet1!B295)","v":"Tapperij"}]
[{"$f":"IF([1]Sheet1!A296=113,0,[1]Sheet1!A296)","v":10567},{"$f":"IF([1]Sheet1!A296=113,0,[1]Sheet1!F296)","v":219771},{"$f":"[1]Sheet1!G296","v":"Branderhorst"},{"$f":"[1]Sheet1!H296","v":"Arno"},{"$f":"[1]Sheet1!J296","v":0},"Arno Branderhorst",null,{"$f":"IF(A293=113,0,[1]Sheet1!B296)","v":"Tapperij"}]
[{"$f":"IF([1]Sheet1!A297=113,0,[1]Sheet1!A297)","v":10567},{"$f":"IF([1]Sheet1!A297=113,0,[1]Sheet1!F297)","v":224253},{"$f":"[1]Sheet1!G297","v":"Bremer"},{"$f":"[1]Sheet1!H297","v":"Alfred"},{"$f":"[1]Sheet1!J297","v":0},"Alfred Bremer",null,{"$f":"IF(A294=113,0,[1]Sheet1!B297)","v":"Tapperij"}]
[{"$f":"IF([1]Sheet1!A298=113,0,[1]Sheet1!A298)","v":10567},{"$f":"IF([1]Sheet1!A298=113,0,[1]Sheet1!F298)","v":111413},{"$f":"[1]Sheet1!G298","v":"Campen"},{"$f":"[1]Sheet1!H298","v":"Johan"},{"$f":"[1]Sheet1!J298","v":"van"},"Johan van Campen",null,{"$f":"IF(A295=113,0,[1]Sheet1!B298)","v":"Tapperij"}]
[{"$f":"IF([1]Sheet1!A299=113,0,[1]Sheet1!A299)","v":10567},{"$f":"IF([1]Sheet1!A299=113,0,[1]Sheet1!F299)","v":137385},{"$f":"[1]Sheet1!G299","v":"Cortumme"},{"$f":"[1]Sheet1!H299","v":"Herman"},{"$f":"[1]Sheet1!J299","v":0},"Herman Cortumme",null,{"$f":"IF(A296=113,0,[1]Sheet1!B299)","v":"Tapperij"}]
[{"$f":"IF([1]Sheet1!A300=113,0,[1]Sheet1!A300)","v":10567},{"$f":"IF([1]Sheet1!A300=113,0,[1]Sheet1!F300)","v":112092},{"$f":"[1]Sheet1!G300","v":"Derksen"},{"$f":"[1]Sheet1!H300","v":"Jan"},{"$f":"[1]Sheet1!J300","v":0},"Jan Derksen",null,{"$f":"IF(A297=113,0,[1]Sheet1!B300)","v":"Tapperij"}]
[{"$f":"IF([1]Sheet1!A301=113,0,[1]Sheet1!A301)","v":10567},{"$f":"IF([1]Sheet1!A301=113,0,[1]Sheet1!F301)","v":127806},{"$f":"[1]Sheet1!G301","v":"Derksen"},{"$f":"[1]Sheet1!H301","v":"Jurgen"},{"$f":"[1]Sheet1!J301","v":0},"Jurgen Derksen",null,{"$f":"IF(A298=113,0,[1]Sheet1!B301)","v":"Tapperij"}]
[{"$f":"IF([1]Sheet1!A302=113,0,[1]Sheet1!A302)","v":10567},{"$f":"IF([1]Sheet1!A302=113,0,[1]Sheet1!F302)","v":164163},{"$f":"[1]Sheet1!G302","v":"Geurts"},{"$f":"[1]Sheet1!H302","v":"Harm"},{"$f":"[1]Sheet1!J302","v":0},"Harm Geurts",null,{"$f":"IF(A299=113,0,[1]Sheet1!B302)","v":"Tapperij"}]
[{"$f":"IF([1]Sheet1!A303=113,0,[1]Sheet1!A303)","v":10567},{"$f":"IF([1]Sheet1!A303=113,0,[1]Sheet1!F303)","v":112094},{"$f":"[1]Sheet1!G303","v":"Hendriks"},{"$f":"[1]Sheet1!H303","v":"Frans"},{"$f":"[1]Sheet1!J303","v":0},"Frans Hendriks",null,{"$f":"IF(A300=113,0,[1]Sheet1!B303)","v":"Tapperij"}]
[{"$f":"IF([1]Sheet1!A304=113,0,[1]Sheet1!A304)","v":10567},{"$f":"IF([1]Sheet1!A304=113,0,[1]Sheet1!F304)","v":111418},{"$f":"[1]Sheet1!G304","v":"Hendriks"},{"$f":"[1]Sheet1!H304","v":"Harry"},{"$f":"[1]Sheet1!J304","v":0},"Harry Hendriks",null,{"$f":"IF(A301=113,0,[1]Sheet1!B304)","v":"Tapperij"}]
[{"$f":"IF([1]Sheet1!A305=113,0,[1]Sheet1!A305)","v":10567},{"$f":"IF([1]Sheet1!A305=113,0,[1]Sheet1!F305)","v":173028},{"$f":"[1]Sheet1!G305","v":"Hermans"},{"$f":"[1]Sheet1!H305","v":"RenÃ©"},{"$f":"[1]Sheet1!J305","v":0},"RenÃ© Hermans",null,{"$f":"IF(A302=113,0,[1]Sheet1!B305)","v":"Tapperij"}]
[{"$f":"IF([1]Sheet1!A306=113,0,[1]Sheet1!A306)","v":10567},{"$f":"IF([1]Sheet1!A306=113,0,[1]Sheet1!F306)","v":109771},{"$f":"[1]Sheet1!G306","v":"Hilderink"},{"$f":"[1]Sheet1!H306","v":"Johan"},{"$f":"[1]Sheet1!J306","v":0},"Johan Hilderink",null,{"$f":"IF(A303=113,0,[1]Sheet1!B306)","v":"Tapperij"}]
[{"$f":"IF([1]Sheet1!A307=113,0,[1]Sheet1!A307)","v":10567},{"$f":"IF([1]Sheet1!A307=113,0,[1]Sheet1!F307)","v":109771},{"$f":"[1]Sheet1!G307","v":"Hilderink"},{"$f":"[1]Sheet1!H307","v":"Johan"},{"$f":"[1]Sheet1!J307","v":0},"Johan Hilderink",null,{"$f":"IF(A304=113,0,[1]Sheet1!B307)","v":"Tapperij"}]
[{"$f":"IF([1]Sheet1!A308=113,0,[1]Sheet1!A308)","v":10567},{"$f":"IF([1]Sheet1!A308=113,0,[1]Sheet1!F308)","v":109772},{"$f":"[1]Sheet1!G308","v":"Hilderink"},{"$f":"[1]Sheet1!H308","v":"Reinier"},{"$f":"[1]Sheet1!J308","v":0},"Reinier Hilderink",null,{"$f":"IF(A305=113,0,[1]Sheet1!B308)","v":"Tapperij"}]
[{"$f":"IF([1]Sheet1!A309=113,0,[1]Sheet1!A309)","v":10567},{"$f":"IF([1]Sheet1!A309=113,0,[1]Sheet1!F309)","v":111429},{"$f":"[1]Sheet1!G309","v":"Kelderman"},{"$f":"[1]Sheet1!H309","v":"Aloys"},{"$f":"[1]Sheet1!J309","v":0},"Aloys Kelderman",null,{"$f":"IF(A306=113,0,[1]Sheet1!B309)","v":"Tapperij"}]
[{"$f":"IF([1]Sheet1!A310=113,0,[1]Sheet1!A310)","v":10567},{"$f":"IF([1]Sheet1!A310=113,0,[1]Sheet1!F310)","v":160964},{"$f":"[1]Sheet1!G310","v":"Kleinstapel"},{"$f":"[1]Sheet1!H310","v":"Aloys"},{"$f":"[1]Sheet1!J310","v":0},"Aloys Kleinstapel",null,{"$f":"IF(A307=113,0,[1]Sheet1!B310)","v":"Tapperij"}]
[{"$f":"IF([1]Sheet1!A311=113,0,[1]Sheet1!A311)","v":10567},{"$f":"IF([1]Sheet1!A311=113,0,[1]Sheet1!F311)","v":138446},{"$f":"[1]Sheet1!G311","v":"Kleinstapel"},{"$f":"[1]Sheet1!H311","v":"Jozeph"},{"$f":"[1]Sheet1!J311","v":0},"Jozeph Kleinstapel",null,{"$f":"IF(A308=113,0,[1]Sheet1!B311)","v":"Tapperij"}]
[{"$f":"IF([1]Sheet1!A312=113,0,[1]Sheet1!A312)","v":10567},{"$f":"IF([1]Sheet1!A312=113,0,[1]Sheet1!F312)","v":107464},{"$f":"[1]Sheet1!G312","v":"Klooken"},{"$f":"[1]Sheet1!H312","v":"Robert"},{"$f":"[1]Sheet1!J312","v":0},"Robert Klooken",null,{"$f":"IF(A309=113,0,[1]Sheet1!B312)","v":"Tapperij"}]
[{"$f":"IF([1]Sheet1!A313=113,0,[1]Sheet1!A313)","v":10567},{"$f":"IF([1]Sheet1!A313=113,0,[1]Sheet1!F313)","v":137384},{"$f":"[1]Sheet1!G313","v":"Lamers"},{"$f":"[1]Sheet1!H313","v":"Jos"},{"$f":"[1]Sheet1!J313","v":0},"Jos Lamers",null,{"$f":"IF(A310=113,0,[1]Sheet1!B313)","v":"Tapperij"}]
[{"$f":"IF([1]Sheet1!A314=113,0,[1]Sheet1!A314)","v":10567},{"$f":"IF([1]Sheet1!A314=113,0,[1]Sheet1!F314)","v":172658},{"$f":"[1]Sheet1!G314","v":"Menting"},{"$f":"[1]Sheet1!H314","v":"Stefan"},{"$f":"[1]Sheet1!J314","v":0},"Stefan Menting",null,{"$f":"IF(A311=113,0,[1]Sheet1!B314)","v":"Tapperij"}]
[{"$f":"IF([1]Sheet1!A315=113,0,[1]Sheet1!A315)","v":10567},{"$f":"IF([1]Sheet1!A315=113,0,[1]Sheet1!F315)","v":164164},{"$f":"[1]Sheet1!G315","v":"Mentink"},{"$f":"[1]Sheet1!H315","v":"Jos"},{"$f":"[1]Sheet1!J315","v":0},"Jos Mentink",null,{"$f":"IF(A312=113,0,[1]Sheet1!B315)","v":"Tapperij"}]
[{"$f":"IF([1]Sheet1!A316=113,0,[1]Sheet1!A316)","v":10567},{"$f":"IF([1]Sheet1!A316=113,0,[1]Sheet1!F316)","v":124876},{"$f":"[1]Sheet1!G316","v":"Mullink"},{"$f":"[1]Sheet1!H316","v":"RenÃ©"},{"$f":"[1]Sheet1!J316","v":0},"RenÃ© Mullink",null,{"$f":"IF(A313=113,0,[1]Sheet1!B316)","v":"Tapperij"}]
[{"$f":"IF([1]Sheet1!A317=113,0,[1]Sheet1!A317)","v":10567},{"$f":"IF([1]Sheet1!A317=113,0,[1]Sheet1!F317)","v":112099},{"$f":"[1]Sheet1!G317","v":"Nieuwenhuis"},{"$f":"[1]Sheet1!H317","v":"Geert"},{"$f":"[1]Sheet1!J317","v":0},"Geert Nieuwenhuis",null,{"$f":"IF(A314=113,0,[1]Sheet1!B317)","v":"Tapperij"}]
[{"$f":"IF([1]Sheet1!A318=113,0,[1]Sheet1!A318)","v":10567},{"$f":"IF([1]Sheet1!A318=113,0,[1]Sheet1!F318)","v":184096},{"$f":"[1]Sheet1!G318","v":"Nieuwenhuis"},{"$f":"[1]Sheet1!H318","v":"Jos"},{"$f":"[1]Sheet1!J318","v":0},"Jos Nieuwenhuis",null,{"$f":"IF(A315=113,0,[1]Sheet1!B318)","v":"Tapperij"}]
[{"$f":"IF([1]Sheet1!A319=113,0,[1]Sheet1!A319)","v":10567},{"$f":"IF([1]Sheet1!A319=113,0,[1]Sheet1!F319)","v":112103},{"$f":"[1]Sheet1!G319","v":"Peters"},{"$f":"[1]Sheet1!H319","v":"Fons"},{"$f":"[1]Sheet1!J319","v":0},"Fons Peters",null,{"$f":"IF(A316=113,0,[1]Sheet1!B319)","v":"Tapperij"}]
[{"$f":"IF([1]Sheet1!A320=113,0,[1]Sheet1!A320)","v":10567},{"$f":"IF([1]Sheet1!A320=113,0,[1]Sheet1!F320)","v":182500},{"$f":"[1]Sheet1!G320","v":"Sak"},{"$f":"[1]Sheet1!H320","v":"Wim"},{"$f":"[1]Sheet1!J320","v":0},"Wim Sak",null,{"$f":"IF(A317=113,0,[1]Sheet1!B320)","v":"Tapperij"}]
[{"$f":"IF([1]Sheet1!A321=113,0,[1]Sheet1!A321)","v":10567},{"$f":"IF([1]Sheet1!A321=113,0,[1]Sheet1!F321)","v":146509},{"$f":"[1]Sheet1!G321","v":"Schabbink"},{"$f":"[1]Sheet1!H321","v":"Jozef"},{"$f":"[1]Sheet1!J321","v":0},"Jozef Schabbink",null,{"$f":"IF(A318=113,0,[1]Sheet1!B321)","v":"Tapperij"}]
[{"$f":"IF([1]Sheet1!A322=113,0,[1]Sheet1!A322)","v":10567},{"$f":"IF([1]Sheet1!A322=113,0,[1]Sheet1!F322)","v":111431},{"$f":"[1]Sheet1!G322","v":"Scheffer"},{"$f":"[1]Sheet1!H322","v":"Bernard"},{"$f":"[1]Sheet1!J322","v":0},"Bernard Scheffer",null,{"$f":"IF(A319=113,0,[1]Sheet1!B322)","v":"Tapperij"}]
[{"$f":"IF([1]Sheet1!A323=113,0,[1]Sheet1!A323)","v":10567},{"$f":"IF([1]Sheet1!A323=113,0,[1]Sheet1!F323)","v":225660},{"$f":"[1]Sheet1!G323","v":"Siebers"},{"$f":"[1]Sheet1!H323","v":"Willem"},{"$f":"[1]Sheet1!J323","v":0},"Willem Siebers",null,{"$f":"IF(A320=113,0,[1]Sheet1!B323)","v":"Tapperij"}]
[{"$f":"IF([1]Sheet1!A324=113,0,[1]Sheet1!A324)","v":10567},{"$f":"IF([1]Sheet1!A324=113,0,[1]Sheet1!F324)","v":111434},{"$f":"[1]Sheet1!G324","v":"Tangelder"},{"$f":"[1]Sheet1!H324","v":"Herbert"},{"$f":"[1]Sheet1!J324","v":0},"Herbert Tangelder",null,{"$f":"IF(A321=113,0,[1]Sheet1!B324)","v":"Tapperij"}]
[{"$f":"IF([1]Sheet1!A325=113,0,[1]Sheet1!A325)","v":10567},{"$f":"IF([1]Sheet1!A325=113,0,[1]Sheet1!F325)","v":111434},{"$f":"[1]Sheet1!G325","v":"Tangelder"},{"$f":"[1]Sheet1!H325","v":"Herbert"},{"$f":"[1]Sheet1!J325","v":0},"Herbert Tangelder",null,{"$f":"IF(A322=113,0,[1]Sheet1!B325)","v":"Tapperij"}]
[{"$f":"IF([1]Sheet1!A326=113,0,[1]Sheet1!A326)","v":10567},{"$f":"IF([1]Sheet1!A326=113,0,[1]Sheet1!F326)","v":114119},{"$f":"[1]Sheet1!G326","v":"Wanders"},{"$f":"[1]Sheet1!H326","v":"Henk"},{"$f":"[1]Sheet1!J326","v":0},"Henk Wanders",null,{"$f":"IF(A323=113,0,[1]Sheet1!B326)","v":"Tapperij"}]
[{"$f":"IF([1]Sheet1!A327=113,0,[1]Sheet1!A327)","v":10567},{"$f":"IF([1]Sheet1!A327=113,0,[1]Sheet1!F327)","v":112112},{"$f":"[1]Sheet1!G327","v":"Winkelman"},{"$f":"[1]Sheet1!H327","v":"Herman"},{"$f":"[1]Sheet1!J327","v":0},"Herman Winkelman",null,{"$f":"IF(A324=113,0,[1]Sheet1!B327)","v":"Tapperij"}]
[{"$f":"IF([1]Sheet1!A328=113,0,[1]Sheet1!A328)","v":10570},{"$f":"IF([1]Sheet1!A328=113,0,[1]Sheet1!F328)","v":109743},{"$f":"[1]Sheet1!G328","v":"Bergervoet"},{"$f":"[1]Sheet1!H328","v":"Bennie"},{"$f":"[1]Sheet1!J328","v":0},"Bennie Bergervoet",null,{"$f":"IF(A325=113,0,[1]Sheet1!B328)","v":"Ons Genoegen Zelhem"}]
[{"$f":"IF([1]Sheet1!A329=113,0,[1]Sheet1!A329)","v":10570},{"$f":"IF([1]Sheet1!A329=113,0,[1]Sheet1!F329)","v":221942},{"$f":"[1]Sheet1!G329","v":"Beun"},{"$f":"[1]Sheet1!H329","v":"Thomas"},{"$f":"[1]Sheet1!J329","v":0},"Thomas Beun",null,{"$f":"IF(A326=113,0,[1]Sheet1!B329)","v":"Ons Genoegen Zelhem"}]
[{"$f":"IF([1]Sheet1!A330=113,0,[1]Sheet1!A330)","v":10570},{"$f":"IF([1]Sheet1!A330=113,0,[1]Sheet1!F330)","v":166677},{"$f":"[1]Sheet1!G330","v":"Brinks"},{"$f":"[1]Sheet1!H330","v":"Peter"},{"$f":"[1]Sheet1!J330","v":0},"Peter Brinks",null,{"$f":"IF(A327=113,0,[1]Sheet1!B330)","v":"Ons Genoegen Zelhem"}]
[{"$f":"IF([1]Sheet1!A331=113,0,[1]Sheet1!A331)","v":10570},{"$f":"IF([1]Sheet1!A331=113,0,[1]Sheet1!F331)","v":145046},{"$f":"[1]Sheet1!G331","v":"Broekman"},{"$f":"[1]Sheet1!H331","v":"Appie"},{"$f":"[1]Sheet1!J331","v":0},"Appie Broekman",null,{"$f":"IF(A328=113,0,[1]Sheet1!B331)","v":"Ons Genoegen Zelhem"}]
[{"$f":"IF([1]Sheet1!A332=113,0,[1]Sheet1!A332)","v":10570},{"$f":"IF([1]Sheet1!A332=113,0,[1]Sheet1!F332)","v":155059},{"$f":"[1]Sheet1!G332","v":"Colenbrander"},{"$f":"[1]Sheet1!H332","v":"Jo"},{"$f":"[1]Sheet1!J332","v":0},"Jo Colenbrander",null,{"$f":"IF(A329=113,0,[1]Sheet1!B332)","v":"Ons Genoegen Zelhem"}]
[{"$f":"IF([1]Sheet1!A333=113,0,[1]Sheet1!A333)","v":10570},{"$f":"IF([1]Sheet1!A333=113,0,[1]Sheet1!F333)","v":160951},{"$f":"[1]Sheet1!G333","v":"Hagelstein"},{"$f":"[1]Sheet1!H333","v":"Betsie"},{"$f":"[1]Sheet1!J333","v":0},"Betsie Hagelstein",null,{"$f":"IF(A330=113,0,[1]Sheet1!B333)","v":"Ons Genoegen Zelhem"}]
[{"$f":"IF([1]Sheet1!A334=113,0,[1]Sheet1!A334)","v":10570},{"$f":"IF([1]Sheet1!A334=113,0,[1]Sheet1!F334)","v":149404},{"$f":"[1]Sheet1!G334","v":"Kaak"},{"$f":"[1]Sheet1!H334","v":"Jan"},{"$f":"[1]Sheet1!J334","v":0},"Jan Kaak",null,{"$f":"IF(A331=113,0,[1]Sheet1!B334)","v":"Ons Genoegen Zelhem"}]
[{"$f":"IF([1]Sheet1!A335=113,0,[1]Sheet1!A335)","v":10570},{"$f":"IF([1]Sheet1!A335=113,0,[1]Sheet1!F335)","v":149404},{"$f":"[1]Sheet1!G335","v":"Kaak"},{"$f":"[1]Sheet1!H335","v":"Jan"},{"$f":"[1]Sheet1!J335","v":0},"Jan Kaak",null,{"$f":"IF(A332=113,0,[1]Sheet1!B335)","v":"Ons Genoegen Zelhem"}]
[{"$f":"IF([1]Sheet1!A336=113,0,[1]Sheet1!A336)","v":10570},{"$f":"IF([1]Sheet1!A336=113,0,[1]Sheet1!F336)","v":109851},{"$f":"[1]Sheet1!G336","v":"Menkhorst"},{"$f":"[1]Sheet1!H336","v":"Han"},{"$f":"[1]Sheet1!J336","v":0},"Han Menkhorst",null,{"$f":"IF(A333=113,0,[1]Sheet1!B336)","v":"Ons Genoegen Zelhem"}]
[{"$f":"IF([1]Sheet1!A337=113,0,[1]Sheet1!A337)","v":10570},{"$f":"IF([1]Sheet1!A337=113,0,[1]Sheet1!F337)","v":145266},{"$f":"[1]Sheet1!G337","v":"Nijenhuis"},{"$f":"[1]Sheet1!H337","v":"Willem"},{"$f":"[1]Sheet1!J337","v":0},"Willem Nijenhuis",null,{"$f":"IF(A334=113,0,[1]Sheet1!B337)","v":"Ons Genoegen Zelhem"}]
[{"$f":"IF([1]Sheet1!A338=113,0,[1]Sheet1!A338)","v":10570},{"$f":"IF([1]Sheet1!A338=113,0,[1]Sheet1!F338)","v":261516},{"$f":"[1]Sheet1!G338","v":"Rosendaal"},{"$f":"[1]Sheet1!H338","v":"Norbert"},{"$f":"[1]Sheet1!J338","v":0},"Norbert Rosendaal",null,{"$f":"IF(A335=113,0,[1]Sheet1!B338)","v":"Ons Genoegen Zelhem"}]
[{"$f":"IF([1]Sheet1!A339=113,0,[1]Sheet1!A339)","v":10570},{"$f":"IF([1]Sheet1!A339=113,0,[1]Sheet1!F339)","v":179651},{"$f":"[1]Sheet1!G339","v":"Wal"},{"$f":"[1]Sheet1!H339","v":"Gert"},{"$f":"[1]Sheet1!J339","v":"van de"},"Gert van de Wal",null,{"$f":"IF(A336=113,0,[1]Sheet1!B339)","v":"Ons Genoegen Zelhem"}]
[{"$f":"IF([1]Sheet1!A340=113,0,[1]Sheet1!A340)","v":10570},{"$f":"IF([1]Sheet1!A340=113,0,[1]Sheet1!F340)","v":181039},{"$f":"[1]Sheet1!G340","v":"Wassink"},{"$f":"[1]Sheet1!H340","v":"Gert"},{"$f":"[1]Sheet1!J340","v":0},"Gert Wassink",null,{"$f":"IF(A337=113,0,[1]Sheet1!B340)","v":"Ons Genoegen Zelhem"}]
[{"$f":"IF([1]Sheet1!A341=113,0,[1]Sheet1!A341)","v":10570},{"$f":"IF([1]Sheet1!A341=113,0,[1]Sheet1!F341)","v":109692},{"$f":"[1]Sheet1!G341","v":"Wielheesen"},{"$f":"[1]Sheet1!H341","v":"Gerard"},{"$f":"[1]Sheet1!J341","v":0},"Gerard Wielheesen",null,{"$f":"IF(A338=113,0,[1]Sheet1!B341)","v":"Ons Genoegen Zelhem"}]
[{"$f":"IF([1]Sheet1!A342=113,0,[1]Sheet1!A342)","v":10572},{"$f":"IF([1]Sheet1!A342=113,0,[1]Sheet1!F342)","v":116061},{"$f":"[1]Sheet1!G342","v":"Berendsen"},{"$f":"[1]Sheet1!H342","v":"Frits"},{"$f":"[1]Sheet1!J342","v":0},"Frits Berendsen",null,{"$f":"IF(A339=113,0,[1]Sheet1!B342)","v":"Nieuwe Rosegaar"}]
[{"$f":"IF([1]Sheet1!A343=113,0,[1]Sheet1!A343)","v":10572},{"$f":"IF([1]Sheet1!A343=113,0,[1]Sheet1!F343)","v":161332},{"$f":"[1]Sheet1!G343","v":"Burghardt"},{"$f":"[1]Sheet1!H343","v":"Hans"},{"$f":"[1]Sheet1!J343","v":0},"Hans Burghardt",null,{"$f":"IF(A340=113,0,[1]Sheet1!B343)","v":"Nieuwe Rosegaar"}]
[{"$f":"IF([1]Sheet1!A344=113,0,[1]Sheet1!A344)","v":10572},{"$f":"IF([1]Sheet1!A344=113,0,[1]Sheet1!F344)","v":209552},{"$f":"[1]Sheet1!G344","v":"Dierckx"},{"$f":"[1]Sheet1!H344","v":"Marco"},{"$f":"[1]Sheet1!J344","v":0},{"$f":"IF(E341=0,CONCATENATE(D341,\" \",C341),CONCATENATE(D341,\" \",E341,\" \",C341))","v":"Marco Dierckx"},null,{"$f":"IF(A341=113,0,[1]Sheet1!B344)","v":"Nieuwe Rosegaar"}]
[{"$f":"IF([1]Sheet1!A345=113,0,[1]Sheet1!A345)","v":10572},{"$f":"IF([1]Sheet1!A345=113,0,[1]Sheet1!F345)","v":137760},{"$f":"[1]Sheet1!G345","v":"Heerink"},{"$f":"[1]Sheet1!H345","v":"Wim"},{"$f":"[1]Sheet1!J345","v":0},"Wim Heerink",null,{"$f":"IF(A342=113,0,[1]Sheet1!B345)","v":"Nieuwe Rosegaar"}]
[{"$f":"IF([1]Sheet1!A346=113,0,[1]Sheet1!A346)","v":10572},{"$f":"IF([1]Sheet1!A346=113,0,[1]Sheet1!F346)","v":154504},{"$f":"[1]Sheet1!G346","v":"Heusinkveld"},{"$f":"[1]Sheet1!H346","v":"Jan"},{"$f":"[1]Sheet1!J346","v":0},"Jan Heusinkveld",null,{"$f":"IF(A343=113,0,[1]Sheet1!B346)","v":"Nieuwe Rosegaar"}]
[{"$f":"IF([1]Sheet1!A347=113,0,[1]Sheet1!A347)","v":10572},{"$f":"IF([1]Sheet1!A347=113,0,[1]Sheet1!F347)","v":154504},{"$f":"[1]Sheet1!G347","v":"Heusinkveld"},{"$f":"[1]Sheet1!H347","v":"Jan"},{"$f":"[1]Sheet1!J347","v":0},"Jan Heusinkveld",null,{"$f":"IF(A344=113,0,[1]Sheet1!B347)","v":"Nieuwe Rosegaar"}]
[{"$f":"IF([1]Sheet1!A348=113,0,[1]Sheet1!A348)","v":10572},{"$f":"IF([1]Sheet1!A348=113,0,[1]Sheet1!F348)","v":221953},{"$f":"[1]Sheet1!G348","v":"Heusinkveld"},{"$f":"[1]Sheet1!H348","v":"Marc"},{"$f":"[1]Sheet1!J348","v":0},"Marc Heusinkveld",null,{"$f":"IF(A345=113,0,[1]Sheet1!B348)","v":"Nieuwe Rosegaar"}]
[{"$f":"IF([1]Sheet1!A349=113,0,[1]Sheet1!A349)","v":10572},{"$f":"IF([1]Sheet1!A349=113,0,[1]Sheet1!F349)","v":213623},{"$f":"[1]Sheet1!G349","v":"Hitpass"},{"$f":"[1]Sheet1!H349","v":"Christian"},{"$f":"[1]Sheet1!J349","v":0},"Christian Hitpass",null,{"$f":"IF(A346=113,0,[1]Sheet1!B349)","v":"Nieuwe Rosegaar"}]
[{"$f":"IF([1]Sheet1!A350=113,0,[1]Sheet1!A350)","v":10572},{"$f":"IF([1]Sheet1!A350=113,0,[1]Sheet1!F350)","v":236939},{"$f":"[1]Sheet1!G350","v":"Huntink"},{"$f":"[1]Sheet1!H350","v":"Rob"},{"$f":"[1]Sheet1!J350","v":0},"Rob Huntink",null,{"$f":"IF(A347=113,0,[1]Sheet1!B350)","v":"Nieuwe Rosegaar"}]
[{"$f":"IF([1]Sheet1!A351=113,0,[1]Sheet1!A351)","v":10572},{"$f":"IF([1]Sheet1!A351=113,0,[1]Sheet1!F351)","v":112072},{"$f":"[1]Sheet1!G351","v":"Jansen"},{"$f":"[1]Sheet1!H351","v":"Freddie"},{"$f":"[1]Sheet1!J351","v":0},"Freddie Jansen",null,{"$f":"IF(A348=113,0,[1]Sheet1!B351)","v":"Nieuwe Rosegaar"}]
[{"$f":"IF([1]Sheet1!A352=113,0,[1]Sheet1!A352)","v":10572},{"$f":"IF([1]Sheet1!A352=113,0,[1]Sheet1!F352)","v":109697},{"$f":"[1]Sheet1!G352","v":"Kramp"},{"$f":"[1]Sheet1!H352","v":"Jan"},{"$f":"[1]Sheet1!J352","v":0},"Jan Kramp",null,{"$f":"IF(A349=113,0,[1]Sheet1!B352)","v":"Nieuwe Rosegaar"}]
[{"$f":"IF([1]Sheet1!A353=113,0,[1]Sheet1!A353)","v":10572},{"$f":"IF([1]Sheet1!A353=113,0,[1]Sheet1!F353)","v":109697},{"$f":"[1]Sheet1!G353","v":"Kramp"},{"$f":"[1]Sheet1!H353","v":"Jan"},{"$f":"[1]Sheet1!J353","v":0},"Jan Kramp",null,{"$f":"IF(A350=113,0,[1]Sheet1!B353)","v":"Nieuwe Rosegaar"}]
[{"$f":"IF([1]Sheet1!A354=113,0,[1]Sheet1!A354)","v":10572},{"$f":"IF([1]Sheet1!A354=113,0,[1]Sheet1!F354)","v":109699},{"$f":"[1]Sheet1!G354","v":"Nijhof"},{"$f":"[1]Sheet1!H354","v":"Gert"},{"$f":"[1]Sheet1!J354","v":0},"Gert Nijhof",null,{"$f":"IF(A351=113,0,[1]Sheet1!B354)","v":"Nieuwe Rosegaar"}]
[{"$f":"IF([1]Sheet1!A355=113,0,[1]Sheet1!A355)","v":10572},{"$f":"IF([1]Sheet1!A355=113,0,[1]Sheet1!F355)","v":237657},{"$f":"[1]Sheet1!G355","v":"Overveld"},{"$f":"[1]Sheet1!H355","v":"Bas"},{"$f":"[1]Sheet1!J355","v":0},"Bas Overveld",null,{"$f":"IF(A352=113,0,[1]Sheet1!B355)","v":"Nieuwe Rosegaar"}]
[{"$f":"IF([1]Sheet1!A356=113,0,[1]Sheet1!A356)","v":10572},{"$f":"IF([1]Sheet1!A356=113,0,[1]Sheet1!F356)","v":109700},{"$f":"[1]Sheet1!G356","v":"Peppelman"},{"$f":"[1]Sheet1!H356","v":"Han"},{"$f":"[1]Sheet1!J356","v":0},"Han Peppelman",null,{"$f":"IF(A353=113,0,[1]Sheet1!B356)","v":"Nieuwe Rosegaar"}]
[{"$f":"IF([1]Sheet1!A357=113,0,[1]Sheet1!A357)","v":10572},{"$f":"IF([1]Sheet1!A357=113,0,[1]Sheet1!F357)","v":109700},{"$f":"[1]Sheet1!G357","v":"Peppelman"},{"$f":"[1]Sheet1!H357","v":"Han"},{"$f":"[1]Sheet1!J357","v":0},"Han Peppelman",null,{"$f":"IF(A354=113,0,[1]Sheet1!B357)","v":"Nieuwe Rosegaar"}]
[{"$f":"IF([1]Sheet1!A358=113,0,[1]Sheet1!A358)","v":10572},{"$f":"IF([1]Sheet1!A358=113,0,[1]Sheet1!F358)","v":136994},{"$f":"[1]Sheet1!G358","v":"Peppelman"},{"$f":"[1]Sheet1!H358","v":"Wim"},{"$f":"[1]Sheet1!J358","v":0},"Wim Peppelman",null,{"$f":"IF(A355=113,0,[1]Sheet1!B358)","v":"Nieuwe Rosegaar"}]
[{"$f":"IF([1]Sheet1!A359=113,0,[1]Sheet1!A359)","v":10572},{"$f":"IF([1]Sheet1!A359=113,0,[1]Sheet1!F359)","v":246507},{"$f":"[1]Sheet1!G359","v":"Polman"},{"$f":"[1]Sheet1!H359","v":"Frans"},{"$f":"[1]Sheet1!J359","v":0},"Frans Polman",null,{"$f":"IF(A356=113,0,[1]Sheet1!B359)","v":"Nieuwe Rosegaar"}]
[{"$f":"IF([1]Sheet1!A360=113,0,[1]Sheet1!A360)","v":10572},{"$f":"IF([1]Sheet1!A360=113,0,[1]Sheet1!F360)","v":130731},{"$f":"[1]Sheet1!G360","v":"Scheers"},{"$f":"[1]Sheet1!H360","v":"Ronny"},{"$f":"[1]Sheet1!J360","v":0},"Ronny Scheers",null,{"$f":"IF(A357=113,0,[1]Sheet1!B360)","v":"Nieuwe Rosegaar"}]
[{"$f":"IF([1]Sheet1!A361=113,0,[1]Sheet1!A361)","v":10572},{"$f":"IF([1]Sheet1!A361=113,0,[1]Sheet1!F361)","v":148455},{"$f":"[1]Sheet1!G361","v":"Scheffer"},{"$f":"[1]Sheet1!H361","v":"Nico"},{"$f":"[1]Sheet1!J361","v":0},"Nico Scheffer",null,{"$f":"IF(A358=113,0,[1]Sheet1!B361)","v":"Nieuwe Rosegaar"}]
[{"$f":"IF([1]Sheet1!A362=113,0,[1]Sheet1!A362)","v":10572},{"$f":"IF([1]Sheet1!A362=113,0,[1]Sheet1!F362)","v":116065},{"$f":"[1]Sheet1!G362","v":"Seegers"},{"$f":"[1]Sheet1!H362","v":"Geert"},{"$f":"[1]Sheet1!J362","v":0},"Geert Seegers",null,{"$f":"IF(A359=113,0,[1]Sheet1!B362)","v":"Nieuwe Rosegaar"}]
[{"$f":"IF([1]Sheet1!A363=113,0,[1]Sheet1!A363)","v":10572},{"$f":"IF([1]Sheet1!A363=113,0,[1]Sheet1!F363)","v":236938},{"$f":"[1]Sheet1!G363","v":"wielheesen"},{"$f":"[1]Sheet1!H363","v":"Robert"},{"$f":"[1]Sheet1!J363","v":0},"Robert wielheesen",null,{"$f":"IF(A360=113,0,[1]Sheet1!B363)","v":"Nieuwe Rosegaar"}]
[{"$f":"IF([1]Sheet1!A364=113,0,[1]Sheet1!A364)","v":10574},{"$f":"IF([1]Sheet1!A364=113,0,[1]Sheet1!F364)","v":154315},{"$f":"[1]Sheet1!G364","v":"Berendsen"},{"$f":"[1]Sheet1!H364","v":"Jochem"},{"$f":"[1]Sheet1!J364","v":0},"Jochem Berendsen",null,{"$f":"IF(A361=113,0,[1]Sheet1!B364)","v":"KÃ¶ster"}]
[{"$f":"IF([1]Sheet1!A365=113,0,[1]Sheet1!A365)","v":10574},{"$f":"IF([1]Sheet1!A365=113,0,[1]Sheet1!F365)","v":155049},{"$f":"[1]Sheet1!G365","v":"Bird-Bluemink"},{"$f":"[1]Sheet1!H365","v":"Irona"},{"$f":"[1]Sheet1!J365","v":0},"Irona Bird-Bluemink",null,{"$f":"IF(A362=113,0,[1]Sheet1!B365)","v":"KÃ¶ster"}]
[{"$f":"IF([1]Sheet1!A366=113,0,[1]Sheet1!A366)","v":10574},{"$f":"IF([1]Sheet1!A366=113,0,[1]Sheet1!F366)","v":177750},{"$f":"[1]Sheet1!G366","v":"Bisselink"},{"$f":"[1]Sheet1!H366","v":"Tonnie"},{"$f":"[1]Sheet1!J366","v":0},"Tonnie Bisselink",null,{"$f":"IF(A363=113,0,[1]Sheet1!B366)","v":"KÃ¶ster"}]
[{"$f":"IF([1]Sheet1!A367=113,0,[1]Sheet1!A367)","v":10574},{"$f":"IF([1]Sheet1!A367=113,0,[1]Sheet1!F367)","v":172681},{"$f":"[1]Sheet1!G367","v":"Bisselink-Janssen"},{"$f":"[1]Sheet1!H367","v":"Jannie"},{"$f":"[1]Sheet1!J367","v":0},"Jannie Bisselink-Janssen",null,{"$f":"IF(A364=113,0,[1]Sheet1!B367)","v":"KÃ¶ster"}]
[{"$f":"IF([1]Sheet1!A368=113,0,[1]Sheet1!A368)","v":10574},{"$f":"IF([1]Sheet1!A368=113,0,[1]Sheet1!F368)","v":151361},{"$f":"[1]Sheet1!G368","v":"Jansen"},{"$f":"[1]Sheet1!H368","v":"Frank"},{"$f":"[1]Sheet1!J368","v":0},"Frank Jansen",null,{"$f":"IF(A365=113,0,[1]Sheet1!B368)","v":"KÃ¶ster"}]
[{"$f":"IF([1]Sheet1!A369=113,0,[1]Sheet1!A369)","v":10574},{"$f":"IF([1]Sheet1!A369=113,0,[1]Sheet1!F369)","v":176867},{"$f":"[1]Sheet1!G369","v":"Jansen"},{"$f":"[1]Sheet1!H369","v":"Hans"},{"$f":"[1]Sheet1!J369","v":0},"Hans Jansen",null,{"$f":"IF(A366=113,0,[1]Sheet1!B369)","v":"KÃ¶ster"}]
[{"$f":"IF([1]Sheet1!A370=113,0,[1]Sheet1!A370)","v":10574},{"$f":"IF([1]Sheet1!A370=113,0,[1]Sheet1!F370)","v":111245},{"$f":"[1]Sheet1!G370","v":"KÃ¶ster"},{"$f":"[1]Sheet1!H370","v":"Theo"},{"$f":"[1]Sheet1!J370","v":0},"Theo KÃ¶ster",null,{"$f":"IF(A367=113,0,[1]Sheet1!B370)","v":"KÃ¶ster"}]
[{"$f":"IF([1]Sheet1!A371=113,0,[1]Sheet1!A371)","v":10574},{"$f":"IF([1]Sheet1!A371=113,0,[1]Sheet1!F371)","v":172694},{"$f":"[1]Sheet1!G371","v":"Leijzer"},{"$f":"[1]Sheet1!H371","v":"Maarten"},{"$f":"[1]Sheet1!J371","v":0},"Maarten Leijzer",null,{"$f":"IF(A368=113,0,[1]Sheet1!B371)","v":"KÃ¶ster"}]
[{"$f":"IF([1]Sheet1!A372=113,0,[1]Sheet1!A372)","v":10574},{"$f":"IF([1]Sheet1!A372=113,0,[1]Sheet1!F372)","v":172694},{"$f":"[1]Sheet1!G372","v":"Leijzer"},{"$f":"[1]Sheet1!H372","v":"Maarten"},{"$f":"[1]Sheet1!J372","v":0},"Maarten Leijzer",null,{"$f":"IF(A369=113,0,[1]Sheet1!B372)","v":"KÃ¶ster"}]
[{"$f":"IF([1]Sheet1!A373=113,0,[1]Sheet1!A373)","v":10574},{"$f":"IF([1]Sheet1!A373=113,0,[1]Sheet1!F373)","v":147957},{"$f":"[1]Sheet1!G373","v":"Leijzer"},{"$f":"[1]Sheet1!H373","v":"RenÃ©"},{"$f":"[1]Sheet1!J373","v":0},"RenÃ© Leijzer",null,{"$f":"IF(A370=113,0,[1]Sheet1!B373)","v":"KÃ¶ster"}]
[{"$f":"IF([1]Sheet1!A374=113,0,[1]Sheet1!A374)","v":10574},{"$f":"IF([1]Sheet1!A374=113,0,[1]Sheet1!F374)","v":113491},{"$f":"[1]Sheet1!G374","v":"Mullink"},{"$f":"[1]Sheet1!H374","v":"Jan"},{"$f":"[1]Sheet1!J374","v":0},"Jan Mullink",null,{"$f":"IF(A371=113,0,[1]Sheet1!B374)","v":"KÃ¶ster"}]
[{"$f":"IF([1]Sheet1!A375=113,0,[1]Sheet1!A375)","v":10574},{"$f":"IF([1]Sheet1!A375=113,0,[1]Sheet1!F375)","v":113491},{"$f":"[1]Sheet1!G375","v":"Mullink"},{"$f":"[1]Sheet1!H375","v":"Jan"},{"$f":"[1]Sheet1!J375","v":0},"Jan Mullink",null,{"$f":"IF(A372=113,0,[1]Sheet1!B375)","v":"KÃ¶ster"}]
[{"$f":"IF([1]Sheet1!A376=113,0,[1]Sheet1!A376)","v":10574},{"$f":"IF([1]Sheet1!A376=113,0,[1]Sheet1!F376)","v":157863},{"$f":"[1]Sheet1!G376","v":"Rutten"},{"$f":"[1]Sheet1!H376","v":"Henk"},{"$f":"[1]Sheet1!J376","v":0},"Henk Rutten",null,{"$f":"IF(A373=113,0,[1]Sheet1!B376)","v":"KÃ¶ster"}]
[{"$f":"IF([1]Sheet1!A377=113,0,[1]Sheet1!A377)","v":10574},{"$f":"IF([1]Sheet1!A377=113,0,[1]Sheet1!F377)","v":134327},{"$f":"[1]Sheet1!G377","v":"Sloot"},{"$f":"[1]Sheet1!H377","v":"Jos"},{"$f":"[1]Sheet1!J377","v":0},"Jos Sloot",null,{"$f":"IF(A374=113,0,[1]Sheet1!B377)","v":"KÃ¶ster"}]
[{"$f":"IF([1]Sheet1!A378=113,0,[1]Sheet1!A378)","v":10574},{"$f":"IF([1]Sheet1!A378=113,0,[1]Sheet1!F378)","v":167188},{"$f":"[1]Sheet1!G378","v":"Tuijten"},{"$f":"[1]Sheet1!H378","v":"Ruud"},{"$f":"[1]Sheet1!J378","v":0},"Ruud Tuijten",null,{"$f":"IF(A375=113,0,[1]Sheet1!B378)","v":"KÃ¶ster"}]
[{"$f":"IF([1]Sheet1!A379=113,0,[1]Sheet1!A379)","v":10576},{"$f":"IF([1]Sheet1!A379=113,0,[1]Sheet1!F379)","v":212563},{"$f":"[1]Sheet1!G379","v":"Bolwerk"},{"$f":"[1]Sheet1!H379","v":"Stef"},{"$f":"[1]Sheet1!J379","v":0},"Stef Bolwerk",null,{"$f":"IF(A376=113,0,[1]Sheet1!B379)","v":"Ons Genoegen Heurne"}]
[{"$f":"IF([1]Sheet1!A380=113,0,[1]Sheet1!A380)","v":10576},{"$f":"IF([1]Sheet1!A380=113,0,[1]Sheet1!F380)","v":183356},{"$f":"[1]Sheet1!G380","v":"Bruggink"},{"$f":"[1]Sheet1!H380","v":"Bennie"},{"$f":"[1]Sheet1!J380","v":0},"Bennie Bruggink",null,{"$f":"IF(A377=113,0,[1]Sheet1!B380)","v":"Ons Genoegen Heurne"}]
[{"$f":"IF([1]Sheet1!A381=113,0,[1]Sheet1!A381)","v":10576},{"$f":"IF([1]Sheet1!A381=113,0,[1]Sheet1!F381)","v":160983},{"$f":"[1]Sheet1!G381","v":"Bruntink"},{"$f":"[1]Sheet1!H381","v":"Jan"},{"$f":"[1]Sheet1!J381","v":0},"Jan Bruntink",null,{"$f":"IF(A378=113,0,[1]Sheet1!B381)","v":"Ons Genoegen Heurne"}]
[{"$f":"IF([1]Sheet1!A382=113,0,[1]Sheet1!A382)","v":10576},{"$f":"IF([1]Sheet1!A382=113,0,[1]Sheet1!F382)","v":123900},{"$f":"[1]Sheet1!G382","v":"Gerritsen"},{"$f":"[1]Sheet1!H382","v":"Arnold"},{"$f":"[1]Sheet1!J382","v":0},"Arnold Gerritsen",null,{"$f":"IF(A379=113,0,[1]Sheet1!B382)","v":"Ons Genoegen Heurne"}]
[{"$f":"IF([1]Sheet1!A383=113,0,[1]Sheet1!A383)","v":10576},{"$f":"IF([1]Sheet1!A383=113,0,[1]Sheet1!F383)","v":229552},{"$f":"[1]Sheet1!G383","v":"Gerritsen"},{"$f":"[1]Sheet1!H383","v":"Gerard"},{"$f":"[1]Sheet1!J383","v":0},"Gerard Gerritsen",null,{"$f":"IF(A380=113,0,[1]Sheet1!B383)","v":"Ons Genoegen Heurne"}]
[{"$f":"IF([1]Sheet1!A384=113,0,[1]Sheet1!A384)","v":10576},{"$f":"IF([1]Sheet1!A384=113,0,[1]Sheet1!F384)","v":109707},{"$f":"[1]Sheet1!G384","v":"Geven"},{"$f":"[1]Sheet1!H384","v":"Gerard"},{"$f":"[1]Sheet1!J384","v":0},"Gerard Geven",null,{"$f":"IF(A381=113,0,[1]Sheet1!B384)","v":"Ons Genoegen Heurne"}]
[{"$f":"IF([1]Sheet1!A385=113,0,[1]Sheet1!A385)","v":10576},{"$f":"IF([1]Sheet1!A385=113,0,[1]Sheet1!F385)","v":157804},{"$f":"[1]Sheet1!G385","v":"Geven"},{"$f":"[1]Sheet1!H385","v":"Pascal"},{"$f":"[1]Sheet1!J385","v":0},"Pascal Geven",null,{"$f":"IF(A382=113,0,[1]Sheet1!B385)","v":"Ons Genoegen Heurne"}]
[{"$f":"IF([1]Sheet1!A386=113,0,[1]Sheet1!A386)","v":10576},{"$f":"IF([1]Sheet1!A386=113,0,[1]Sheet1!F386)","v":153211},{"$f":"[1]Sheet1!G386","v":"Jansen"},{"$f":"[1]Sheet1!H386","v":"Henry"},{"$f":"[1]Sheet1!J386","v":0},"Henry Jansen",null,{"$f":"IF(A383=113,0,[1]Sheet1!B386)","v":"Ons Genoegen Heurne"}]
[{"$f":"IF([1]Sheet1!A387=113,0,[1]Sheet1!A387)","v":10576},{"$f":"IF([1]Sheet1!A387=113,0,[1]Sheet1!F387)","v":221952},{"$f":"[1]Sheet1!G387","v":"Jansen"},{"$f":"[1]Sheet1!H387","v":"Tjarco"},{"$f":"[1]Sheet1!J387","v":0},"Tjarco Jansen",null,{"$f":"IF(A384=113,0,[1]Sheet1!B387)","v":"Ons Genoegen Heurne"}]
[{"$f":"IF([1]Sheet1!A388=113,0,[1]Sheet1!A388)","v":10576},{"$f":"IF([1]Sheet1!A388=113,0,[1]Sheet1!F388)","v":221979},{"$f":"[1]Sheet1!G388","v":"Jansen"},{"$f":"[1]Sheet1!H388","v":"Wilco"},{"$f":"[1]Sheet1!J388","v":0},"Wilco Jansen",null,{"$f":"IF(A385=113,0,[1]Sheet1!B388)","v":"Ons Genoegen Heurne"}]
[{"$f":"IF([1]Sheet1!A389=113,0,[1]Sheet1!A389)","v":10576},{"$f":"IF([1]Sheet1!A389=113,0,[1]Sheet1!F389)","v":206131},{"$f":"[1]Sheet1!G389","v":"Kempers"},{"$f":"[1]Sheet1!H389","v":"Thijs"},{"$f":"[1]Sheet1!J389","v":0},"Thijs Kempers",null,{"$f":"IF(A386=113,0,[1]Sheet1!B389)","v":"Ons Genoegen Heurne"}]
[{"$f":"IF([1]Sheet1!A390=113,0,[1]Sheet1!A390)","v":10576},{"$f":"IF([1]Sheet1!A390=113,0,[1]Sheet1!F390)","v":109072},{"$f":"[1]Sheet1!G390","v":"Mebel"},{"$f":"[1]Sheet1!H390","v":"FrÃ©"},{"$f":"[1]Sheet1!J390","v":"te"},"FrÃ© te Mebel",null,{"$f":"IF(A387=113,0,[1]Sheet1!B390)","v":"Ons Genoegen Heurne"}]
[{"$f":"IF([1]Sheet1!A391=113,0,[1]Sheet1!A391)","v":10576},{"$f":"IF([1]Sheet1!A391=113,0,[1]Sheet1!F391)","v":210875},{"$f":"[1]Sheet1!G391","v":"Mellendijk"},{"$f":"[1]Sheet1!H391","v":"Johan"},{"$f":"[1]Sheet1!J391","v":0},"Johan Mellendijk",null,{"$f":"IF(A388=113,0,[1]Sheet1!B391)","v":"Ons Genoegen Heurne"}]
[{"$f":"IF([1]Sheet1!A392=113,0,[1]Sheet1!A392)","v":10576},{"$f":"IF([1]Sheet1!A392=113,0,[1]Sheet1!F392)","v":137563},{"$f":"[1]Sheet1!G392","v":"Nijman"},{"$f":"[1]Sheet1!H392","v":"Henk"},{"$f":"[1]Sheet1!J392","v":0},"Henk Nijman",null,{"$f":"IF(A389=113,0,[1]Sheet1!B392)","v":"Ons Genoegen Heurne"}]
[{"$f":"IF([1]Sheet1!A393=113,0,[1]Sheet1!A393)","v":10576},{"$f":"IF([1]Sheet1!A393=113,0,[1]Sheet1!F393)","v":137563},{"$f":"[1]Sheet1!G393","v":"Nijman"},{"$f":"[1]Sheet1!H393","v":"Henk"},{"$f":"[1]Sheet1!J393","v":0},"Henk Nijman",null,{"$f":"IF(A390=113,0,[1]Sheet1!B393)","v":"Ons Genoegen Heurne"}]
[{"$f":"IF([1]Sheet1!A394=113,0,[1]Sheet1!A394)","v":10576},{"$f":"IF([1]Sheet1!A394=113,0,[1]Sheet1!F394)","v":123901},{"$f":"[1]Sheet1!G394","v":"Rensink"},{"$f":"[1]Sheet1!H394","v":"Henk"},{"$f":"[1]Sheet1!J394","v":0},"Henk Rensink",null,{"$f":"IF(A391=113,0,[1]Sheet1!B394)","v":"Ons Genoegen Heurne"}]
[{"$f":"IF([1]Sheet1!A395=113,0,[1]Sheet1!A395)","v":10576},{"$f":"IF([1]Sheet1!A395=113,0,[1]Sheet1!F395)","v":123903},{"$f":"[1]Sheet1!G395","v":"Reussing"},{"$f":"[1]Sheet1!H395","v":"Hans"},{"$f":"[1]Sheet1!J395","v":0},"Hans Reussing",null,{"$f":"IF(A392=113,0,[1]Sheet1!B395)","v":"Ons Genoegen Heurne"}]
[{"$f":"IF([1]Sheet1!A396=113,0,[1]Sheet1!A396)","v":10576},{"$f":"IF([1]Sheet1!A396=113,0,[1]Sheet1!F396)","v":224516},{"$f":"[1]Sheet1!G396","v":"Reussing"},{"$f":"[1]Sheet1!H396","v":"Sjaak"},{"$f":"[1]Sheet1!J396","v":0},"Sjaak Reussing",null,{"$f":"IF(A393=113,0,[1]Sheet1!B396)","v":"Ons Genoegen Heurne"}]
[{"$f":"IF([1]Sheet1!A397=113,0,[1]Sheet1!A397)","v":10576},{"$f":"IF([1]Sheet1!A397=113,0,[1]Sheet1!F397)","v":209574},{"$f":"[1]Sheet1!G397","v":"Rougoor"},{"$f":"[1]Sheet1!H397","v":"Willie"},{"$f":"[1]Sheet1!J397","v":0},"Willie Rougoor",null,{"$f":"IF(A394=113,0,[1]Sheet1!B397)","v":"Ons Genoegen Heurne"}]
[{"$f":"IF([1]Sheet1!A398=113,0,[1]Sheet1!A398)","v":10576},{"$f":"IF([1]Sheet1!A398=113,0,[1]Sheet1!F398)","v":236813},{"$f":"[1]Sheet1!G398","v":"Smits"},{"$f":"[1]Sheet1!H398","v":"Thijs"},{"$f":"[1]Sheet1!J398","v":0},"Thijs Smits",null,{"$f":"IF(A395=113,0,[1]Sheet1!B398)","v":"Ons Genoegen Heurne"}]
[{"$f":"IF([1]Sheet1!A399=113,0,[1]Sheet1!A399)","v":10576},{"$f":"IF([1]Sheet1!A399=113,0,[1]Sheet1!F399)","v":217436},{"$f":"[1]Sheet1!G399","v":"Stroet"},{"$f":"[1]Sheet1!H399","v":"Tonny"},{"$f":"[1]Sheet1!J399","v":0},"Tonny Stroet",null,{"$f":"IF(A396=113,0,[1]Sheet1!B399)","v":"Ons Genoegen Heurne"}]
[{"$f":"IF([1]Sheet1!A400=113,0,[1]Sheet1!A400)","v":10576},{"$f":"IF([1]Sheet1!A400=113,0,[1]Sheet1!F400)","v":217436},{"$f":"[1]Sheet1!G400","v":"Stroet"},{"$f":"[1]Sheet1!H400","v":"Tonny"},{"$f":"[1]Sheet1!J400","v":0},"Tonny Stroet",null,{"$f":"IF(A397=113,0,[1]Sheet1!B400)","v":"Ons Genoegen Heurne"}]
[{"$f":"IF([1]Sheet1!A401=113,0,[1]Sheet1!A401)","v":10576},{"$f":"IF([1]Sheet1!A401=113,0,[1]Sheet1!F401)","v":109077},{"$f":"[1]Sheet1!G401","v":"Teeuwsen"},{"$f":"[1]Sheet1!H401","v":"Gerard"},{"$f":"[1]Sheet1!J401","v":0},"Gerard Teeuwsen",null,{"$f":"IF(A398=113,0,[1]Sheet1!B401)","v":"Ons Genoegen Heurne"}]
[{"$f":"IF([1]Sheet1!A402=113,0,[1]Sheet1!A402)","v":10576},{"$f":"IF([1]Sheet1!A402=113,0,[1]Sheet1!F402)","v":225752},{"$f":"[1]Sheet1!G402","v":"Veldkamp"},{"$f":"[1]Sheet1!H402","v":"Joep"},{"$f":"[1]Sheet1!J402","v":0},"Joep Veldkamp",null,{"$f":"IF(A399=113,0,[1]Sheet1!B402)","v":"Ons Genoegen Heurne"}]
[{"$f":"IF([1]Sheet1!A403=113,0,[1]Sheet1!A403)","v":10576},{"$f":"IF([1]Sheet1!A403=113,0,[1]Sheet1!F403)","v":201902},{"$f":"[1]Sheet1!G403","v":"Westendorp"},{"$f":"[1]Sheet1!H403","v":"Adriaan"},{"$f":"[1]Sheet1!J403","v":0},"Adriaan Westendorp",null,{"$f":"IF(A400=113,0,[1]Sheet1!B403)","v":"Ons Genoegen Heurne"}]
[{"$f":"IF([1]Sheet1!A404=113,0,[1]Sheet1!A404)","v":10576},{"$f":"IF([1]Sheet1!A404=113,0,[1]Sheet1!F404)","v":157803},{"$f":"[1]Sheet1!G404","v":"Zweerink"},{"$f":"[1]Sheet1!H404","v":"Erik"},{"$f":"[1]Sheet1!J404","v":0},"Erik Zweerink",null,{"$f":"IF(A401=113,0,[1]Sheet1!B404)","v":"Ons Genoegen Heurne"}]
[{"$f":"IF([1]Sheet1!A405=113,0,[1]Sheet1!A405)","v":10578},{"$f":"IF([1]Sheet1!A405=113,0,[1]Sheet1!F405)","v":145478},{"$f":"[1]Sheet1!G405","v":"Barink"},{"$f":"[1]Sheet1!H405","v":"Wouter"},{"$f":"[1]Sheet1!J405","v":0},"Wouter Barink",null,{"$f":"IF(A402=113,0,[1]Sheet1!B405)","v":"A.b.c."}]
[{"$f":"IF([1]Sheet1!A406=113,0,[1]Sheet1!A406)","v":10578},{"$f":"IF([1]Sheet1!A406=113,0,[1]Sheet1!F406)","v":155044},{"$f":"[1]Sheet1!G406","v":"Bisselink"},{"$f":"[1]Sheet1!H406","v":"Desiree"},{"$f":"[1]Sheet1!J406","v":0},"Desiree Bisselink",null,{"$f":"IF(A403=113,0,[1]Sheet1!B406)","v":"A.b.c."}]
[{"$f":"IF([1]Sheet1!A407=113,0,[1]Sheet1!A407)","v":10578},{"$f":"IF([1]Sheet1!A407=113,0,[1]Sheet1!F407)","v":142711},{"$f":"[1]Sheet1!G407","v":"Bouwman"},{"$f":"[1]Sheet1!H407","v":"Jan"},{"$f":"[1]Sheet1!J407","v":0},"Jan Bouwman",null,{"$f":"IF(A404=113,0,[1]Sheet1!B407)","v":"A.b.c."}]
[{"$f":"IF([1]Sheet1!A408=113,0,[1]Sheet1!A408)","v":10578},{"$f":"IF([1]Sheet1!A408=113,0,[1]Sheet1!F408)","v":205614},{"$f":"[1]Sheet1!G408","v":"Centen"},{"$f":"[1]Sheet1!H408","v":"Jurgen"},{"$f":"[1]Sheet1!J408","v":0},{"$f":"IF(E405=0,CONCATENATE(D405,\" \",C405),CONCATENATE(D405,\" \",E405,\" \",C405))","v":"Jurgen Centen"},null,{"$f":"IF(A405=113,0,[1]Sheet1!B408)","v":"A.b.c."}]
[{"$f":"IF([1]Sheet1!A409=113,0,[1]Sheet1!A409)","v":10578},{"$f":"IF([1]Sheet1!A409=113,0,[1]Sheet1!F409)","v":221961},{"$f":"[1]Sheet1!G409","v":"Christ"},{"$f":"[1]Sheet1!H409","v":"Fred"},{"$f":"[1]Sheet1!J409","v":0},"Fred Christ",null,{"$f":"IF(A406=113,0,[1]Sheet1!B409)","v":"A.b.c."}]
[{"$f":"IF([1]Sheet1!A410=113,0,[1]Sheet1!A410)","v":10578},{"$f":"IF([1]Sheet1!A410=113,0,[1]Sheet1!F410)","v":138655},{"$f":"[1]Sheet1!G410","v":"Cornelissen"},{"$f":"[1]Sheet1!H410","v":"Hugo"},{"$f":"[1]Sheet1!J410","v":0},"Hugo Cornelissen",null,{"$f":"IF(A407=113,0,[1]Sheet1!B410)","v":"A.b.c."}]
[{"$f":"IF([1]Sheet1!A411=113,0,[1]Sheet1!A411)","v":10578},{"$f":"IF([1]Sheet1!A411=113,0,[1]Sheet1!F411)","v":220004},{"$f":"[1]Sheet1!G411","v":"Giesen"},{"$f":"[1]Sheet1!H411","v":"Wim"},{"$f":"[1]Sheet1!J411","v":0},"Wim Giesen",null,{"$f":"IF(A408=113,0,[1]Sheet1!B411)","v":"A.b.c."}]
[{"$f":"IF([1]Sheet1!A412=113,0,[1]Sheet1!A412)","v":10578},{"$f":"IF([1]Sheet1!A412=113,0,[1]Sheet1!F412)","v":221956},{"$f":"[1]Sheet1!G412","v":"Greven"},{"$f":"[1]Sheet1!H412","v":"Theo"},{"$f":"[1]Sheet1!J412","v":0},"Theo Greven",null,{"$f":"IF(A409=113,0,[1]Sheet1!B412)","v":"A.b.c."}]
[{"$f":"IF([1]Sheet1!A413=113,0,[1]Sheet1!A413)","v":10578},{"$f":"IF([1]Sheet1!A413=113,0,[1]Sheet1!F413)","v":173718},{"$f":"[1]Sheet1!G413","v":"Gries"},{"$f":"[1]Sheet1!H413","v":"Frank"},{"$f":"[1]Sheet1!J413","v":0},"Frank Gries",null,{"$f":"IF(A410=113,0,[1]Sheet1!B413)","v":"A.b.c."}]
[{"$f":"IF([1]Sheet1!A414=113,0,[1]Sheet1!A414)","v":10578},{"$f":"IF([1]Sheet1!A414=113,0,[1]Sheet1!F414)","v":138789},{"$f":"[1]Sheet1!G414","v":"Hendriks"},{"$f":"[1]Sheet1!H414","v":"Jan"},{"$f":"[1]Sheet1!J414","v":0},"Jan Hendriks",null,{"$f":"IF(A411=113,0,[1]Sheet1!B414)","v":"A.b.c."}]
[{"$f":"IF([1]Sheet1!A415=113,0,[1]Sheet1!A415)","v":10578},{"$f":"IF([1]Sheet1!A415=113,0,[1]Sheet1!F415)","v":133780},{"$f":"[1]Sheet1!G415","v":"Hubers"},{"$f":"[1]Sheet1!H415","v":"Wiljo"},{"$f":"[1]Sheet1!J415","v":0},"Wiljo Hubers",null,{"$f":"IF(A412=113,0,[1]Sheet1!B415)","v":"A.b.c."}]
[{"$f":"IF([1]Sheet1!A416=113,0,[1]Sheet1!A416)","v":10578},{"$f":"IF([1]Sheet1!A416=113,0,[1]Sheet1!F416)","v":228297},{"$f":"[1]Sheet1!G416","v":"Hulleman"},{"$f":"[1]Sheet1!H416","v":"Ronny"},{"$f":"[1]Sheet1!J416","v":0},"Ronny Hulleman",null,{"$f":"IF(A413=113,0,[1]Sheet1!B416)","v":"A.b.c."}]
[{"$f":"IF([1]Sheet1!A417=113,0,[1]Sheet1!A417)","v":10578},{"$f":"IF([1]Sheet1!A417=113,0,[1]Sheet1!F417)","v":221957},{"$f":"[1]Sheet1!G417","v":"Klein Holte"},{"$f":"[1]Sheet1!H417","v":"Hugo"},{"$f":"[1]Sheet1!J417","v":0},"Hugo Klein Holte",null,{"$f":"IF(A414=113,0,[1]Sheet1!B417)","v":"A.b.c."}]
[{"$f":"IF([1]Sheet1!A418=113,0,[1]Sheet1!A418)","v":10578},{"$f":"IF([1]Sheet1!A418=113,0,[1]Sheet1!F418)","v":263593},{"$f":"[1]Sheet1!G418","v":"Koster"},{"$f":"[1]Sheet1!H418","v":"Dennis"},{"$f":"[1]Sheet1!J418","v":0},"Dennis Koster",null,{"$f":"IF(A415=113,0,[1]Sheet1!B418)","v":"A.b.c."}]
[{"$f":"IF([1]Sheet1!A419=113,0,[1]Sheet1!A419)","v":10578},{"$f":"IF([1]Sheet1!A419=113,0,[1]Sheet1!F419)","v":167413},{"$f":"[1]Sheet1!G419","v":"Lucassen"},{"$f":"[1]Sheet1!H419","v":"Joop"},{"$f":"[1]Sheet1!J419","v":0},"Joop Lucassen",null,{"$f":"IF(A416=113,0,[1]Sheet1!B419)","v":"A.b.c."}]
[{"$f":"IF([1]Sheet1!A420=113,0,[1]Sheet1!A420)","v":10578},{"$f":"IF([1]Sheet1!A420=113,0,[1]Sheet1!F420)","v":222039},{"$f":"[1]Sheet1!G420","v":"Maatman"},{"$f":"[1]Sheet1!H420","v":"Laurens"},{"$f":"[1]Sheet1!J420","v":0},"Laurens Maatman",null,{"$f":"IF(A417=113,0,[1]Sheet1!B420)","v":"A.b.c."}]
[{"$f":"IF([1]Sheet1!A421=113,0,[1]Sheet1!A421)","v":10578},{"$f":"IF([1]Sheet1!A421=113,0,[1]Sheet1!F421)","v":125197},{"$f":"[1]Sheet1!G421","v":"Pothof"},{"$f":"[1]Sheet1!H421","v":"Jan"},{"$f":"[1]Sheet1!J421","v":0},"Jan Pothof",null,{"$f":"IF(A418=113,0,[1]Sheet1!B421)","v":"A.b.c."}]
[{"$f":"IF([1]Sheet1!A422=113,0,[1]Sheet1!A422)","v":10578},{"$f":"IF([1]Sheet1!A422=113,0,[1]Sheet1!F422)","v":180300},{"$f":"[1]Sheet1!G422","v":"Rabelink"},{"$f":"[1]Sheet1!H422","v":"Marco"},{"$f":"[1]Sheet1!J422","v":0},"Marco Rabelink",null,{"$f":"IF(A419=113,0,[1]Sheet1!B422)","v":"A.b.c."}]
[{"$f":"IF([1]Sheet1!A423=113,0,[1]Sheet1!A423)","v":10578},{"$f":"IF([1]Sheet1!A423=113,0,[1]Sheet1!F423)","v":109736},{"$f":"[1]Sheet1!G423","v":"Sessink"},{"$f":"[1]Sheet1!H423","v":"Sjaak"},{"$f":"[1]Sheet1!J423","v":0},"Sjaak Sessink",null,{"$f":"IF(A420=113,0,[1]Sheet1!B423)","v":"A.b.c."}]
[{"$f":"IF([1]Sheet1!A424=113,0,[1]Sheet1!A424)","v":10578},{"$f":"IF([1]Sheet1!A424=113,0,[1]Sheet1!F424)","v":109736},{"$f":"[1]Sheet1!G424","v":"Sessink"},{"$f":"[1]Sheet1!H424","v":"Sjaak"},{"$f":"[1]Sheet1!J424","v":0},"Sjaak Sessink",null,{"$f":"IF(A421=113,0,[1]Sheet1!B424)","v":"A.b.c."}]
[{"$f":"IF([1]Sheet1!A425=113,0,[1]Sheet1!A425)","v":10578},{"$f":"IF([1]Sheet1!A425=113,0,[1]Sheet1!F425)","v":136552},{"$f":"[1]Sheet1!G425","v":"Vikkerman"},{"$f":"[1]Sheet1!H425","v":"Cees"},{"$f":"[1]Sheet1!J425","v":0},"Cees Vikkerman",null,{"$f":"IF(A422=113,0,[1]Sheet1!B425)","v":"A.b.c."}]
[{"$f":"IF([1]Sheet1!A426=113,0,[1]Sheet1!A426)","v":10578},{"$f":"IF([1]Sheet1!A426=113,0,[1]Sheet1!F426)","v":201168},{"$f":"[1]Sheet1!G426","v":"Vredegoor"},{"$f":"[1]Sheet1!H426","v":"AndrÃ©"},{"$f":"[1]Sheet1!J426","v":0},"AndrÃ© Vredegoor",null,{"$f":"IF(A423=113,0,[1]Sheet1!B426)","v":"A.b.c."}]
[{"$f":"IF([1]Sheet1!A427=113,0,[1]Sheet1!A427)","v":10578},{"$f":"IF([1]Sheet1!A427=113,0,[1]Sheet1!F427)","v":180551},{"$f":"[1]Sheet1!G427","v":"Wentink"},{"$f":"[1]Sheet1!H427","v":"Willie"},{"$f":"[1]Sheet1!J427","v":0},"Willie Wentink",null,{"$f":"IF(A424=113,0,[1]Sheet1!B427)","v":"A.b.c."}]
[{"$f":"IF([1]Sheet1!A428=113,0,[1]Sheet1!A428)","v":10578},{"$f":"IF([1]Sheet1!A428=113,0,[1]Sheet1!F428)","v":109742},{"$f":"[1]Sheet1!G428","v":"Wissink"},{"$f":"[1]Sheet1!H428","v":"Frans"},{"$f":"[1]Sheet1!J428","v":0},"Frans Wissink",null,{"$f":"IF(A425=113,0,[1]Sheet1!B428)","v":"A.b.c."}]
[{"$f":"IF([1]Sheet1!A429=113,0,[1]Sheet1!A429)","v":10580},{"$f":"IF([1]Sheet1!A429=113,0,[1]Sheet1!F429)","v":105285},{"$f":"[1]Sheet1!G429","v":"Brandts"},{"$f":"[1]Sheet1!H429","v":"Geert"},{"$f":"[1]Sheet1!J429","v":0},"Geert Brandts",null,{"$f":"IF(A426=113,0,[1]Sheet1!B429)","v":"Harmonie"}]
[{"$f":"IF([1]Sheet1!A430=113,0,[1]Sheet1!A430)","v":10580},{"$f":"IF([1]Sheet1!A430=113,0,[1]Sheet1!F430)","v":105285},{"$f":"[1]Sheet1!G430","v":"Brandts"},{"$f":"[1]Sheet1!H430","v":"Geert"},{"$f":"[1]Sheet1!J430","v":0},"Geert Brandts",null,{"$f":"IF(A427=113,0,[1]Sheet1!B430)","v":"Harmonie"}]
[{"$f":"IF([1]Sheet1!A431=113,0,[1]Sheet1!A431)","v":10580},{"$f":"IF([1]Sheet1!A431=113,0,[1]Sheet1!F431)","v":167191},{"$f":"[1]Sheet1!G431","v":"Clappers"},{"$f":"[1]Sheet1!H431","v":"Gerrie"},{"$f":"[1]Sheet1!J431","v":0},"Gerrie Clappers",null,{"$f":"IF(A428=113,0,[1]Sheet1!B431)","v":"Harmonie"}]
[{"$f":"IF([1]Sheet1!A432=113,0,[1]Sheet1!A432)","v":10580},{"$f":"IF([1]Sheet1!A432=113,0,[1]Sheet1!F432)","v":112196},{"$f":"[1]Sheet1!G432","v":"Engels"},{"$f":"[1]Sheet1!H432","v":"Jos"},{"$f":"[1]Sheet1!J432","v":0},"Jos Engels",null,{"$f":"IF(A429=113,0,[1]Sheet1!B432)","v":"Harmonie"}]
[{"$f":"IF([1]Sheet1!A433=113,0,[1]Sheet1!A433)","v":10580},{"$f":"IF([1]Sheet1!A433=113,0,[1]Sheet1!F433)","v":261407},{"$f":"[1]Sheet1!G433","v":"Haaren"},{"$f":"[1]Sheet1!H433","v":"Wim"},{"$f":"[1]Sheet1!J433","v":"van"},"Wim van Haaren",null,{"$f":"IF(A430=113,0,[1]Sheet1!B433)","v":"Harmonie"}]
[{"$f":"IF([1]Sheet1!A434=113,0,[1]Sheet1!A434)","v":10580},{"$f":"IF([1]Sheet1!A434=113,0,[1]Sheet1!F434)","v":127807},{"$f":"[1]Sheet1!G434","v":"Hell"},{"$f":"[1]Sheet1!H434","v":"Jos"},{"$f":"[1]Sheet1!J434","v":0},"Jos Hell",null,{"$f":"IF(A431=113,0,[1]Sheet1!B434)","v":"Harmonie"}]
[{"$f":"IF([1]Sheet1!A435=113,0,[1]Sheet1!A435)","v":10580},{"$f":"IF([1]Sheet1!A435=113,0,[1]Sheet1!F435)","v":122523},{"$f":"[1]Sheet1!G435","v":"Kleinpenning"},{"$f":"[1]Sheet1!H435","v":"Joop"},{"$f":"[1]Sheet1!J435","v":0},"Joop Kleinpenning",null,{"$f":"IF(A432=113,0,[1]Sheet1!B435)","v":"Harmonie"}]
[{"$f":"IF([1]Sheet1!A436=113,0,[1]Sheet1!A436)","v":10580},{"$f":"IF([1]Sheet1!A436=113,0,[1]Sheet1!F436)","v":246338},{"$f":"[1]Sheet1!G436","v":"Nova"},{"$f":"[1]Sheet1!H436","v":"Ton"},{"$f":"[1]Sheet1!J436","v":0},"Ton Nova",null,{"$f":"IF(A433=113,0,[1]Sheet1!B436)","v":"Harmonie"}]
[{"$f":"IF([1]Sheet1!A437=113,0,[1]Sheet1!A437)","v":10580},{"$f":"IF([1]Sheet1!A437=113,0,[1]Sheet1!F437)","v":261408},{"$f":"[1]Sheet1!G437","v":"Scheerder"},{"$f":"[1]Sheet1!H437","v":"Rob"},{"$f":"[1]Sheet1!J437","v":0},"Rob Scheerder",null,{"$f":"IF(A434=113,0,[1]Sheet1!B437)","v":"Harmonie"}]
[{"$f":"IF([1]Sheet1!A438=113,0,[1]Sheet1!A438)","v":10583},{"$f":"IF([1]Sheet1!A438=113,0,[1]Sheet1!F438)","v":109038},{"$f":"[1]Sheet1!G438","v":"Helmig"},{"$f":"[1]Sheet1!H438","v":"Martin"},{"$f":"[1]Sheet1!J438","v":0},"Martin Helmig",null,{"$f":"IF(A435=113,0,[1]Sheet1!B438)","v":"Ter Voert"}]
[{"$f":"IF([1]Sheet1!A439=113,0,[1]Sheet1!A439)","v":10583},{"$f":"IF([1]Sheet1!A439=113,0,[1]Sheet1!F439)","v":208708},{"$f":"[1]Sheet1!G439","v":"Heukshorst"},{"$f":"[1]Sheet1!H439","v":"Roel"},{"$f":"[1]Sheet1!J439","v":0},"Roel Heukshorst",null,{"$f":"IF(A436=113,0,[1]Sheet1!B439)","v":"Ter Voert"}]
[{"$f":"IF([1]Sheet1!A440=113,0,[1]Sheet1!A440)","v":10583},{"$f":"IF([1]Sheet1!A440=113,0,[1]Sheet1!F440)","v":208708},{"$f":"[1]Sheet1!G440","v":"Heukshorst"},{"$f":"[1]Sheet1!H440","v":"Roel"},{"$f":"[1]Sheet1!J440","v":0},"Roel Heukshorst",null,{"$f":"IF(A437=113,0,[1]Sheet1!B440)","v":"Ter Voert"}]
[{"$f":"IF([1]Sheet1!A441=113,0,[1]Sheet1!A441)","v":10583},{"$f":"IF([1]Sheet1!A441=113,0,[1]Sheet1!F441)","v":103532},{"$f":"[1]Sheet1!G441","v":"Jansen"},{"$f":"[1]Sheet1!H441","v":"Patrick"},{"$f":"[1]Sheet1!J441","v":0},"Patrick Jansen",null,{"$f":"IF(A438=113,0,[1]Sheet1!B441)","v":"Ter Voert"}]
[{"$f":"IF([1]Sheet1!A442=113,0,[1]Sheet1!A442)","v":10583},{"$f":"IF([1]Sheet1!A442=113,0,[1]Sheet1!F442)","v":214568},{"$f":"[1]Sheet1!G442","v":"Popping"},{"$f":"[1]Sheet1!H442","v":"Niels"},{"$f":"[1]Sheet1!J442","v":0},"Niels Popping",null,{"$f":"IF(A439=113,0,[1]Sheet1!B442)","v":"Ter Voert"}]
[{"$f":"IF([1]Sheet1!A443=113,0,[1]Sheet1!A443)","v":10583},{"$f":"IF([1]Sheet1!A443=113,0,[1]Sheet1!F443)","v":205349},{"$f":"[1]Sheet1!G443","v":"Thomas"},{"$f":"[1]Sheet1!H443","v":"Luc"},{"$f":"[1]Sheet1!J443","v":0},"Luc Thomas",null,{"$f":"IF(A440=113,0,[1]Sheet1!B443)","v":"Ter Voert"}]
[{"$f":"IF([1]Sheet1!A444=113,0,[1]Sheet1!A444)","v":10583},{"$f":"IF([1]Sheet1!A444=113,0,[1]Sheet1!F444)","v":109032},{"$f":"[1]Sheet1!G444","v":"Visser"},{"$f":"[1]Sheet1!H444","v":"Hendrik"},{"$f":"[1]Sheet1!J444","v":0},"Hendrik Visser",null,{"$f":"IF(A441=113,0,[1]Sheet1!B444)","v":"Ter Voert"}]
[{"$f":"IF([1]Sheet1!A445=113,0,[1]Sheet1!A445)","v":10583},{"$f":"IF([1]Sheet1!A445=113,0,[1]Sheet1!F445)","v":116056},{"$f":"[1]Sheet1!G445","v":"Voert"},{"$f":"[1]Sheet1!H445","v":"Roel"},{"$f":"[1]Sheet1!J445","v":"ter"},"Roel ter Voert",null,{"$f":"IF(A442=113,0,[1]Sheet1!B445)","v":"Ter Voert"}]
[{"$f":"IF([1]Sheet1!A446=113,0,[1]Sheet1!A446)","v":10583},{"$f":"IF([1]Sheet1!A446=113,0,[1]Sheet1!F446)","v":116056},{"$f":"[1]Sheet1!G446","v":"Voert"},{"$f":"[1]Sheet1!H446","v":"Roel"},{"$f":"[1]Sheet1!J446","v":"ter"},"Roel ter Voert",null,{"$f":"IF(A443=113,0,[1]Sheet1!B446)","v":"Ter Voert"}]
[{"$f":"IF([1]Sheet1!A447=113,0,[1]Sheet1!A447)","v":10583},{"$f":"IF([1]Sheet1!A447=113,0,[1]Sheet1!F447)","v":223878},{"$f":"[1]Sheet1!G447","v":"Walhof"},{"$f":"[1]Sheet1!H447","v":"Maarten"},{"$f":"[1]Sheet1!J447","v":0},"Maarten Walhof",null,{"$f":"IF(A444=113,0,[1]Sheet1!B447)","v":"Ter Voert"}]
[{"$f":"IF([1]Sheet1!A448=113,0,[1]Sheet1!A448)","v":10583},{"$f":"IF([1]Sheet1!A448=113,0,[1]Sheet1!F448)","v":116053},{"$f":"[1]Sheet1!G448","v":"Wissing"},{"$f":"[1]Sheet1!H448","v":"Roy"},{"$f":"[1]Sheet1!J448","v":0},"Roy Wissing",null,{"$f":"IF(A445=113,0,[1]Sheet1!B448)","v":"Ter Voert"}]
[{"$f":"IF([1]Sheet1!A449=113,0,[1]Sheet1!A449)","v":10586},{"$f":"IF([1]Sheet1!A449=113,0,[1]Sheet1!F449)","v":208297},{"$f":"[1]Sheet1!G449","v":"Boerman"},{"$f":"[1]Sheet1!H449","v":"Joop"},{"$f":"[1]Sheet1!J449","v":0},"Joop Boerman",null,{"$f":"IF(A446=113,0,[1]Sheet1!B449)","v":"Nijman"}]
[{"$f":"IF([1]Sheet1!A450=113,0,[1]Sheet1!A450)","v":10586},{"$f":"IF([1]Sheet1!A450=113,0,[1]Sheet1!F450)","v":123001},{"$f":"[1]Sheet1!G450","v":"Bruil"},{"$f":"[1]Sheet1!H450","v":"Robert"},{"$f":"[1]Sheet1!J450","v":0},"Robert Bruil",null,{"$f":"IF(A447=113,0,[1]Sheet1!B450)","v":"Nijman"}]
[{"$f":"IF([1]Sheet1!A451=113,0,[1]Sheet1!A451)","v":10586},{"$f":"IF([1]Sheet1!A451=113,0,[1]Sheet1!F451)","v":209553},{"$f":"[1]Sheet1!G451","v":"Cordeiro"},{"$f":"[1]Sheet1!H451","v":"Lucilio"},{"$f":"[1]Sheet1!J451","v":0},"Lucilio Cordeiro",null,{"$f":"IF(A448=113,0,[1]Sheet1!B451)","v":"Nijman"}]
[{"$f":"IF([1]Sheet1!A452=113,0,[1]Sheet1!A452)","v":10586},{"$f":"IF([1]Sheet1!A452=113,0,[1]Sheet1!F452)","v":234885},{"$f":"[1]Sheet1!G452","v":"Elk"},{"$f":"[1]Sheet1!H452","v":"Rudy"},{"$f":"[1]Sheet1!J452","v":"Van"},"Rudy Van Elk",null,{"$f":"IF(A449=113,0,[1]Sheet1!B452)","v":"Nijman"}]
[{"$f":"IF([1]Sheet1!A453=113,0,[1]Sheet1!A453)","v":10586},{"$f":"IF([1]Sheet1!A453=113,0,[1]Sheet1!F453)","v":172631},{"$f":"[1]Sheet1!G453","v":"Hoksbergen"},{"$f":"[1]Sheet1!H453","v":"Henk"},{"$f":"[1]Sheet1!J453","v":0},"Henk Hoksbergen",null,{"$f":"IF(A450=113,0,[1]Sheet1!B453)","v":"Nijman"}]
[{"$f":"IF([1]Sheet1!A454=113,0,[1]Sheet1!A454)","v":10586},{"$f":"IF([1]Sheet1!A454=113,0,[1]Sheet1!F454)","v":212030},{"$f":"[1]Sheet1!G454","v":"Huerne"},{"$f":"[1]Sheet1!H454","v":"Roxanne"},{"$f":"[1]Sheet1!J454","v":"ter"},"Roxanne ter Huerne",null,{"$f":"IF(A451=113,0,[1]Sheet1!B454)","v":"Nijman"}]
[{"$f":"IF([1]Sheet1!A455=113,0,[1]Sheet1!A455)","v":10586},{"$f":"IF([1]Sheet1!A455=113,0,[1]Sheet1!F455)","v":208295},{"$f":"[1]Sheet1!G455","v":"Jansen"},{"$f":"[1]Sheet1!H455","v":"Benny"},{"$f":"[1]Sheet1!J455","v":0},"Benny Jansen",null,{"$f":"IF(A452=113,0,[1]Sheet1!B455)","v":"Nijman"}]
[{"$f":"IF([1]Sheet1!A456=113,0,[1]Sheet1!A456)","v":10586},{"$f":"IF([1]Sheet1!A456=113,0,[1]Sheet1!F456)","v":234848},{"$f":"[1]Sheet1!G456","v":"Konst"},{"$f":"[1]Sheet1!H456","v":"Willy"},{"$f":"[1]Sheet1!J456","v":0},"Willy Konst",null,{"$f":"IF(A453=113,0,[1]Sheet1!B456)","v":"Nijman"}]
[{"$f":"IF([1]Sheet1!A457=113,0,[1]Sheet1!A457)","v":10586},{"$f":"IF([1]Sheet1!A457=113,0,[1]Sheet1!F457)","v":123876},{"$f":"[1]Sheet1!G457","v":"Kreeftenberg"},{"$f":"[1]Sheet1!H457","v":"Werner"},{"$f":"[1]Sheet1!J457","v":0},"Werner Kreeftenberg",null,{"$f":"IF(A454=113,0,[1]Sheet1!B457)","v":"Nijman"}]
[{"$f":"IF([1]Sheet1!A458=113,0,[1]Sheet1!A458)","v":10586},{"$f":"IF([1]Sheet1!A458=113,0,[1]Sheet1!F458)","v":200115},{"$f":"[1]Sheet1!G458","v":"Kuiperij"},{"$f":"[1]Sheet1!H458","v":"Stefan"},{"$f":"[1]Sheet1!J458","v":0},"Stefan Kuiperij",null,{"$f":"IF(A455=113,0,[1]Sheet1!B458)","v":"Nijman"}]
[{"$f":"IF([1]Sheet1!A459=113,0,[1]Sheet1!A459)","v":10586},{"$f":"IF([1]Sheet1!A459=113,0,[1]Sheet1!F459)","v":200115},{"$f":"[1]Sheet1!G459","v":"Kuiperij"},{"$f":"[1]Sheet1!H459","v":"Stefan"},{"$f":"[1]Sheet1!J459","v":0},"Stefan Kuiperij",null,{"$f":"IF(A456=113,0,[1]Sheet1!B459)","v":"Nijman"}]
[{"$f":"IF([1]Sheet1!A460=113,0,[1]Sheet1!A460)","v":10586},{"$f":"IF([1]Sheet1!A460=113,0,[1]Sheet1!F460)","v":225723},{"$f":"[1]Sheet1!G460","v":"Larsen"},{"$f":"[1]Sheet1!H460","v":"Arvid"},{"$f":"[1]Sheet1!J460","v":0},"Arvid Larsen",null,{"$f":"IF(A457=113,0,[1]Sheet1!B460)","v":"Nijman"}]
[{"$f":"IF([1]Sheet1!A461=113,0,[1]Sheet1!A461)","v":10586},{"$f":"IF([1]Sheet1!A461=113,0,[1]Sheet1!F461)","v":214575},{"$f":"[1]Sheet1!G461","v":"Leneman"},{"$f":"[1]Sheet1!H461","v":"Erik"},{"$f":"[1]Sheet1!J461","v":0},"Erik Leneman",null,{"$f":"IF(A458=113,0,[1]Sheet1!B461)","v":"Nijman"}]
[{"$f":"IF([1]Sheet1!A462=113,0,[1]Sheet1!A462)","v":10586},{"$f":"IF([1]Sheet1!A462=113,0,[1]Sheet1!F462)","v":112128},{"$f":"[1]Sheet1!G462","v":"Lovink"},{"$f":"[1]Sheet1!H462","v":"Hans"},{"$f":"[1]Sheet1!J462","v":0},"Hans Lovink",null,{"$f":"IF(A459=113,0,[1]Sheet1!B462)","v":"Nijman"}]
[{"$f":"IF([1]Sheet1!A463=113,0,[1]Sheet1!A463)","v":10586},{"$f":"IF([1]Sheet1!A463=113,0,[1]Sheet1!F463)","v":128330},{"$f":"[1]Sheet1!G463","v":"Lovink"},{"$f":"[1]Sheet1!H463","v":"Hans Jr"},{"$f":"[1]Sheet1!J463","v":0},"Hans Jr Lovink",null,{"$f":"IF(A460=113,0,[1]Sheet1!B463)","v":"Nijman"}]
[{"$f":"IF([1]Sheet1!A464=113,0,[1]Sheet1!A464)","v":10586},{"$f":"IF([1]Sheet1!A464=113,0,[1]Sheet1!F464)","v":121003},{"$f":"[1]Sheet1!G464","v":"Lovink"},{"$f":"[1]Sheet1!H464","v":"Hemmie"},{"$f":"[1]Sheet1!J464","v":0},"Hemmie Lovink",null,{"$f":"IF(A461=113,0,[1]Sheet1!B464)","v":"Nijman"}]
[{"$f":"IF([1]Sheet1!A465=113,0,[1]Sheet1!A465)","v":10586},{"$f":"IF([1]Sheet1!A465=113,0,[1]Sheet1!F465)","v":112126},{"$f":"[1]Sheet1!G465","v":"Lovink"},{"$f":"[1]Sheet1!H465","v":"Joop"},{"$f":"[1]Sheet1!J465","v":0},"Joop Lovink",null,{"$f":"IF(A462=113,0,[1]Sheet1!B465)","v":"Nijman"}]
[{"$f":"IF([1]Sheet1!A466=113,0,[1]Sheet1!A466)","v":10586},{"$f":"IF([1]Sheet1!A466=113,0,[1]Sheet1!F466)","v":229397},{"$f":"[1]Sheet1!G466","v":"maat"},{"$f":"[1]Sheet1!H466","v":"Wim"},{"$f":"[1]Sheet1!J466","v":"ter"},"Wim ter maat",null,{"$f":"IF(A463=113,0,[1]Sheet1!B466)","v":"Nijman"}]
[{"$f":"IF([1]Sheet1!A467=113,0,[1]Sheet1!A467)","v":10586},{"$f":"IF([1]Sheet1!A467=113,0,[1]Sheet1!F467)","v":222039},{"$f":"[1]Sheet1!G467","v":"Maatman"},{"$f":"[1]Sheet1!H467","v":"Laurens"},{"$f":"[1]Sheet1!J467","v":0},"Laurens Maatman",null,{"$f":"IF(A464=113,0,[1]Sheet1!B467)","v":"Nijman"}]
[{"$f":"IF([1]Sheet1!A468=113,0,[1]Sheet1!A468)","v":10586},{"$f":"IF([1]Sheet1!A468=113,0,[1]Sheet1!F468)","v":148703},{"$f":"[1]Sheet1!G468","v":"Malskat"},{"$f":"[1]Sheet1!H468","v":"Jos"},{"$f":"[1]Sheet1!J468","v":0},"Jos Malskat",null,{"$f":"IF(A465=113,0,[1]Sheet1!B468)","v":"Nijman"}]
[{"$f":"IF([1]Sheet1!A469=113,0,[1]Sheet1!A469)","v":10586},{"$f":"IF([1]Sheet1!A469=113,0,[1]Sheet1!F469)","v":202557},{"$f":"[1]Sheet1!G469","v":"Ooijman"},{"$f":"[1]Sheet1!H469","v":"Derk"},{"$f":"[1]Sheet1!J469","v":0},"Derk Ooijman",null,{"$f":"IF(A466=113,0,[1]Sheet1!B469)","v":"Nijman"}]
[{"$f":"IF([1]Sheet1!A470=113,0,[1]Sheet1!A470)","v":10586},{"$f":"IF([1]Sheet1!A470=113,0,[1]Sheet1!F470)","v":155212},{"$f":"[1]Sheet1!G470","v":"Radstaak"},{"$f":"[1]Sheet1!H470","v":"Theo"},{"$f":"[1]Sheet1!J470","v":0},"Theo Radstaak",null,{"$f":"IF(A467=113,0,[1]Sheet1!B470)","v":"Nijman"}]
[{"$f":"IF([1]Sheet1!A471=113,0,[1]Sheet1!A471)","v":10586},{"$f":"IF([1]Sheet1!A471=113,0,[1]Sheet1!F471)","v":124649},{"$f":"[1]Sheet1!G471","v":"Sala"},{"$f":"[1]Sheet1!H471","v":"Ernie"},{"$f":"[1]Sheet1!J471","v":0},"Ernie Sala",null,{"$f":"IF(A468=113,0,[1]Sheet1!B471)","v":"Nijman"}]
[{"$f":"IF([1]Sheet1!A472=113,0,[1]Sheet1!A472)","v":10586},{"$f":"IF([1]Sheet1!A472=113,0,[1]Sheet1!F472)","v":238839},{"$f":"[1]Sheet1!G472","v":"Scharn"},{"$f":"[1]Sheet1!H472","v":"Wim"},{"$f":"[1]Sheet1!J472","v":0},{"$f":"IF(E469=0,CONCATENATE(D469,\" \",C469),CONCATENATE(D469,\" \",E469,\" \",C469))","v":"Wim Scharn"},null,{"$f":"IF(A469=113,0,[1]Sheet1!B472)","v":"Nijman"}]
[{"$f":"IF([1]Sheet1!A473=113,0,[1]Sheet1!A473)","v":10586},{"$f":"IF([1]Sheet1!A473=113,0,[1]Sheet1!F473)","v":121009},{"$f":"[1]Sheet1!G473","v":"Schnitzler"},{"$f":"[1]Sheet1!H473","v":"Walter"},{"$f":"[1]Sheet1!J473","v":0},"Walter Schnitzler",null,{"$f":"IF(A470=113,0,[1]Sheet1!B473)","v":"Nijman"}]
[{"$f":"IF([1]Sheet1!A474=113,0,[1]Sheet1!A474)","v":10586},{"$f":"IF([1]Sheet1!A474=113,0,[1]Sheet1!F474)","v":217778},{"$f":"[1]Sheet1!G474","v":"Susebeek"},{"$f":"[1]Sheet1!H474","v":"Gert"},{"$f":"[1]Sheet1!J474","v":0},"Gert Susebeek",null,{"$f":"IF(A471=113,0,[1]Sheet1!B474)","v":"Nijman"}]
[{"$f":"IF([1]Sheet1!A475=113,0,[1]Sheet1!A475)","v":10586},{"$f":"IF([1]Sheet1!A475=113,0,[1]Sheet1!F475)","v":128328},{"$f":"[1]Sheet1!G475","v":"Vossers"},{"$f":"[1]Sheet1!H475","v":"AndrÃ©"},{"$f":"[1]Sheet1!J475","v":0},"AndrÃ© Vossers",null,{"$f":"IF(A472=113,0,[1]Sheet1!B475)","v":"Nijman"}]
[{"$f":"IF([1]Sheet1!A476=113,0,[1]Sheet1!A476)","v":10586},{"$f":"IF([1]Sheet1!A476=113,0,[1]Sheet1!F476)","v":121013},{"$f":"[1]Sheet1!G476","v":"Vreman"},{"$f":"[1]Sheet1!H476","v":"Marcel"},{"$f":"[1]Sheet1!J476","v":0},"Marcel Vreman",null,{"$f":"IF(A473=113,0,[1]Sheet1!B476)","v":"Nijman"}]
[{"$f":"IF([1]Sheet1!A477=113,0,[1]Sheet1!A477)","v":10586},{"$f":"IF([1]Sheet1!A477=113,0,[1]Sheet1!F477)","v":183376},{"$f":"[1]Sheet1!G477","v":"Weenk"},{"$f":"[1]Sheet1!H477","v":"Henk"},{"$f":"[1]Sheet1!J477","v":0},"Henk Weenk",null,{"$f":"IF(A474=113,0,[1]Sheet1!B477)","v":"Nijman"}]
[{"$f":"IF([1]Sheet1!A478=113,0,[1]Sheet1!A478)","v":10586},{"$f":"IF([1]Sheet1!A478=113,0,[1]Sheet1!F478)","v":113499},{"$f":"[1]Sheet1!G478","v":"Wentink"},{"$f":"[1]Sheet1!H478","v":"Gert"},{"$f":"[1]Sheet1!J478","v":0},"Gert Wentink",null,{"$f":"IF(A475=113,0,[1]Sheet1!B478)","v":"Nijman"}]
[{"$f":"IF([1]Sheet1!A479=113,0,[1]Sheet1!A479)","v":10586},{"$f":"IF([1]Sheet1!A479=113,0,[1]Sheet1!F479)","v":113499},{"$f":"[1]Sheet1!G479","v":"Wentink"},{"$f":"[1]Sheet1!H479","v":"Gert"},{"$f":"[1]Sheet1!J479","v":0},"Gert Wentink",null,{"$f":"IF(A476=113,0,[1]Sheet1!B479)","v":"Nijman"}]
[{"$f":"IF([1]Sheet1!A480=113,0,[1]Sheet1!A480)","v":10586},{"$f":"IF([1]Sheet1!A480=113,0,[1]Sheet1!F480)","v":217873},{"$f":"[1]Sheet1!G480","v":"Wolsink"},{"$f":"[1]Sheet1!H480","v":"Willem"},{"$f":"[1]Sheet1!J480","v":0},"Willem Wolsink",null,{"$f":"IF(A477=113,0,[1]Sheet1!B480)","v":"Nijman"}]
[{"$f":"IF([1]Sheet1!A481=113,0,[1]Sheet1!A481)","v":10594},{"$f":"IF([1]Sheet1!A481=113,0,[1]Sheet1!F481)","v":157301},{"$f":"[1]Sheet1!G481","v":"Besselink"},{"$f":"[1]Sheet1!H481","v":"Bennie"},{"$f":"[1]Sheet1!J481","v":0},"Bennie Besselink",null,{"$f":"IF(A478=113,0,[1]Sheet1!B481)","v":"W.S.S."}]
[{"$f":"IF([1]Sheet1!A482=113,0,[1]Sheet1!A482)","v":10594},{"$f":"IF([1]Sheet1!A482=113,0,[1]Sheet1!F482)","v":123629},{"$f":"[1]Sheet1!G482","v":"Braak"},{"$f":"[1]Sheet1!H482","v":"Marc"},{"$f":"[1]Sheet1!J482","v":"van"},"Marc van Braak",null,{"$f":"IF(A479=113,0,[1]Sheet1!B482)","v":"W.S.S."}]
[{"$f":"IF([1]Sheet1!A483=113,0,[1]Sheet1!A483)","v":10594},{"$f":"IF([1]Sheet1!A483=113,0,[1]Sheet1!F483)","v":214196},{"$f":"[1]Sheet1!G483","v":"Brinkhorst"},{"$f":"[1]Sheet1!H483","v":"Peter"},{"$f":"[1]Sheet1!J483","v":0},"Peter Brinkhorst",null,{"$f":"IF(A480=113,0,[1]Sheet1!B483)","v":"W.S.S."}]
[{"$f":"IF([1]Sheet1!A484=113,0,[1]Sheet1!A484)","v":10594},{"$f":"IF([1]Sheet1!A484=113,0,[1]Sheet1!F484)","v":155600},{"$f":"[1]Sheet1!G484","v":"Bruggink"},{"$f":"[1]Sheet1!H484","v":"Gerard"},{"$f":"[1]Sheet1!J484","v":0},"Gerard Bruggink",null,{"$f":"IF(A481=113,0,[1]Sheet1!B484)","v":"W.S.S."}]
[{"$f":"IF([1]Sheet1!A485=113,0,[1]Sheet1!A485)","v":10594},{"$f":"IF([1]Sheet1!A485=113,0,[1]Sheet1!F485)","v":117229},{"$f":"[1]Sheet1!G485","v":"Bruil"},{"$f":"[1]Sheet1!H485","v":"Henk"},{"$f":"[1]Sheet1!J485","v":0},"Henk Bruil",null,{"$f":"IF(A482=113,0,[1]Sheet1!B485)","v":"W.S.S."}]
[{"$f":"IF([1]Sheet1!A486=113,0,[1]Sheet1!A486)","v":10594},{"$f":"IF([1]Sheet1!A486=113,0,[1]Sheet1!F486)","v":167767},{"$f":"[1]Sheet1!G486","v":"Bulten"},{"$f":"[1]Sheet1!H486","v":"Ferdinand"},{"$f":"[1]Sheet1!J486","v":0},"Ferdinand Bulten",null,{"$f":"IF(A483=113,0,[1]Sheet1!B486)","v":"W.S.S."}]
[{"$f":"IF([1]Sheet1!A487=113,0,[1]Sheet1!A487)","v":10594},{"$f":"IF([1]Sheet1!A487=113,0,[1]Sheet1!F487)","v":167143},{"$f":"[1]Sheet1!G487","v":"Byenhof"},{"$f":"[1]Sheet1!H487","v":"Jan"},{"$f":"[1]Sheet1!J487","v":0},"Jan Byenhof",null,{"$f":"IF(A484=113,0,[1]Sheet1!B487)","v":"W.S.S."}]
[{"$f":"IF([1]Sheet1!A488=113,0,[1]Sheet1!A488)","v":10594},{"$f":"IF([1]Sheet1!A488=113,0,[1]Sheet1!F488)","v":114014},{"$f":"[1]Sheet1!G488","v":"Grevers"},{"$f":"[1]Sheet1!H488","v":"Chris"},{"$f":"[1]Sheet1!J488","v":0},"Chris Grevers",null,{"$f":"IF(A485=113,0,[1]Sheet1!B488)","v":"W.S.S."}]
[{"$f":"IF([1]Sheet1!A489=113,0,[1]Sheet1!A489)","v":10594},{"$f":"IF([1]Sheet1!A489=113,0,[1]Sheet1!F489)","v":237143},{"$f":"[1]Sheet1!G489","v":"Heijink"},{"$f":"[1]Sheet1!H489","v":"Jan"},{"$f":"[1]Sheet1!J489","v":0},"Jan Heijink",null,{"$f":"IF(A486=113,0,[1]Sheet1!B489)","v":"W.S.S."}]
[{"$f":"IF([1]Sheet1!A490=113,0,[1]Sheet1!A490)","v":10594},{"$f":"IF([1]Sheet1!A490=113,0,[1]Sheet1!F490)","v":177746},{"$f":"[1]Sheet1!G490","v":"Kuenen"},{"$f":"[1]Sheet1!H490","v":"Gerwald"},{"$f":"[1]Sheet1!J490","v":0},"Gerwald Kuenen",null,{"$f":"IF(A487=113,0,[1]Sheet1!B490)","v":"W.S.S."}]
[{"$f":"IF([1]Sheet1!A491=113,0,[1]Sheet1!A491)","v":10594},{"$f":"IF([1]Sheet1!A491=113,0,[1]Sheet1!F491)","v":109685},{"$f":"[1]Sheet1!G491","v":"Masselink"},{"$f":"[1]Sheet1!H491","v":"Johnny"},{"$f":"[1]Sheet1!J491","v":0},"Johnny Masselink",null,{"$f":"IF(A488=113,0,[1]Sheet1!B491)","v":"W.S.S."}]
[{"$f":"IF([1]Sheet1!A492=113,0,[1]Sheet1!A492)","v":10594},{"$f":"IF([1]Sheet1!A492=113,0,[1]Sheet1!F492)","v":109799},{"$f":"[1]Sheet1!G492","v":"Mebel"},{"$f":"[1]Sheet1!H492","v":"Wilbert"},{"$f":"[1]Sheet1!J492","v":"te"},"Wilbert te Mebel",null,{"$f":"IF(A489=113,0,[1]Sheet1!B492)","v":"W.S.S."}]
[{"$f":"IF([1]Sheet1!A493=113,0,[1]Sheet1!A493)","v":10594},{"$f":"IF([1]Sheet1!A493=113,0,[1]Sheet1!F493)","v":209080},{"$f":"[1]Sheet1!G493","v":"Menkhorst"},{"$f":"[1]Sheet1!H493","v":"Ronnie"},{"$f":"[1]Sheet1!J493","v":0},"Ronnie Menkhorst",null,{"$f":"IF(A490=113,0,[1]Sheet1!B493)","v":"W.S.S."}]
[{"$f":"IF([1]Sheet1!A494=113,0,[1]Sheet1!A494)","v":10594},{"$f":"IF([1]Sheet1!A494=113,0,[1]Sheet1!F494)","v":173394},{"$f":"[1]Sheet1!G494","v":"Meyer"},{"$f":"[1]Sheet1!H494","v":"Jos"},{"$f":"[1]Sheet1!J494","v":0},"Jos Meyer",null,{"$f":"IF(A491=113,0,[1]Sheet1!B494)","v":"W.S.S."}]
[{"$f":"IF([1]Sheet1!A495=113,0,[1]Sheet1!A495)","v":10594},{"$f":"IF([1]Sheet1!A495=113,0,[1]Sheet1!F495)","v":173394},{"$f":"[1]Sheet1!G495","v":"Meyer"},{"$f":"[1]Sheet1!H495","v":"Jos"},{"$f":"[1]Sheet1!J495","v":0},"Jos Meyer",null,{"$f":"IF(A492=113,0,[1]Sheet1!B495)","v":"W.S.S."}]
[{"$f":"IF([1]Sheet1!A496=113,0,[1]Sheet1!A496)","v":10594},{"$f":"IF([1]Sheet1!A496=113,0,[1]Sheet1!F496)","v":225741},{"$f":"[1]Sheet1!G496","v":"Schot"},{"$f":"[1]Sheet1!H496","v":"Digo"},{"$f":"[1]Sheet1!J496","v":0},"Digo Schot",null,{"$f":"IF(A493=113,0,[1]Sheet1!B496)","v":"W.S.S."}]
[{"$f":"IF([1]Sheet1!A497=113,0,[1]Sheet1!A497)","v":10594},{"$f":"IF([1]Sheet1!A497=113,0,[1]Sheet1!F497)","v":246314},{"$f":"[1]Sheet1!G497","v":"Slaa"},{"$f":"[1]Sheet1!H497","v":"Marcel"},{"$f":"[1]Sheet1!J497","v":"te"},"Marcel te Slaa",null,{"$f":"IF(A494=113,0,[1]Sheet1!B497)","v":"W.S.S."}]
[{"$f":"IF([1]Sheet1!A498=113,0,[1]Sheet1!A498)","v":10594},{"$f":"IF([1]Sheet1!A498=113,0,[1]Sheet1!F498)","v":136329},{"$f":"[1]Sheet1!G498","v":"Teerink"},{"$f":"[1]Sheet1!H498","v":"Pedro"},{"$f":"[1]Sheet1!J498","v":0},"Pedro Teerink",null,{"$f":"IF(A495=113,0,[1]Sheet1!B498)","v":"W.S.S."}]
[{"$f":"IF([1]Sheet1!A499=113,0,[1]Sheet1!A499)","v":10594},{"$f":"IF([1]Sheet1!A499=113,0,[1]Sheet1!F499)","v":181849},{"$f":"[1]Sheet1!G499","v":"Tuenter"},{"$f":"[1]Sheet1!H499","v":"Arnold"},{"$f":"[1]Sheet1!J499","v":0},"Arnold Tuenter",null,{"$f":"IF(A496=113,0,[1]Sheet1!B499)","v":"W.S.S."}]
[{"$f":"IF([1]Sheet1!A500=113,0,[1]Sheet1!A500)","v":10594},{"$f":"IF([1]Sheet1!A500=113,0,[1]Sheet1!F500)","v":155669},{"$f":"[1]Sheet1!G500","v":"Veenink"},{"$f":"[1]Sheet1!H500","v":"Rob"},{"$f":"[1]Sheet1!J500","v":0},"Rob Veenink",null,{"$f":"IF(A497=113,0,[1]Sheet1!B500)","v":"W.S.S."}]
[{"$f":"IF([1]Sheet1!A501=113,0,[1]Sheet1!A501)","v":10594},{"$f":"IF([1]Sheet1!A501=113,0,[1]Sheet1!F501)","v":155669},{"$f":"[1]Sheet1!G501","v":"Veenink"},{"$f":"[1]Sheet1!H501","v":"Rob"},{"$f":"[1]Sheet1!J501","v":0},"Rob Veenink",null,{"$f":"IF(A498=113,0,[1]Sheet1!B501)","v":"W.S.S."}]
[{"$f":"IF([1]Sheet1!A502=113,0,[1]Sheet1!A502)","v":10594},{"$f":"IF([1]Sheet1!A502=113,0,[1]Sheet1!F502)","v":115639},{"$f":"[1]Sheet1!G502","v":"Vriezen"},{"$f":"[1]Sheet1!H502","v":"Wijnand"},{"$f":"[1]Sheet1!J502","v":0},"Wijnand Vriezen",null,{"$f":"IF(A499=113,0,[1]Sheet1!B502)","v":"W.S.S."}]
[{"$f":"IF([1]Sheet1!A503=113,0,[1]Sheet1!A503)","v":10599},{"$f":"IF([1]Sheet1!A503=113,0,[1]Sheet1!F503)","v":200050},{"$f":"[1]Sheet1!G503","v":"Balk"},{"$f":"[1]Sheet1!H503","v":"Rob"},{"$f":"[1]Sheet1!J503","v":0},"Rob Balk",null,{"$f":"IF(A500=113,0,[1]Sheet1!B503)","v":"Te Pas"}]
[{"$f":"IF([1]Sheet1!A504=113,0,[1]Sheet1!A504)","v":10599},{"$f":"IF([1]Sheet1!A504=113,0,[1]Sheet1!F504)","v":167174},{"$f":"[1]Sheet1!G504","v":"Berens"},{"$f":"[1]Sheet1!H504","v":"Henk"},{"$f":"[1]Sheet1!J504","v":0},"Henk Berens",null,{"$f":"IF(A501=113,0,[1]Sheet1!B504)","v":"Te Pas"}]
[{"$f":"IF([1]Sheet1!A505=113,0,[1]Sheet1!A505)","v":10599},{"$f":"IF([1]Sheet1!A505=113,0,[1]Sheet1!F505)","v":136123},{"$f":"[1]Sheet1!G505","v":"Boekhorst"},{"$f":"[1]Sheet1!H505","v":"Fred"},{"$f":"[1]Sheet1!J505","v":"te"},"Fred te Boekhorst",null,{"$f":"IF(A502=113,0,[1]Sheet1!B505)","v":"Te Pas"}]
[{"$f":"IF([1]Sheet1!A506=113,0,[1]Sheet1!A506)","v":10599},{"$f":"IF([1]Sheet1!A506=113,0,[1]Sheet1!F506)","v":250221},{"$f":"[1]Sheet1!G506","v":"Cornielje"},{"$f":"[1]Sheet1!H506","v":"Jimmy"},{"$f":"[1]Sheet1!J506","v":0},"Jimmy Cornielje",null,{"$f":"IF(A503=113,0,[1]Sheet1!B506)","v":"Te Pas"}]
[{"$f":"IF([1]Sheet1!A507=113,0,[1]Sheet1!A507)","v":10599},{"$f":"IF([1]Sheet1!A507=113,0,[1]Sheet1!F507)","v":238808},{"$f":"[1]Sheet1!G507","v":"Cornielje"},{"$f":"[1]Sheet1!H507","v":"Yannick"},{"$f":"[1]Sheet1!J507","v":0},"Yannick Cornielje",null,{"$f":"IF(A504=113,0,[1]Sheet1!B507)","v":"Te Pas"}]
[{"$f":"IF([1]Sheet1!A508=113,0,[1]Sheet1!A508)","v":10599},{"$f":"IF([1]Sheet1!A508=113,0,[1]Sheet1!F508)","v":174244},{"$f":"[1]Sheet1!G508","v":"Engelen"},{"$f":"[1]Sheet1!H508","v":"Bennie"},{"$f":"[1]Sheet1!J508","v":0},"Bennie Engelen",null,{"$f":"IF(A505=113,0,[1]Sheet1!B508)","v":"Te Pas"}]
[{"$f":"IF([1]Sheet1!A509=113,0,[1]Sheet1!A509)","v":10599},{"$f":"IF([1]Sheet1!A509=113,0,[1]Sheet1!F509)","v":161008},{"$f":"[1]Sheet1!G509","v":"Evers"},{"$f":"[1]Sheet1!H509","v":"Gert"},{"$f":"[1]Sheet1!J509","v":0},"Gert Evers",null,{"$f":"IF(A506=113,0,[1]Sheet1!B509)","v":"Te Pas"}]
[{"$f":"IF([1]Sheet1!A510=113,0,[1]Sheet1!A510)","v":10599},{"$f":"IF([1]Sheet1!A510=113,0,[1]Sheet1!F510)","v":127988},{"$f":"[1]Sheet1!G510","v":"Haverdil"},{"$f":"[1]Sheet1!H510","v":"AndrÃ©"},{"$f":"[1]Sheet1!J510","v":0},"AndrÃ© Haverdil",null,{"$f":"IF(A507=113,0,[1]Sheet1!B510)","v":"Te Pas"}]
[{"$f":"IF([1]Sheet1!A511=113,0,[1]Sheet1!A511)","v":10599},{"$f":"IF([1]Sheet1!A511=113,0,[1]Sheet1!F511)","v":177988},{"$f":"[1]Sheet1!G511","v":"Helmes"},{"$f":"[1]Sheet1!H511","v":"Albert"},{"$f":"[1]Sheet1!J511","v":0},"Albert Helmes",null,{"$f":"IF(A508=113,0,[1]Sheet1!B511)","v":"Te Pas"}]
[{"$f":"IF([1]Sheet1!A512=113,0,[1]Sheet1!A512)","v":10599},{"$f":"IF([1]Sheet1!A512=113,0,[1]Sheet1!F512)","v":178194},{"$f":"[1]Sheet1!G512","v":"Jansen"},{"$f":"[1]Sheet1!H512","v":"AndrÃ©"},{"$f":"[1]Sheet1!J512","v":0},"AndrÃ© Jansen",null,{"$f":"IF(A509=113,0,[1]Sheet1!B512)","v":"Te Pas"}]
[{"$f":"IF([1]Sheet1!A513=113,0,[1]Sheet1!A513)","v":10599},{"$f":"IF([1]Sheet1!A513=113,0,[1]Sheet1!F513)","v":112031},{"$f":"[1]Sheet1!G513","v":"Kemperman"},{"$f":"[1]Sheet1!H513","v":"Gerard"},{"$f":"[1]Sheet1!J513","v":0},"Gerard Kemperman",null,{"$f":"IF(A510=113,0,[1]Sheet1!B513)","v":"Te Pas"}]
[{"$f":"IF([1]Sheet1!A514=113,0,[1]Sheet1!A514)","v":10599},{"$f":"IF([1]Sheet1!A514=113,0,[1]Sheet1!F514)","v":120580},{"$f":"[1]Sheet1!G514","v":"Klaassen"},{"$f":"[1]Sheet1!H514","v":"Theo"},{"$f":"[1]Sheet1!J514","v":0},"Theo Klaassen",null,{"$f":"IF(A511=113,0,[1]Sheet1!B514)","v":"Te Pas"}]
[{"$f":"IF([1]Sheet1!A515=113,0,[1]Sheet1!A515)","v":10599},{"$f":"IF([1]Sheet1!A515=113,0,[1]Sheet1!F515)","v":114516},{"$f":"[1]Sheet1!G515","v":"Knaven"},{"$f":"[1]Sheet1!H515","v":"Theo"},{"$f":"[1]Sheet1!J515","v":0},"Theo Knaven",null,{"$f":"IF(A512=113,0,[1]Sheet1!B515)","v":"Te Pas"}]
[{"$f":"IF([1]Sheet1!A516=113,0,[1]Sheet1!A516)","v":10599},{"$f":"IF([1]Sheet1!A516=113,0,[1]Sheet1!F516)","v":161013},{"$f":"[1]Sheet1!G516","v":"Meurs"},{"$f":"[1]Sheet1!H516","v":"Jan"},{"$f":"[1]Sheet1!J516","v":0},"Jan Meurs",null,{"$f":"IF(A513=113,0,[1]Sheet1!B516)","v":"Te Pas"}]
[{"$f":"IF([1]Sheet1!A517=113,0,[1]Sheet1!A517)","v":10599},{"$f":"IF([1]Sheet1!A517=113,0,[1]Sheet1!F517)","v":223897},{"$f":"[1]Sheet1!G517","v":"Pannekoek"},{"$f":"[1]Sheet1!H517","v":"Arend"},{"$f":"[1]Sheet1!J517","v":0},"Arend Pannekoek",null,{"$f":"IF(A514=113,0,[1]Sheet1!B517)","v":"Te Pas"}]
[{"$f":"IF([1]Sheet1!A518=113,0,[1]Sheet1!A518)","v":10599},{"$f":"IF([1]Sheet1!A518=113,0,[1]Sheet1!F518)","v":223897},{"$f":"[1]Sheet1!G518","v":"Pannekoek"},{"$f":"[1]Sheet1!H518","v":"Arend"},{"$f":"[1]Sheet1!J518","v":0},"Arend Pannekoek",null,{"$f":"IF(A515=113,0,[1]Sheet1!B518)","v":"Te Pas"}]
[{"$f":"IF([1]Sheet1!A519=113,0,[1]Sheet1!A519)","v":10599},{"$f":"IF([1]Sheet1!A519=113,0,[1]Sheet1!F519)","v":114517},{"$f":"[1]Sheet1!G519","v":"Pas"},{"$f":"[1]Sheet1!H519","v":"Henk"},{"$f":"[1]Sheet1!J519","v":"te"},"Henk te Pas",null,{"$f":"IF(A516=113,0,[1]Sheet1!B519)","v":"Te Pas"}]
[{"$f":"IF([1]Sheet1!A520=113,0,[1]Sheet1!A520)","v":10599},{"$f":"IF([1]Sheet1!A520=113,0,[1]Sheet1!F520)","v":236384},{"$f":"[1]Sheet1!G520","v":"Robben"},{"$f":"[1]Sheet1!H520","v":"Koen"},{"$f":"[1]Sheet1!J520","v":0},"Koen Robben",null,{"$f":"IF(A517=113,0,[1]Sheet1!B520)","v":"Te Pas"}]
[{"$f":"IF([1]Sheet1!A521=113,0,[1]Sheet1!A521)","v":10599},{"$f":"IF([1]Sheet1!A521=113,0,[1]Sheet1!F521)","v":236384},{"$f":"[1]Sheet1!G521","v":"Robben"},{"$f":"[1]Sheet1!H521","v":"Koen"},{"$f":"[1]Sheet1!J521","v":0},"Koen Robben",null,{"$f":"IF(A518=113,0,[1]Sheet1!B521)","v":"Te Pas"}]
[{"$f":"IF([1]Sheet1!A522=113,0,[1]Sheet1!A522)","v":10599},{"$f":"IF([1]Sheet1!A522=113,0,[1]Sheet1!F522)","v":180425},{"$f":"[1]Sheet1!G522","v":"Stevens"},{"$f":"[1]Sheet1!H522","v":"Rolf"},{"$f":"[1]Sheet1!J522","v":0},"Rolf Stevens",null,{"$f":"IF(A519=113,0,[1]Sheet1!B522)","v":"Te Pas"}]
[{"$f":"IF([1]Sheet1!A523=113,0,[1]Sheet1!A523)","v":10599},{"$f":"IF([1]Sheet1!A523=113,0,[1]Sheet1!F523)","v":109107},{"$f":"[1]Sheet1!G523","v":"Visser"},{"$f":"[1]Sheet1!H523","v":"Anthony"},{"$f":"[1]Sheet1!J523","v":0},"Anthony Visser",null,{"$f":"IF(A520=113,0,[1]Sheet1!B523)","v":"Te Pas"}]
[{"$f":"IF([1]Sheet1!A524=113,0,[1]Sheet1!A524)","v":10605},{"$f":"IF([1]Sheet1!A524=113,0,[1]Sheet1!F524)","v":206348},{"$f":"[1]Sheet1!G524","v":"Dijkman"},{"$f":"[1]Sheet1!H524","v":"Martijn"},{"$f":"[1]Sheet1!J524","v":0},"Martijn Dijkman",null,{"$f":"IF(A521=113,0,[1]Sheet1!B524)","v":"Veldhoek"}]
[{"$f":"IF([1]Sheet1!A525=113,0,[1]Sheet1!A525)","v":10605},{"$f":"IF([1]Sheet1!A525=113,0,[1]Sheet1!F525)","v":142630},{"$f":"[1]Sheet1!G525","v":"Eelderink"},{"$f":"[1]Sheet1!H525","v":"Erwin"},{"$f":"[1]Sheet1!J525","v":0},"Erwin Eelderink",null,{"$f":"IF(A522=113,0,[1]Sheet1!B525)","v":"Veldhoek"}]
[{"$f":"IF([1]Sheet1!A526=113,0,[1]Sheet1!A526)","v":10605},{"$f":"IF([1]Sheet1!A526=113,0,[1]Sheet1!F526)","v":109844},{"$f":"[1]Sheet1!G526","v":"Eenink"},{"$f":"[1]Sheet1!H526","v":"Marti"},{"$f":"[1]Sheet1!J526","v":0},"Marti Eenink",null,{"$f":"IF(A523=113,0,[1]Sheet1!B526)","v":"Veldhoek"}]
[{"$f":"IF([1]Sheet1!A527=113,0,[1]Sheet1!A527)","v":10605},{"$f":"IF([1]Sheet1!A527=113,0,[1]Sheet1!F527)","v":109844},{"$f":"[1]Sheet1!G527","v":"Eenink"},{"$f":"[1]Sheet1!H527","v":"Marti"},{"$f":"[1]Sheet1!J527","v":0},"Marti Eenink",null,{"$f":"IF(A524=113,0,[1]Sheet1!B527)","v":"Veldhoek"}]
[{"$f":"IF([1]Sheet1!A528=113,0,[1]Sheet1!A528)","v":10605},{"$f":"IF([1]Sheet1!A528=113,0,[1]Sheet1!F528)","v":220896},{"$f":"[1]Sheet1!G528","v":"Garritsen"},{"$f":"[1]Sheet1!H528","v":"Ellis"},{"$f":"[1]Sheet1!J528","v":0},"Ellis Garritsen",null,{"$f":"IF(A525=113,0,[1]Sheet1!B528)","v":"Veldhoek"}]
[{"$f":"IF([1]Sheet1!A529=113,0,[1]Sheet1!A529)","v":10605},{"$f":"IF([1]Sheet1!A529=113,0,[1]Sheet1!F529)","v":220896},{"$f":"[1]Sheet1!G529","v":"Garritsen"},{"$f":"[1]Sheet1!H529","v":"Ellis"},{"$f":"[1]Sheet1!J529","v":0},"Ellis Garritsen",null,{"$f":"IF(A526=113,0,[1]Sheet1!B529)","v":"Veldhoek"}]
[{"$f":"IF([1]Sheet1!A530=113,0,[1]Sheet1!A530)","v":10605},{"$f":"IF([1]Sheet1!A530=113,0,[1]Sheet1!F530)","v":215012},{"$f":"[1]Sheet1!G530","v":"Groot Wassink"},{"$f":"[1]Sheet1!H530","v":"Dinant"},{"$f":"[1]Sheet1!J530","v":0},"Dinant Groot Wassink",null,{"$f":"IF(A527=113,0,[1]Sheet1!B530)","v":"Veldhoek"}]
[{"$f":"IF([1]Sheet1!A531=113,0,[1]Sheet1!A531)","v":10605},{"$f":"IF([1]Sheet1!A531=113,0,[1]Sheet1!F531)","v":133917},{"$f":"[1]Sheet1!G531","v":"Hietbrink-Schutte"},{"$f":"[1]Sheet1!H531","v":"Gerry"},{"$f":"[1]Sheet1!J531","v":0},"Gerry Hietbrink-Schutte",null,{"$f":"IF(A528=113,0,[1]Sheet1!B531)","v":"Veldhoek"}]
[{"$f":"IF([1]Sheet1!A532=113,0,[1]Sheet1!A532)","v":10605},{"$f":"IF([1]Sheet1!A532=113,0,[1]Sheet1!F532)","v":178555},{"$f":"[1]Sheet1!G532","v":"Imhoff"},{"$f":"[1]Sheet1!H532","v":"Berry"},{"$f":"[1]Sheet1!J532","v":0},"Berry Imhoff",null,{"$f":"IF(A529=113,0,[1]Sheet1!B532)","v":"Veldhoek"}]
[{"$f":"IF([1]Sheet1!A533=113,0,[1]Sheet1!A533)","v":10605},{"$f":"IF([1]Sheet1!A533=113,0,[1]Sheet1!F533)","v":154983},{"$f":"[1]Sheet1!G533","v":"Lenselink"},{"$f":"[1]Sheet1!H533","v":"Gerrit"},{"$f":"[1]Sheet1!J533","v":0},"Gerrit Lenselink",null,{"$f":"IF(A530=113,0,[1]Sheet1!B533)","v":"Veldhoek"}]
[{"$f":"IF([1]Sheet1!A534=113,0,[1]Sheet1!A534)","v":10605},{"$f":"IF([1]Sheet1!A534=113,0,[1]Sheet1!F534)","v":225521},{"$f":"[1]Sheet1!G534","v":"Nijenes"},{"$f":"[1]Sheet1!H534","v":"Harold"},{"$f":"[1]Sheet1!J534","v":0},"Harold Nijenes",null,{"$f":"IF(A531=113,0,[1]Sheet1!B534)","v":"Veldhoek"}]
[{"$f":"IF([1]Sheet1!A535=113,0,[1]Sheet1!A535)","v":10605},{"$f":"IF([1]Sheet1!A535=113,0,[1]Sheet1!F535)","v":109853},{"$f":"[1]Sheet1!G535","v":"Peters"},{"$f":"[1]Sheet1!H535","v":"Han"},{"$f":"[1]Sheet1!J535","v":0},"Han Peters",null,{"$f":"IF(A532=113,0,[1]Sheet1!B535)","v":"Veldhoek"}]
[{"$f":"IF([1]Sheet1!A536=113,0,[1]Sheet1!A536)","v":10605},{"$f":"IF([1]Sheet1!A536=113,0,[1]Sheet1!F536)","v":109853},{"$f":"[1]Sheet1!G536","v":"Peters"},{"$f":"[1]Sheet1!H536","v":"Han"},{"$f":"[1]Sheet1!J536","v":0},{"$f":"IF(E533=0,CONCATENATE(D533,\" \",C533),CONCATENATE(D533,\" \",E533,\" \",C533))","v":"Han Peters"},null,{"$f":"IF(A533=113,0,[1]Sheet1!B536)","v":"Veldhoek"}]
[{"$f":"IF([1]Sheet1!A537=113,0,[1]Sheet1!A537)","v":10605},{"$f":"IF([1]Sheet1!A537=113,0,[1]Sheet1!F537)","v":109647},{"$f":"[1]Sheet1!G537","v":"Teunissen"},{"$f":"[1]Sheet1!H537","v":"Johan"},{"$f":"[1]Sheet1!J537","v":0},"Johan Teunissen",null,{"$f":"IF(A534=113,0,[1]Sheet1!B537)","v":"Veldhoek"}]
[{"$f":"IF([1]Sheet1!A538=113,0,[1]Sheet1!A538)","v":10605},{"$f":"IF([1]Sheet1!A538=113,0,[1]Sheet1!F538)","v":249168},{"$f":"[1]Sheet1!G538","v":"Vreeman"},{"$f":"[1]Sheet1!H538","v":"Marieke"},{"$f":"[1]Sheet1!J538","v":0},"Marieke Vreeman",null,{"$f":"IF(A535=113,0,[1]Sheet1!B538)","v":"Veldhoek"}]
[{"$f":"IF([1]Sheet1!A539=113,0,[1]Sheet1!A539)","v":10605},{"$f":"IF([1]Sheet1!A539=113,0,[1]Sheet1!F539)","v":160929},{"$f":"[1]Sheet1!G539","v":"Wentink"},{"$f":"[1]Sheet1!H539","v":"Rinus"},{"$f":"[1]Sheet1!J539","v":0},"Rinus Wentink",null,{"$f":"IF(A536=113,0,[1]Sheet1!B539)","v":"Veldhoek"}]
[{"$f":"IF([1]Sheet1!A540=113,0,[1]Sheet1!A540)","v":10605},{"$f":"IF([1]Sheet1!A540=113,0,[1]Sheet1!F540)","v":145091},{"$f":"[1]Sheet1!G540","v":"Wilt"},{"$f":"[1]Sheet1!H540","v":"Carlo"},{"$f":"[1]Sheet1!J540","v":"de"},"Carlo de Wilt",null,{"$f":"IF(A537=113,0,[1]Sheet1!B540)","v":"Veldhoek"}]
[{"$f":"IF([1]Sheet1!A541=113,0,[1]Sheet1!A541)","v":10751},{"$f":"IF([1]Sheet1!A541=113,0,[1]Sheet1!F541)","v":262533},{"$f":"[1]Sheet1!G541","v":"Beumer"},{"$f":"[1]Sheet1!H541","v":"Ben"},{"$f":"[1]Sheet1!J541","v":0},"Ben Beumer",null,{"$f":"IF(A538=113,0,[1]Sheet1!B541)","v":"Wapen Van Ulft"}]
[{"$f":"IF([1]Sheet1!A542=113,0,[1]Sheet1!A542)","v":10751},{"$f":"IF([1]Sheet1!A542=113,0,[1]Sheet1!F542)","v":137053},{"$f":"[1]Sheet1!G542","v":"Boerboom"},{"$f":"[1]Sheet1!H542","v":"Henk"},{"$f":"[1]Sheet1!J542","v":0},"Henk Boerboom",null,{"$f":"IF(A539=113,0,[1]Sheet1!B542)","v":"Wapen Van Ulft"}]
[{"$f":"IF([1]Sheet1!A543=113,0,[1]Sheet1!A543)","v":10751},{"$f":"IF([1]Sheet1!A543=113,0,[1]Sheet1!F543)","v":225807},{"$f":"[1]Sheet1!G543","v":"Derksen"},{"$f":"[1]Sheet1!H543","v":"Berti"},{"$f":"[1]Sheet1!J543","v":0},"Berti Derksen",null,{"$f":"IF(A540=113,0,[1]Sheet1!B543)","v":"Wapen Van Ulft"}]
[{"$f":"IF([1]Sheet1!A544=113,0,[1]Sheet1!A544)","v":10751},{"$f":"IF([1]Sheet1!A544=113,0,[1]Sheet1!F544)","v":223208},{"$f":"[1]Sheet1!G544","v":"Derksen"},{"$f":"[1]Sheet1!H544","v":"Chris"},{"$f":"[1]Sheet1!J544","v":0},"Chris Derksen",null,{"$f":"IF(A541=113,0,[1]Sheet1!B544)","v":"Wapen Van Ulft"}]
[{"$f":"IF([1]Sheet1!A545=113,0,[1]Sheet1!A545)","v":10751},{"$f":"IF([1]Sheet1!A545=113,0,[1]Sheet1!F545)","v":236925},{"$f":"[1]Sheet1!G545","v":"Frans"},{"$f":"[1]Sheet1!H545","v":"Overbeek"},{"$f":"[1]Sheet1!J545","v":0},"Overbeek Frans",null,{"$f":"IF(A542=113,0,[1]Sheet1!B545)","v":"Wapen Van Ulft"}]
[{"$f":"IF([1]Sheet1!A546=113,0,[1]Sheet1!A546)","v":10751},{"$f":"IF([1]Sheet1!A546=113,0,[1]Sheet1!F546)","v":230159},{"$f":"[1]Sheet1!G546","v":"Friesen"},{"$f":"[1]Sheet1!H546","v":"Joop"},{"$f":"[1]Sheet1!J546","v":0},"Joop Friesen",null,{"$f":"IF(A543=113,0,[1]Sheet1!B546)","v":"Wapen Van Ulft"}]
[{"$f":"IF([1]Sheet1!A547=113,0,[1]Sheet1!A547)","v":10751},{"$f":"IF([1]Sheet1!A547=113,0,[1]Sheet1!F547)","v":225808},{"$f":"[1]Sheet1!G547","v":"Friesen"},{"$f":"[1]Sheet1!H547","v":"Rob"},{"$f":"[1]Sheet1!J547","v":0},"Rob Friesen",null,{"$f":"IF(A544=113,0,[1]Sheet1!B547)","v":"Wapen Van Ulft"}]
[{"$f":"IF([1]Sheet1!A548=113,0,[1]Sheet1!A548)","v":10751},{"$f":"IF([1]Sheet1!A548=113,0,[1]Sheet1!F548)","v":213998},{"$f":"[1]Sheet1!G548","v":"Gerwers"},{"$f":"[1]Sheet1!H548","v":"Michiel"},{"$f":"[1]Sheet1!J548","v":0},"Michiel Gerwers",null,{"$f":"IF(A545=113,0,[1]Sheet1!B548)","v":"Wapen Van Ulft"}]
[{"$f":"IF([1]Sheet1!A549=113,0,[1]Sheet1!A549)","v":10751},{"$f":"IF([1]Sheet1!A549=113,0,[1]Sheet1!F549)","v":109049},{"$f":"[1]Sheet1!G549","v":"Hartjes"},{"$f":"[1]Sheet1!H549","v":"Henny"},{"$f":"[1]Sheet1!J549","v":0},"Henny Hartjes",null,{"$f":"IF(A546=113,0,[1]Sheet1!B549)","v":"Wapen Van Ulft"}]
[{"$f":"IF([1]Sheet1!A550=113,0,[1]Sheet1!A550)","v":10751},{"$f":"IF([1]Sheet1!A550=113,0,[1]Sheet1!F550)","v":262534},{"$f":"[1]Sheet1!G550","v":"Klein-Hesselink"},{"$f":"[1]Sheet1!H550","v":"Appie"},{"$f":"[1]Sheet1!J550","v":0},"Appie Klein-Hesselink",null,{"$f":"IF(A547=113,0,[1]Sheet1!B550)","v":"Wapen Van Ulft"}]
[{"$f":"IF([1]Sheet1!A551=113,0,[1]Sheet1!A551)","v":10751},{"$f":"IF([1]Sheet1!A551=113,0,[1]Sheet1!F551)","v":225252},{"$f":"[1]Sheet1!G551","v":"Kraan"},{"$f":"[1]Sheet1!H551","v":"Andre"},{"$f":"[1]Sheet1!J551","v":0},"Andre Kraan",null,{"$f":"IF(A548=113,0,[1]Sheet1!B551)","v":"Wapen Van Ulft"}]
[{"$f":"IF([1]Sheet1!A552=113,0,[1]Sheet1!A552)","v":10751},{"$f":"IF([1]Sheet1!A552=113,0,[1]Sheet1!F552)","v":130563},{"$f":"[1]Sheet1!G552","v":"Raaij"},{"$f":"[1]Sheet1!H552","v":"Bennie"},{"$f":"[1]Sheet1!J552","v":"van"},"Bennie van Raaij",null,{"$f":"IF(A549=113,0,[1]Sheet1!B552)","v":"Wapen Van Ulft"}]
[{"$f":"IF([1]Sheet1!A553=113,0,[1]Sheet1!A553)","v":10751},{"$f":"IF([1]Sheet1!A553=113,0,[1]Sheet1!F553)","v":236953},{"$f":"[1]Sheet1!G553","v":"Stef"},{"$f":"[1]Sheet1!H553","v":"Nas"},{"$f":"[1]Sheet1!J553","v":0},"Nas Stef",null,{"$f":"IF(A550=113,0,[1]Sheet1!B553)","v":"Wapen Van Ulft"}]
[{"$f":"IF([1]Sheet1!A554=113,0,[1]Sheet1!A554)","v":10751},{"$f":"IF([1]Sheet1!A554=113,0,[1]Sheet1!F554)","v":108357},{"$f":"[1]Sheet1!G554","v":"Vet"},{"$f":"[1]Sheet1!H554","v":"John"},{"$f":"[1]Sheet1!J554","v":0},"John Vet",null,{"$f":"IF(A551=113,0,[1]Sheet1!B554)","v":"Wapen Van Ulft"}]
[{"$f":"IF([1]Sheet1!A555=113,0,[1]Sheet1!A555)","v":10751},{"$f":"IF([1]Sheet1!A555=113,0,[1]Sheet1!F555)","v":108357},{"$f":"[1]Sheet1!G555","v":"Vet"},{"$f":"[1]Sheet1!H555","v":"John"},{"$f":"[1]Sheet1!J555","v":0},"John Vet",null,{"$f":"IF(A552=113,0,[1]Sheet1!B555)","v":"Wapen Van Ulft"}]
[{"$f":"IF([1]Sheet1!A556=113,0,[1]Sheet1!A556)","v":11901},{"$f":"IF([1]Sheet1!A556=113,0,[1]Sheet1!F556)","v":140886},{"$f":"[1]Sheet1!G556","v":"Benen"},{"$f":"[1]Sheet1!H556","v":"Hennie"},{"$f":"[1]Sheet1!J556","v":0},"Hennie Benen",null,{"$f":"IF(A553=113,0,[1]Sheet1!B556)","v":"De Ploeg"}]
[{"$f":"IF([1]Sheet1!A557=113,0,[1]Sheet1!A557)","v":11901},{"$f":"IF([1]Sheet1!A557=113,0,[1]Sheet1!F557)","v":140886},{"$f":"[1]Sheet1!G557","v":"Benen"},{"$f":"[1]Sheet1!H557","v":"Hennie"},{"$f":"[1]Sheet1!J557","v":0},"Hennie Benen",null,{"$f":"IF(A554=113,0,[1]Sheet1!B557)","v":"De Ploeg"}]
[{"$f":"IF([1]Sheet1!A558=113,0,[1]Sheet1!A558)","v":11901},{"$f":"IF([1]Sheet1!A558=113,0,[1]Sheet1!F558)","v":218245},{"$f":"[1]Sheet1!G558","v":"Bleumer"},{"$f":"[1]Sheet1!H558","v":"Michel"},{"$f":"[1]Sheet1!J558","v":0},"Michel Bleumer",null,{"$f":"IF(A555=113,0,[1]Sheet1!B558)","v":"De Ploeg"}]
[{"$f":"IF([1]Sheet1!A559=113,0,[1]Sheet1!A559)","v":11901},{"$f":"IF([1]Sheet1!A559=113,0,[1]Sheet1!F559)","v":127783},{"$f":"[1]Sheet1!G559","v":"Bruins"},{"$f":"[1]Sheet1!H559","v":"Martijn"},{"$f":"[1]Sheet1!J559","v":0},"Martijn Bruins",null,{"$f":"IF(A556=113,0,[1]Sheet1!B559)","v":"De Ploeg"}]
[{"$f":"IF([1]Sheet1!A560=113,0,[1]Sheet1!A560)","v":11901},{"$f":"IF([1]Sheet1!A560=113,0,[1]Sheet1!F560)","v":155041},{"$f":"[1]Sheet1!G560","v":"Gilsing"},{"$f":"[1]Sheet1!H560","v":"Frans"},{"$f":"[1]Sheet1!J560","v":0},"Frans Gilsing",null,{"$f":"IF(A557=113,0,[1]Sheet1!B560)","v":"De Ploeg"}]
[{"$f":"IF([1]Sheet1!A561=113,0,[1]Sheet1!A561)","v":11901},{"$f":"IF([1]Sheet1!A561=113,0,[1]Sheet1!F561)","v":147683},{"$f":"[1]Sheet1!G561","v":"Heinen"},{"$f":"[1]Sheet1!H561","v":"Jan"},{"$f":"[1]Sheet1!J561","v":0},"Jan Heinen",null,{"$f":"IF(A558=113,0,[1]Sheet1!B561)","v":"De Ploeg"}]
[{"$f":"IF([1]Sheet1!A562=113,0,[1]Sheet1!A562)","v":11901},{"$f":"IF([1]Sheet1!A562=113,0,[1]Sheet1!F562)","v":147678},{"$f":"[1]Sheet1!G562","v":"Jansen"},{"$f":"[1]Sheet1!H562","v":"Leo"},{"$f":"[1]Sheet1!J562","v":0},"Leo Jansen",null,{"$f":"IF(A559=113,0,[1]Sheet1!B562)","v":"De Ploeg"}]
[{"$f":"IF([1]Sheet1!A563=113,0,[1]Sheet1!A563)","v":11901},{"$f":"IF([1]Sheet1!A563=113,0,[1]Sheet1!F563)","v":177759},{"$f":"[1]Sheet1!G563","v":"Jansen"},{"$f":"[1]Sheet1!H563","v":"Raymond"},{"$f":"[1]Sheet1!J563","v":0},"Raymond Jansen",null,{"$f":"IF(A560=113,0,[1]Sheet1!B563)","v":"De Ploeg"}]
[{"$f":"IF([1]Sheet1!A564=113,0,[1]Sheet1!A564)","v":11901},{"$f":"IF([1]Sheet1!A564=113,0,[1]Sheet1!F564)","v":138746},{"$f":"[1]Sheet1!G564","v":"Meijer"},{"$f":"[1]Sheet1!H564","v":"Jan"},{"$f":"[1]Sheet1!J564","v":0},"Jan Meijer",null,{"$f":"IF(A561=113,0,[1]Sheet1!B564)","v":"De Ploeg"}]
[{"$f":"IF([1]Sheet1!A565=113,0,[1]Sheet1!A565)","v":11901},{"$f":"IF([1]Sheet1!A565=113,0,[1]Sheet1!F565)","v":138746},{"$f":"[1]Sheet1!G565","v":"Meijer"},{"$f":"[1]Sheet1!H565","v":"Jan"},{"$f":"[1]Sheet1!J565","v":0},"Jan Meijer",null,{"$f":"IF(A562=113,0,[1]Sheet1!B565)","v":"De Ploeg"}]
[{"$f":"IF([1]Sheet1!A566=113,0,[1]Sheet1!A566)","v":11901},{"$f":"IF([1]Sheet1!A566=113,0,[1]Sheet1!F566)","v":214934},{"$f":"[1]Sheet1!G566","v":"Meijer"},{"$f":"[1]Sheet1!H566","v":"Rob"},{"$f":"[1]Sheet1!J566","v":0},"Rob Meijer",null,{"$f":"IF(A563=113,0,[1]Sheet1!B566)","v":"De Ploeg"}]
[{"$f":"IF([1]Sheet1!A567=113,0,[1]Sheet1!A567)","v":11901},{"$f":"IF([1]Sheet1!A567=113,0,[1]Sheet1!F567)","v":145338},{"$f":"[1]Sheet1!G567","v":"Messing"},{"$f":"[1]Sheet1!H567","v":"Patrick"},{"$f":"[1]Sheet1!J567","v":0},"Patrick Messing",null,{"$f":"IF(A564=113,0,[1]Sheet1!B567)","v":"De Ploeg"}]
[{"$f":"IF([1]Sheet1!A568=113,0,[1]Sheet1!A568)","v":11901},{"$f":"IF([1]Sheet1!A568=113,0,[1]Sheet1!F568)","v":241150},{"$f":"[1]Sheet1!G568","v":"Romer"},{"$f":"[1]Sheet1!H568","v":"Evert"},{"$f":"[1]Sheet1!J568","v":0},"Evert Romer",null,{"$f":"IF(A565=113,0,[1]Sheet1!B568)","v":"De Ploeg"}]
[{"$f":"IF([1]Sheet1!A569=113,0,[1]Sheet1!A569)","v":11901},{"$f":"IF([1]Sheet1!A569=113,0,[1]Sheet1!F569)","v":138532},{"$f":"[1]Sheet1!G569","v":"Romer"},{"$f":"[1]Sheet1!H569","v":"Gerd"},{"$f":"[1]Sheet1!J569","v":0},"Gerd Romer",null,{"$f":"IF(A566=113,0,[1]Sheet1!B569)","v":"De Ploeg"}]
[{"$f":"IF([1]Sheet1!A570=113,0,[1]Sheet1!A570)","v":11901},{"$f":"IF([1]Sheet1!A570=113,0,[1]Sheet1!F570)","v":223214},{"$f":"[1]Sheet1!G570","v":"Romer"},{"$f":"[1]Sheet1!H570","v":"Mark"},{"$f":"[1]Sheet1!J570","v":0},"Mark Romer",null,{"$f":"IF(A567=113,0,[1]Sheet1!B570)","v":"De Ploeg"}]
[{"$f":"IF([1]Sheet1!A571=113,0,[1]Sheet1!A571)","v":11901},{"$f":"IF([1]Sheet1!A571=113,0,[1]Sheet1!F571)","v":214932},{"$f":"[1]Sheet1!G571","v":"RÃ¶mer"},{"$f":"[1]Sheet1!H571","v":"Roy"},{"$f":"[1]Sheet1!J571","v":0},"Roy RÃ¶mer",null,{"$f":"IF(A568=113,0,[1]Sheet1!B571)","v":"De Ploeg"}]
[{"$f":"IF([1]Sheet1!A572=113,0,[1]Sheet1!A572)","v":11901},{"$f":"IF([1]Sheet1!A572=113,0,[1]Sheet1!F572)","v":167167},{"$f":"[1]Sheet1!G572","v":"Stelzer"},{"$f":"[1]Sheet1!H572","v":"Udo"},{"$f":"[1]Sheet1!J572","v":0},"Udo Stelzer",null,{"$f":"IF(A569=113,0,[1]Sheet1!B572)","v":"De Ploeg"}]
[{"$f":"IF([1]Sheet1!A573=113,0,[1]Sheet1!A573)","v":11901},{"$f":"IF([1]Sheet1!A573=113,0,[1]Sheet1!F573)","v":172630},{"$f":"[1]Sheet1!G573","v":"Tiemessen"},{"$f":"[1]Sheet1!H573","v":"Paul"},{"$f":"[1]Sheet1!J573","v":0},"Paul Tiemessen",null,{"$f":"IF(A570=113,0,[1]Sheet1!B573)","v":"De Ploeg"}]
[{"$f":"IF([1]Sheet1!A574=113,0,[1]Sheet1!A574)","v":11901},{"$f":"IF([1]Sheet1!A574=113,0,[1]Sheet1!F574)","v":214740},{"$f":"[1]Sheet1!G574","v":"Wieggers"},{"$f":"[1]Sheet1!H574","v":"AndrÃ©"},{"$f":"[1]Sheet1!J574","v":0},"AndrÃ© Wieggers",null,{"$f":"IF(A571=113,0,[1]Sheet1!B574)","v":"De Ploeg"}]
[{"$f":"IF([1]Sheet1!A575=113,0,[1]Sheet1!A575)","v":12031},{"$f":"IF([1]Sheet1!A575=113,0,[1]Sheet1!F575)","v":263931},{"$f":"[1]Sheet1!G575","v":"Gerhardus"},{"$f":"[1]Sheet1!H575","v":"Leo"},{"$f":"[1]Sheet1!J575","v":0},"Leo Gerhardus",null,{"$f":"IF(A572=113,0,[1]Sheet1!B575)","v":"Tiemessen"}]
[{"$f":"IF([1]Sheet1!A576=113,0,[1]Sheet1!A576)","v":12031},{"$f":"IF([1]Sheet1!A576=113,0,[1]Sheet1!F576)","v":116373},{"$f":"[1]Sheet1!G576","v":"Harleman"},{"$f":"[1]Sheet1!H576","v":"Marcel"},{"$f":"[1]Sheet1!J576","v":0},"Marcel Harleman",null,{"$f":"IF(A573=113,0,[1]Sheet1!B576)","v":"Tiemessen"}]
[{"$f":"IF([1]Sheet1!A577=113,0,[1]Sheet1!A577)","v":12031},{"$f":"IF([1]Sheet1!A577=113,0,[1]Sheet1!F577)","v":116373},{"$f":"[1]Sheet1!G577","v":"Harleman"},{"$f":"[1]Sheet1!H577","v":"Marcel"},{"$f":"[1]Sheet1!J577","v":0},"Marcel Harleman",null,{"$f":"IF(A574=113,0,[1]Sheet1!B577)","v":"Tiemessen"}]
[{"$f":"IF([1]Sheet1!A578=113,0,[1]Sheet1!A578)","v":12031},{"$f":"IF([1]Sheet1!A578=113,0,[1]Sheet1!F578)","v":154941},{"$f":"[1]Sheet1!G578","v":"Slutter"},{"$f":"[1]Sheet1!H578","v":"Theo"},{"$f":"[1]Sheet1!J578","v":0},"Theo Slutter",null,{"$f":"IF(A575=113,0,[1]Sheet1!B578)","v":"Tiemessen"}]
[{"$f":"IF([1]Sheet1!A579=113,0,[1]Sheet1!A579)","v":12031},{"$f":"IF([1]Sheet1!A579=113,0,[1]Sheet1!F579)","v":116374},{"$f":"[1]Sheet1!G579","v":"Straub"},{"$f":"[1]Sheet1!H579","v":"Cor"},{"$f":"[1]Sheet1!J579","v":0},"Cor Straub",null,{"$f":"IF(A576=113,0,[1]Sheet1!B579)","v":"Tiemessen"}]
[{"$f":"IF([1]Sheet1!A580=113,0,[1]Sheet1!A580)","v":12031},{"$f":"IF([1]Sheet1!A580=113,0,[1]Sheet1!F580)","v":112169},{"$f":"[1]Sheet1!G580","v":"Westerhof"},{"$f":"[1]Sheet1!H580","v":"Jos"},{"$f":"[1]Sheet1!J580","v":0},"Jos Westerhof",null,{"$f":"IF(A577=113,0,[1]Sheet1!B580)","v":"Tiemessen"}]
[{"$f":"IF([1]Sheet1!A581=113,0,[1]Sheet1!A581)","v":12129},{"$f":"IF([1]Sheet1!A581=113,0,[1]Sheet1!F581)","v":263809},{"$f":"[1]Sheet1!G581","v":"Ankersmit"},{"$f":"[1]Sheet1!H581","v":"Hubert"},{"$f":"[1]Sheet1!J581","v":0},"Hubert Ankersmit",null,{"$f":"IF(A578=113,0,[1]Sheet1!B581)","v":"D`n Draejer"}]
[{"$f":"IF([1]Sheet1!A582=113,0,[1]Sheet1!A582)","v":12129},{"$f":"IF([1]Sheet1!A582=113,0,[1]Sheet1!F582)","v":246340},{"$f":"[1]Sheet1!G582","v":"Boerstal"},{"$f":"[1]Sheet1!H582","v":"Jos"},{"$f":"[1]Sheet1!J582","v":0},"Jos Boerstal",null,{"$f":"IF(A579=113,0,[1]Sheet1!B582)","v":"D`n Draejer"}]
[{"$f":"IF([1]Sheet1!A583=113,0,[1]Sheet1!A583)","v":12129},{"$f":"IF([1]Sheet1!A583=113,0,[1]Sheet1!F583)","v":184248},{"$f":"[1]Sheet1!G583","v":"Branderhorst"},{"$f":"[1]Sheet1!H583","v":"Bennie"},{"$f":"[1]Sheet1!J583","v":0},"Bennie Branderhorst",null,{"$f":"IF(A580=113,0,[1]Sheet1!B583)","v":"D`n Draejer"}]
[{"$f":"IF([1]Sheet1!A584=113,0,[1]Sheet1!A584)","v":12129},{"$f":"IF([1]Sheet1!A584=113,0,[1]Sheet1!F584)","v":246339},{"$f":"[1]Sheet1!G584","v":"Derksen"},{"$f":"[1]Sheet1!H584","v":"Wim"},{"$f":"[1]Sheet1!J584","v":0},"Wim Derksen",null,{"$f":"IF(A581=113,0,[1]Sheet1!B584)","v":"D`n Draejer"}]
[{"$f":"IF([1]Sheet1!A585=113,0,[1]Sheet1!A585)","v":12129},{"$f":"IF([1]Sheet1!A585=113,0,[1]Sheet1!F585)","v":211112},{"$f":"[1]Sheet1!G585","v":"Groot Jebbink"},{"$f":"[1]Sheet1!H585","v":"Adrie"},{"$f":"[1]Sheet1!J585","v":0},"Adrie Groot Jebbink",null,{"$f":"IF(A582=113,0,[1]Sheet1!B585)","v":"D`n Draejer"}]
[{"$f":"IF([1]Sheet1!A586=113,0,[1]Sheet1!A586)","v":12129},{"$f":"IF([1]Sheet1!A586=113,0,[1]Sheet1!F586)","v":151373},{"$f":"[1]Sheet1!G586","v":"Groot Jebbink"},{"$f":"[1]Sheet1!H586","v":"Willem"},{"$f":"[1]Sheet1!J586","v":0},"Willem Groot Jebbink",null,{"$f":"IF(A583=113,0,[1]Sheet1!B586)","v":"D`n Draejer"}]
[{"$f":"IF([1]Sheet1!A587=113,0,[1]Sheet1!A587)","v":12129},{"$f":"IF([1]Sheet1!A587=113,0,[1]Sheet1!F587)","v":155143},{"$f":"[1]Sheet1!G587","v":"Hissink"},{"$f":"[1]Sheet1!H587","v":"Han"},{"$f":"[1]Sheet1!J587","v":0},"Han Hissink",null,{"$f":"IF(A584=113,0,[1]Sheet1!B587)","v":"D`n Draejer"}]
[{"$f":"IF([1]Sheet1!A588=113,0,[1]Sheet1!A588)","v":12129},{"$f":"IF([1]Sheet1!A588=113,0,[1]Sheet1!F588)","v":263817},{"$f":"[1]Sheet1!G588","v":"Hofstede"},{"$f":"[1]Sheet1!H588","v":"Herro"},{"$f":"[1]Sheet1!J588","v":0},"Herro Hofstede",null,{"$f":"IF(A585=113,0,[1]Sheet1!B588)","v":"D`n Draejer"}]
[{"$f":"IF([1]Sheet1!A589=113,0,[1]Sheet1!A589)","v":12129},{"$f":"IF([1]Sheet1!A589=113,0,[1]Sheet1!F589)","v":171676},{"$f":"[1]Sheet1!G589","v":"Jansen"},{"$f":"[1]Sheet1!H589","v":"Hans"},{"$f":"[1]Sheet1!J589","v":0},"Hans Jansen",null,{"$f":"IF(A586=113,0,[1]Sheet1!B589)","v":"D`n Draejer"}]
[{"$f":"IF([1]Sheet1!A590=113,0,[1]Sheet1!A590)","v":12129},{"$f":"IF([1]Sheet1!A590=113,0,[1]Sheet1!F590)","v":150124},{"$f":"[1]Sheet1!G590","v":"Jolink"},{"$f":"[1]Sheet1!H590","v":"Gerrit"},{"$f":"[1]Sheet1!J590","v":0},"Gerrit Jolink",null,{"$f":"IF(A587=113,0,[1]Sheet1!B590)","v":"D`n Draejer"}]
[{"$f":"IF([1]Sheet1!A591=113,0,[1]Sheet1!A591)","v":12129},{"$f":"IF([1]Sheet1!A591=113,0,[1]Sheet1!F591)","v":150124},{"$f":"[1]Sheet1!G591","v":"Jolink"},{"$f":"[1]Sheet1!H591","v":"Gerrit"},{"$f":"[1]Sheet1!J591","v":0},"Gerrit Jolink",null,{"$f":"IF(A588=113,0,[1]Sheet1!B591)","v":"D`n Draejer"}]
[{"$f":"IF([1]Sheet1!A592=113,0,[1]Sheet1!A592)","v":12129},{"$f":"IF([1]Sheet1!A592=113,0,[1]Sheet1!F592)","v":246341},{"$f":"[1]Sheet1!G592","v":"Posthuma"},{"$f":"[1]Sheet1!H592","v":"Peter"},{"$f":"[1]Sheet1!J592","v":0},"Peter Posthuma",null,{"$f":"IF(A589=113,0,[1]Sheet1!B592)","v":"D`n Draejer"}]
[{"$f":"IF([1]Sheet1!A593=113,0,[1]Sheet1!A593)","v":12129},{"$f":"IF([1]Sheet1!A593=113,0,[1]Sheet1!F593)","v":203300},{"$f":"[1]Sheet1!G593","v":"Rooden"},{"$f":"[1]Sheet1!H593","v":"Valentijn"},{"$f":"[1]Sheet1!J593","v":"van"},"Valentijn van Rooden",null,{"$f":"IF(A590=113,0,[1]Sheet1!B593)","v":"D`n Draejer"}]
[{"$f":"IF([1]Sheet1!A594=113,0,[1]Sheet1!A594)","v":12129},{"$f":"IF([1]Sheet1!A594=113,0,[1]Sheet1!F594)","v":182500},{"$f":"[1]Sheet1!G594","v":"Sak"},{"$f":"[1]Sheet1!H594","v":"Wim"},{"$f":"[1]Sheet1!J594","v":0},"Wim Sak",null,{"$f":"IF(A591=113,0,[1]Sheet1!B594)","v":"D`n Draejer"}]
[{"$f":"IF([1]Sheet1!A595=113,0,[1]Sheet1!A595)","v":12129},{"$f":"IF([1]Sheet1!A595=113,0,[1]Sheet1!F595)","v":182500},{"$f":"[1]Sheet1!G595","v":"Sak"},{"$f":"[1]Sheet1!H595","v":"Wim"},{"$f":"[1]Sheet1!J595","v":0},"Wim Sak",null,{"$f":"IF(A592=113,0,[1]Sheet1!B595)","v":"D`n Draejer"}]
[{"$f":"IF([1]Sheet1!A596=113,0,[1]Sheet1!A596)","v":12129},{"$f":"IF([1]Sheet1!A596=113,0,[1]Sheet1!F596)","v":211999},{"$f":"[1]Sheet1!G596","v":"Schreurs"},{"$f":"[1]Sheet1!H596","v":"Willy"},{"$f":"[1]Sheet1!J596","v":0},"Willy Schreurs",null,{"$f":"IF(A593=113,0,[1]Sheet1!B596)","v":"D`n Draejer"}]
[{"$f":"IF([1]Sheet1!A597=113,0,[1]Sheet1!A597)","v":12129},{"$f":"IF([1]Sheet1!A597=113,0,[1]Sheet1!F597)","v":246343},{"$f":"[1]Sheet1!G597","v":"Toorn"},{"$f":"[1]Sheet1!H597","v":"Eduard"},{"$f":"[1]Sheet1!J597","v":"van de"},"Eduard van de Toorn",null,{"$f":"IF(A594=113,0,[1]Sheet1!B597)","v":"D`n Draejer"}]
[{"$f":"IF([1]Sheet1!A598=113,0,[1]Sheet1!A598)","v":12129},{"$f":"IF([1]Sheet1!A598=113,0,[1]Sheet1!F598)","v":263889},{"$f":"[1]Sheet1!G598","v":"Toorn"},{"$f":"[1]Sheet1!H598","v":"Jeannette"},{"$f":"[1]Sheet1!J598","v":"van de"},"Jeannette van de Toorn",null,{"$f":"IF(A595=113,0,[1]Sheet1!B598)","v":"D`n Draejer"}]
[{"$f":"IF([1]Sheet1!A599=113,0,[1]Sheet1!A599)","v":12129},{"$f":"IF([1]Sheet1!A599=113,0,[1]Sheet1!F599)","v":246342},{"$f":"[1]Sheet1!G599","v":"Velzen"},{"$f":"[1]Sheet1!H599","v":"Gerard"},{"$f":"[1]Sheet1!J599","v":"van"},"Gerard van Velzen",null,{"$f":"IF(A596=113,0,[1]Sheet1!B599)","v":"D`n Draejer"}]
[{"$f":"IF([1]Sheet1!A600=113,0,[1]Sheet1!A600)","v":12129},{"$f":"IF([1]Sheet1!A600=113,0,[1]Sheet1!F600)","v":130140},{"$f":"[1]Sheet1!G600","v":"Waenink"},{"$f":"[1]Sheet1!H600","v":"Willie"},{"$f":"[1]Sheet1!J600","v":0},{"$f":"IF(E597=0,CONCATENATE(D597,\" \",C597),CONCATENATE(D597,\" \",E597,\" \",C597))","v":"Willie Waenink"},null,{"$f":"IF(A597=113,0,[1]Sheet1!B600)","v":"D`n Draejer"}]
[{"$f":"IF([1]Sheet1!A601=113,0,[1]Sheet1!A601)","v":12129},{"$f":"IF([1]Sheet1!A601=113,0,[1]Sheet1!F601)","v":160926},{"$f":"[1]Sheet1!G601","v":"Wentink"},{"$f":"[1]Sheet1!H601","v":"Dick"},{"$f":"[1]Sheet1!J601","v":0},"Dick Wentink",null,{"$f":"IF(A598=113,0,[1]Sheet1!B601)","v":"D`n Draejer"}]
[{"$f":"IF([1]Sheet1!A602=113,0,[1]Sheet1!A602)","v":12129},{"$f":"IF([1]Sheet1!A602=113,0,[1]Sheet1!F602)","v":134329},{"$f":"[1]Sheet1!G602","v":"Willemsen"},{"$f":"[1]Sheet1!H602","v":"Paul"},{"$f":"[1]Sheet1!J602","v":0},"Paul Willemsen",null,{"$f":"IF(A599=113,0,[1]Sheet1!B602)","v":"D`n Draejer"}]
[{"$f":"IF([1]Sheet1!A603=113,0,[1]Sheet1!A603)","v":12129},{"$f":"IF([1]Sheet1!A603=113,0,[1]Sheet1!F603)","v":211350},{"$f":"[1]Sheet1!G603","v":"Winden"},{"$f":"[1]Sheet1!H603","v":"Arie"},{"$f":"[1]Sheet1!J603","v":"van"},"Arie van Winden",null,{"$f":"IF(A600=113,0,[1]Sheet1!B603)","v":"D`n Draejer"}]
[{"$f":"IF([1]Sheet1!A604=113,0,[1]Sheet1!A604)","v":12214},{"$f":"IF([1]Sheet1!A604=113,0,[1]Sheet1!F604)","v":226447},{"$f":"[1]Sheet1!G604","v":"Hunting"},{"$f":"[1]Sheet1!H604","v":"Marco"},{"$f":"[1]Sheet1!J604","v":0},"Marco Hunting",null,{"$f":"IF(A601=113,0,[1]Sheet1!B604)","v":"Kievit"}]
[{"$f":"IF([1]Sheet1!A605=113,0,[1]Sheet1!A605)","v":12214},{"$f":"IF([1]Sheet1!A605=113,0,[1]Sheet1!F605)","v":134808},{"$f":"[1]Sheet1!G605","v":"Hunting"},{"$f":"[1]Sheet1!H605","v":"Rudy"},{"$f":"[1]Sheet1!J605","v":0},"Rudy Hunting",null,{"$f":"IF(A602=113,0,[1]Sheet1!B605)","v":"Kievit"}]
[{"$f":"IF([1]Sheet1!A606=113,0,[1]Sheet1!A606)","v":12214},{"$f":"IF([1]Sheet1!A606=113,0,[1]Sheet1!F606)","v":203430},{"$f":"[1]Sheet1!G606","v":"Hunting"},{"$f":"[1]Sheet1!H606","v":"Wilfried"},{"$f":"[1]Sheet1!J606","v":0},"Wilfried Hunting",null,{"$f":"IF(A603=113,0,[1]Sheet1!B606)","v":"Kievit"}]
[{"$f":"IF([1]Sheet1!A607=113,0,[1]Sheet1!A607)","v":12214},{"$f":"IF([1]Sheet1!A607=113,0,[1]Sheet1!F607)","v":177736},{"$f":"[1]Sheet1!G607","v":"Overbeek"},{"$f":"[1]Sheet1!H607","v":"Hans"},{"$f":"[1]Sheet1!J607","v":0},"Hans Overbeek",null,{"$f":"IF(A604=113,0,[1]Sheet1!B607)","v":"Kievit"}]
[{"$f":"IF([1]Sheet1!A608=113,0,[1]Sheet1!A608)","v":12214},{"$f":"IF([1]Sheet1!A608=113,0,[1]Sheet1!F608)","v":164277},{"$f":"[1]Sheet1!G608","v":"Schrijvers"},{"$f":"[1]Sheet1!H608","v":"HarriÃ«t"},{"$f":"[1]Sheet1!J608","v":0},"HarriÃ«t Schrijvers",null,{"$f":"IF(A605=113,0,[1]Sheet1!B608)","v":"Kievit"}]
[{"$f":"IF([1]Sheet1!A609=113,0,[1]Sheet1!A609)","v":12214},{"$f":"IF([1]Sheet1!A609=113,0,[1]Sheet1!F609)","v":177734},{"$f":"[1]Sheet1!G609","v":"Verholt"},{"$f":"[1]Sheet1!H609","v":"Bernie"},{"$f":"[1]Sheet1!J609","v":0},"Bernie Verholt",null,{"$f":"IF(A606=113,0,[1]Sheet1!B609)","v":"Kievit"}]
[{"$f":"IF([1]Sheet1!A610=113,0,[1]Sheet1!A610)","v":12214},{"$f":"IF([1]Sheet1!A610=113,0,[1]Sheet1!F610)","v":177735},{"$f":"[1]Sheet1!G610","v":"Verholt"},{"$f":"[1]Sheet1!H610","v":"Robert"},{"$f":"[1]Sheet1!J610","v":0},"Robert Verholt",null,{"$f":"IF(A607=113,0,[1]Sheet1!B610)","v":"Kievit"}]
[{"$f":"IF([1]Sheet1!A611=113,0,[1]Sheet1!A611)","v":12214},{"$f":"IF([1]Sheet1!A611=113,0,[1]Sheet1!F611)","v":177735},{"$f":"[1]Sheet1!G611","v":"Verholt"},{"$f":"[1]Sheet1!H611","v":"Robert"},{"$f":"[1]Sheet1!J611","v":0},"Robert Verholt",null,{"$f":"IF(A608=113,0,[1]Sheet1!B611)","v":"Kievit"}]
[{"$f":"IF([1]Sheet1!A612=113,0,[1]Sheet1!A612)","v":12381},{"$f":"IF([1]Sheet1!A612=113,0,[1]Sheet1!F612)","v":107084},{"$f":"[1]Sheet1!G612","v":"Berendsen"},{"$f":"[1]Sheet1!H612","v":"Leo"},{"$f":"[1]Sheet1!J612","v":0},"Leo Berendsen",null,{"$f":"IF(A609=113,0,[1]Sheet1!B612)","v":"Markt Doesburg"}]
[{"$f":"IF([1]Sheet1!A613=113,0,[1]Sheet1!A613)","v":12381},{"$f":"IF([1]Sheet1!A613=113,0,[1]Sheet1!F613)","v":145424},{"$f":"[1]Sheet1!G613","v":"Bos"},{"$f":"[1]Sheet1!H613","v":"Saskia"},{"$f":"[1]Sheet1!J613","v":0},"Saskia Bos",null,{"$f":"IF(A610=113,0,[1]Sheet1!B613)","v":"Markt Doesburg"}]
[{"$f":"IF([1]Sheet1!A614=113,0,[1]Sheet1!A614)","v":12381},{"$f":"IF([1]Sheet1!A614=113,0,[1]Sheet1!F614)","v":122069},{"$f":"[1]Sheet1!G614","v":"Broers"},{"$f":"[1]Sheet1!H614","v":"Maarten"},{"$f":"[1]Sheet1!J614","v":0},"Maarten Broers",null,{"$f":"IF(A611=113,0,[1]Sheet1!B614)","v":"Markt Doesburg"}]
[{"$f":"IF([1]Sheet1!A615=113,0,[1]Sheet1!A615)","v":12381},{"$f":"IF([1]Sheet1!A615=113,0,[1]Sheet1!F615)","v":122069},{"$f":"[1]Sheet1!G615","v":"Broers"},{"$f":"[1]Sheet1!H615","v":"Maarten"},{"$f":"[1]Sheet1!J615","v":0},"Maarten Broers",null,{"$f":"IF(A612=113,0,[1]Sheet1!B615)","v":"Markt Doesburg"}]
[{"$f":"IF([1]Sheet1!A616=113,0,[1]Sheet1!A616)","v":12381},{"$f":"IF([1]Sheet1!A616=113,0,[1]Sheet1!F616)","v":135700},{"$f":"[1]Sheet1!G616","v":"Brouwer"},{"$f":"[1]Sheet1!H616","v":"Henk"},{"$f":"[1]Sheet1!J616","v":0},"Henk Brouwer",null,{"$f":"IF(A613=113,0,[1]Sheet1!B616)","v":"Markt Doesburg"}]
[{"$f":"IF([1]Sheet1!A617=113,0,[1]Sheet1!A617)","v":12381},{"$f":"IF([1]Sheet1!A617=113,0,[1]Sheet1!F617)","v":203306},{"$f":"[1]Sheet1!G617","v":"Brugman"},{"$f":"[1]Sheet1!H617","v":"Theo"},{"$f":"[1]Sheet1!J617","v":0},"Theo Brugman",null,{"$f":"IF(A614=113,0,[1]Sheet1!B617)","v":"Markt Doesburg"}]
[{"$f":"IF([1]Sheet1!A618=113,0,[1]Sheet1!A618)","v":12381},{"$f":"IF([1]Sheet1!A618=113,0,[1]Sheet1!F618)","v":173511},{"$f":"[1]Sheet1!G618","v":"Es"},{"$f":"[1]Sheet1!H618","v":"Rob"},{"$f":"[1]Sheet1!J618","v":"van"},"Rob van Es",null,{"$f":"IF(A615=113,0,[1]Sheet1!B618)","v":"Markt Doesburg"}]
[{"$f":"IF([1]Sheet1!A619=113,0,[1]Sheet1!A619)","v":12381},{"$f":"IF([1]Sheet1!A619=113,0,[1]Sheet1!F619)","v":201994},{"$f":"[1]Sheet1!G619","v":"Evers"},{"$f":"[1]Sheet1!H619","v":"Chris"},{"$f":"[1]Sheet1!J619","v":0},"Chris Evers",null,{"$f":"IF(A616=113,0,[1]Sheet1!B619)","v":"Markt Doesburg"}]
[{"$f":"IF([1]Sheet1!A620=113,0,[1]Sheet1!A620)","v":12381},{"$f":"IF([1]Sheet1!A620=113,0,[1]Sheet1!F620)","v":134499},{"$f":"[1]Sheet1!G620","v":"Gijsberts"},{"$f":"[1]Sheet1!H620","v":"Wim"},{"$f":"[1]Sheet1!J620","v":0},"Wim Gijsberts",null,{"$f":"IF(A617=113,0,[1]Sheet1!B620)","v":"Markt Doesburg"}]
[{"$f":"IF([1]Sheet1!A621=113,0,[1]Sheet1!A621)","v":12381},{"$f":"IF([1]Sheet1!A621=113,0,[1]Sheet1!F621)","v":136263},{"$f":"[1]Sheet1!G621","v":"Hagens"},{"$f":"[1]Sheet1!H621","v":"Hans"},{"$f":"[1]Sheet1!J621","v":0},"Hans Hagens",null,{"$f":"IF(A618=113,0,[1]Sheet1!B621)","v":"Markt Doesburg"}]
[{"$f":"IF([1]Sheet1!A622=113,0,[1]Sheet1!A622)","v":12381},{"$f":"IF([1]Sheet1!A622=113,0,[1]Sheet1!F622)","v":136263},{"$f":"[1]Sheet1!G622","v":"Hagens"},{"$f":"[1]Sheet1!H622","v":"Hans"},{"$f":"[1]Sheet1!J622","v":0},"Hans Hagens",null,{"$f":"IF(A619=113,0,[1]Sheet1!B622)","v":"Markt Doesburg"}]
[{"$f":"IF([1]Sheet1!A623=113,0,[1]Sheet1!A623)","v":12381},{"$f":"IF([1]Sheet1!A623=113,0,[1]Sheet1!F623)","v":115203},{"$f":"[1]Sheet1!G623","v":"Haring"},{"$f":"[1]Sheet1!H623","v":"Pierre"},{"$f":"[1]Sheet1!J623","v":0},"Pierre Haring",null,{"$f":"IF(A620=113,0,[1]Sheet1!B623)","v":"Markt Doesburg"}]
[{"$f":"IF([1]Sheet1!A624=113,0,[1]Sheet1!A624)","v":12381},{"$f":"IF([1]Sheet1!A624=113,0,[1]Sheet1!F624)","v":115203},{"$f":"[1]Sheet1!G624","v":"Haring"},{"$f":"[1]Sheet1!H624","v":"Pierre"},{"$f":"[1]Sheet1!J624","v":0},"Pierre Haring",null,{"$f":"IF(A621=113,0,[1]Sheet1!B624)","v":"Markt Doesburg"}]
[{"$f":"IF([1]Sheet1!A625=113,0,[1]Sheet1!A625)","v":12381},{"$f":"IF([1]Sheet1!A625=113,0,[1]Sheet1!F625)","v":159055},{"$f":"[1]Sheet1!G625","v":"Heumen"},{"$f":"[1]Sheet1!H625","v":"Harry"},{"$f":"[1]Sheet1!J625","v":"van"},"Harry van Heumen",null,{"$f":"IF(A622=113,0,[1]Sheet1!B625)","v":"Markt Doesburg"}]
[{"$f":"IF([1]Sheet1!A626=113,0,[1]Sheet1!A626)","v":12381},{"$f":"IF([1]Sheet1!A626=113,0,[1]Sheet1!F626)","v":135072},{"$f":"[1]Sheet1!G626","v":"Hoogkamp"},{"$f":"[1]Sheet1!H626","v":"Ton"},{"$f":"[1]Sheet1!J626","v":0},"Ton Hoogkamp",null,{"$f":"IF(A623=113,0,[1]Sheet1!B626)","v":"Markt Doesburg"}]
[{"$f":"IF([1]Sheet1!A627=113,0,[1]Sheet1!A627)","v":12381},{"$f":"IF([1]Sheet1!A627=113,0,[1]Sheet1!F627)","v":217491},{"$f":"[1]Sheet1!G627","v":"Kip"},{"$f":"[1]Sheet1!H627","v":"Jan"},{"$f":"[1]Sheet1!J627","v":0},"Jan Kip",null,{"$f":"IF(A624=113,0,[1]Sheet1!B627)","v":"Markt Doesburg"}]
[{"$f":"IF([1]Sheet1!A628=113,0,[1]Sheet1!A628)","v":12381},{"$f":"IF([1]Sheet1!A628=113,0,[1]Sheet1!F628)","v":215424},{"$f":"[1]Sheet1!G628","v":"Kruk"},{"$f":"[1]Sheet1!H628","v":"Martin"},{"$f":"[1]Sheet1!J628","v":0},"Martin Kruk",null,{"$f":"IF(A625=113,0,[1]Sheet1!B628)","v":"Markt Doesburg"}]
[{"$f":"IF([1]Sheet1!A629=113,0,[1]Sheet1!A629)","v":12381},{"$f":"IF([1]Sheet1!A629=113,0,[1]Sheet1!F629)","v":208993},{"$f":"[1]Sheet1!G629","v":"Leensen"},{"$f":"[1]Sheet1!H629","v":"Dennis"},{"$f":"[1]Sheet1!J629","v":0},"Dennis Leensen",null,{"$f":"IF(A626=113,0,[1]Sheet1!B629)","v":"Markt Doesburg"}]
[{"$f":"IF([1]Sheet1!A630=113,0,[1]Sheet1!A630)","v":12381},{"$f":"IF([1]Sheet1!A630=113,0,[1]Sheet1!F630)","v":226241},{"$f":"[1]Sheet1!G630","v":"LÃ¶wental"},{"$f":"[1]Sheet1!H630","v":"Rolinka"},{"$f":"[1]Sheet1!J630","v":0},"Rolinka LÃ¶wental",null,{"$f":"IF(A627=113,0,[1]Sheet1!B630)","v":"Markt Doesburg"}]
[{"$f":"IF([1]Sheet1!A631=113,0,[1]Sheet1!A631)","v":12381},{"$f":"IF([1]Sheet1!A631=113,0,[1]Sheet1!F631)","v":208992},{"$f":"[1]Sheet1!G631","v":"Pasman"},{"$f":"[1]Sheet1!H631","v":"Ruud"},{"$f":"[1]Sheet1!J631","v":0},"Ruud Pasman",null,{"$f":"IF(A628=113,0,[1]Sheet1!B631)","v":"Markt Doesburg"}]
[{"$f":"IF([1]Sheet1!A632=113,0,[1]Sheet1!A632)","v":12381},{"$f":"IF([1]Sheet1!A632=113,0,[1]Sheet1!F632)","v":202000},{"$f":"[1]Sheet1!G632","v":"Rabeling"},{"$f":"[1]Sheet1!H632","v":"Marco"},{"$f":"[1]Sheet1!J632","v":0},"Marco Rabeling",null,{"$f":"IF(A629=113,0,[1]Sheet1!B632)","v":"Markt Doesburg"}]
[{"$f":"IF([1]Sheet1!A633=113,0,[1]Sheet1!A633)","v":12381},{"$f":"IF([1]Sheet1!A633=113,0,[1]Sheet1!F633)","v":102751},{"$f":"[1]Sheet1!G633","v":"Salemink"},{"$f":"[1]Sheet1!H633","v":"Johan"},{"$f":"[1]Sheet1!J633","v":0},"Johan Salemink",null,{"$f":"IF(A630=113,0,[1]Sheet1!B633)","v":"Markt Doesburg"}]
[{"$f":"IF([1]Sheet1!A634=113,0,[1]Sheet1!A634)","v":12381},{"$f":"IF([1]Sheet1!A634=113,0,[1]Sheet1!F634)","v":142125},{"$f":"[1]Sheet1!G634","v":"Schmale"},{"$f":"[1]Sheet1!H634","v":"Heinz"},{"$f":"[1]Sheet1!J634","v":0},"Heinz Schmale",null,{"$f":"IF(A631=113,0,[1]Sheet1!B634)","v":"Markt Doesburg"}]
[{"$f":"IF([1]Sheet1!A635=113,0,[1]Sheet1!A635)","v":12381},{"$f":"IF([1]Sheet1!A635=113,0,[1]Sheet1!F635)","v":164880},{"$f":"[1]Sheet1!G635","v":"Steintjes"},{"$f":"[1]Sheet1!H635","v":"Guido"},{"$f":"[1]Sheet1!J635","v":0},"Guido Steintjes",null,{"$f":"IF(A632=113,0,[1]Sheet1!B635)","v":"Markt Doesburg"}]
[{"$f":"IF([1]Sheet1!A636=113,0,[1]Sheet1!A636)","v":12381},{"$f":"IF([1]Sheet1!A636=113,0,[1]Sheet1!F636)","v":147639},{"$f":"[1]Sheet1!G636","v":"Steintjes"},{"$f":"[1]Sheet1!H636","v":"Marco"},{"$f":"[1]Sheet1!J636","v":0},"Marco Steintjes",null,{"$f":"IF(A633=113,0,[1]Sheet1!B636)","v":"Markt Doesburg"}]
[{"$f":"IF([1]Sheet1!A637=113,0,[1]Sheet1!A637)","v":12381},{"$f":"IF([1]Sheet1!A637=113,0,[1]Sheet1!F637)","v":214852},{"$f":"[1]Sheet1!G637","v":"Stieding"},{"$f":"[1]Sheet1!H637","v":"Ton"},{"$f":"[1]Sheet1!J637","v":0},"Ton Stieding",null,{"$f":"IF(A634=113,0,[1]Sheet1!B637)","v":"Markt Doesburg"}]
[{"$f":"IF([1]Sheet1!A638=113,0,[1]Sheet1!A638)","v":12381},{"$f":"IF([1]Sheet1!A638=113,0,[1]Sheet1!F638)","v":203419},{"$f":"[1]Sheet1!G638","v":"Tahapary"},{"$f":"[1]Sheet1!H638","v":"Edwin"},{"$f":"[1]Sheet1!J638","v":0},"Edwin Tahapary",null,{"$f":"IF(A635=113,0,[1]Sheet1!B638)","v":"Markt Doesburg"}]
[{"$f":"IF([1]Sheet1!A639=113,0,[1]Sheet1!A639)","v":12381},{"$f":"IF([1]Sheet1!A639=113,0,[1]Sheet1!F639)","v":182989},{"$f":"[1]Sheet1!G639","v":"Timmerman"},{"$f":"[1]Sheet1!H639","v":"Bea"},{"$f":"[1]Sheet1!J639","v":0},"Bea Timmerman",null,{"$f":"IF(A636=113,0,[1]Sheet1!B639)","v":"Markt Doesburg"}]
[{"$f":"IF([1]Sheet1!A640=113,0,[1]Sheet1!A640)","v":12381},{"$f":"IF([1]Sheet1!A640=113,0,[1]Sheet1!F640)","v":201991},{"$f":"[1]Sheet1!G640","v":"Ussen"},{"$f":"[1]Sheet1!H640","v":"Jan"},{"$f":"[1]Sheet1!J640","v":"van"},"Jan van Ussen",null,{"$f":"IF(A637=113,0,[1]Sheet1!B640)","v":"Markt Doesburg"}]
[{"$f":"IF([1]Sheet1!A641=113,0,[1]Sheet1!A641)","v":12381},{"$f":"IF([1]Sheet1!A641=113,0,[1]Sheet1!F641)","v":201998},{"$f":"[1]Sheet1!G641","v":"Visser"},{"$f":"[1]Sheet1!H641","v":"Jan"},{"$f":"[1]Sheet1!J641","v":0},"Jan Visser",null,{"$f":"IF(A638=113,0,[1]Sheet1!B641)","v":"Markt Doesburg"}]
[{"$f":"IF([1]Sheet1!A642=113,0,[1]Sheet1!A642)","v":12381},{"$f":"IF([1]Sheet1!A642=113,0,[1]Sheet1!F642)","v":223108},{"$f":"[1]Sheet1!G642","v":"Wenting"},{"$f":"[1]Sheet1!H642","v":"Gerard"},{"$f":"[1]Sheet1!J642","v":0},"Gerard Wenting",null,{"$f":"IF(A639=113,0,[1]Sheet1!B642)","v":"Markt Doesburg"}]
[{"$f":"IF([1]Sheet1!A643=113,0,[1]Sheet1!A643)","v":12381},{"$f":"IF([1]Sheet1!A643=113,0,[1]Sheet1!F643)","v":204447},{"$f":"[1]Sheet1!G643","v":"Witjes"},{"$f":"[1]Sheet1!H643","v":"Coen"},{"$f":"[1]Sheet1!J643","v":0},"Coen Witjes",null,{"$f":"IF(A640=113,0,[1]Sheet1!B643)","v":"Markt Doesburg"}]
[{"$f":"IF([1]Sheet1!A644=113,0,[1]Sheet1!A644)","v":12381},{"$f":"IF([1]Sheet1!A644=113,0,[1]Sheet1!F644)","v":151273},{"$f":"[1]Sheet1!G644","v":"Wolsink"},{"$f":"[1]Sheet1!H644","v":"Eef"},{"$f":"[1]Sheet1!J644","v":0},"Eef Wolsink",null,{"$f":"IF(A641=113,0,[1]Sheet1!B644)","v":"Markt Doesburg"}]
[{"$f":"IF([1]Sheet1!A645=113,0,[1]Sheet1!A645)","v":12584},{"$f":"IF([1]Sheet1!A645=113,0,[1]Sheet1!F645)","v":105830},{"$f":"[1]Sheet1!G645","v":"Aalderink"},{"$f":"[1]Sheet1!H645","v":"Gerrit"},{"$f":"[1]Sheet1!J645","v":0},"Gerrit Aalderink",null,{"$f":"IF(A642=113,0,[1]Sheet1!B645)","v":"RBC Doetinchem eo"}]
[{"$f":"IF([1]Sheet1!A646=113,0,[1]Sheet1!A646)","v":12584},{"$f":"IF([1]Sheet1!A646=113,0,[1]Sheet1!F646)","v":215369},{"$f":"[1]Sheet1!G646","v":"Aken"},{"$f":"[1]Sheet1!H646","v":"Theo"},{"$f":"[1]Sheet1!J646","v":"van"},"Theo van Aken",null,{"$f":"IF(A643=113,0,[1]Sheet1!B646)","v":"RBC Doetinchem eo"}]
[{"$f":"IF([1]Sheet1!A647=113,0,[1]Sheet1!A647)","v":12584},{"$f":"IF([1]Sheet1!A647=113,0,[1]Sheet1!F647)","v":218942},{"$f":"[1]Sheet1!G647","v":"Aleven"},{"$f":"[1]Sheet1!H647","v":"Co"},{"$f":"[1]Sheet1!J647","v":0},"Co Aleven",null,{"$f":"IF(A644=113,0,[1]Sheet1!B647)","v":"RBC Doetinchem eo"}]
[{"$f":"IF([1]Sheet1!A648=113,0,[1]Sheet1!A648)","v":12584},{"$f":"IF([1]Sheet1!A648=113,0,[1]Sheet1!F648)","v":172514},{"$f":"[1]Sheet1!G648","v":"Amerongen"},{"$f":"[1]Sheet1!H648","v":"Gert"},{"$f":"[1]Sheet1!J648","v":"van"},"Gert van Amerongen",null,{"$f":"IF(A645=113,0,[1]Sheet1!B648)","v":"RBC Doetinchem eo"}]
[{"$f":"IF([1]Sheet1!A649=113,0,[1]Sheet1!A649)","v":12584},{"$f":"IF([1]Sheet1!A649=113,0,[1]Sheet1!F649)","v":225094},{"$f":"[1]Sheet1!G649","v":"Ankersmid"},{"$f":"[1]Sheet1!H649","v":"Henk"},{"$f":"[1]Sheet1!J649","v":0},"Henk Ankersmid",null,{"$f":"IF(A646=113,0,[1]Sheet1!B649)","v":"RBC Doetinchem eo"}]
[{"$f":"IF([1]Sheet1!A650=113,0,[1]Sheet1!A650)","v":12584},{"$f":"IF([1]Sheet1!A650=113,0,[1]Sheet1!F650)","v":229818},{"$f":"[1]Sheet1!G650","v":"Arends"},{"$f":"[1]Sheet1!H650","v":"Piet"},{"$f":"[1]Sheet1!J650","v":0},"Piet Arends",null,{"$f":"IF(A647=113,0,[1]Sheet1!B650)","v":"RBC Doetinchem eo"}]
[{"$f":"IF([1]Sheet1!A651=113,0,[1]Sheet1!A651)","v":12584},{"$f":"IF([1]Sheet1!A651=113,0,[1]Sheet1!F651)","v":112024},{"$f":"[1]Sheet1!G651","v":"Arentsen"},{"$f":"[1]Sheet1!H651","v":"Rudy"},{"$f":"[1]Sheet1!J651","v":0},"Rudy Arentsen",null,{"$f":"IF(A648=113,0,[1]Sheet1!B651)","v":"RBC Doetinchem eo"}]
[{"$f":"IF([1]Sheet1!A652=113,0,[1]Sheet1!A652)","v":12584},{"$f":"IF([1]Sheet1!A652=113,0,[1]Sheet1!F652)","v":210757},{"$f":"[1]Sheet1!G652","v":"Ariessen"},{"$f":"[1]Sheet1!H652","v":"Theo"},{"$f":"[1]Sheet1!J652","v":0},"Theo Ariessen",null,{"$f":"IF(A649=113,0,[1]Sheet1!B652)","v":"RBC Doetinchem eo"}]
[{"$f":"IF([1]Sheet1!A653=113,0,[1]Sheet1!A653)","v":12584},{"$f":"IF([1]Sheet1!A653=113,0,[1]Sheet1!F653)","v":204609},{"$f":"[1]Sheet1!G653","v":"Baars"},{"$f":"[1]Sheet1!H653","v":"Gert"},{"$f":"[1]Sheet1!J653","v":0},"Gert Baars",null,{"$f":"IF(A650=113,0,[1]Sheet1!B653)","v":"RBC Doetinchem eo"}]
[{"$f":"IF([1]Sheet1!A654=113,0,[1]Sheet1!A654)","v":12584},{"$f":"IF([1]Sheet1!A654=113,0,[1]Sheet1!F654)","v":200050},{"$f":"[1]Sheet1!G654","v":"Balk"},{"$f":"[1]Sheet1!H654","v":"Rob"},{"$f":"[1]Sheet1!J654","v":0},"Rob Balk",null,{"$f":"IF(A651=113,0,[1]Sheet1!B654)","v":"RBC Doetinchem eo"}]
[{"$f":"IF([1]Sheet1!A655=113,0,[1]Sheet1!A655)","v":12584},{"$f":"IF([1]Sheet1!A655=113,0,[1]Sheet1!F655)","v":208020},{"$f":"[1]Sheet1!G655","v":"Barthen"},{"$f":"[1]Sheet1!H655","v":"Jan"},{"$f":"[1]Sheet1!J655","v":0},"Jan Barthen",null,{"$f":"IF(A652=113,0,[1]Sheet1!B655)","v":"RBC Doetinchem eo"}]
[{"$f":"IF([1]Sheet1!A656=113,0,[1]Sheet1!A656)","v":12584},{"$f":"IF([1]Sheet1!A656=113,0,[1]Sheet1!F656)","v":179553},{"$f":"[1]Sheet1!G656","v":"Becking"},{"$f":"[1]Sheet1!H656","v":"Joop"},{"$f":"[1]Sheet1!J656","v":0},"Joop Becking",null,{"$f":"IF(A653=113,0,[1]Sheet1!B656)","v":"RBC Doetinchem eo"}]
[{"$f":"IF([1]Sheet1!A657=113,0,[1]Sheet1!A657)","v":12584},{"$f":"IF([1]Sheet1!A657=113,0,[1]Sheet1!F657)","v":109704},{"$f":"[1]Sheet1!G657","v":"Beest"},{"$f":"[1]Sheet1!H657","v":"Gerard"},{"$f":"[1]Sheet1!J657","v":"te"},"Gerard te Beest",null,{"$f":"IF(A654=113,0,[1]Sheet1!B657)","v":"RBC Doetinchem eo"}]
[{"$f":"IF([1]Sheet1!A658=113,0,[1]Sheet1!A658)","v":12584},{"$f":"IF([1]Sheet1!A658=113,0,[1]Sheet1!F658)","v":263775},{"$f":"[1]Sheet1!G658","v":"Beijer"},{"$f":"[1]Sheet1!H658","v":"Harry"},{"$f":"[1]Sheet1!J658","v":0},"Harry Beijer",null,{"$f":"IF(A655=113,0,[1]Sheet1!B658)","v":"RBC Doetinchem eo"}]
[{"$f":"IF([1]Sheet1!A659=113,0,[1]Sheet1!A659)","v":12584},{"$f":"IF([1]Sheet1!A659=113,0,[1]Sheet1!F659)","v":177738},{"$f":"[1]Sheet1!G659","v":"Beijer"},{"$f":"[1]Sheet1!H659","v":"Jo"},{"$f":"[1]Sheet1!J659","v":0},"Jo Beijer",null,{"$f":"IF(A656=113,0,[1]Sheet1!B659)","v":"RBC Doetinchem eo"}]
[{"$f":"IF([1]Sheet1!A660=113,0,[1]Sheet1!A660)","v":12584},{"$f":"IF([1]Sheet1!A660=113,0,[1]Sheet1!F660)","v":246375},{"$f":"[1]Sheet1!G660","v":"Beijer"},{"$f":"[1]Sheet1!H660","v":"Theodorus"},{"$f":"[1]Sheet1!J660","v":0},"Theodorus Beijer",null,{"$f":"IF(A657=113,0,[1]Sheet1!B660)","v":"RBC Doetinchem eo"}]
[{"$f":"IF([1]Sheet1!A661=113,0,[1]Sheet1!A661)","v":12584},{"$f":"IF([1]Sheet1!A661=113,0,[1]Sheet1!F661)","v":179554},{"$f":"[1]Sheet1!G661","v":"Bellert"},{"$f":"[1]Sheet1!H661","v":"Bertus"},{"$f":"[1]Sheet1!J661","v":0},"Bertus Bellert",null,{"$f":"IF(A658=113,0,[1]Sheet1!B661)","v":"RBC Doetinchem eo"}]
[{"$f":"IF([1]Sheet1!A662=113,0,[1]Sheet1!A662)","v":12584},{"$f":"IF([1]Sheet1!A662=113,0,[1]Sheet1!F662)","v":224384},{"$f":"[1]Sheet1!G662","v":"Berends"},{"$f":"[1]Sheet1!H662","v":"Bert"},{"$f":"[1]Sheet1!J662","v":0},"Bert Berends",null,{"$f":"IF(A659=113,0,[1]Sheet1!B662)","v":"RBC Doetinchem eo"}]
[{"$f":"IF([1]Sheet1!A663=113,0,[1]Sheet1!A663)","v":12584},{"$f":"IF([1]Sheet1!A663=113,0,[1]Sheet1!F663)","v":217876},{"$f":"[1]Sheet1!G663","v":"Berends"},{"$f":"[1]Sheet1!H663","v":"Henk"},{"$f":"[1]Sheet1!J663","v":0},"Henk Berends",null,{"$f":"IF(A660=113,0,[1]Sheet1!B663)","v":"RBC Doetinchem eo"}]
[{"$f":"IF([1]Sheet1!A664=113,0,[1]Sheet1!A664)","v":123456},{"$f":"IF([1]Sheet1!A664=113,0,[1]Sheet1!F664)","v":217549},{"$f":"[1]Sheet1!G664","v":"Berendsen"},{"$f":"[1]Sheet1!H664","v":"Ap"},{"$f":"[1]Sheet1!J664","v":0},{"$f":"IF(E661=0,CONCATENATE(D661,\" \",C661),CONCATENATE(D661,\" \",E661,\" \",C661))","v":"Ap Berendsen"},null,{"$f":"IF(A661=113,0,[1]Sheet1!B664)","v":"RBC Doetinchem eo"}]
[{"$f":"IF([1]Sheet1!A665=113,0,[1]Sheet1!A665)","v":12584},{"$f":"IF([1]Sheet1!A665=113,0,[1]Sheet1!F665)","v":246443},{"$f":"[1]Sheet1!G665","v":"Berendsen"},{"$f":"[1]Sheet1!H665","v":"Harrie"},{"$f":"[1]Sheet1!J665","v":0},"Harrie Berendsen",null,{"$f":"IF(A662=113,0,[1]Sheet1!B665)","v":"RBC Doetinchem eo"}]
[{"$f":"IF([1]Sheet1!A666=113,0,[1]Sheet1!A666)","v":12584},{"$f":"IF([1]Sheet1!A666=113,0,[1]Sheet1!F666)","v":167174},{"$f":"[1]Sheet1!G666","v":"Berens"},{"$f":"[1]Sheet1!H666","v":"Henk"},{"$f":"[1]Sheet1!J666","v":0},"Henk Berens",null,{"$f":"IF(A663=113,0,[1]Sheet1!B666)","v":"RBC Doetinchem eo"}]
[{"$f":"IF([1]Sheet1!A667=113,0,[1]Sheet1!A667)","v":12584},{"$f":"IF([1]Sheet1!A667=113,0,[1]Sheet1!F667)","v":151371},{"$f":"[1]Sheet1!G667","v":"Beulink"},{"$f":"[1]Sheet1!H667","v":"Bennie"},{"$f":"[1]Sheet1!J667","v":0},"Bennie Beulink",null,{"$f":"IF(A664=113,0,[1]Sheet1!B667)","v":"RBC Doetinchem eo"}]
[{"$f":"IF([1]Sheet1!A668=113,0,[1]Sheet1!A668)","v":12584},{"$f":"IF([1]Sheet1!A668=113,0,[1]Sheet1!F668)","v":224761},{"$f":"[1]Sheet1!G668","v":"Biezeman"},{"$f":"[1]Sheet1!H668","v":"Henk"},{"$f":"[1]Sheet1!J668","v":0},"Henk Biezeman",null,{"$f":"IF(A665=113,0,[1]Sheet1!B668)","v":"RBC Doetinchem eo"}]
[{"$f":"IF([1]Sheet1!A669=113,0,[1]Sheet1!A669)","v":123456},{"$f":"IF([1]Sheet1!A669=113,0,[1]Sheet1!F669)","v":155044},{"$f":"[1]Sheet1!G669","v":"Bisselink"},{"$f":"[1]Sheet1!H669","v":"Desiree"},{"$f":"[1]Sheet1!J669","v":0},"Desiree Bisselink",null,{"$f":"IF(A666=113,0,[1]Sheet1!B669)","v":"RBC Doetinchem eo"}]
[{"$f":"IF([1]Sheet1!A670=113,0,[1]Sheet1!A670)","v":12584},{"$f":"IF([1]Sheet1!A670=113,0,[1]Sheet1!F670)","v":154931},{"$f":"[1]Sheet1!G670","v":"Bloem"},{"$f":"[1]Sheet1!H670","v":"Theo"},{"$f":"[1]Sheet1!J670","v":0},"Theo Bloem",null,{"$f":"IF(A667=113,0,[1]Sheet1!B670)","v":"RBC Doetinchem eo"}]
[{"$f":"IF([1]Sheet1!A671=113,0,[1]Sheet1!A671)","v":12584},{"$f":"IF([1]Sheet1!A671=113,0,[1]Sheet1!F671)","v":218948},{"$f":"[1]Sheet1!G671","v":"Bloemberg"},{"$f":"[1]Sheet1!H671","v":"Carel"},{"$f":"[1]Sheet1!J671","v":0},"Carel Bloemberg",null,{"$f":"IF(A668=113,0,[1]Sheet1!B671)","v":"RBC Doetinchem eo"}]
[{"$f":"IF([1]Sheet1!A672=113,0,[1]Sheet1!A672)","v":12584},{"$f":"IF([1]Sheet1!A672=113,0,[1]Sheet1!F672)","v":136123},{"$f":"[1]Sheet1!G672","v":"Boekhorst"},{"$f":"[1]Sheet1!H672","v":"Fred"},{"$f":"[1]Sheet1!J672","v":"te"},"Fred te Boekhorst",null,{"$f":"IF(A669=113,0,[1]Sheet1!B672)","v":"RBC Doetinchem eo"}]
[{"$f":"IF([1]Sheet1!A673=113,0,[1]Sheet1!A673)","v":12584},{"$f":"IF([1]Sheet1!A673=113,0,[1]Sheet1!F673)","v":137053},{"$f":"[1]Sheet1!G673","v":"Boerboom"},{"$f":"[1]Sheet1!H673","v":"Henk"},{"$f":"[1]Sheet1!J673","v":0},"Henk Boerboom",null,{"$f":"IF(A670=113,0,[1]Sheet1!B673)","v":"RBC Doetinchem eo"}]
[{"$f":"IF([1]Sheet1!A674=113,0,[1]Sheet1!A674)","v":12584},{"$f":"IF([1]Sheet1!A674=113,0,[1]Sheet1!F674)","v":149059},{"$f":"[1]Sheet1!G674","v":"Boerboom"},{"$f":"[1]Sheet1!H674","v":"Piet"},{"$f":"[1]Sheet1!J674","v":0},"Piet Boerboom",null,{"$f":"IF(A671=113,0,[1]Sheet1!B674)","v":"RBC Doetinchem eo"}]
[{"$f":"IF([1]Sheet1!A675=113,0,[1]Sheet1!A675)","v":12584},{"$f":"IF([1]Sheet1!A675=113,0,[1]Sheet1!F675)","v":218921},{"$f":"[1]Sheet1!G675","v":"Bolk"},{"$f":"[1]Sheet1!H675","v":"Henny"},{"$f":"[1]Sheet1!J675","v":0},"Henny Bolk",null,{"$f":"IF(A672=113,0,[1]Sheet1!B675)","v":"RBC Doetinchem eo"}]
[{"$f":"IF([1]Sheet1!A676=113,0,[1]Sheet1!A676)","v":12584},{"$f":"IF([1]Sheet1!A676=113,0,[1]Sheet1!F676)","v":179556},{"$f":"[1]Sheet1!G676","v":"Bos"},{"$f":"[1]Sheet1!H676","v":"Bertus"},{"$f":"[1]Sheet1!J676","v":0},"Bertus Bos",null,{"$f":"IF(A673=113,0,[1]Sheet1!B676)","v":"RBC Doetinchem eo"}]
[{"$f":"IF([1]Sheet1!A677=113,0,[1]Sheet1!A677)","v":12584},{"$f":"IF([1]Sheet1!A677=113,0,[1]Sheet1!F677)","v":263731},{"$f":"[1]Sheet1!G677","v":"Bos"},{"$f":"[1]Sheet1!H677","v":"Frans"},{"$f":"[1]Sheet1!J677","v":0},"Frans Bos",null,{"$f":"IF(A674=113,0,[1]Sheet1!B677)","v":"RBC Doetinchem eo"}]
[{"$f":"IF([1]Sheet1!A678=113,0,[1]Sheet1!A678)","v":12584},{"$f":"IF([1]Sheet1!A678=113,0,[1]Sheet1!F678)","v":148665},{"$f":"[1]Sheet1!G678","v":"Bosch"},{"$f":"[1]Sheet1!H678","v":"Fons"},{"$f":"[1]Sheet1!J678","v":0},"Fons Bosch",null,{"$f":"IF(A675=113,0,[1]Sheet1!B678)","v":"RBC Doetinchem eo"}]
[{"$f":"IF([1]Sheet1!A679=113,0,[1]Sheet1!A679)","v":12584},{"$f":"IF([1]Sheet1!A679=113,0,[1]Sheet1!F679)","v":142711},{"$f":"[1]Sheet1!G679","v":"Bouwman"},{"$f":"[1]Sheet1!H679","v":"Jan"},{"$f":"[1]Sheet1!J679","v":0},"Jan Bouwman",null,{"$f":"IF(A676=113,0,[1]Sheet1!B679)","v":"RBC Doetinchem eo"}]
[{"$f":"IF([1]Sheet1!A680=113,0,[1]Sheet1!A680)","v":12584},{"$f":"IF([1]Sheet1!A680=113,0,[1]Sheet1!F680)","v":216283},{"$f":"[1]Sheet1!G680","v":"Brandenburg"},{"$f":"[1]Sheet1!H680","v":"Dick"},{"$f":"[1]Sheet1!J680","v":0},"Dick Brandenburg",null,{"$f":"IF(A677=113,0,[1]Sheet1!B680)","v":"RBC Doetinchem eo"}]
[{"$f":"IF([1]Sheet1!A681=113,0,[1]Sheet1!A681)","v":12584},{"$f":"IF([1]Sheet1!A681=113,0,[1]Sheet1!F681)","v":105285},{"$f":"[1]Sheet1!G681","v":"Brandts"},{"$f":"[1]Sheet1!H681","v":"Geert"},{"$f":"[1]Sheet1!J681","v":0},"Geert Brandts",null,{"$f":"IF(A678=113,0,[1]Sheet1!B681)","v":"RBC Doetinchem eo"}]
[{"$f":"IF([1]Sheet1!A682=113,0,[1]Sheet1!A682)","v":12584},{"$f":"IF([1]Sheet1!A682=113,0,[1]Sheet1!F682)","v":169454},{"$f":"[1]Sheet1!G682","v":"Bremer"},{"$f":"[1]Sheet1!H682","v":"Theo"},{"$f":"[1]Sheet1!J682","v":0},"Theo Bremer",null,{"$f":"IF(A679=113,0,[1]Sheet1!B682)","v":"RBC Doetinchem eo"}]
[{"$f":"IF([1]Sheet1!A683=113,0,[1]Sheet1!A683)","v":12584},{"$f":"IF([1]Sheet1!A683=113,0,[1]Sheet1!F683)","v":224263},{"$f":"[1]Sheet1!G683","v":"Brink"},{"$f":"[1]Sheet1!H683","v":"Klaas"},{"$f":"[1]Sheet1!J683","v":0},"Klaas Brink",null,{"$f":"IF(A680=113,0,[1]Sheet1!B683)","v":"RBC Doetinchem eo"}]
[{"$f":"IF([1]Sheet1!A684=113,0,[1]Sheet1!A684)","v":12584},{"$f":"IF([1]Sheet1!A684=113,0,[1]Sheet1!F684)","v":213376},{"$f":"[1]Sheet1!G684","v":"Brouwer"},{"$f":"[1]Sheet1!H684","v":"John"},{"$f":"[1]Sheet1!J684","v":0},"John Brouwer",null,{"$f":"IF(A681=113,0,[1]Sheet1!B684)","v":"RBC Doetinchem eo"}]
[{"$f":"IF([1]Sheet1!A685=113,0,[1]Sheet1!A685)","v":12584},{"$f":"IF([1]Sheet1!A685=113,0,[1]Sheet1!F685)","v":183356},{"$f":"[1]Sheet1!G685","v":"Bruggink"},{"$f":"[1]Sheet1!H685","v":"Bennie"},{"$f":"[1]Sheet1!J685","v":0},"Bennie Bruggink",null,{"$f":"IF(A682=113,0,[1]Sheet1!B685)","v":"RBC Doetinchem eo"}]
[{"$f":"IF([1]Sheet1!A686=113,0,[1]Sheet1!A686)","v":12584},{"$f":"IF([1]Sheet1!A686=113,0,[1]Sheet1!F686)","v":155600},{"$f":"[1]Sheet1!G686","v":"Bruggink"},{"$f":"[1]Sheet1!H686","v":"Gerard"},{"$f":"[1]Sheet1!J686","v":0},"Gerard Bruggink",null,{"$f":"IF(A683=113,0,[1]Sheet1!B686)","v":"RBC Doetinchem eo"}]
[{"$f":"IF([1]Sheet1!A687=113,0,[1]Sheet1!A687)","v":12584},{"$f":"IF([1]Sheet1!A687=113,0,[1]Sheet1!F687)","v":217765},{"$f":"[1]Sheet1!G687","v":"Brus"},{"$f":"[1]Sheet1!H687","v":"Peter"},{"$f":"[1]Sheet1!J687","v":0},"Peter Brus",null,{"$f":"IF(A684=113,0,[1]Sheet1!B687)","v":"RBC Doetinchem eo"}]
[{"$f":"IF([1]Sheet1!A688=113,0,[1]Sheet1!A688)","v":12584},{"$f":"IF([1]Sheet1!A688=113,0,[1]Sheet1!F688)","v":208668},{"$f":"[1]Sheet1!G688","v":"Buitenhuis"},{"$f":"[1]Sheet1!H688","v":"Jan"},{"$f":"[1]Sheet1!J688","v":0},"Jan Buitenhuis",null,{"$f":"IF(A685=113,0,[1]Sheet1!B688)","v":"RBC Doetinchem eo"}]
[{"$f":"IF([1]Sheet1!A689=113,0,[1]Sheet1!A689)","v":12584},{"$f":"IF([1]Sheet1!A689=113,0,[1]Sheet1!F689)","v":213046},{"$f":"[1]Sheet1!G689","v":"Buiting"},{"$f":"[1]Sheet1!H689","v":"Bennie"},{"$f":"[1]Sheet1!J689","v":0},"Bennie Buiting",null,{"$f":"IF(A686=113,0,[1]Sheet1!B689)","v":"RBC Doetinchem eo"}]
[{"$f":"IF([1]Sheet1!A690=113,0,[1]Sheet1!A690)","v":12584},{"$f":"IF([1]Sheet1!A690=113,0,[1]Sheet1!F690)","v":217877},{"$f":"[1]Sheet1!G690","v":"Bulters"},{"$f":"[1]Sheet1!H690","v":"Ap"},{"$f":"[1]Sheet1!J690","v":0},"Ap Bulters",null,{"$f":"IF(A687=113,0,[1]Sheet1!B690)","v":"RBC Doetinchem eo"}]
[{"$f":"IF([1]Sheet1!A691=113,0,[1]Sheet1!A691)","v":12584},{"$f":"IF([1]Sheet1!A691=113,0,[1]Sheet1!F691)","v":180557},{"$f":"[1]Sheet1!G691","v":"Buurman"},{"$f":"[1]Sheet1!H691","v":"Gerard"},{"$f":"[1]Sheet1!J691","v":0},"Gerard Buurman",null,{"$f":"IF(A688=113,0,[1]Sheet1!B691)","v":"RBC Doetinchem eo"}]
[{"$f":"IF([1]Sheet1!A692=113,0,[1]Sheet1!A692)","v":12584},{"$f":"IF([1]Sheet1!A692=113,0,[1]Sheet1!F692)","v":218949},{"$f":"[1]Sheet1!G692","v":"Cadwallader"},{"$f":"[1]Sheet1!H692","v":"Jimmy"},{"$f":"[1]Sheet1!J692","v":0},"Jimmy Cadwallader",null,{"$f":"IF(A689=113,0,[1]Sheet1!B692)","v":"RBC Doetinchem eo"}]
[{"$f":"IF([1]Sheet1!A693=113,0,[1]Sheet1!A693)","v":12584},{"$f":"IF([1]Sheet1!A693=113,0,[1]Sheet1!F693)","v":221961},{"$f":"[1]Sheet1!G693","v":"Christ"},{"$f":"[1]Sheet1!H693","v":"Fred"},{"$f":"[1]Sheet1!J693","v":0},"Fred Christ",null,{"$f":"IF(A690=113,0,[1]Sheet1!B693)","v":"RBC Doetinchem eo"}]
[{"$f":"IF([1]Sheet1!A694=113,0,[1]Sheet1!A694)","v":12584},{"$f":"IF([1]Sheet1!A694=113,0,[1]Sheet1!F694)","v":226736},{"$f":"[1]Sheet1!G694","v":"Copier"},{"$f":"[1]Sheet1!H694","v":"Carel"},{"$f":"[1]Sheet1!J694","v":0},"Carel Copier",null,{"$f":"IF(A691=113,0,[1]Sheet1!B694)","v":"RBC Doetinchem eo"}]
[{"$f":"IF([1]Sheet1!A695=113,0,[1]Sheet1!A695)","v":12584},{"$f":"IF([1]Sheet1!A695=113,0,[1]Sheet1!F695)","v":201891},{"$f":"[1]Sheet1!G695","v":"Dam"},{"$f":"[1]Sheet1!H695","v":"Gert"},{"$f":"[1]Sheet1!J695","v":"van"},"Gert van Dam",null,{"$f":"IF(A692=113,0,[1]Sheet1!B695)","v":"RBC Doetinchem eo"}]
[{"$f":"IF([1]Sheet1!A696=113,0,[1]Sheet1!A696)","v":12584},{"$f":"IF([1]Sheet1!A696=113,0,[1]Sheet1!F696)","v":210758},{"$f":"[1]Sheet1!G696","v":"Derksen"},{"$f":"[1]Sheet1!H696","v":"Karel"},{"$f":"[1]Sheet1!J696","v":0},"Karel Derksen",null,{"$f":"IF(A693=113,0,[1]Sheet1!B696)","v":"RBC Doetinchem eo"}]
[{"$f":"IF([1]Sheet1!A697=113,0,[1]Sheet1!A697)","v":12584},{"$f":"IF([1]Sheet1!A697=113,0,[1]Sheet1!F697)","v":217878},{"$f":"[1]Sheet1!G697","v":"Diek"},{"$f":"[1]Sheet1!H697","v":"Wiet"},{"$f":"[1]Sheet1!J697","v":"van"},"Wiet van Diek",null,{"$f":"IF(A694=113,0,[1]Sheet1!B697)","v":"RBC Doetinchem eo"}]
[{"$f":"IF([1]Sheet1!A698=113,0,[1]Sheet1!A698)","v":12584},{"$f":"IF([1]Sheet1!A698=113,0,[1]Sheet1!F698)","v":208008},{"$f":"[1]Sheet1!G698","v":"Dijk"},{"$f":"[1]Sheet1!H698","v":"Huub"},{"$f":"[1]Sheet1!J698","v":"van"},"Huub van Dijk",null,{"$f":"IF(A695=113,0,[1]Sheet1!B698)","v":"RBC Doetinchem eo"}]
[{"$f":"IF([1]Sheet1!A699=113,0,[1]Sheet1!A699)","v":12584},{"$f":"IF([1]Sheet1!A699=113,0,[1]Sheet1!F699)","v":218063},{"$f":"[1]Sheet1!G699","v":"Dijkstra"},{"$f":"[1]Sheet1!H699","v":"Bertus"},{"$f":"[1]Sheet1!J699","v":0},"Bertus Dijkstra",null,{"$f":"IF(A696=113,0,[1]Sheet1!B699)","v":"RBC Doetinchem eo"}]
[{"$f":"IF([1]Sheet1!A700=113,0,[1]Sheet1!A700)","v":123456},{"$f":"IF([1]Sheet1!A700=113,0,[1]Sheet1!F700)","v":142392},{"$f":"[1]Sheet1!G700","v":"Dolle"},{"$f":"[1]Sheet1!H700","v":"Jan"},{"$f":"[1]Sheet1!J700","v":"ten"},"Jan ten Dolle",null,{"$f":"IF(A697=113,0,[1]Sheet1!B700)","v":"RBC Doetinchem eo"}]
[{"$f":"IF([1]Sheet1!A701=113,0,[1]Sheet1!A701)","v":12584},{"$f":"IF([1]Sheet1!A701=113,0,[1]Sheet1!F701)","v":264022},{"$f":"[1]Sheet1!G701","v":"Driessen"},{"$f":"[1]Sheet1!H701","v":"Willy"},{"$f":"[1]Sheet1!J701","v":0},"Willy Driessen",null,{"$f":"IF(A698=113,0,[1]Sheet1!B701)","v":"RBC Doetinchem eo"}]
[{"$f":"IF([1]Sheet1!A702=113,0,[1]Sheet1!A702)","v":12584},{"$f":"IF([1]Sheet1!A702=113,0,[1]Sheet1!F702)","v":204387},{"$f":"[1]Sheet1!G702","v":"Egging"},{"$f":"[1]Sheet1!H702","v":"Geert"},{"$f":"[1]Sheet1!J702","v":0},"Geert Egging",null,{"$f":"IF(A699=113,0,[1]Sheet1!B702)","v":"RBC Doetinchem eo"}]
[{"$f":"IF([1]Sheet1!A703=113,0,[1]Sheet1!A703)","v":12584},{"$f":"IF([1]Sheet1!A703=113,0,[1]Sheet1!F703)","v":218950},{"$f":"[1]Sheet1!G703","v":"Elshof"},{"$f":"[1]Sheet1!H703","v":"Toon"},{"$f":"[1]Sheet1!J703","v":0},"Toon Elshof",null,{"$f":"IF(A700=113,0,[1]Sheet1!B703)","v":"RBC Doetinchem eo"}]
[{"$f":"IF([1]Sheet1!A704=113,0,[1]Sheet1!A704)","v":12584},{"$f":"IF([1]Sheet1!A704=113,0,[1]Sheet1!F704)","v":264175},{"$f":"[1]Sheet1!G704","v":"Elshof"},{"$f":"[1]Sheet1!H704","v":"Wim"},{"$f":"[1]Sheet1!J704","v":0},"Wim Elshof",null,{"$f":"IF(A701=113,0,[1]Sheet1!B704)","v":"RBC Doetinchem eo"}]
[{"$f":"IF([1]Sheet1!A705=113,0,[1]Sheet1!A705)","v":12584},{"$f":"IF([1]Sheet1!A705=113,0,[1]Sheet1!F705)","v":111417},{"$f":"[1]Sheet1!G705","v":"Evers"},{"$f":"[1]Sheet1!H705","v":"Hans"},{"$f":"[1]Sheet1!J705","v":0},"Hans Evers",null,{"$f":"IF(A702=113,0,[1]Sheet1!B705)","v":"RBC Doetinchem eo"}]
[{"$f":"IF([1]Sheet1!A706=113,0,[1]Sheet1!A706)","v":12584},{"$f":"IF([1]Sheet1!A706=113,0,[1]Sheet1!F706)","v":210723},{"$f":"[1]Sheet1!G706","v":"Ewald"},{"$f":"[1]Sheet1!H706","v":"Paul"},{"$f":"[1]Sheet1!J706","v":0},"Paul Ewald",null,{"$f":"IF(A703=113,0,[1]Sheet1!B706)","v":"RBC Doetinchem eo"}]
[{"$f":"IF([1]Sheet1!A707=113,0,[1]Sheet1!A707)","v":12584},{"$f":"IF([1]Sheet1!A707=113,0,[1]Sheet1!F707)","v":204388},{"$f":"[1]Sheet1!G707","v":"Fischer"},{"$f":"[1]Sheet1!H707","v":"Henny"},{"$f":"[1]Sheet1!J707","v":0},"Henny Fischer",null,{"$f":"IF(A704=113,0,[1]Sheet1!B707)","v":"RBC Doetinchem eo"}]
[{"$f":"IF([1]Sheet1!A708=113,0,[1]Sheet1!A708)","v":12584},{"$f":"IF([1]Sheet1!A708=113,0,[1]Sheet1!F708)","v":210742},{"$f":"[1]Sheet1!G708","v":"Franke"},{"$f":"[1]Sheet1!H708","v":"RenÃ©"},{"$f":"[1]Sheet1!J708","v":0},"RenÃ© Franke",null,{"$f":"IF(A705=113,0,[1]Sheet1!B708)","v":"RBC Doetinchem eo"}]
[{"$f":"IF([1]Sheet1!A709=113,0,[1]Sheet1!A709)","v":12584},{"$f":"IF([1]Sheet1!A709=113,0,[1]Sheet1!F709)","v":129599},{"$f":"[1]Sheet1!G709","v":"Frazer"},{"$f":"[1]Sheet1!H709","v":"Jan"},{"$f":"[1]Sheet1!J709","v":0},"Jan Frazer",null,{"$f":"IF(A706=113,0,[1]Sheet1!B709)","v":"RBC Doetinchem eo"}]
[{"$f":"IF([1]Sheet1!A710=113,0,[1]Sheet1!A710)","v":12584},{"$f":"IF([1]Sheet1!A710=113,0,[1]Sheet1!F710)","v":224600},{"$f":"[1]Sheet1!G710","v":"Gameren"},{"$f":"[1]Sheet1!H710","v":"Thijs"},{"$f":"[1]Sheet1!J710","v":"van"},"Thijs van Gameren",null,{"$f":"IF(A707=113,0,[1]Sheet1!B710)","v":"RBC Doetinchem eo"}]
[{"$f":"IF([1]Sheet1!A711=113,0,[1]Sheet1!A711)","v":12584},{"$f":"IF([1]Sheet1!A711=113,0,[1]Sheet1!F711)","v":218944},{"$f":"[1]Sheet1!G711","v":"Geessinck"},{"$f":"[1]Sheet1!H711","v":"Jan"},{"$f":"[1]Sheet1!J711","v":0},"Jan Geessinck",null,{"$f":"IF(A708=113,0,[1]Sheet1!B711)","v":"RBC Doetinchem eo"}]
[{"$f":"IF([1]Sheet1!A712=113,0,[1]Sheet1!A712)","v":12584},{"$f":"IF([1]Sheet1!A712=113,0,[1]Sheet1!F712)","v":229640},{"$f":"[1]Sheet1!G712","v":"Gemert"},{"$f":"[1]Sheet1!H712","v":"Willem"},{"$f":"[1]Sheet1!J712","v":"van"},"Willem van Gemert",null,{"$f":"IF(A709=113,0,[1]Sheet1!B712)","v":"RBC Doetinchem eo"}]
[{"$f":"IF([1]Sheet1!A713=113,0,[1]Sheet1!A713)","v":12584},{"$f":"IF([1]Sheet1!A713=113,0,[1]Sheet1!F713)","v":204300},{"$f":"[1]Sheet1!G713","v":"Gerards"},{"$f":"[1]Sheet1!H713","v":"Arnold"},{"$f":"[1]Sheet1!J713","v":0},"Arnold Gerards",null,{"$f":"IF(A710=113,0,[1]Sheet1!B713)","v":"RBC Doetinchem eo"}]
[{"$f":"IF([1]Sheet1!A714=113,0,[1]Sheet1!A714)","v":12584},{"$f":"IF([1]Sheet1!A714=113,0,[1]Sheet1!F714)","v":112505},{"$f":"[1]Sheet1!G714","v":"Gerritsen"},{"$f":"[1]Sheet1!H714","v":"Bertie"},{"$f":"[1]Sheet1!J714","v":0},"Bertie Gerritsen",null,{"$f":"IF(A711=113,0,[1]Sheet1!B714)","v":"RBC Doetinchem eo"}]
[{"$f":"IF([1]Sheet1!A715=113,0,[1]Sheet1!A715)","v":12584},{"$f":"IF([1]Sheet1!A715=113,0,[1]Sheet1!F715)","v":210744},{"$f":"[1]Sheet1!G715","v":"Gesink"},{"$f":"[1]Sheet1!H715","v":"Han"},{"$f":"[1]Sheet1!J715","v":0},"Han Gesink",null,{"$f":"IF(A712=113,0,[1]Sheet1!B715)","v":"RBC Doetinchem eo"}]
[{"$f":"IF([1]Sheet1!A716=113,0,[1]Sheet1!A716)","v":12584},{"$f":"IF([1]Sheet1!A716=113,0,[1]Sheet1!F716)","v":220004},{"$f":"[1]Sheet1!G716","v":"Giesen"},{"$f":"[1]Sheet1!H716","v":"Wim"},{"$f":"[1]Sheet1!J716","v":0},"Wim Giesen",null,{"$f":"IF(A713=113,0,[1]Sheet1!B716)","v":"RBC Doetinchem eo"}]
[{"$f":"IF([1]Sheet1!A717=113,0,[1]Sheet1!A717)","v":12584},{"$f":"IF([1]Sheet1!A717=113,0,[1]Sheet1!F717)","v":221956},{"$f":"[1]Sheet1!G717","v":"Greven"},{"$f":"[1]Sheet1!H717","v":"Theo"},{"$f":"[1]Sheet1!J717","v":0},"Theo Greven",null,{"$f":"IF(A714=113,0,[1]Sheet1!B717)","v":"RBC Doetinchem eo"}]
[{"$f":"IF([1]Sheet1!A718=113,0,[1]Sheet1!A718)","v":12584},{"$f":"IF([1]Sheet1!A718=113,0,[1]Sheet1!F718)","v":218945},{"$f":"[1]Sheet1!G718","v":"Groningen"},{"$f":"[1]Sheet1!H718","v":"Henk"},{"$f":"[1]Sheet1!J718","v":"van"},"Henk van Groningen",null,{"$f":"IF(A715=113,0,[1]Sheet1!B718)","v":"RBC Doetinchem eo"}]
[{"$f":"IF([1]Sheet1!A719=113,0,[1]Sheet1!A719)","v":12584},{"$f":"IF([1]Sheet1!A719=113,0,[1]Sheet1!F719)","v":264080},{"$f":"[1]Sheet1!G719","v":"Halteren"},{"$f":"[1]Sheet1!H719","v":"Willem"},{"$f":"[1]Sheet1!J719","v":"van"},"Willem van Halteren",null,{"$f":"IF(A716=113,0,[1]Sheet1!B719)","v":"RBC Doetinchem eo"}]
[{"$f":"IF([1]Sheet1!A720=113,0,[1]Sheet1!A720)","v":12584},{"$f":"IF([1]Sheet1!A720=113,0,[1]Sheet1!F720)","v":224403},{"$f":"[1]Sheet1!G720","v":"Haren"},{"$f":"[1]Sheet1!H720","v":"Wim"},{"$f":"[1]Sheet1!J720","v":"van"},"Wim van Haren",null,{"$f":"IF(A717=113,0,[1]Sheet1!B720)","v":"RBC Doetinchem eo"}]
[{"$f":"IF([1]Sheet1!A721=113,0,[1]Sheet1!A721)","v":12584},{"$f":"IF([1]Sheet1!A721=113,0,[1]Sheet1!F721)","v":145237},{"$f":"[1]Sheet1!G721","v":"Hartgerink"},{"$f":"[1]Sheet1!H721","v":"Johan"},{"$f":"[1]Sheet1!J721","v":0},"Johan Hartgerink",null,{"$f":"IF(A718=113,0,[1]Sheet1!B721)","v":"RBC Doetinchem eo"}]
[{"$f":"IF([1]Sheet1!A722=113,0,[1]Sheet1!A722)","v":12584},{"$f":"IF([1]Sheet1!A722=113,0,[1]Sheet1!F722)","v":220284},{"$f":"[1]Sheet1!G722","v":"Have"},{"$f":"[1]Sheet1!H722","v":"Wim"},{"$f":"[1]Sheet1!J722","v":"ten"},"Wim ten Have",null,{"$f":"IF(A719=113,0,[1]Sheet1!B722)","v":"RBC Doetinchem eo"}]
[{"$f":"IF([1]Sheet1!A723=113,0,[1]Sheet1!A723)","v":12584},{"$f":"IF([1]Sheet1!A723=113,0,[1]Sheet1!F723)","v":172634},{"$f":"[1]Sheet1!G723","v":"Haverkamp"},{"$f":"[1]Sheet1!H723","v":"Bennie"},{"$f":"[1]Sheet1!J723","v":0},"Bennie Haverkamp",null,{"$f":"IF(A720=113,0,[1]Sheet1!B723)","v":"RBC Doetinchem eo"}]
[{"$f":"IF([1]Sheet1!A724=113,0,[1]Sheet1!A724)","v":12584},{"$f":"IF([1]Sheet1!A724=113,0,[1]Sheet1!F724)","v":127807},{"$f":"[1]Sheet1!G724","v":"Hell"},{"$f":"[1]Sheet1!H724","v":"Jos"},{"$f":"[1]Sheet1!J724","v":0},"Jos Hell",null,{"$f":"IF(A721=113,0,[1]Sheet1!B724)","v":"RBC Doetinchem eo"}]
[{"$f":"IF([1]Sheet1!A725=113,0,[1]Sheet1!A725)","v":12584},{"$f":"IF([1]Sheet1!A725=113,0,[1]Sheet1!F725)","v":217790},{"$f":"[1]Sheet1!G725","v":"Hendriks"},{"$f":"[1]Sheet1!H725","v":"Herman"},{"$f":"[1]Sheet1!J725","v":0},"Herman Hendriks",null,{"$f":"IF(A722=113,0,[1]Sheet1!B725)","v":"RBC Doetinchem eo"}]
[{"$f":"IF([1]Sheet1!A726=113,0,[1]Sheet1!A726)","v":12584},{"$f":"IF([1]Sheet1!A726=113,0,[1]Sheet1!F726)","v":138789},{"$f":"[1]Sheet1!G726","v":"Hendriks"},{"$f":"[1]Sheet1!H726","v":"Jan"},{"$f":"[1]Sheet1!J726","v":0},"Jan Hendriks",null,{"$f":"IF(A723=113,0,[1]Sheet1!B726)","v":"RBC Doetinchem eo"}]
[{"$f":"IF([1]Sheet1!A727=113,0,[1]Sheet1!A727)","v":12584},{"$f":"IF([1]Sheet1!A727=113,0,[1]Sheet1!F727)","v":212514},{"$f":"[1]Sheet1!G727","v":"Hengeveld"},{"$f":"[1]Sheet1!H727","v":"Henk"},{"$f":"[1]Sheet1!J727","v":0},"Henk Hengeveld",null,{"$f":"IF(A724=113,0,[1]Sheet1!B727)","v":"RBC Doetinchem eo"}]
[{"$f":"IF([1]Sheet1!A728=113,0,[1]Sheet1!A728)","v":12584},{"$f":"IF([1]Sheet1!A728=113,0,[1]Sheet1!F728)","v":179413},{"$f":"[1]Sheet1!G728","v":"Hermans"},{"$f":"[1]Sheet1!H728","v":"Tinus"},{"$f":"[1]Sheet1!J728","v":0},{"$f":"IF(E725=0,CONCATENATE(D725,\" \",C725),CONCATENATE(D725,\" \",E725,\" \",C725))","v":"Tinus Hermans"},null,{"$f":"IF(A725=113,0,[1]Sheet1!B728)","v":"RBC Doetinchem eo"}]
[{"$f":"IF([1]Sheet1!A729=113,0,[1]Sheet1!A729)","v":12584},{"$f":"IF([1]Sheet1!A729=113,0,[1]Sheet1!F729)","v":124365},{"$f":"[1]Sheet1!G729","v":"Hesseling"},{"$f":"[1]Sheet1!H729","v":"Jack"},{"$f":"[1]Sheet1!J729","v":0},"Jack Hesseling",null,{"$f":"IF(A726=113,0,[1]Sheet1!B729)","v":"RBC Doetinchem eo"}]
[{"$f":"IF([1]Sheet1!A730=113,0,[1]Sheet1!A730)","v":12584},{"$f":"IF([1]Sheet1!A730=113,0,[1]Sheet1!F730)","v":154226},{"$f":"[1]Sheet1!G730","v":"Heuskes"},{"$f":"[1]Sheet1!H730","v":"Marcel"},{"$f":"[1]Sheet1!J730","v":0},"Marcel Heuskes",null,{"$f":"IF(A727=113,0,[1]Sheet1!B730)","v":"RBC Doetinchem eo"}]
[{"$f":"IF([1]Sheet1!A731=113,0,[1]Sheet1!A731)","v":12584},{"$f":"IF([1]Sheet1!A731=113,0,[1]Sheet1!F731)","v":161924},{"$f":"[1]Sheet1!G731","v":"Heuthorst"},{"$f":"[1]Sheet1!H731","v":"Guus"},{"$f":"[1]Sheet1!J731","v":0},"Guus Heuthorst",null,{"$f":"IF(A728=113,0,[1]Sheet1!B731)","v":"RBC Doetinchem eo"}]
[{"$f":"IF([1]Sheet1!A732=113,0,[1]Sheet1!A732)","v":12584},{"$f":"IF([1]Sheet1!A732=113,0,[1]Sheet1!F732)","v":220283},{"$f":"[1]Sheet1!G732","v":"Heuven"},{"$f":"[1]Sheet1!H732","v":"Cor"},{"$f":"[1]Sheet1!J732","v":0},"Cor Heuven",null,{"$f":"IF(A729=113,0,[1]Sheet1!B732)","v":"RBC Doetinchem eo"}]
[{"$f":"IF([1]Sheet1!A733=113,0,[1]Sheet1!A733)","v":12584},{"$f":"IF([1]Sheet1!A733=113,0,[1]Sheet1!F733)","v":226279},{"$f":"[1]Sheet1!G733","v":"Holthausen"},{"$f":"[1]Sheet1!H733","v":"Erik"},{"$f":"[1]Sheet1!J733","v":0},"Erik Holthausen",null,{"$f":"IF(A730=113,0,[1]Sheet1!B733)","v":"RBC Doetinchem eo"}]
[{"$f":"IF([1]Sheet1!A734=113,0,[1]Sheet1!A734)","v":12584},{"$f":"IF([1]Sheet1!A734=113,0,[1]Sheet1!F734)","v":222141},{"$f":"[1]Sheet1!G734","v":"Horst"},{"$f":"[1]Sheet1!H734","v":"Engelbert"},{"$f":"[1]Sheet1!J734","v":0},"Engelbert Horst",null,{"$f":"IF(A731=113,0,[1]Sheet1!B734)","v":"RBC Doetinchem eo"}]
[{"$f":"IF([1]Sheet1!A735=113,0,[1]Sheet1!A735)","v":12584},{"$f":"IF([1]Sheet1!A735=113,0,[1]Sheet1!F735)","v":230277},{"$f":"[1]Sheet1!G735","v":"Houweling"},{"$f":"[1]Sheet1!H735","v":"Jan"},{"$f":"[1]Sheet1!J735","v":0},"Jan Houweling",null,{"$f":"IF(A732=113,0,[1]Sheet1!B735)","v":"RBC Doetinchem eo"}]
[{"$f":"IF([1]Sheet1!A736=113,0,[1]Sheet1!A736)","v":12584},{"$f":"IF([1]Sheet1!A736=113,0,[1]Sheet1!F736)","v":222143},{"$f":"[1]Sheet1!G736","v":"Hubers"},{"$f":"[1]Sheet1!H736","v":"Hans"},{"$f":"[1]Sheet1!J736","v":0},"Hans Hubers",null,{"$f":"IF(A733=113,0,[1]Sheet1!B736)","v":"RBC Doetinchem eo"}]
[{"$f":"IF([1]Sheet1!A737=113,0,[1]Sheet1!A737)","v":12584},{"$f":"IF([1]Sheet1!A737=113,0,[1]Sheet1!F737)","v":218095},{"$f":"[1]Sheet1!G737","v":"Huntink"},{"$f":"[1]Sheet1!H737","v":"Henk"},{"$f":"[1]Sheet1!J737","v":0},"Henk Huntink",null,{"$f":"IF(A734=113,0,[1]Sheet1!B737)","v":"RBC Doetinchem eo"}]
[{"$f":"IF([1]Sheet1!A738=113,0,[1]Sheet1!A738)","v":12584},{"$f":"IF([1]Sheet1!A738=113,0,[1]Sheet1!F738)","v":109082},{"$f":"[1]Sheet1!G738","v":"Jacobs"},{"$f":"[1]Sheet1!H738","v":"Antoon"},{"$f":"[1]Sheet1!J738","v":0},"Antoon Jacobs",null,{"$f":"IF(A735=113,0,[1]Sheet1!B738)","v":"RBC Doetinchem eo"}]
[{"$f":"IF([1]Sheet1!A739=113,0,[1]Sheet1!A739)","v":12584},{"$f":"IF([1]Sheet1!A739=113,0,[1]Sheet1!F739)","v":220288},{"$f":"[1]Sheet1!G739","v":"Jalink"},{"$f":"[1]Sheet1!H739","v":"Frans"},{"$f":"[1]Sheet1!J739","v":0},"Frans Jalink",null,{"$f":"IF(A736=113,0,[1]Sheet1!B739)","v":"RBC Doetinchem eo"}]
[{"$f":"IF([1]Sheet1!A740=113,0,[1]Sheet1!A740)","v":12584},{"$f":"IF([1]Sheet1!A740=113,0,[1]Sheet1!F740)","v":225305},{"$f":"[1]Sheet1!G740","v":"Jansen"},{"$f":"[1]Sheet1!H740","v":"Alfred"},{"$f":"[1]Sheet1!J740","v":0},"Alfred Jansen",null,{"$f":"IF(A737=113,0,[1]Sheet1!B740)","v":"RBC Doetinchem eo"}]
[{"$f":"IF([1]Sheet1!A741=113,0,[1]Sheet1!A741)","v":12584},{"$f":"IF([1]Sheet1!A741=113,0,[1]Sheet1!F741)","v":169012},{"$f":"[1]Sheet1!G741","v":"Jansen"},{"$f":"[1]Sheet1!H741","v":"Bennie"},{"$f":"[1]Sheet1!J741","v":0},"Bennie Jansen",null,{"$f":"IF(A738=113,0,[1]Sheet1!B741)","v":"RBC Doetinchem eo"}]
[{"$f":"IF([1]Sheet1!A742=113,0,[1]Sheet1!A742)","v":123456},{"$f":"IF([1]Sheet1!A742=113,0,[1]Sheet1!F742)","v":137866},{"$f":"[1]Sheet1!G742","v":"Jansen"},{"$f":"[1]Sheet1!H742","v":"Chris"},{"$f":"[1]Sheet1!J742","v":0},"Chris Jansen",null,{"$f":"IF(A739=113,0,[1]Sheet1!B742)","v":"RBC Doetinchem eo"}]
[{"$f":"IF([1]Sheet1!A743=113,0,[1]Sheet1!A743)","v":123456},{"$f":"IF([1]Sheet1!A743=113,0,[1]Sheet1!F743)","v":112072},{"$f":"[1]Sheet1!G743","v":"Jansen"},{"$f":"[1]Sheet1!H743","v":"Freddie"},{"$f":"[1]Sheet1!J743","v":0},"Freddie Jansen",null,{"$f":"IF(A740=113,0,[1]Sheet1!B743)","v":"RBC Doetinchem eo"}]
[{"$f":"IF([1]Sheet1!A744=113,0,[1]Sheet1!A744)","v":12584},{"$f":"IF([1]Sheet1!A744=113,0,[1]Sheet1!F744)","v":213057},{"$f":"[1]Sheet1!G744","v":"Jansen"},{"$f":"[1]Sheet1!H744","v":"Gerrit"},{"$f":"[1]Sheet1!J744","v":0},"Gerrit Jansen",null,{"$f":"IF(A741=113,0,[1]Sheet1!B744)","v":"RBC Doetinchem eo"}]
[{"$f":"IF([1]Sheet1!A745=113,0,[1]Sheet1!A745)","v":12584},{"$f":"IF([1]Sheet1!A745=113,0,[1]Sheet1!F745)","v":145163},{"$f":"[1]Sheet1!G745","v":"Jansen"},{"$f":"[1]Sheet1!H745","v":"Herman"},{"$f":"[1]Sheet1!J745","v":0},"Herman Jansen",null,{"$f":"IF(A742=113,0,[1]Sheet1!B745)","v":"RBC Doetinchem eo"}]
[{"$f":"IF([1]Sheet1!A746=113,0,[1]Sheet1!A746)","v":12584},{"$f":"IF([1]Sheet1!A746=113,0,[1]Sheet1!F746)","v":115616},{"$f":"[1]Sheet1!G746","v":"Jansen"},{"$f":"[1]Sheet1!H746","v":"Walter"},{"$f":"[1]Sheet1!J746","v":0},"Walter Jansen",null,{"$f":"IF(A743=113,0,[1]Sheet1!B746)","v":"RBC Doetinchem eo"}]
[{"$f":"IF([1]Sheet1!A747=113,0,[1]Sheet1!A747)","v":123456},{"$f":"IF([1]Sheet1!A747=113,0,[1]Sheet1!F747)","v":154955},{"$f":"[1]Sheet1!G747","v":"Jansen-Vossers"},{"$f":"[1]Sheet1!H747","v":"Willy"},{"$f":"[1]Sheet1!J747","v":0},"Willy Jansen-Vossers",null,{"$f":"IF(A744=113,0,[1]Sheet1!B747)","v":"RBC Doetinchem eo"}]
[{"$f":"IF([1]Sheet1!A748=113,0,[1]Sheet1!A748)","v":12584},{"$f":"IF([1]Sheet1!A748=113,0,[1]Sheet1!F748)","v":137047},{"$f":"[1]Sheet1!G748","v":"Janssen"},{"$f":"[1]Sheet1!H748","v":"Jo"},{"$f":"[1]Sheet1!J748","v":0},"Jo Janssen",null,{"$f":"IF(A745=113,0,[1]Sheet1!B748)","v":"RBC Doetinchem eo"}]
[{"$f":"IF([1]Sheet1!A749=113,0,[1]Sheet1!A749)","v":12584},{"$f":"IF([1]Sheet1!A749=113,0,[1]Sheet1!F749)","v":225610},{"$f":"[1]Sheet1!G749","v":"Janssen"},{"$f":"[1]Sheet1!H749","v":"Ruud"},{"$f":"[1]Sheet1!J749","v":0},"Ruud Janssen",null,{"$f":"IF(A746=113,0,[1]Sheet1!B749)","v":"RBC Doetinchem eo"}]
[{"$f":"IF([1]Sheet1!A750=113,0,[1]Sheet1!A750)","v":12584},{"$f":"IF([1]Sheet1!A750=113,0,[1]Sheet1!F750)","v":181050},{"$f":"[1]Sheet1!G750","v":"Jolink"},{"$f":"[1]Sheet1!H750","v":"Appie"},{"$f":"[1]Sheet1!J750","v":0},"Appie Jolink",null,{"$f":"IF(A747=113,0,[1]Sheet1!B750)","v":"RBC Doetinchem eo"}]
[{"$f":"IF([1]Sheet1!A751=113,0,[1]Sheet1!A751)","v":12584},{"$f":"IF([1]Sheet1!A751=113,0,[1]Sheet1!F751)","v":208011},{"$f":"[1]Sheet1!G751","v":"Kampen"},{"$f":"[1]Sheet1!H751","v":"Gerhard"},{"$f":"[1]Sheet1!J751","v":"van"},"Gerhard van Kampen",null,{"$f":"IF(A748=113,0,[1]Sheet1!B751)","v":"RBC Doetinchem eo"}]
[{"$f":"IF([1]Sheet1!A752=113,0,[1]Sheet1!A752)","v":12584},{"$f":"IF([1]Sheet1!A752=113,0,[1]Sheet1!F752)","v":224360},{"$f":"[1]Sheet1!G752","v":"Kampen"},{"$f":"[1]Sheet1!H752","v":"Rob"},{"$f":"[1]Sheet1!J752","v":"van"},"Rob van Kampen",null,{"$f":"IF(A749=113,0,[1]Sheet1!B752)","v":"RBC Doetinchem eo"}]
[{"$f":"IF([1]Sheet1!A753=113,0,[1]Sheet1!A753)","v":12584},{"$f":"IF([1]Sheet1!A753=113,0,[1]Sheet1!F753)","v":208012},{"$f":"[1]Sheet1!G753","v":"Kasteel"},{"$f":"[1]Sheet1!H753","v":"Frans"},{"$f":"[1]Sheet1!J753","v":0},"Frans Kasteel",null,{"$f":"IF(A750=113,0,[1]Sheet1!B753)","v":"RBC Doetinchem eo"}]
[{"$f":"IF([1]Sheet1!A754=113,0,[1]Sheet1!A754)","v":12584},{"$f":"IF([1]Sheet1!A754=113,0,[1]Sheet1!F754)","v":112031},{"$f":"[1]Sheet1!G754","v":"Kemperman"},{"$f":"[1]Sheet1!H754","v":"Gerard"},{"$f":"[1]Sheet1!J754","v":0},"Gerard Kemperman",null,{"$f":"IF(A751=113,0,[1]Sheet1!B754)","v":"RBC Doetinchem eo"}]
[{"$f":"IF([1]Sheet1!A755=113,0,[1]Sheet1!A755)","v":12584},{"$f":"IF([1]Sheet1!A755=113,0,[1]Sheet1!F755)","v":112032},{"$f":"[1]Sheet1!G755","v":"Kemperman"},{"$f":"[1]Sheet1!H755","v":"Sjef"},{"$f":"[1]Sheet1!J755","v":0},"Sjef Kemperman",null,{"$f":"IF(A752=113,0,[1]Sheet1!B755)","v":"RBC Doetinchem eo"}]
[{"$f":"IF([1]Sheet1!A756=113,0,[1]Sheet1!A756)","v":12584},{"$f":"IF([1]Sheet1!A756=113,0,[1]Sheet1!F756)","v":112058},{"$f":"[1]Sheet1!G756","v":"Ketz"},{"$f":"[1]Sheet1!H756","v":"Ap"},{"$f":"[1]Sheet1!J756","v":0},"Ap Ketz",null,{"$f":"IF(A753=113,0,[1]Sheet1!B756)","v":"RBC Doetinchem eo"}]
[{"$f":"IF([1]Sheet1!A757=113,0,[1]Sheet1!A757)","v":12584},{"$f":"IF([1]Sheet1!A757=113,0,[1]Sheet1!F757)","v":111178},{"$f":"[1]Sheet1!G757","v":"Klaasen"},{"$f":"[1]Sheet1!H757","v":"Cees"},{"$f":"[1]Sheet1!J757","v":0},"Cees Klaasen",null,{"$f":"IF(A754=113,0,[1]Sheet1!B757)","v":"RBC Doetinchem eo"}]
[{"$f":"IF([1]Sheet1!A758=113,0,[1]Sheet1!A758)","v":12584},{"$f":"IF([1]Sheet1!A758=113,0,[1]Sheet1!F758)","v":120580},{"$f":"[1]Sheet1!G758","v":"Klaassen"},{"$f":"[1]Sheet1!H758","v":"Theo"},{"$f":"[1]Sheet1!J758","v":0},"Theo Klaassen",null,{"$f":"IF(A755=113,0,[1]Sheet1!B758)","v":"RBC Doetinchem eo"}]
[{"$f":"IF([1]Sheet1!A759=113,0,[1]Sheet1!A759)","v":12584},{"$f":"IF([1]Sheet1!A759=113,0,[1]Sheet1!F759)","v":221957},{"$f":"[1]Sheet1!G759","v":"Klein Holte"},{"$f":"[1]Sheet1!H759","v":"Hugo"},{"$f":"[1]Sheet1!J759","v":0},"Hugo Klein Holte",null,{"$f":"IF(A756=113,0,[1]Sheet1!B759)","v":"RBC Doetinchem eo"}]
[{"$f":"IF([1]Sheet1!A760=113,0,[1]Sheet1!A760)","v":12584},{"$f":"IF([1]Sheet1!A760=113,0,[1]Sheet1!F760)","v":111180},{"$f":"[1]Sheet1!G760","v":"Klomp"},{"$f":"[1]Sheet1!H760","v":"Frits"},{"$f":"[1]Sheet1!J760","v":0},"Frits Klomp",null,{"$f":"IF(A757=113,0,[1]Sheet1!B760)","v":"RBC Doetinchem eo"}]
[{"$f":"IF([1]Sheet1!A761=113,0,[1]Sheet1!A761)","v":12584},{"$f":"IF([1]Sheet1!A761=113,0,[1]Sheet1!F761)","v":176886},{"$f":"[1]Sheet1!G761","v":"Klompenhouwer"},{"$f":"[1]Sheet1!H761","v":"Gerrit"},{"$f":"[1]Sheet1!J761","v":0},"Gerrit Klompenhouwer",null,{"$f":"IF(A758=113,0,[1]Sheet1!B761)","v":"RBC Doetinchem eo"}]
[{"$f":"IF([1]Sheet1!A762=113,0,[1]Sheet1!A762)","v":12584},{"$f":"IF([1]Sheet1!A762=113,0,[1]Sheet1!F762)","v":154958},{"$f":"[1]Sheet1!G762","v":"Knuman"},{"$f":"[1]Sheet1!H762","v":"Wim"},{"$f":"[1]Sheet1!J762","v":0},"Wim Knuman",null,{"$f":"IF(A759=113,0,[1]Sheet1!B762)","v":"RBC Doetinchem eo"}]
[{"$f":"IF([1]Sheet1!A763=113,0,[1]Sheet1!A763)","v":12584},{"$f":"IF([1]Sheet1!A763=113,0,[1]Sheet1!F763)","v":204391},{"$f":"[1]Sheet1!G763","v":"Konning"},{"$f":"[1]Sheet1!H763","v":"Jan"},{"$f":"[1]Sheet1!J763","v":0},"Jan Konning",null,{"$f":"IF(A760=113,0,[1]Sheet1!B763)","v":"RBC Doetinchem eo"}]
[{"$f":"IF([1]Sheet1!A764=113,0,[1]Sheet1!A764)","v":12584},{"$f":"IF([1]Sheet1!A764=113,0,[1]Sheet1!F764)","v":222573},{"$f":"[1]Sheet1!G764","v":"Kortleve"},{"$f":"[1]Sheet1!H764","v":"Piet"},{"$f":"[1]Sheet1!J764","v":0},"Piet Kortleve",null,{"$f":"IF(A761=113,0,[1]Sheet1!B764)","v":"RBC Doetinchem eo"}]
[{"$f":"IF([1]Sheet1!A765=113,0,[1]Sheet1!A765)","v":12584},{"$f":"IF([1]Sheet1!A765=113,0,[1]Sheet1!F765)","v":263593},{"$f":"[1]Sheet1!G765","v":"Koster"},{"$f":"[1]Sheet1!H765","v":"Dennis"},{"$f":"[1]Sheet1!J765","v":0},"Dennis Koster",null,{"$f":"IF(A762=113,0,[1]Sheet1!B765)","v":"RBC Doetinchem eo"}]
[{"$f":"IF([1]Sheet1!A766=113,0,[1]Sheet1!A766)","v":12584},{"$f":"IF([1]Sheet1!A766=113,0,[1]Sheet1!F766)","v":220456},{"$f":"[1]Sheet1!G766","v":"Kramp"},{"$f":"[1]Sheet1!H766","v":"Gerjan"},{"$f":"[1]Sheet1!J766","v":0},"Gerjan Kramp",null,{"$f":"IF(A763=113,0,[1]Sheet1!B766)","v":"RBC Doetinchem eo"}]
[{"$f":"IF([1]Sheet1!A767=113,0,[1]Sheet1!A767)","v":12584},{"$f":"IF([1]Sheet1!A767=113,0,[1]Sheet1!F767)","v":237546},{"$f":"[1]Sheet1!G767","v":"Krauts"},{"$f":"[1]Sheet1!H767","v":"Hennie"},{"$f":"[1]Sheet1!J767","v":0},"Hennie Krauts",null,{"$f":"IF(A764=113,0,[1]Sheet1!B767)","v":"RBC Doetinchem eo"}]
[{"$f":"IF([1]Sheet1!A768=113,0,[1]Sheet1!A768)","v":12584},{"$f":"IF([1]Sheet1!A768=113,0,[1]Sheet1!F768)","v":141776},{"$f":"[1]Sheet1!G768","v":"Krimpen"},{"$f":"[1]Sheet1!H768","v":"Wim"},{"$f":"[1]Sheet1!J768","v":"van"},"Wim van Krimpen",null,{"$f":"IF(A765=113,0,[1]Sheet1!B768)","v":"RBC Doetinchem eo"}]
[{"$f":"IF([1]Sheet1!A769=113,0,[1]Sheet1!A769)","v":12584},{"$f":"IF([1]Sheet1!A769=113,0,[1]Sheet1!F769)","v":176866},{"$f":"[1]Sheet1!G769","v":"Kruisselbrink"},{"$f":"[1]Sheet1!H769","v":"Wim"},{"$f":"[1]Sheet1!J769","v":0},"Wim Kruisselbrink",null,{"$f":"IF(A766=113,0,[1]Sheet1!B769)","v":"RBC Doetinchem eo"}]
[{"$f":"IF([1]Sheet1!A770=113,0,[1]Sheet1!A770)","v":12584},{"$f":"IF([1]Sheet1!A770=113,0,[1]Sheet1!F770)","v":215424},{"$f":"[1]Sheet1!G770","v":"Kruk"},{"$f":"[1]Sheet1!H770","v":"Martin"},{"$f":"[1]Sheet1!J770","v":0},"Martin Kruk",null,{"$f":"IF(A767=113,0,[1]Sheet1!B770)","v":"RBC Doetinchem eo"}]
[{"$f":"IF([1]Sheet1!A771=113,0,[1]Sheet1!A771)","v":12584},{"$f":"IF([1]Sheet1!A771=113,0,[1]Sheet1!F771)","v":215426},{"$f":"[1]Sheet1!G771","v":"Kruk"},{"$f":"[1]Sheet1!H771","v":"Wim"},{"$f":"[1]Sheet1!J771","v":0},"Wim Kruk",null,{"$f":"IF(A768=113,0,[1]Sheet1!B771)","v":"RBC Doetinchem eo"}]
[{"$f":"IF([1]Sheet1!A772=113,0,[1]Sheet1!A772)","v":12584},{"$f":"IF([1]Sheet1!A772=113,0,[1]Sheet1!F772)","v":123839},{"$f":"[1]Sheet1!G772","v":"Kuppens"},{"$f":"[1]Sheet1!H772","v":"Chris"},{"$f":"[1]Sheet1!J772","v":0},"Chris Kuppens",null,{"$f":"IF(A769=113,0,[1]Sheet1!B772)","v":"RBC Doetinchem eo"}]
[{"$f":"IF([1]Sheet1!A773=113,0,[1]Sheet1!A773)","v":12584},{"$f":"IF([1]Sheet1!A773=113,0,[1]Sheet1!F773)","v":218930},{"$f":"[1]Sheet1!G773","v":"L 'Ami"},{"$f":"[1]Sheet1!H773","v":"Johan"},{"$f":"[1]Sheet1!J773","v":0},"Johan L 'Ami",null,{"$f":"IF(A770=113,0,[1]Sheet1!B773)","v":"RBC Doetinchem eo"}]
[{"$f":"IF([1]Sheet1!A774=113,0,[1]Sheet1!A774)","v":12584},{"$f":"IF([1]Sheet1!A774=113,0,[1]Sheet1!F774)","v":147908},{"$f":"[1]Sheet1!G774","v":"Langwerden"},{"$f":"[1]Sheet1!H774","v":"Bertie"},{"$f":"[1]Sheet1!J774","v":0},"Bertie Langwerden",null,{"$f":"IF(A771=113,0,[1]Sheet1!B774)","v":"RBC Doetinchem eo"}]
[{"$f":"IF([1]Sheet1!A775=113,0,[1]Sheet1!A775)","v":12584},{"$f":"IF([1]Sheet1!A775=113,0,[1]Sheet1!F775)","v":110953},{"$f":"[1]Sheet1!G775","v":"Lenderink"},{"$f":"[1]Sheet1!H775","v":"Jan"},{"$f":"[1]Sheet1!J775","v":0},"Jan Lenderink",null,{"$f":"IF(A772=113,0,[1]Sheet1!B775)","v":"RBC Doetinchem eo"}]
[{"$f":"IF([1]Sheet1!A776=113,0,[1]Sheet1!A776)","v":12584},{"$f":"IF([1]Sheet1!A776=113,0,[1]Sheet1!F776)","v":218946},{"$f":"[1]Sheet1!G776","v":"Lensen"},{"$f":"[1]Sheet1!H776","v":"Alfred"},{"$f":"[1]Sheet1!J776","v":0},"Alfred Lensen",null,{"$f":"IF(A773=113,0,[1]Sheet1!B776)","v":"RBC Doetinchem eo"}]
[{"$f":"IF([1]Sheet1!A777=113,0,[1]Sheet1!A777)","v":12584},{"$f":"IF([1]Sheet1!A777=113,0,[1]Sheet1!F777)","v":164088},{"$f":"[1]Sheet1!G777","v":"Lepper"},{"$f":"[1]Sheet1!H777","v":"Piet"},{"$f":"[1]Sheet1!J777","v":"de"},"Piet de Lepper",null,{"$f":"IF(A774=113,0,[1]Sheet1!B777)","v":"RBC Doetinchem eo"}]
[{"$f":"IF([1]Sheet1!A778=113,0,[1]Sheet1!A778)","v":12584},{"$f":"IF([1]Sheet1!A778=113,0,[1]Sheet1!F778)","v":210743},{"$f":"[1]Sheet1!G778","v":"Leusink"},{"$f":"[1]Sheet1!H778","v":"Wim"},{"$f":"[1]Sheet1!J778","v":0},"Wim Leusink",null,{"$f":"IF(A775=113,0,[1]Sheet1!B778)","v":"RBC Doetinchem eo"}]
[{"$f":"IF([1]Sheet1!A779=113,0,[1]Sheet1!A779)","v":12584},{"$f":"IF([1]Sheet1!A779=113,0,[1]Sheet1!F779)","v":237371},{"$f":"[1]Sheet1!G779","v":"Lindert"},{"$f":"[1]Sheet1!H779","v":"Gerrit"},{"$f":"[1]Sheet1!J779","v":"te"},"Gerrit te Lindert",null,{"$f":"IF(A776=113,0,[1]Sheet1!B779)","v":"RBC Doetinchem eo"}]
[{"$f":"IF([1]Sheet1!A780=113,0,[1]Sheet1!A780)","v":12584},{"$f":"IF([1]Sheet1!A780=113,0,[1]Sheet1!F780)","v":208963},{"$f":"[1]Sheet1!G780","v":"Lintsen"},{"$f":"[1]Sheet1!H780","v":"Henk"},{"$f":"[1]Sheet1!J780","v":0},"Henk Lintsen",null,{"$f":"IF(A777=113,0,[1]Sheet1!B780)","v":"RBC Doetinchem eo"}]
[{"$f":"IF([1]Sheet1!A781=113,0,[1]Sheet1!A781)","v":12584},{"$f":"IF([1]Sheet1!A781=113,0,[1]Sheet1!F781)","v":222691},{"$f":"[1]Sheet1!G781","v":"Lubbers"},{"$f":"[1]Sheet1!H781","v":"Gerard"},{"$f":"[1]Sheet1!J781","v":0},"Gerard Lubbers",null,{"$f":"IF(A778=113,0,[1]Sheet1!B781)","v":"RBC Doetinchem eo"}]
[{"$f":"IF([1]Sheet1!A782=113,0,[1]Sheet1!A782)","v":12584},{"$f":"IF([1]Sheet1!A782=113,0,[1]Sheet1!F782)","v":218926},{"$f":"[1]Sheet1!G782","v":"Luth"},{"$f":"[1]Sheet1!H782","v":"Meeme"},{"$f":"[1]Sheet1!J782","v":0},"Meeme Luth",null,{"$f":"IF(A779=113,0,[1]Sheet1!B782)","v":"RBC Doetinchem eo"}]
[{"$f":"IF([1]Sheet1!A783=113,0,[1]Sheet1!A783)","v":12584},{"$f":"IF([1]Sheet1!A783=113,0,[1]Sheet1!F783)","v":181504},{"$f":"[1]Sheet1!G783","v":"Manschot"},{"$f":"[1]Sheet1!H783","v":"Jan"},{"$f":"[1]Sheet1!J783","v":0},"Jan Manschot",null,{"$f":"IF(A780=113,0,[1]Sheet1!B783)","v":"RBC Doetinchem eo"}]
[{"$f":"IF([1]Sheet1!A784=113,0,[1]Sheet1!A784)","v":12584},{"$f":"IF([1]Sheet1!A784=113,0,[1]Sheet1!F784)","v":148283},{"$f":"[1]Sheet1!G784","v":"Masselink"},{"$f":"[1]Sheet1!H784","v":"Bert"},{"$f":"[1]Sheet1!J784","v":0},"Bert Masselink",null,{"$f":"IF(A781=113,0,[1]Sheet1!B784)","v":"RBC Doetinchem eo"}]
[{"$f":"IF([1]Sheet1!A785=113,0,[1]Sheet1!A785)","v":12584},{"$f":"IF([1]Sheet1!A785=113,0,[1]Sheet1!F785)","v":222571},{"$f":"[1]Sheet1!G785","v":"Masselink"},{"$f":"[1]Sheet1!H785","v":"Jan"},{"$f":"[1]Sheet1!J785","v":0},"Jan Masselink",null,{"$f":"IF(A782=113,0,[1]Sheet1!B785)","v":"RBC Doetinchem eo"}]
[{"$f":"IF([1]Sheet1!A786=113,0,[1]Sheet1!A786)","v":12584},{"$f":"IF([1]Sheet1!A786=113,0,[1]Sheet1!F786)","v":220287},{"$f":"[1]Sheet1!G786","v":"Masselink"},{"$f":"[1]Sheet1!H786","v":"Wim"},{"$f":"[1]Sheet1!J786","v":0},"Wim Masselink",null,{"$f":"IF(A783=113,0,[1]Sheet1!B786)","v":"RBC Doetinchem eo"}]
[{"$f":"IF([1]Sheet1!A787=113,0,[1]Sheet1!A787)","v":12584},{"$f":"IF([1]Sheet1!A787=113,0,[1]Sheet1!F787)","v":220280},{"$f":"[1]Sheet1!G787","v":"Massen"},{"$f":"[1]Sheet1!H787","v":"George"},{"$f":"[1]Sheet1!J787","v":0},"George Massen",null,{"$f":"IF(A784=113,0,[1]Sheet1!B787)","v":"RBC Doetinchem eo"}]
[{"$f":"IF([1]Sheet1!A788=113,0,[1]Sheet1!A788)","v":12584},{"$f":"IF([1]Sheet1!A788=113,0,[1]Sheet1!F788)","v":229888},{"$f":"[1]Sheet1!G788","v":"Mateman"},{"$f":"[1]Sheet1!H788","v":"Henk"},{"$f":"[1]Sheet1!J788","v":0},"Henk Mateman",null,{"$f":"IF(A785=113,0,[1]Sheet1!B788)","v":"RBC Doetinchem eo"}]
[{"$f":"IF([1]Sheet1!A789=113,0,[1]Sheet1!A789)","v":12584},{"$f":"IF([1]Sheet1!A789=113,0,[1]Sheet1!F789)","v":210720},{"$f":"[1]Sheet1!G789","v":"Mateman"},{"$f":"[1]Sheet1!H789","v":"Wim"},{"$f":"[1]Sheet1!J789","v":0},"Wim Mateman",null,{"$f":"IF(A786=113,0,[1]Sheet1!B789)","v":"RBC Doetinchem eo"}]
[{"$f":"IF([1]Sheet1!A790=113,0,[1]Sheet1!A790)","v":12584},{"$f":"IF([1]Sheet1!A790=113,0,[1]Sheet1!F790)","v":111144},{"$f":"[1]Sheet1!G790","v":"Maus"},{"$f":"[1]Sheet1!H790","v":"Hans"},{"$f":"[1]Sheet1!J790","v":0},"Hans Maus",null,{"$f":"IF(A787=113,0,[1]Sheet1!B790)","v":"RBC Doetinchem eo"}]
[{"$f":"IF([1]Sheet1!A791=113,0,[1]Sheet1!A791)","v":12584},{"$f":"IF([1]Sheet1!A791=113,0,[1]Sheet1!F791)","v":149843},{"$f":"[1]Sheet1!G791","v":"Meerbeek"},{"$f":"[1]Sheet1!H791","v":"Antoon"},{"$f":"[1]Sheet1!J791","v":0},"Antoon Meerbeek",null,{"$f":"IF(A788=113,0,[1]Sheet1!B791)","v":"RBC Doetinchem eo"}]
[{"$f":"IF([1]Sheet1!A792=113,0,[1]Sheet1!A792)","v":12584},{"$f":"IF([1]Sheet1!A792=113,0,[1]Sheet1!F792)","v":203619},{"$f":"[1]Sheet1!G792","v":"Meeuwissen"},{"$f":"[1]Sheet1!H792","v":"Ton"},{"$f":"[1]Sheet1!J792","v":0},{"$f":"IF(E789=0,CONCATENATE(D789,\" \",C789),CONCATENATE(D789,\" \",E789,\" \",C789))","v":"Ton Meeuwissen"},null,{"$f":"IF(A789=113,0,[1]Sheet1!B792)","v":"RBC Doetinchem eo"}]
[{"$f":"IF([1]Sheet1!A793=113,0,[1]Sheet1!A793)","v":12584},{"$f":"IF([1]Sheet1!A793=113,0,[1]Sheet1!F793)","v":200056},{"$f":"[1]Sheet1!G793","v":"Meijden"},{"$f":"[1]Sheet1!H793","v":"Hein"},{"$f":"[1]Sheet1!J793","v":"van der"},"Hein van der Meijden",null,{"$f":"IF(A790=113,0,[1]Sheet1!B793)","v":"RBC Doetinchem eo"}]
[{"$f":"IF([1]Sheet1!A794=113,0,[1]Sheet1!A794)","v":12584},{"$f":"IF([1]Sheet1!A794=113,0,[1]Sheet1!F794)","v":114306},{"$f":"[1]Sheet1!G794","v":"Meijer"},{"$f":"[1]Sheet1!H794","v":"Jan"},{"$f":"[1]Sheet1!J794","v":0},"Jan Meijer",null,{"$f":"IF(A791=113,0,[1]Sheet1!B794)","v":"RBC Doetinchem eo"}]
[{"$f":"IF([1]Sheet1!A795=113,0,[1]Sheet1!A795)","v":12584},{"$f":"IF([1]Sheet1!A795=113,0,[1]Sheet1!F795)","v":220377},{"$f":"[1]Sheet1!G795","v":"Meijer"},{"$f":"[1]Sheet1!H795","v":"Leo"},{"$f":"[1]Sheet1!J795","v":0},"Leo Meijer",null,{"$f":"IF(A792=113,0,[1]Sheet1!B795)","v":"RBC Doetinchem eo"}]
[{"$f":"IF([1]Sheet1!A796=113,0,[1]Sheet1!A796)","v":12584},{"$f":"IF([1]Sheet1!A796=113,0,[1]Sheet1!F796)","v":138475},{"$f":"[1]Sheet1!G796","v":"Meijer"},{"$f":"[1]Sheet1!H796","v":"Toon"},{"$f":"[1]Sheet1!J796","v":0},"Toon Meijer",null,{"$f":"IF(A793=113,0,[1]Sheet1!B796)","v":"RBC Doetinchem eo"}]
[{"$f":"IF([1]Sheet1!A797=113,0,[1]Sheet1!A797)","v":12584},{"$f":"IF([1]Sheet1!A797=113,0,[1]Sheet1!F797)","v":264208},{"$f":"[1]Sheet1!G797","v":"Melgers"},{"$f":"[1]Sheet1!H797","v":"Benny"},{"$f":"[1]Sheet1!J797","v":0},"Benny Melgers",null,{"$f":"IF(A794=113,0,[1]Sheet1!B797)","v":"RBC Doetinchem eo"}]
[{"$f":"IF([1]Sheet1!A798=113,0,[1]Sheet1!A798)","v":12584},{"$f":"IF([1]Sheet1!A798=113,0,[1]Sheet1!F798)","v":210875},{"$f":"[1]Sheet1!G798","v":"Mellendijk"},{"$f":"[1]Sheet1!H798","v":"Johan"},{"$f":"[1]Sheet1!J798","v":0},"Johan Mellendijk",null,{"$f":"IF(A795=113,0,[1]Sheet1!B798)","v":"RBC Doetinchem eo"}]
[{"$f":"IF([1]Sheet1!A799=113,0,[1]Sheet1!A799)","v":12584},{"$f":"IF([1]Sheet1!A799=113,0,[1]Sheet1!F799)","v":162816},{"$f":"[1]Sheet1!G799","v":"Mennings"},{"$f":"[1]Sheet1!H799","v":"Joop"},{"$f":"[1]Sheet1!J799","v":0},"Joop Mennings",null,{"$f":"IF(A796=113,0,[1]Sheet1!B799)","v":"RBC Doetinchem eo"}]
[{"$f":"IF([1]Sheet1!A800=113,0,[1]Sheet1!A800)","v":12584},{"$f":"IF([1]Sheet1!A800=113,0,[1]Sheet1!F800)","v":164087},{"$f":"[1]Sheet1!G800","v":"Mensert"},{"$f":"[1]Sheet1!H800","v":"Bertus"},{"$f":"[1]Sheet1!J800","v":0},"Bertus Mensert",null,{"$f":"IF(A797=113,0,[1]Sheet1!B800)","v":"RBC Doetinchem eo"}]
[{"$f":"IF([1]Sheet1!A801=113,0,[1]Sheet1!A801)","v":12584},{"$f":"IF([1]Sheet1!A801=113,0,[1]Sheet1!F801)","v":161005},{"$f":"[1]Sheet1!G801","v":"Meurkes"},{"$f":"[1]Sheet1!H801","v":"Martin"},{"$f":"[1]Sheet1!J801","v":0},"Martin Meurkes",null,{"$f":"IF(A798=113,0,[1]Sheet1!B801)","v":"RBC Doetinchem eo"}]
[{"$f":"IF([1]Sheet1!A802=113,0,[1]Sheet1!A802)","v":12584},{"$f":"IF([1]Sheet1!A802=113,0,[1]Sheet1!F802)","v":173394},{"$f":"[1]Sheet1!G802","v":"Meyer"},{"$f":"[1]Sheet1!H802","v":"Jos"},{"$f":"[1]Sheet1!J802","v":0},"Jos Meyer",null,{"$f":"IF(A799=113,0,[1]Sheet1!B802)","v":"RBC Doetinchem eo"}]
[{"$f":"IF([1]Sheet1!A803=113,0,[1]Sheet1!A803)","v":12584},{"$f":"IF([1]Sheet1!A803=113,0,[1]Sheet1!F803)","v":169475},{"$f":"[1]Sheet1!G803","v":"Middelkoop"},{"$f":"[1]Sheet1!H803","v":"Hans"},{"$f":"[1]Sheet1!J803","v":"van"},"Hans van Middelkoop",null,{"$f":"IF(A800=113,0,[1]Sheet1!B803)","v":"RBC Doetinchem eo"}]
[{"$f":"IF([1]Sheet1!A804=113,0,[1]Sheet1!A804)","v":12584},{"$f":"IF([1]Sheet1!A804=113,0,[1]Sheet1!F804)","v":208006},{"$f":"[1]Sheet1!G804","v":"Minkhorst"},{"$f":"[1]Sheet1!H804","v":"Han"},{"$f":"[1]Sheet1!J804","v":0},"Han Minkhorst",null,{"$f":"IF(A801=113,0,[1]Sheet1!B804)","v":"RBC Doetinchem eo"}]
[{"$f":"IF([1]Sheet1!A805=113,0,[1]Sheet1!A805)","v":12584},{"$f":"IF([1]Sheet1!A805=113,0,[1]Sheet1!F805)","v":204393},{"$f":"[1]Sheet1!G805","v":"Mintjes"},{"$f":"[1]Sheet1!H805","v":"Rein"},{"$f":"[1]Sheet1!J805","v":0},"Rein Mintjes",null,{"$f":"IF(A802=113,0,[1]Sheet1!B805)","v":"RBC Doetinchem eo"}]
[{"$f":"IF([1]Sheet1!A806=113,0,[1]Sheet1!A806)","v":12584},{"$f":"IF([1]Sheet1!A806=113,0,[1]Sheet1!F806)","v":247820},{"$f":"[1]Sheet1!G806","v":"Mullink"},{"$f":"[1]Sheet1!H806","v":"Rob"},{"$f":"[1]Sheet1!J806","v":0},"Rob Mullink",null,{"$f":"IF(A803=113,0,[1]Sheet1!B806)","v":"RBC Doetinchem eo"}]
[{"$f":"IF([1]Sheet1!A807=113,0,[1]Sheet1!A807)","v":12584},{"$f":"IF([1]Sheet1!A807=113,0,[1]Sheet1!F807)","v":160097},{"$f":"[1]Sheet1!G807","v":"Nijenhuis"},{"$f":"[1]Sheet1!H807","v":"Gerrit"},{"$f":"[1]Sheet1!J807","v":0},"Gerrit Nijenhuis",null,{"$f":"IF(A804=113,0,[1]Sheet1!B807)","v":"RBC Doetinchem eo"}]
[{"$f":"IF([1]Sheet1!A808=113,0,[1]Sheet1!A808)","v":12584},{"$f":"IF([1]Sheet1!A808=113,0,[1]Sheet1!F808)","v":109699},{"$f":"[1]Sheet1!G808","v":"Nijhof"},{"$f":"[1]Sheet1!H808","v":"Gert"},{"$f":"[1]Sheet1!J808","v":0},"Gert Nijhof",null,{"$f":"IF(A805=113,0,[1]Sheet1!B808)","v":"RBC Doetinchem eo"}]
[{"$f":"IF([1]Sheet1!A809=113,0,[1]Sheet1!A809)","v":12584},{"$f":"IF([1]Sheet1!A809=113,0,[1]Sheet1!F809)","v":161367},{"$f":"[1]Sheet1!G809","v":"Nissen"},{"$f":"[1]Sheet1!H809","v":"Henk"},{"$f":"[1]Sheet1!J809","v":0},"Henk Nissen",null,{"$f":"IF(A806=113,0,[1]Sheet1!B809)","v":"RBC Doetinchem eo"}]
[{"$f":"IF([1]Sheet1!A810=113,0,[1]Sheet1!A810)","v":12584},{"$f":"IF([1]Sheet1!A810=113,0,[1]Sheet1!F810)","v":151304},{"$f":"[1]Sheet1!G810","v":"Notten"},{"$f":"[1]Sheet1!H810","v":"Jan"},{"$f":"[1]Sheet1!J810","v":0},"Jan Notten",null,{"$f":"IF(A807=113,0,[1]Sheet1!B810)","v":"RBC Doetinchem eo"}]
[{"$f":"IF([1]Sheet1!A811=113,0,[1]Sheet1!A811)","v":12584},{"$f":"IF([1]Sheet1!A811=113,0,[1]Sheet1!F811)","v":219702},{"$f":"[1]Sheet1!G811","v":"Notten"},{"$f":"[1]Sheet1!H811","v":"Joop"},{"$f":"[1]Sheet1!J811","v":0},"Joop Notten",null,{"$f":"IF(A808=113,0,[1]Sheet1!B811)","v":"RBC Doetinchem eo"}]
[{"$f":"IF([1]Sheet1!A812=113,0,[1]Sheet1!A812)","v":12584},{"$f":"IF([1]Sheet1!A812=113,0,[1]Sheet1!F812)","v":107366},{"$f":"[1]Sheet1!G812","v":"Nova"},{"$f":"[1]Sheet1!H812","v":"Wim"},{"$f":"[1]Sheet1!J812","v":0},"Wim Nova",null,{"$f":"IF(A809=113,0,[1]Sheet1!B812)","v":"RBC Doetinchem eo"}]
[{"$f":"IF([1]Sheet1!A813=113,0,[1]Sheet1!A813)","v":12584},{"$f":"IF([1]Sheet1!A813=113,0,[1]Sheet1!F813)","v":246484},{"$f":"[1]Sheet1!G813","v":"Otte"},{"$f":"[1]Sheet1!H813","v":"Antonius"},{"$f":"[1]Sheet1!J813","v":0},"Antonius Otte",null,{"$f":"IF(A810=113,0,[1]Sheet1!B813)","v":"RBC Doetinchem eo"}]
[{"$f":"IF([1]Sheet1!A814=113,0,[1]Sheet1!A814)","v":12584},{"$f":"IF([1]Sheet1!A814=113,0,[1]Sheet1!F814)","v":218947},{"$f":"[1]Sheet1!G814","v":"Otten"},{"$f":"[1]Sheet1!H814","v":"Gert"},{"$f":"[1]Sheet1!J814","v":0},"Gert Otten",null,{"$f":"IF(A811=113,0,[1]Sheet1!B814)","v":"RBC Doetinchem eo"}]
[{"$f":"IF([1]Sheet1!A815=113,0,[1]Sheet1!A815)","v":12584},{"$f":"IF([1]Sheet1!A815=113,0,[1]Sheet1!F815)","v":218936},{"$f":"[1]Sheet1!G815","v":"Otten"},{"$f":"[1]Sheet1!H815","v":"Jan"},{"$f":"[1]Sheet1!J815","v":0},"Jan Otten",null,{"$f":"IF(A812=113,0,[1]Sheet1!B815)","v":"RBC Doetinchem eo"}]
[{"$f":"IF([1]Sheet1!A816=113,0,[1]Sheet1!A816)","v":12584},{"$f":"IF([1]Sheet1!A816=113,0,[1]Sheet1!F816)","v":220285},{"$f":"[1]Sheet1!G816","v":"Otters"},{"$f":"[1]Sheet1!H816","v":"Ben"},{"$f":"[1]Sheet1!J816","v":0},"Ben Otters",null,{"$f":"IF(A813=113,0,[1]Sheet1!B816)","v":"RBC Doetinchem eo"}]
[{"$f":"IF([1]Sheet1!A817=113,0,[1]Sheet1!A817)","v":12584},{"$f":"IF([1]Sheet1!A817=113,0,[1]Sheet1!F817)","v":147974},{"$f":"[1]Sheet1!G817","v":"Overbeek"},{"$f":"[1]Sheet1!H817","v":"Gerard"},{"$f":"[1]Sheet1!J817","v":0},"Gerard Overbeek",null,{"$f":"IF(A814=113,0,[1]Sheet1!B817)","v":"RBC Doetinchem eo"}]
[{"$f":"IF([1]Sheet1!A818=113,0,[1]Sheet1!A818)","v":12584},{"$f":"IF([1]Sheet1!A818=113,0,[1]Sheet1!F818)","v":210739},{"$f":"[1]Sheet1!G818","v":"Overgoor"},{"$f":"[1]Sheet1!H818","v":"Henk"},{"$f":"[1]Sheet1!J818","v":0},"Henk Overgoor",null,{"$f":"IF(A815=113,0,[1]Sheet1!B818)","v":"RBC Doetinchem eo"}]
[{"$f":"IF([1]Sheet1!A819=113,0,[1]Sheet1!A819)","v":12584},{"$f":"IF([1]Sheet1!A819=113,0,[1]Sheet1!F819)","v":213045},{"$f":"[1]Sheet1!G819","v":"Overgoor"},{"$f":"[1]Sheet1!H819","v":"Theo"},{"$f":"[1]Sheet1!J819","v":0},"Theo Overgoor",null,{"$f":"IF(A816=113,0,[1]Sheet1!B819)","v":"RBC Doetinchem eo"}]
[{"$f":"IF([1]Sheet1!A820=113,0,[1]Sheet1!A820)","v":12584},{"$f":"IF([1]Sheet1!A820=113,0,[1]Sheet1!F820)","v":223897},{"$f":"[1]Sheet1!G820","v":"Pannekoek"},{"$f":"[1]Sheet1!H820","v":"Arend"},{"$f":"[1]Sheet1!J820","v":0},"Arend Pannekoek",null,{"$f":"IF(A817=113,0,[1]Sheet1!B820)","v":"RBC Doetinchem eo"}]
[{"$f":"IF([1]Sheet1!A821=113,0,[1]Sheet1!A821)","v":12584},{"$f":"IF([1]Sheet1!A821=113,0,[1]Sheet1!F821)","v":114517},{"$f":"[1]Sheet1!G821","v":"Pas"},{"$f":"[1]Sheet1!H821","v":"Henk"},{"$f":"[1]Sheet1!J821","v":"te"},"Henk te Pas",null,{"$f":"IF(A818=113,0,[1]Sheet1!B821)","v":"RBC Doetinchem eo"}]
[{"$f":"IF([1]Sheet1!A822=113,0,[1]Sheet1!A822)","v":12584},{"$f":"IF([1]Sheet1!A822=113,0,[1]Sheet1!F822)","v":213059},{"$f":"[1]Sheet1!G822","v":"Pastoors"},{"$f":"[1]Sheet1!H822","v":"Arnold"},{"$f":"[1]Sheet1!J822","v":0},"Arnold Pastoors",null,{"$f":"IF(A819=113,0,[1]Sheet1!B822)","v":"RBC Doetinchem eo"}]
[{"$f":"IF([1]Sheet1!A823=113,0,[1]Sheet1!A823)","v":12584},{"$f":"IF([1]Sheet1!A823=113,0,[1]Sheet1!F823)","v":210677},{"$f":"[1]Sheet1!G823","v":"Pennekamp"},{"$f":"[1]Sheet1!H823","v":"Hans"},{"$f":"[1]Sheet1!J823","v":0},"Hans Pennekamp",null,{"$f":"IF(A820=113,0,[1]Sheet1!B823)","v":"RBC Doetinchem eo"}]
[{"$f":"IF([1]Sheet1!A824=113,0,[1]Sheet1!A824)","v":12584},{"$f":"IF([1]Sheet1!A824=113,0,[1]Sheet1!F824)","v":113460},{"$f":"[1]Sheet1!G824","v":"Pennen"},{"$f":"[1]Sheet1!H824","v":"Willie"},{"$f":"[1]Sheet1!J824","v":"van de"},"Willie van de Pennen",null,{"$f":"IF(A821=113,0,[1]Sheet1!B824)","v":"RBC Doetinchem eo"}]
[{"$f":"IF([1]Sheet1!A825=113,0,[1]Sheet1!A825)","v":12584},{"$f":"IF([1]Sheet1!A825=113,0,[1]Sheet1!F825)","v":249144},{"$f":"[1]Sheet1!G825","v":"Peters"},{"$f":"[1]Sheet1!H825","v":"Jan"},{"$f":"[1]Sheet1!J825","v":0},"Jan Peters",null,{"$f":"IF(A822=113,0,[1]Sheet1!B825)","v":"RBC Doetinchem eo"}]
[{"$f":"IF([1]Sheet1!A826=113,0,[1]Sheet1!A826)","v":12584},{"$f":"IF([1]Sheet1!A826=113,0,[1]Sheet1!F826)","v":122517},{"$f":"[1]Sheet1!G826","v":"Peters"},{"$f":"[1]Sheet1!H826","v":"Johan"},{"$f":"[1]Sheet1!J826","v":0},"Johan Peters",null,{"$f":"IF(A823=113,0,[1]Sheet1!B826)","v":"RBC Doetinchem eo"}]
[{"$f":"IF([1]Sheet1!A827=113,0,[1]Sheet1!A827)","v":12584},{"$f":"IF([1]Sheet1!A827=113,0,[1]Sheet1!F827)","v":166249},{"$f":"[1]Sheet1!G827","v":"Peters"},{"$f":"[1]Sheet1!H827","v":"Piet"},{"$f":"[1]Sheet1!J827","v":0},"Piet Peters",null,{"$f":"IF(A824=113,0,[1]Sheet1!B827)","v":"RBC Doetinchem eo"}]
[{"$f":"IF([1]Sheet1!A828=113,0,[1]Sheet1!A828)","v":12584},{"$f":"IF([1]Sheet1!A828=113,0,[1]Sheet1!F828)","v":208016},{"$f":"[1]Sheet1!G828","v":"Peters"},{"$f":"[1]Sheet1!H828","v":"Wim"},{"$f":"[1]Sheet1!J828","v":0},"Wim Peters",null,{"$f":"IF(A825=113,0,[1]Sheet1!B828)","v":"RBC Doetinchem eo"}]
[{"$f":"IF([1]Sheet1!A829=113,0,[1]Sheet1!A829)","v":12584},{"$f":"IF([1]Sheet1!A829=113,0,[1]Sheet1!F829)","v":211459},{"$f":"[1]Sheet1!G829","v":"Peters"},{"$f":"[1]Sheet1!H829","v":"Wim"},{"$f":"[1]Sheet1!J829","v":0},"Wim Peters",null,{"$f":"IF(A826=113,0,[1]Sheet1!B829)","v":"RBC Doetinchem eo"}]
[{"$f":"IF([1]Sheet1!A830=113,0,[1]Sheet1!A830)","v":12584},{"$f":"IF([1]Sheet1!A830=113,0,[1]Sheet1!F830)","v":211459},{"$f":"[1]Sheet1!G830","v":"Peters"},{"$f":"[1]Sheet1!H830","v":"Wim"},{"$f":"[1]Sheet1!J830","v":0},"Wim Peters",null,{"$f":"IF(A827=113,0,[1]Sheet1!B830)","v":"RBC Doetinchem eo"}]
[{"$f":"IF([1]Sheet1!A831=113,0,[1]Sheet1!A831)","v":12584},{"$f":"IF([1]Sheet1!A831=113,0,[1]Sheet1!F831)","v":224203},{"$f":"[1]Sheet1!G831","v":"Polman"},{"$f":"[1]Sheet1!H831","v":"Fred"},{"$f":"[1]Sheet1!J831","v":0},"Fred Polman",null,{"$f":"IF(A828=113,0,[1]Sheet1!B831)","v":"RBC Doetinchem eo"}]
[{"$f":"IF([1]Sheet1!A832=113,0,[1]Sheet1!A832)","v":12584},{"$f":"IF([1]Sheet1!A832=113,0,[1]Sheet1!F832)","v":125197},{"$f":"[1]Sheet1!G832","v":"Pothof"},{"$f":"[1]Sheet1!H832","v":"Jan"},{"$f":"[1]Sheet1!J832","v":0},"Jan Pothof",null,{"$f":"IF(A829=113,0,[1]Sheet1!B832)","v":"RBC Doetinchem eo"}]
[{"$f":"IF([1]Sheet1!A833=113,0,[1]Sheet1!A833)","v":12584},{"$f":"IF([1]Sheet1!A833=113,0,[1]Sheet1!F833)","v":218937},{"$f":"[1]Sheet1!G833","v":"Raasing"},{"$f":"[1]Sheet1!H833","v":"Jan"},{"$f":"[1]Sheet1!J833","v":0},"Jan Raasing",null,{"$f":"IF(A830=113,0,[1]Sheet1!B833)","v":"RBC Doetinchem eo"}]
[{"$f":"IF([1]Sheet1!A834=113,0,[1]Sheet1!A834)","v":12584},{"$f":"IF([1]Sheet1!A834=113,0,[1]Sheet1!F834)","v":229697},{"$f":"[1]Sheet1!G834","v":"Raasing"},{"$f":"[1]Sheet1!H834","v":"Wim"},{"$f":"[1]Sheet1!J834","v":0},"Wim Raasing",null,{"$f":"IF(A831=113,0,[1]Sheet1!B834)","v":"RBC Doetinchem eo"}]
[{"$f":"IF([1]Sheet1!A835=113,0,[1]Sheet1!A835)","v":12584},{"$f":"IF([1]Sheet1!A835=113,0,[1]Sheet1!F835)","v":200058},{"$f":"[1]Sheet1!G835","v":"Radstaak"},{"$f":"[1]Sheet1!H835","v":"Henk"},{"$f":"[1]Sheet1!J835","v":0},"Henk Radstaak",null,{"$f":"IF(A832=113,0,[1]Sheet1!B835)","v":"RBC Doetinchem eo"}]
[{"$f":"IF([1]Sheet1!A836=113,0,[1]Sheet1!A836)","v":12584},{"$f":"IF([1]Sheet1!A836=113,0,[1]Sheet1!F836)","v":225701},{"$f":"[1]Sheet1!G836","v":"Rasing"},{"$f":"[1]Sheet1!H836","v":"Theo"},{"$f":"[1]Sheet1!J836","v":0},"Theo Rasing",null,{"$f":"IF(A833=113,0,[1]Sheet1!B836)","v":"RBC Doetinchem eo"}]
[{"$f":"IF([1]Sheet1!A837=113,0,[1]Sheet1!A837)","v":12584},{"$f":"IF([1]Sheet1!A837=113,0,[1]Sheet1!F837)","v":154954},{"$f":"[1]Sheet1!G837","v":"Ratering"},{"$f":"[1]Sheet1!H837","v":"Hans"},{"$f":"[1]Sheet1!J837","v":0},"Hans Ratering",null,{"$f":"IF(A834=113,0,[1]Sheet1!B837)","v":"RBC Doetinchem eo"}]
[{"$f":"IF([1]Sheet1!A838=113,0,[1]Sheet1!A838)","v":12584},{"$f":"IF([1]Sheet1!A838=113,0,[1]Sheet1!F838)","v":142806},{"$f":"[1]Sheet1!G838","v":"Reintjes"},{"$f":"[1]Sheet1!H838","v":"Theo"},{"$f":"[1]Sheet1!J838","v":0},"Theo Reintjes",null,{"$f":"IF(A835=113,0,[1]Sheet1!B838)","v":"RBC Doetinchem eo"}]
[{"$f":"IF([1]Sheet1!A839=113,0,[1]Sheet1!A839)","v":12584},{"$f":"IF([1]Sheet1!A839=113,0,[1]Sheet1!F839)","v":179569},{"$f":"[1]Sheet1!G839","v":"Rietman"},{"$f":"[1]Sheet1!H839","v":"Appie"},{"$f":"[1]Sheet1!J839","v":0},"Appie Rietman",null,{"$f":"IF(A836=113,0,[1]Sheet1!B839)","v":"RBC Doetinchem eo"}]
[{"$f":"IF([1]Sheet1!A840=113,0,[1]Sheet1!A840)","v":12584},{"$f":"IF([1]Sheet1!A840=113,0,[1]Sheet1!F840)","v":208018},{"$f":"[1]Sheet1!G840","v":"Rijks"},{"$f":"[1]Sheet1!H840","v":"Gijs"},{"$f":"[1]Sheet1!J840","v":0},"Gijs Rijks",null,{"$f":"IF(A837=113,0,[1]Sheet1!B840)","v":"RBC Doetinchem eo"}]
[{"$f":"IF([1]Sheet1!A841=113,0,[1]Sheet1!A841)","v":12584},{"$f":"IF([1]Sheet1!A841=113,0,[1]Sheet1!F841)","v":109702},{"$f":"[1]Sheet1!G841","v":"Roenhorst"},{"$f":"[1]Sheet1!H841","v":"Jan"},{"$f":"[1]Sheet1!J841","v":0},"Jan Roenhorst",null,{"$f":"IF(A838=113,0,[1]Sheet1!B841)","v":"RBC Doetinchem eo"}]
[{"$f":"IF([1]Sheet1!A842=113,0,[1]Sheet1!A842)","v":12584},{"$f":"IF([1]Sheet1!A842=113,0,[1]Sheet1!F842)","v":225507},{"$f":"[1]Sheet1!G842","v":"Roest"},{"$f":"[1]Sheet1!H842","v":"Frans"},{"$f":"[1]Sheet1!J842","v":0},"Frans Roest",null,{"$f":"IF(A839=113,0,[1]Sheet1!B842)","v":"RBC Doetinchem eo"}]
[{"$f":"IF([1]Sheet1!A843=113,0,[1]Sheet1!A843)","v":12584},{"$f":"IF([1]Sheet1!A843=113,0,[1]Sheet1!F843)","v":109643},{"$f":"[1]Sheet1!G843","v":"Rondeel"},{"$f":"[1]Sheet1!H843","v":"Jan"},{"$f":"[1]Sheet1!J843","v":0},"Jan Rondeel",null,{"$f":"IF(A840=113,0,[1]Sheet1!B843)","v":"RBC Doetinchem eo"}]
[{"$f":"IF([1]Sheet1!A844=113,0,[1]Sheet1!A844)","v":12584},{"$f":"IF([1]Sheet1!A844=113,0,[1]Sheet1!F844)","v":147958},{"$f":"[1]Sheet1!G844","v":"Roodakker"},{"$f":"[1]Sheet1!H844","v":"Jan"},{"$f":"[1]Sheet1!J844","v":0},"Jan Roodakker",null,{"$f":"IF(A841=113,0,[1]Sheet1!B844)","v":"RBC Doetinchem eo"}]
[{"$f":"IF([1]Sheet1!A845=113,0,[1]Sheet1!A845)","v":12584},{"$f":"IF([1]Sheet1!A845=113,0,[1]Sheet1!F845)","v":181841},{"$f":"[1]Sheet1!G845","v":"Rosmuller"},{"$f":"[1]Sheet1!H845","v":"RenÃ©"},{"$f":"[1]Sheet1!J845","v":0},"RenÃ© Rosmuller",null,{"$f":"IF(A842=113,0,[1]Sheet1!B845)","v":"RBC Doetinchem eo"}]
[{"$f":"IF([1]Sheet1!A846=113,0,[1]Sheet1!A846)","v":12584},{"$f":"IF([1]Sheet1!A846=113,0,[1]Sheet1!F846)","v":208711},{"$f":"[1]Sheet1!G846","v":"Ruesink"},{"$f":"[1]Sheet1!H846","v":"Gert"},{"$f":"[1]Sheet1!J846","v":0},"Gert Ruesink",null,{"$f":"IF(A843=113,0,[1]Sheet1!B846)","v":"RBC Doetinchem eo"}]
[{"$f":"IF([1]Sheet1!A847=113,0,[1]Sheet1!A847)","v":12584},{"$f":"IF([1]Sheet1!A847=113,0,[1]Sheet1!F847)","v":158410},{"$f":"[1]Sheet1!G847","v":"Rutjes"},{"$f":"[1]Sheet1!H847","v":"Theo"},{"$f":"[1]Sheet1!J847","v":0},"Theo Rutjes",null,{"$f":"IF(A844=113,0,[1]Sheet1!B847)","v":"RBC Doetinchem eo"}]
[{"$f":"IF([1]Sheet1!A848=113,0,[1]Sheet1!A848)","v":12584},{"$f":"IF([1]Sheet1!A848=113,0,[1]Sheet1!F848)","v":158410},{"$f":"[1]Sheet1!G848","v":"Rutjes"},{"$f":"[1]Sheet1!H848","v":"Theo"},{"$f":"[1]Sheet1!J848","v":0},"Theo Rutjes",null,{"$f":"IF(A845=113,0,[1]Sheet1!B848)","v":"RBC Doetinchem eo"}]
[{"$f":"IF([1]Sheet1!A849=113,0,[1]Sheet1!A849)","v":12584},{"$f":"IF([1]Sheet1!A849=113,0,[1]Sheet1!F849)","v":223370},{"$f":"[1]Sheet1!G849","v":"Scheerder"},{"$f":"[1]Sheet1!H849","v":"Hennie."},{"$f":"[1]Sheet1!J849","v":0},"Hennie. Scheerder",null,{"$f":"IF(A846=113,0,[1]Sheet1!B849)","v":"RBC Doetinchem eo"}]
[{"$f":"IF([1]Sheet1!A850=113,0,[1]Sheet1!A850)","v":12584},{"$f":"IF([1]Sheet1!A850=113,0,[1]Sheet1!F850)","v":222570},{"$f":"[1]Sheet1!G850","v":"Schennink"},{"$f":"[1]Sheet1!H850","v":"Bennie"},{"$f":"[1]Sheet1!J850","v":0},"Bennie Schennink",null,{"$f":"IF(A847=113,0,[1]Sheet1!B850)","v":"RBC Doetinchem eo"}]
[{"$f":"IF([1]Sheet1!A851=113,0,[1]Sheet1!A851)","v":12584},{"$f":"IF([1]Sheet1!A851=113,0,[1]Sheet1!F851)","v":150600},{"$f":"[1]Sheet1!G851","v":"Schie"},{"$f":"[1]Sheet1!H851","v":"Gerard"},{"$f":"[1]Sheet1!J851","v":"van"},"Gerard van Schie",null,{"$f":"IF(A848=113,0,[1]Sheet1!B851)","v":"RBC Doetinchem eo"}]
[{"$f":"IF([1]Sheet1!A852=113,0,[1]Sheet1!A852)","v":12584},{"$f":"IF([1]Sheet1!A852=113,0,[1]Sheet1!F852)","v":200093},{"$f":"[1]Sheet1!G852","v":"Scholten"},{"$f":"[1]Sheet1!H852","v":"Jan"},{"$f":"[1]Sheet1!J852","v":0},"Jan Scholten",null,{"$f":"IF(A849=113,0,[1]Sheet1!B852)","v":"RBC Doetinchem eo"}]
[{"$f":"IF([1]Sheet1!A853=113,0,[1]Sheet1!A853)","v":12584},{"$f":"IF([1]Sheet1!A853=113,0,[1]Sheet1!F853)","v":220289},{"$f":"[1]Sheet1!G853","v":"Schreven"},{"$f":"[1]Sheet1!H853","v":"Willy"},{"$f":"[1]Sheet1!J853","v":0},"Willy Schreven",null,{"$f":"IF(A850=113,0,[1]Sheet1!B853)","v":"RBC Doetinchem eo"}]
[{"$f":"IF([1]Sheet1!A854=113,0,[1]Sheet1!A854)","v":12584},{"$f":"IF([1]Sheet1!A854=113,0,[1]Sheet1!F854)","v":220282},{"$f":"[1]Sheet1!G854","v":"Schuurman"},{"$f":"[1]Sheet1!H854","v":"Bart"},{"$f":"[1]Sheet1!J854","v":0},"Bart Schuurman",null,{"$f":"IF(A851=113,0,[1]Sheet1!B854)","v":"RBC Doetinchem eo"}]
[{"$f":"IF([1]Sheet1!A855=113,0,[1]Sheet1!A855)","v":12584},{"$f":"IF([1]Sheet1!A855=113,0,[1]Sheet1!F855)","v":136676},{"$f":"[1]Sheet1!G855","v":"Schuurman"},{"$f":"[1]Sheet1!H855","v":"Henk"},{"$f":"[1]Sheet1!J855","v":0},"Henk Schuurman",null,{"$f":"IF(A852=113,0,[1]Sheet1!B855)","v":"RBC Doetinchem eo"}]
[{"$f":"IF([1]Sheet1!A856=113,0,[1]Sheet1!A856)","v":12584},{"$f":"IF([1]Sheet1!A856=113,0,[1]Sheet1!F856)","v":206460},{"$f":"[1]Sheet1!G856","v":"Sessink"},{"$f":"[1]Sheet1!H856","v":"Gerrie"},{"$f":"[1]Sheet1!J856","v":0},{"$f":"IF(E853=0,CONCATENATE(D853,\" \",C853),CONCATENATE(D853,\" \",E853,\" \",C853))","v":"Gerrie Sessink"},null,{"$f":"IF(A853=113,0,[1]Sheet1!B856)","v":"RBC Doetinchem eo"}]
[{"$f":"IF([1]Sheet1!A857=113,0,[1]Sheet1!A857)","v":12584},{"$f":"IF([1]Sheet1!A857=113,0,[1]Sheet1!F857)","v":246294},{"$f":"[1]Sheet1!G857","v":"Siccama"},{"$f":"[1]Sheet1!H857","v":"Meindert"},{"$f":"[1]Sheet1!J857","v":0},"Meindert Siccama",null,{"$f":"IF(A854=113,0,[1]Sheet1!B857)","v":"RBC Doetinchem eo"}]
[{"$f":"IF([1]Sheet1!A858=113,0,[1]Sheet1!A858)","v":12584},{"$f":"IF([1]Sheet1!A858=113,0,[1]Sheet1!F858)","v":139471},{"$f":"[1]Sheet1!G858","v":"Siebelink"},{"$f":"[1]Sheet1!H858","v":"Diny"},{"$f":"[1]Sheet1!J858","v":0},"Diny Siebelink",null,{"$f":"IF(A855=113,0,[1]Sheet1!B858)","v":"RBC Doetinchem eo"}]
[{"$f":"IF([1]Sheet1!A859=113,0,[1]Sheet1!A859)","v":12584},{"$f":"IF([1]Sheet1!A859=113,0,[1]Sheet1!F859)","v":148684},{"$f":"[1]Sheet1!G859","v":"Slettenaar"},{"$f":"[1]Sheet1!H859","v":"Henk"},{"$f":"[1]Sheet1!J859","v":0},"Henk Slettenaar",null,{"$f":"IF(A856=113,0,[1]Sheet1!B859)","v":"RBC Doetinchem eo"}]
[{"$f":"IF([1]Sheet1!A860=113,0,[1]Sheet1!A860)","v":12584},{"$f":"IF([1]Sheet1!A860=113,0,[1]Sheet1!F860)","v":114297},{"$f":"[1]Sheet1!G860","v":"Sloots"},{"$f":"[1]Sheet1!H860","v":"Sander"},{"$f":"[1]Sheet1!J860","v":0},"Sander Sloots",null,{"$f":"IF(A857=113,0,[1]Sheet1!B860)","v":"RBC Doetinchem eo"}]
[{"$f":"IF([1]Sheet1!A861=113,0,[1]Sheet1!A861)","v":12584},{"$f":"IF([1]Sheet1!A861=113,0,[1]Sheet1!F861)","v":108655},{"$f":"[1]Sheet1!G861","v":"Sloots"},{"$f":"[1]Sheet1!H861","v":"Willem"},{"$f":"[1]Sheet1!J861","v":0},"Willem Sloots",null,{"$f":"IF(A858=113,0,[1]Sheet1!B861)","v":"RBC Doetinchem eo"}]
[{"$f":"IF([1]Sheet1!A862=113,0,[1]Sheet1!A862)","v":12584},{"$f":"IF([1]Sheet1!A862=113,0,[1]Sheet1!F862)","v":181446},{"$f":"[1]Sheet1!G862","v":"Smeitink"},{"$f":"[1]Sheet1!H862","v":"Steven"},{"$f":"[1]Sheet1!J862","v":0},"Steven Smeitink",null,{"$f":"IF(A859=113,0,[1]Sheet1!B862)","v":"RBC Doetinchem eo"}]
[{"$f":"IF([1]Sheet1!A863=113,0,[1]Sheet1!A863)","v":12584},{"$f":"IF([1]Sheet1!A863=113,0,[1]Sheet1!F863)","v":215425},{"$f":"[1]Sheet1!G863","v":"Soethof"},{"$f":"[1]Sheet1!H863","v":"Gerard"},{"$f":"[1]Sheet1!J863","v":0},"Gerard Soethof",null,{"$f":"IF(A860=113,0,[1]Sheet1!B863)","v":"RBC Doetinchem eo"}]
[{"$f":"IF([1]Sheet1!A864=113,0,[1]Sheet1!A864)","v":12584},{"$f":"IF([1]Sheet1!A864=113,0,[1]Sheet1!F864)","v":234838},{"$f":"[1]Sheet1!G864","v":"Soethof"},{"$f":"[1]Sheet1!H864","v":"Willy"},{"$f":"[1]Sheet1!J864","v":0},"Willy Soethof",null,{"$f":"IF(A861=113,0,[1]Sheet1!B864)","v":"RBC Doetinchem eo"}]
[{"$f":"IF([1]Sheet1!A865=113,0,[1]Sheet1!A865)","v":12584},{"$f":"IF([1]Sheet1!A865=113,0,[1]Sheet1!F865)","v":225331},{"$f":"[1]Sheet1!G865","v":"Spee"},{"$f":"[1]Sheet1!H865","v":"Rob"},{"$f":"[1]Sheet1!J865","v":0},"Rob Spee",null,{"$f":"IF(A862=113,0,[1]Sheet1!B865)","v":"RBC Doetinchem eo"}]
[{"$f":"IF([1]Sheet1!A866=113,0,[1]Sheet1!A866)","v":12584},{"$f":"IF([1]Sheet1!A866=113,0,[1]Sheet1!F866)","v":236834},{"$f":"[1]Sheet1!G866","v":"Splithof"},{"$f":"[1]Sheet1!H866","v":"Aloys"},{"$f":"[1]Sheet1!J866","v":0},"Aloys Splithof",null,{"$f":"IF(A863=113,0,[1]Sheet1!B866)","v":"RBC Doetinchem eo"}]
[{"$f":"IF([1]Sheet1!A867=113,0,[1]Sheet1!A867)","v":12584},{"$f":"IF([1]Sheet1!A867=113,0,[1]Sheet1!F867)","v":213058},{"$f":"[1]Sheet1!G867","v":"Steverink"},{"$f":"[1]Sheet1!H867","v":"Fons"},{"$f":"[1]Sheet1!J867","v":0},"Fons Steverink",null,{"$f":"IF(A864=113,0,[1]Sheet1!B867)","v":"RBC Doetinchem eo"}]
[{"$f":"IF([1]Sheet1!A868=113,0,[1]Sheet1!A868)","v":12584},{"$f":"IF([1]Sheet1!A868=113,0,[1]Sheet1!F868)","v":149009},{"$f":"[1]Sheet1!G868","v":"Stiemer"},{"$f":"[1]Sheet1!H868","v":"Coen"},{"$f":"[1]Sheet1!J868","v":0},"Coen Stiemer",null,{"$f":"IF(A865=113,0,[1]Sheet1!B868)","v":"RBC Doetinchem eo"}]
[{"$f":"IF([1]Sheet1!A869=113,0,[1]Sheet1!A869)","v":12584},{"$f":"IF([1]Sheet1!A869=113,0,[1]Sheet1!F869)","v":166309},{"$f":"[1]Sheet1!G869","v":"Stijntjes"},{"$f":"[1]Sheet1!H869","v":"Wilco"},{"$f":"[1]Sheet1!J869","v":0},"Wilco Stijntjes",null,{"$f":"IF(A866=113,0,[1]Sheet1!B869)","v":"RBC Doetinchem eo"}]
[{"$f":"IF([1]Sheet1!A870=113,0,[1]Sheet1!A870)","v":12584},{"$f":"IF([1]Sheet1!A870=113,0,[1]Sheet1!F870)","v":108021},{"$f":"[1]Sheet1!G870","v":"Stortelder"},{"$f":"[1]Sheet1!H870","v":"Toon"},{"$f":"[1]Sheet1!J870","v":0},"Toon Stortelder",null,{"$f":"IF(A867=113,0,[1]Sheet1!B870)","v":"RBC Doetinchem eo"}]
[{"$f":"IF([1]Sheet1!A871=113,0,[1]Sheet1!A871)","v":12584},{"$f":"IF([1]Sheet1!A871=113,0,[1]Sheet1!F871)","v":210719},{"$f":"[1]Sheet1!G871","v":"Straatsma"},{"$f":"[1]Sheet1!H871","v":"Ben"},{"$f":"[1]Sheet1!J871","v":0},"Ben Straatsma",null,{"$f":"IF(A868=113,0,[1]Sheet1!B871)","v":"RBC Doetinchem eo"}]
[{"$f":"IF([1]Sheet1!A872=113,0,[1]Sheet1!A872)","v":12584},{"$f":"IF([1]Sheet1!A872=113,0,[1]Sheet1!F872)","v":210719},{"$f":"[1]Sheet1!G872","v":"Straatsma"},{"$f":"[1]Sheet1!H872","v":"Ben"},{"$f":"[1]Sheet1!J872","v":0},"Ben Straatsma",null,{"$f":"IF(A869=113,0,[1]Sheet1!B872)","v":"RBC Doetinchem eo"}]
[{"$f":"IF([1]Sheet1!A873=113,0,[1]Sheet1!A873)","v":12584},{"$f":"IF([1]Sheet1!A873=113,0,[1]Sheet1!F873)","v":148682},{"$f":"[1]Sheet1!G873","v":"Straatsma"},{"$f":"[1]Sheet1!H873","v":"Mathijs"},{"$f":"[1]Sheet1!J873","v":0},"Mathijs Straatsma",null,{"$f":"IF(A870=113,0,[1]Sheet1!B873)","v":"RBC Doetinchem eo"}]
[{"$f":"IF([1]Sheet1!A874=113,0,[1]Sheet1!A874)","v":12584},{"$f":"IF([1]Sheet1!A874=113,0,[1]Sheet1!F874)","v":226645},{"$f":"[1]Sheet1!G874","v":"Stravers"},{"$f":"[1]Sheet1!H874","v":"Ton"},{"$f":"[1]Sheet1!J874","v":0},"Ton Stravers",null,{"$f":"IF(A871=113,0,[1]Sheet1!B874)","v":"RBC Doetinchem eo"}]
[{"$f":"IF([1]Sheet1!A875=113,0,[1]Sheet1!A875)","v":12584},{"$f":"IF([1]Sheet1!A875=113,0,[1]Sheet1!F875)","v":108904},{"$f":"[1]Sheet1!G875","v":"Strien"},{"$f":"[1]Sheet1!H875","v":"Jan"},{"$f":"[1]Sheet1!J875","v":"van"},"Jan van Strien",null,{"$f":"IF(A872=113,0,[1]Sheet1!B875)","v":"RBC Doetinchem eo"}]
[{"$f":"IF([1]Sheet1!A876=113,0,[1]Sheet1!A876)","v":12584},{"$f":"IF([1]Sheet1!A876=113,0,[1]Sheet1!F876)","v":217531},{"$f":"[1]Sheet1!G876","v":"Strien"},{"$f":"[1]Sheet1!H876","v":"Toon"},{"$f":"[1]Sheet1!J876","v":"van"},"Toon van Strien",null,{"$f":"IF(A873=113,0,[1]Sheet1!B876)","v":"RBC Doetinchem eo"}]
[{"$f":"IF([1]Sheet1!A877=113,0,[1]Sheet1!A877)","v":12584},{"$f":"IF([1]Sheet1!A877=113,0,[1]Sheet1!F877)","v":123552},{"$f":"[1]Sheet1!G877","v":"Surenbroek"},{"$f":"[1]Sheet1!H877","v":"Gerrit"},{"$f":"[1]Sheet1!J877","v":0},"Gerrit Surenbroek",null,{"$f":"IF(A874=113,0,[1]Sheet1!B877)","v":"RBC Doetinchem eo"}]
[{"$f":"IF([1]Sheet1!A878=113,0,[1]Sheet1!A878)","v":12584},{"$f":"IF([1]Sheet1!A878=113,0,[1]Sheet1!F878)","v":217778},{"$f":"[1]Sheet1!G878","v":"Susebeek"},{"$f":"[1]Sheet1!H878","v":"Gert"},{"$f":"[1]Sheet1!J878","v":0},"Gert Susebeek",null,{"$f":"IF(A875=113,0,[1]Sheet1!B878)","v":"RBC Doetinchem eo"}]
[{"$f":"IF([1]Sheet1!A879=113,0,[1]Sheet1!A879)","v":12584},{"$f":"IF([1]Sheet1!A879=113,0,[1]Sheet1!F879)","v":246292},{"$f":"[1]Sheet1!G879","v":"Tacke"},{"$f":"[1]Sheet1!H879","v":"Ton"},{"$f":"[1]Sheet1!J879","v":0},"Ton Tacke",null,{"$f":"IF(A876=113,0,[1]Sheet1!B879)","v":"RBC Doetinchem eo"}]
[{"$f":"IF([1]Sheet1!A880=113,0,[1]Sheet1!A880)","v":12584},{"$f":"IF([1]Sheet1!A880=113,0,[1]Sheet1!F880)","v":111434},{"$f":"[1]Sheet1!G880","v":"Tangelder"},{"$f":"[1]Sheet1!H880","v":"Herbert"},{"$f":"[1]Sheet1!J880","v":0},"Herbert Tangelder",null,{"$f":"IF(A877=113,0,[1]Sheet1!B880)","v":"RBC Doetinchem eo"}]
[{"$f":"IF([1]Sheet1!A881=113,0,[1]Sheet1!A881)","v":12584},{"$f":"IF([1]Sheet1!A881=113,0,[1]Sheet1!F881)","v":109794},{"$f":"[1]Sheet1!G881","v":"Tannemaat"},{"$f":"[1]Sheet1!H881","v":"Bernard"},{"$f":"[1]Sheet1!J881","v":0},"Bernard Tannemaat",null,{"$f":"IF(A878=113,0,[1]Sheet1!B881)","v":"RBC Doetinchem eo"}]
[{"$f":"IF([1]Sheet1!A882=113,0,[1]Sheet1!A882)","v":12584},{"$f":"IF([1]Sheet1!A882=113,0,[1]Sheet1!F882)","v":208953},{"$f":"[1]Sheet1!G882","v":"Teunissen"},{"$f":"[1]Sheet1!H882","v":"Paul"},{"$f":"[1]Sheet1!J882","v":0},"Paul Teunissen",null,{"$f":"IF(A879=113,0,[1]Sheet1!B882)","v":"RBC Doetinchem eo"}]
[{"$f":"IF([1]Sheet1!A883=113,0,[1]Sheet1!A883)","v":12584},{"$f":"IF([1]Sheet1!A883=113,0,[1]Sheet1!F883)","v":218927},{"$f":"[1]Sheet1!G883","v":"Theunissen"},{"$f":"[1]Sheet1!H883","v":"Piet"},{"$f":"[1]Sheet1!J883","v":0},"Piet Theunissen",null,{"$f":"IF(A880=113,0,[1]Sheet1!B883)","v":"RBC Doetinchem eo"}]
[{"$f":"IF([1]Sheet1!A884=113,0,[1]Sheet1!A884)","v":12584},{"$f":"IF([1]Sheet1!A884=113,0,[1]Sheet1!F884)","v":172608},{"$f":"[1]Sheet1!G884","v":"Tieben"},{"$f":"[1]Sheet1!H884","v":"Appie"},{"$f":"[1]Sheet1!J884","v":0},"Appie Tieben",null,{"$f":"IF(A881=113,0,[1]Sheet1!B884)","v":"RBC Doetinchem eo"}]
[{"$f":"IF([1]Sheet1!A885=113,0,[1]Sheet1!A885)","v":12584},{"$f":"IF([1]Sheet1!A885=113,0,[1]Sheet1!F885)","v":210741},{"$f":"[1]Sheet1!G885","v":"Tieben"},{"$f":"[1]Sheet1!H885","v":"Henk"},{"$f":"[1]Sheet1!J885","v":0},"Henk Tieben",null,{"$f":"IF(A882=113,0,[1]Sheet1!B885)","v":"RBC Doetinchem eo"}]
[{"$f":"IF([1]Sheet1!A886=113,0,[1]Sheet1!A886)","v":12584},{"$f":"IF([1]Sheet1!A886=113,0,[1]Sheet1!F886)","v":248137},{"$f":"[1]Sheet1!G886","v":"Tomas"},{"$f":"[1]Sheet1!H886","v":"Henk"},{"$f":"[1]Sheet1!J886","v":0},"Henk Tomas",null,{"$f":"IF(A883=113,0,[1]Sheet1!B886)","v":"RBC Doetinchem eo"}]
[{"$f":"IF([1]Sheet1!A887=113,0,[1]Sheet1!A887)","v":12584},{"$f":"IF([1]Sheet1!A887=113,0,[1]Sheet1!F887)","v":217956},{"$f":"[1]Sheet1!G887","v":"Uhm"},{"$f":"[1]Sheet1!H887","v":"Theo"},{"$f":"[1]Sheet1!J887","v":"van"},"Theo van Uhm",null,{"$f":"IF(A884=113,0,[1]Sheet1!B887)","v":"RBC Doetinchem eo"}]
[{"$f":"IF([1]Sheet1!A888=113,0,[1]Sheet1!A888)","v":12584},{"$f":"IF([1]Sheet1!A888=113,0,[1]Sheet1!F888)","v":109017},{"$f":"[1]Sheet1!G888","v":"Uhm"},{"$f":"[1]Sheet1!H888","v":"Wim"},{"$f":"[1]Sheet1!J888","v":"van"},"Wim van Uhm",null,{"$f":"IF(A885=113,0,[1]Sheet1!B888)","v":"RBC Doetinchem eo"}]
[{"$f":"IF([1]Sheet1!A889=113,0,[1]Sheet1!A889)","v":12584},{"$f":"IF([1]Sheet1!A889=113,0,[1]Sheet1!F889)","v":109017},{"$f":"[1]Sheet1!G889","v":"Uhm"},{"$f":"[1]Sheet1!H889","v":"Wim"},{"$f":"[1]Sheet1!J889","v":"van"},"Wim van Uhm",null,{"$f":"IF(A886=113,0,[1]Sheet1!B889)","v":"RBC Doetinchem eo"}]
[{"$f":"IF([1]Sheet1!A890=113,0,[1]Sheet1!A890)","v":12584},{"$f":"IF([1]Sheet1!A890=113,0,[1]Sheet1!F890)","v":134356},{"$f":"[1]Sheet1!G890","v":"Veenhuis"},{"$f":"[1]Sheet1!H890","v":"Hans"},{"$f":"[1]Sheet1!J890","v":0},"Hans Veenhuis",null,{"$f":"IF(A887=113,0,[1]Sheet1!B890)","v":"RBC Doetinchem eo"}]
[{"$f":"IF([1]Sheet1!A891=113,0,[1]Sheet1!A891)","v":12584},{"$f":"IF([1]Sheet1!A891=113,0,[1]Sheet1!F891)","v":236878},{"$f":"[1]Sheet1!G891","v":"Veenink"},{"$f":"[1]Sheet1!H891","v":"Bert"},{"$f":"[1]Sheet1!J891","v":0},"Bert Veenink",null,{"$f":"IF(A888=113,0,[1]Sheet1!B891)","v":"RBC Doetinchem eo"}]
[{"$f":"IF([1]Sheet1!A892=113,0,[1]Sheet1!A892)","v":12584},{"$f":"IF([1]Sheet1!A892=113,0,[1]Sheet1!F892)","v":155669},{"$f":"[1]Sheet1!G892","v":"Veenink"},{"$f":"[1]Sheet1!H892","v":"Rob"},{"$f":"[1]Sheet1!J892","v":0},"Rob Veenink",null,{"$f":"IF(A889=113,0,[1]Sheet1!B892)","v":"RBC Doetinchem eo"}]
[{"$f":"IF([1]Sheet1!A893=113,0,[1]Sheet1!A893)","v":12584},{"$f":"IF([1]Sheet1!A893=113,0,[1]Sheet1!F893)","v":121930},{"$f":"[1]Sheet1!G893","v":"Veld"},{"$f":"[1]Sheet1!H893","v":"AndrÃ©"},{"$f":"[1]Sheet1!J893","v":"van het"},"AndrÃ© van het Veld",null,{"$f":"IF(A890=113,0,[1]Sheet1!B893)","v":"RBC Doetinchem eo"}]
[{"$f":"IF([1]Sheet1!A894=113,0,[1]Sheet1!A894)","v":12584},{"$f":"IF([1]Sheet1!A894=113,0,[1]Sheet1!F894)","v":225752},{"$f":"[1]Sheet1!G894","v":"Veldkamp"},{"$f":"[1]Sheet1!H894","v":"Joep"},{"$f":"[1]Sheet1!J894","v":0},"Joep Veldkamp",null,{"$f":"IF(A891=113,0,[1]Sheet1!B894)","v":"RBC Doetinchem eo"}]
[{"$f":"IF([1]Sheet1!A895=113,0,[1]Sheet1!A895)","v":12584},{"$f":"IF([1]Sheet1!A895=113,0,[1]Sheet1!F895)","v":215413},{"$f":"[1]Sheet1!G895","v":"Verheij"},{"$f":"[1]Sheet1!H895","v":"Theo"},{"$f":"[1]Sheet1!J895","v":0},"Theo Verheij",null,{"$f":"IF(A892=113,0,[1]Sheet1!B895)","v":"RBC Doetinchem eo"}]
[{"$f":"IF([1]Sheet1!A896=113,0,[1]Sheet1!A896)","v":12584},{"$f":"IF([1]Sheet1!A896=113,0,[1]Sheet1!F896)","v":136119},{"$f":"[1]Sheet1!G896","v":"Verhey"},{"$f":"[1]Sheet1!H896","v":"Henk"},{"$f":"[1]Sheet1!J896","v":0},"Henk Verhey",null,{"$f":"IF(A893=113,0,[1]Sheet1!B896)","v":"RBC Doetinchem eo"}]
[{"$f":"IF([1]Sheet1!A897=113,0,[1]Sheet1!A897)","v":12584},{"$f":"IF([1]Sheet1!A897=113,0,[1]Sheet1!F897)","v":229726},{"$f":"[1]Sheet1!G897","v":"Verheyen"},{"$f":"[1]Sheet1!H897","v":"Ulrich"},{"$f":"[1]Sheet1!J897","v":0},"Ulrich Verheyen",null,{"$f":"IF(A894=113,0,[1]Sheet1!B897)","v":"RBC Doetinchem eo"}]
[{"$f":"IF([1]Sheet1!A898=113,0,[1]Sheet1!A898)","v":12584},{"$f":"IF([1]Sheet1!A898=113,0,[1]Sheet1!F898)","v":246270},{"$f":"[1]Sheet1!G898","v":"Verkerke"},{"$f":"[1]Sheet1!H898","v":"Jan"},{"$f":"[1]Sheet1!J898","v":0},"Jan Verkerke",null,{"$f":"IF(A895=113,0,[1]Sheet1!B898)","v":"RBC Doetinchem eo"}]
[{"$f":"IF([1]Sheet1!A899=113,0,[1]Sheet1!A899)","v":12584},{"$f":"IF([1]Sheet1!A899=113,0,[1]Sheet1!F899)","v":216707},{"$f":"[1]Sheet1!G899","v":"Verkerke"},{"$f":"[1]Sheet1!H899","v":"Rob"},{"$f":"[1]Sheet1!J899","v":0},"Rob Verkerke",null,{"$f":"IF(A896=113,0,[1]Sheet1!B899)","v":"RBC Doetinchem eo"}]
[{"$f":"IF([1]Sheet1!A900=113,0,[1]Sheet1!A900)","v":12584},{"$f":"IF([1]Sheet1!A900=113,0,[1]Sheet1!F900)","v":155369},{"$f":"[1]Sheet1!G900","v":"Verschoor"},{"$f":"[1]Sheet1!H900","v":"Wim"},{"$f":"[1]Sheet1!J900","v":0},"Wim Verschoor",null,{"$f":"IF(A897=113,0,[1]Sheet1!B900)","v":"RBC Doetinchem eo"}]
[{"$f":"IF([1]Sheet1!A901=113,0,[1]Sheet1!A901)","v":12584},{"$f":"IF([1]Sheet1!A901=113,0,[1]Sheet1!F901)","v":220290},{"$f":"[1]Sheet1!G901","v":"Verweij"},{"$f":"[1]Sheet1!H901","v":"Jan"},{"$f":"[1]Sheet1!J901","v":0},"Jan Verweij",null,{"$f":"IF(A898=113,0,[1]Sheet1!B901)","v":"RBC Doetinchem eo"}]
[{"$f":"IF([1]Sheet1!A902=113,0,[1]Sheet1!A902)","v":12584},{"$f":"IF([1]Sheet1!A902=113,0,[1]Sheet1!F902)","v":136552},{"$f":"[1]Sheet1!G902","v":"Vikkerman"},{"$f":"[1]Sheet1!H902","v":"Cees"},{"$f":"[1]Sheet1!J902","v":0},"Cees Vikkerman",null,{"$f":"IF(A899=113,0,[1]Sheet1!B902)","v":"RBC Doetinchem eo"}]
[{"$f":"IF([1]Sheet1!A903=113,0,[1]Sheet1!A903)","v":12584},{"$f":"IF([1]Sheet1!A903=113,0,[1]Sheet1!F903)","v":222202},{"$f":"[1]Sheet1!G903","v":"VINKE"},{"$f":"[1]Sheet1!H903","v":"Jenne"},{"$f":"[1]Sheet1!J903","v":0},"Jenne VINKE",null,{"$f":"IF(A900=113,0,[1]Sheet1!B903)","v":"RBC Doetinchem eo"}]
[{"$f":"IF([1]Sheet1!A904=113,0,[1]Sheet1!A904)","v":12584},{"$f":"IF([1]Sheet1!A904=113,0,[1]Sheet1!F904)","v":177719},{"$f":"[1]Sheet1!G904","v":"Visser"},{"$f":"[1]Sheet1!H904","v":"Gerard"},{"$f":"[1]Sheet1!J904","v":0},"Gerard Visser",null,{"$f":"IF(A901=113,0,[1]Sheet1!B904)","v":"RBC Doetinchem eo"}]
[{"$f":"IF([1]Sheet1!A905=113,0,[1]Sheet1!A905)","v":12584},{"$f":"IF([1]Sheet1!A905=113,0,[1]Sheet1!F905)","v":229641},{"$f":"[1]Sheet1!G905","v":"Visser"},{"$f":"[1]Sheet1!H905","v":"Henny"},{"$f":"[1]Sheet1!J905","v":0},"Henny Visser",null,{"$f":"IF(A902=113,0,[1]Sheet1!B905)","v":"RBC Doetinchem eo"}]
[{"$f":"IF([1]Sheet1!A906=113,0,[1]Sheet1!A906)","v":12584},{"$f":"IF([1]Sheet1!A906=113,0,[1]Sheet1!F906)","v":224708},{"$f":"[1]Sheet1!G906","v":"Vogelaar"},{"$f":"[1]Sheet1!H906","v":"Dick"},{"$f":"[1]Sheet1!J906","v":0},"Dick Vogelaar",null,{"$f":"IF(A903=113,0,[1]Sheet1!B906)","v":"RBC Doetinchem eo"}]
[{"$f":"IF([1]Sheet1!A907=113,0,[1]Sheet1!A907)","v":12584},{"$f":"IF([1]Sheet1!A907=113,0,[1]Sheet1!F907)","v":172661},{"$f":"[1]Sheet1!G907","v":"Vos"},{"$f":"[1]Sheet1!H907","v":"Jan"},{"$f":"[1]Sheet1!J907","v":0},"Jan Vos",null,{"$f":"IF(A904=113,0,[1]Sheet1!B907)","v":"RBC Doetinchem eo"}]
[{"$f":"IF([1]Sheet1!A908=113,0,[1]Sheet1!A908)","v":12584},{"$f":"IF([1]Sheet1!A908=113,0,[1]Sheet1!F908)","v":246483},{"$f":"[1]Sheet1!G908","v":"Voskamp"},{"$f":"[1]Sheet1!H908","v":"Bennie"},{"$f":"[1]Sheet1!J908","v":0},"Bennie Voskamp",null,{"$f":"IF(A905=113,0,[1]Sheet1!B908)","v":"RBC Doetinchem eo"}]
[{"$f":"IF([1]Sheet1!A909=113,0,[1]Sheet1!A909)","v":12584},{"$f":"IF([1]Sheet1!A909=113,0,[1]Sheet1!F909)","v":201168},{"$f":"[1]Sheet1!G909","v":"Vredegoor"},{"$f":"[1]Sheet1!H909","v":"AndrÃ©"},{"$f":"[1]Sheet1!J909","v":0},"AndrÃ© Vredegoor",null,{"$f":"IF(A906=113,0,[1]Sheet1!B909)","v":"RBC Doetinchem eo"}]
[{"$f":"IF([1]Sheet1!A910=113,0,[1]Sheet1!A910)","v":12584},{"$f":"IF([1]Sheet1!A910=113,0,[1]Sheet1!F910)","v":155379},{"$f":"[1]Sheet1!G910","v":"Vree"},{"$f":"[1]Sheet1!H910","v":"Hans"},{"$f":"[1]Sheet1!J910","v":0},"Hans Vree",null,{"$f":"IF(A907=113,0,[1]Sheet1!B910)","v":"RBC Doetinchem eo"}]
[{"$f":"IF([1]Sheet1!A911=113,0,[1]Sheet1!A911)","v":12584},{"$f":"IF([1]Sheet1!A911=113,0,[1]Sheet1!F911)","v":166247},{"$f":"[1]Sheet1!G911","v":"Vries"},{"$f":"[1]Sheet1!H911","v":"Hilbert"},{"$f":"[1]Sheet1!J911","v":"de"},"Hilbert de Vries",null,{"$f":"IF(A908=113,0,[1]Sheet1!B911)","v":"RBC Doetinchem eo"}]
[{"$f":"IF([1]Sheet1!A912=113,0,[1]Sheet1!A912)","v":12584},{"$f":"IF([1]Sheet1!A912=113,0,[1]Sheet1!F912)","v":182906},{"$f":"[1]Sheet1!G912","v":"Vriesema"},{"$f":"[1]Sheet1!H912","v":"Fred"},{"$f":"[1]Sheet1!J912","v":0},"Fred Vriesema",null,{"$f":"IF(A909=113,0,[1]Sheet1!B912)","v":"RBC Doetinchem eo"}]
[{"$f":"IF([1]Sheet1!A913=113,0,[1]Sheet1!A913)","v":12584},{"$f":"IF([1]Sheet1!A913=113,0,[1]Sheet1!F913)","v":204547},{"$f":"[1]Sheet1!G913","v":"Vruggink"},{"$f":"[1]Sheet1!H913","v":"Wim"},{"$f":"[1]Sheet1!J913","v":0},"Wim Vruggink",null,{"$f":"IF(A910=113,0,[1]Sheet1!B913)","v":"RBC Doetinchem eo"}]
[{"$f":"IF([1]Sheet1!A914=113,0,[1]Sheet1!A914)","v":123456},{"$f":"IF([1]Sheet1!A914=113,0,[1]Sheet1!F914)","v":113850},{"$f":"[1]Sheet1!G914","v":"Wal"},{"$f":"[1]Sheet1!H914","v":"Willem"},{"$f":"[1]Sheet1!J914","v":"van der"},"Willem van der Wal",null,{"$f":"IF(A911=113,0,[1]Sheet1!B914)","v":"RBC Doetinchem eo"}]
[{"$f":"IF([1]Sheet1!A915=113,0,[1]Sheet1!A915)","v":12584},{"$f":"IF([1]Sheet1!A915=113,0,[1]Sheet1!F915)","v":217194},{"$f":"[1]Sheet1!G915","v":"Wasseveld"},{"$f":"[1]Sheet1!H915","v":"Jan"},{"$f":"[1]Sheet1!J915","v":0},"Jan Wasseveld",null,{"$f":"IF(A912=113,0,[1]Sheet1!B915)","v":"RBC Doetinchem eo"}]
[{"$f":"IF([1]Sheet1!A916=113,0,[1]Sheet1!A916)","v":12584},{"$f":"IF([1]Sheet1!A916=113,0,[1]Sheet1!F916)","v":148098},{"$f":"[1]Sheet1!G916","v":"Weij"},{"$f":"[1]Sheet1!H916","v":"Gert"},{"$f":"[1]Sheet1!J916","v":"van"},"Gert van Weij",null,{"$f":"IF(A913=113,0,[1]Sheet1!B916)","v":"RBC Doetinchem eo"}]
[{"$f":"IF([1]Sheet1!A917=113,0,[1]Sheet1!A917)","v":12584},{"$f":"IF([1]Sheet1!A917=113,0,[1]Sheet1!F917)","v":154977},{"$f":"[1]Sheet1!G917","v":"Weij"},{"$f":"[1]Sheet1!H917","v":"Jaap"},{"$f":"[1]Sheet1!J917","v":"van"},"Jaap van Weij",null,{"$f":"IF(A914=113,0,[1]Sheet1!B917)","v":"RBC Doetinchem eo"}]
[{"$f":"IF([1]Sheet1!A918=113,0,[1]Sheet1!A918)","v":12584},{"$f":"IF([1]Sheet1!A918=113,0,[1]Sheet1!F918)","v":217881},{"$f":"[1]Sheet1!G918","v":"Welling"},{"$f":"[1]Sheet1!H918","v":"Bart"},{"$f":"[1]Sheet1!J918","v":0},"Bart Welling",null,{"$f":"IF(A915=113,0,[1]Sheet1!B918)","v":"RBC Doetinchem eo"}]
[{"$f":"IF([1]Sheet1!A919=113,0,[1]Sheet1!A919)","v":12584},{"$f":"IF([1]Sheet1!A919=113,0,[1]Sheet1!F919)","v":213044},{"$f":"[1]Sheet1!G919","v":"Wentink"},{"$f":"[1]Sheet1!H919","v":"Gerrit"},{"$f":"[1]Sheet1!J919","v":0},"Gerrit Wentink",null,{"$f":"IF(A916=113,0,[1]Sheet1!B919)","v":"RBC Doetinchem eo"}]
[{"$f":"IF([1]Sheet1!A920=113,0,[1]Sheet1!A920)","v":12584},{"$f":"IF([1]Sheet1!A920=113,0,[1]Sheet1!F920)","v":113499},{"$f":"[1]Sheet1!G920","v":"Wentink"},{"$f":"[1]Sheet1!H920","v":"Gert"},{"$f":"[1]Sheet1!J920","v":0},{"$f":"IF(E917=0,CONCATENATE(D917,\" \",C917),CONCATENATE(D917,\" \",E917,\" \",C917))","v":"Gert Wentink"},null,{"$f":"IF(A917=113,0,[1]Sheet1!B920)","v":"RBC Doetinchem eo"}]
[{"$f":"IF([1]Sheet1!A921=113,0,[1]Sheet1!A921)","v":12584},{"$f":"IF([1]Sheet1!A921=113,0,[1]Sheet1!F921)","v":210738},{"$f":"[1]Sheet1!G921","v":"Wentink"},{"$f":"[1]Sheet1!H921","v":"Jan"},{"$f":"[1]Sheet1!J921","v":0},"Jan Wentink",null,{"$f":"IF(A918=113,0,[1]Sheet1!B921)","v":"RBC Doetinchem eo"}]
[{"$f":"IF([1]Sheet1!A922=113,0,[1]Sheet1!A922)","v":12584},{"$f":"IF([1]Sheet1!A922=113,0,[1]Sheet1!F922)","v":250241},{"$f":"[1]Sheet1!G922","v":"West"},{"$f":"[1]Sheet1!H922","v":"Martin"},{"$f":"[1]Sheet1!J922","v":"de"},"Martin de West",null,{"$f":"IF(A919=113,0,[1]Sheet1!B922)","v":"RBC Doetinchem eo"}]
[{"$f":"IF([1]Sheet1!A923=113,0,[1]Sheet1!A923)","v":12584},{"$f":"IF([1]Sheet1!A923=113,0,[1]Sheet1!F923)","v":207879},{"$f":"[1]Sheet1!G923","v":"Wieggers"},{"$f":"[1]Sheet1!H923","v":"Fons"},{"$f":"[1]Sheet1!J923","v":0},"Fons Wieggers",null,{"$f":"IF(A920=113,0,[1]Sheet1!B923)","v":"RBC Doetinchem eo"}]
[{"$f":"IF([1]Sheet1!A924=113,0,[1]Sheet1!A924)","v":12584},{"$f":"IF([1]Sheet1!A924=113,0,[1]Sheet1!F924)","v":246567},{"$f":"[1]Sheet1!G924","v":"Wieggers"},{"$f":"[1]Sheet1!H924","v":"Jan"},{"$f":"[1]Sheet1!J924","v":0},"Jan Wieggers",null,{"$f":"IF(A921=113,0,[1]Sheet1!B924)","v":"RBC Doetinchem eo"}]
[{"$f":"IF([1]Sheet1!A925=113,0,[1]Sheet1!A925)","v":12584},{"$f":"IF([1]Sheet1!A925=113,0,[1]Sheet1!F925)","v":225230},{"$f":"[1]Sheet1!G925","v":"Wienholts"},{"$f":"[1]Sheet1!H925","v":"Frans"},{"$f":"[1]Sheet1!J925","v":0},"Frans Wienholts",null,{"$f":"IF(A922=113,0,[1]Sheet1!B925)","v":"RBC Doetinchem eo"}]
[{"$f":"IF([1]Sheet1!A926=113,0,[1]Sheet1!A926)","v":12584},{"$f":"IF([1]Sheet1!A926=113,0,[1]Sheet1!F926)","v":224385},{"$f":"[1]Sheet1!G926","v":"Wild"},{"$f":"[1]Sheet1!H926","v":"Tonny"},{"$f":"[1]Sheet1!J926","v":"de"},"Tonny de Wild",null,{"$f":"IF(A923=113,0,[1]Sheet1!B926)","v":"RBC Doetinchem eo"}]
[{"$f":"IF([1]Sheet1!A927=113,0,[1]Sheet1!A927)","v":12584},{"$f":"IF([1]Sheet1!A927=113,0,[1]Sheet1!F927)","v":220281},{"$f":"[1]Sheet1!G927","v":"Willemsen"},{"$f":"[1]Sheet1!H927","v":"Ben"},{"$f":"[1]Sheet1!J927","v":0},"Ben Willemsen",null,{"$f":"IF(A924=113,0,[1]Sheet1!B927)","v":"RBC Doetinchem eo"}]
[{"$f":"IF([1]Sheet1!A928=113,0,[1]Sheet1!A928)","v":12584},{"$f":"IF([1]Sheet1!A928=113,0,[1]Sheet1!F928)","v":112241},{"$f":"[1]Sheet1!G928","v":"Willemsen"},{"$f":"[1]Sheet1!H928","v":"Hennie"},{"$f":"[1]Sheet1!J928","v":0},"Hennie Willemsen",null,{"$f":"IF(A925=113,0,[1]Sheet1!B928)","v":"RBC Doetinchem eo"}]
[{"$f":"IF([1]Sheet1!A929=113,0,[1]Sheet1!A929)","v":12584},{"$f":"IF([1]Sheet1!A929=113,0,[1]Sheet1!F929)","v":236923},{"$f":"[1]Sheet1!G929","v":"Winkelman"},{"$f":"[1]Sheet1!H929","v":"RenÃ¨"},{"$f":"[1]Sheet1!J929","v":0},"RenÃ¨ Winkelman",null,{"$f":"IF(A926=113,0,[1]Sheet1!B929)","v":"RBC Doetinchem eo"}]
[{"$f":"IF([1]Sheet1!A930=113,0,[1]Sheet1!A930)","v":12584},{"$f":"IF([1]Sheet1!A930=113,0,[1]Sheet1!F930)","v":217873},{"$f":"[1]Sheet1!G930","v":"Wolsink"},{"$f":"[1]Sheet1!H930","v":"Willem"},{"$f":"[1]Sheet1!J930","v":0},"Willem Wolsink",null,{"$f":"IF(A927=113,0,[1]Sheet1!B930)","v":"RBC Doetinchem eo"}]
[{"$f":"IF([1]Sheet1!A931=113,0,[1]Sheet1!A931)","v":12584},{"$f":"IF([1]Sheet1!A931=113,0,[1]Sheet1!F931)","v":246442},{"$f":"[1]Sheet1!G931","v":"Worst"},{"$f":"[1]Sheet1!H931","v":"Cas"},{"$f":"[1]Sheet1!J931","v":0},"Cas Worst",null,{"$f":"IF(A928=113,0,[1]Sheet1!B931)","v":"RBC Doetinchem eo"}]
[{"$f":"IF([1]Sheet1!A932=113,0,[1]Sheet1!A932)","v":12584},{"$f":"IF([1]Sheet1!A932=113,0,[1]Sheet1!F932)","v":263666},{"$f":"[1]Sheet1!G932","v":"Zandbergen"},{"$f":"[1]Sheet1!H932","v":"HANS"},{"$f":"[1]Sheet1!J932","v":0},"HANS Zandbergen",null,{"$f":"IF(A929=113,0,[1]Sheet1!B932)","v":"RBC Doetinchem eo"}]
[{"$f":"IF([1]Sheet1!A933=113,0,[1]Sheet1!A933)","v":12594},{"$f":"IF([1]Sheet1!A933=113,0,[1]Sheet1!F933)","v":172481},{"$f":"[1]Sheet1!G933","v":"Feukkink"},{"$f":"[1]Sheet1!H933","v":"Jan"},{"$f":"[1]Sheet1!J933","v":0},"Jan Feukkink",null,{"$f":"IF(A930=113,0,[1]Sheet1!B933)","v":"Masse/de Waggel BV"}]
[{"$f":"IF([1]Sheet1!A934=113,0,[1]Sheet1!A934)","v":12594},{"$f":"IF([1]Sheet1!A934=113,0,[1]Sheet1!F934)","v":172481},{"$f":"[1]Sheet1!G934","v":"Feukkink"},{"$f":"[1]Sheet1!H934","v":"Jan"},{"$f":"[1]Sheet1!J934","v":0},"Jan Feukkink",null,{"$f":"IF(A931=113,0,[1]Sheet1!B934)","v":"Masse/de Waggel BV"}]
[{"$f":"IF([1]Sheet1!A935=113,0,[1]Sheet1!A935)","v":12594},{"$f":"IF([1]Sheet1!A935=113,0,[1]Sheet1!F935)","v":181741},{"$f":"[1]Sheet1!G935","v":"Schie"},{"$f":"[1]Sheet1!H935","v":"Ronny"},{"$f":"[1]Sheet1!J935","v":"van"},"Ronny van Schie",null,{"$f":"IF(A932=113,0,[1]Sheet1!B935)","v":"Masse/de Waggel BV"}]
[{"$f":"IF([1]Sheet1!A936=113,0,[1]Sheet1!A936)","v":12751},{"$f":"IF([1]Sheet1!A936=113,0,[1]Sheet1!F936)","v":154755},{"$f":"[1]Sheet1!G936","v":"Driessen"},{"$f":"[1]Sheet1!H936","v":"Jonnie"},{"$f":"[1]Sheet1!J936","v":0},"Jonnie Driessen",null,{"$f":"IF(A933=113,0,[1]Sheet1!B936)","v":"U-niek"}]
[{"$f":"IF([1]Sheet1!A937=113,0,[1]Sheet1!A937)","v":12751},{"$f":"IF([1]Sheet1!A937=113,0,[1]Sheet1!F937)","v":263714},{"$f":"[1]Sheet1!G937","v":"Dulmen"},{"$f":"[1]Sheet1!H937","v":"Emiel"},{"$f":"[1]Sheet1!J937","v":"van"},"Emiel van Dulmen",null,{"$f":"IF(A934=113,0,[1]Sheet1!B937)","v":"U-niek"}]
[{"$f":"IF([1]Sheet1!A938=113,0,[1]Sheet1!A938)","v":12751},{"$f":"IF([1]Sheet1!A938=113,0,[1]Sheet1!F938)","v":182941},{"$f":"[1]Sheet1!G938","v":"Freriks"},{"$f":"[1]Sheet1!H938","v":"Jan"},{"$f":"[1]Sheet1!J938","v":0},"Jan Freriks",null,{"$f":"IF(A935=113,0,[1]Sheet1!B938)","v":"U-niek"}]
[{"$f":"IF([1]Sheet1!A939=113,0,[1]Sheet1!A939)","v":12751},{"$f":"IF([1]Sheet1!A939=113,0,[1]Sheet1!F939)","v":137047},{"$f":"[1]Sheet1!G939","v":"Janssen"},{"$f":"[1]Sheet1!H939","v":"Jo"},{"$f":"[1]Sheet1!J939","v":0},"Jo Janssen",null,{"$f":"IF(A936=113,0,[1]Sheet1!B939)","v":"U-niek"}]
[{"$f":"IF([1]Sheet1!A940=113,0,[1]Sheet1!A940)","v":12751},{"$f":"IF([1]Sheet1!A940=113,0,[1]Sheet1!F940)","v":204393},{"$f":"[1]Sheet1!G940","v":"Mintjes"},{"$f":"[1]Sheet1!H940","v":"Rein"},{"$f":"[1]Sheet1!J940","v":0},"Rein Mintjes",null,{"$f":"IF(A937=113,0,[1]Sheet1!B940)","v":"U-niek"}]
[{"$f":"IF([1]Sheet1!A941=113,0,[1]Sheet1!A941)","v":12751},{"$f":"IF([1]Sheet1!A941=113,0,[1]Sheet1!F941)","v":113460},{"$f":"[1]Sheet1!G941","v":"Pennen"},{"$f":"[1]Sheet1!H941","v":"Willie"},{"$f":"[1]Sheet1!J941","v":"van de"},"Willie van de Pennen",null,{"$f":"IF(A938=113,0,[1]Sheet1!B941)","v":"U-niek"}]
[{"$f":"IF([1]Sheet1!A942=113,0,[1]Sheet1!A942)","v":12751},{"$f":"IF([1]Sheet1!A942=113,0,[1]Sheet1!F942)","v":162375},{"$f":"[1]Sheet1!G942","v":"Rutten"},{"$f":"[1]Sheet1!H942","v":"Wim"},{"$f":"[1]Sheet1!J942","v":0},"Wim Rutten",null,{"$f":"IF(A939=113,0,[1]Sheet1!B942)","v":"U-niek"}]
[{"$f":"IF([1]Sheet1!A943=113,0,[1]Sheet1!A943)","v":12751},{"$f":"IF([1]Sheet1!A943=113,0,[1]Sheet1!F943)","v":209690},{"$f":"[1]Sheet1!G943","v":"Schlepers"},{"$f":"[1]Sheet1!H943","v":"Arno"},{"$f":"[1]Sheet1!J943","v":0},"Arno Schlepers",null,{"$f":"IF(A940=113,0,[1]Sheet1!B943)","v":"U-niek"}]
[{"$f":"IF([1]Sheet1!A944=113,0,[1]Sheet1!A944)","v":12751},{"$f":"IF([1]Sheet1!A944=113,0,[1]Sheet1!F944)","v":205459},{"$f":"[1]Sheet1!G944","v":"Thuis"},{"$f":"[1]Sheet1!H944","v":"Jeroen"},{"$f":"[1]Sheet1!J944","v":0},"Jeroen Thuis",null,{"$f":"IF(A941=113,0,[1]Sheet1!B944)","v":"U-niek"}]
[{"$f":"IF([1]Sheet1!A945=113,0,[1]Sheet1!A945)","v":12751},{"$f":"IF([1]Sheet1!A945=113,0,[1]Sheet1!F945)","v":215413},{"$f":"[1]Sheet1!G945","v":"Verheij"},{"$f":"[1]Sheet1!H945","v":"Theo"},{"$f":"[1]Sheet1!J945","v":0},"Theo Verheij",null,{"$f":"IF(A942=113,0,[1]Sheet1!B945)","v":"U-niek"}]
[{"$f":"IF([1]Sheet1!A946=113,0,[1]Sheet1!A946)","v":12751},{"$f":"IF([1]Sheet1!A946=113,0,[1]Sheet1!F946)","v":215413},{"$f":"[1]Sheet1!G946","v":"Verheij"},{"$f":"[1]Sheet1!H946","v":"Theo"},{"$f":"[1]Sheet1!J946","v":0},"Theo Verheij",null,{"$f":"IF(A943=113,0,[1]Sheet1!B946)","v":"U-niek"}]
[{"$f":"IF([1]Sheet1!A947=113,0,[1]Sheet1!A947)","v":12751},{"$f":"IF([1]Sheet1!A947=113,0,[1]Sheet1!F947)","v":182980},{"$f":"[1]Sheet1!G947","v":"Wanders"},{"$f":"[1]Sheet1!H947","v":"Lomy"},{"$f":"[1]Sheet1!J947","v":0},"Lomy Wanders",null,{"$f":"IF(A944=113,0,[1]Sheet1!B947)","v":"U-niek"}]
[{"$f":"IF([1]Sheet1!A948=113,0,[1]Sheet1!A948)","v":12751},{"$f":"IF([1]Sheet1!A948=113,0,[1]Sheet1!F948)","v":182980},{"$f":"[1]Sheet1!G948","v":"Wanders"},{"$f":"[1]Sheet1!H948","v":"Lomy"},{"$f":"[1]Sheet1!J948","v":0},"Lomy Wanders",null,{"$f":"IF(A945=113,0,[1]Sheet1!B948)","v":"U-niek"}]
[{"$f":"IF([1]Sheet1!A949=113,0,[1]Sheet1!A949)","v":12828},{"$f":"IF([1]Sheet1!A949=113,0,[1]Sheet1!F949)","v":151313},{"$f":"[1]Sheet1!G949","v":"Derksen"},{"$f":"[1]Sheet1!H949","v":"Gerard"},{"$f":"[1]Sheet1!J949","v":0},"Gerard Derksen",null,{"$f":"IF(A946=113,0,[1]Sheet1!B949)","v":"Taveerne"}]
[{"$f":"IF([1]Sheet1!A950=113,0,[1]Sheet1!A950)","v":12828},{"$f":"IF([1]Sheet1!A950=113,0,[1]Sheet1!F950)","v":151313},{"$f":"[1]Sheet1!G950","v":"Derksen"},{"$f":"[1]Sheet1!H950","v":"Gerard"},{"$f":"[1]Sheet1!J950","v":0},"Gerard Derksen",null,{"$f":"IF(A947=113,0,[1]Sheet1!B950)","v":"Taveerne"}]
[{"$f":"IF([1]Sheet1!A951=113,0,[1]Sheet1!A951)","v":12828},{"$f":"IF([1]Sheet1!A951=113,0,[1]Sheet1!F951)","v":170471},{"$f":"[1]Sheet1!G951","v":"Dijkema"},{"$f":"[1]Sheet1!H951","v":"Rob"},{"$f":"[1]Sheet1!J951","v":0},"Rob Dijkema",null,{"$f":"IF(A948=113,0,[1]Sheet1!B951)","v":"Taveerne"}]
[{"$f":"IF([1]Sheet1!A952=113,0,[1]Sheet1!A952)","v":12828},{"$f":"IF([1]Sheet1!A952=113,0,[1]Sheet1!F952)","v":142796},{"$f":"[1]Sheet1!G952","v":"Heebing"},{"$f":"[1]Sheet1!H952","v":"Benny"},{"$f":"[1]Sheet1!J952","v":0},"Benny Heebing",null,{"$f":"IF(A949=113,0,[1]Sheet1!B952)","v":"Taveerne"}]
[{"$f":"IF([1]Sheet1!A953=113,0,[1]Sheet1!A953)","v":12828},{"$f":"IF([1]Sheet1!A953=113,0,[1]Sheet1!F953)","v":225780},{"$f":"[1]Sheet1!G953","v":"Jansen"},{"$f":"[1]Sheet1!H953","v":"Nick"},{"$f":"[1]Sheet1!J953","v":0},"Nick Jansen",null,{"$f":"IF(A950=113,0,[1]Sheet1!B953)","v":"Taveerne"}]
[{"$f":"IF([1]Sheet1!A954=113,0,[1]Sheet1!A954)","v":13141},{"$f":"IF([1]Sheet1!A954=113,0,[1]Sheet1!F954)","v":236896},{"$f":"[1]Sheet1!G954","v":"Baakman"},{"$f":"[1]Sheet1!H954","v":"Alex"},{"$f":"[1]Sheet1!J954","v":0},"Alex Baakman",null,{"$f":"IF(A951=113,0,[1]Sheet1!B954)","v":"Tante Dies"}]
[{"$f":"IF([1]Sheet1!A955=113,0,[1]Sheet1!A955)","v":13141},{"$f":"IF([1]Sheet1!A955=113,0,[1]Sheet1!F955)","v":207883},{"$f":"[1]Sheet1!G955","v":"Derksen"},{"$f":"[1]Sheet1!H955","v":"Pim"},{"$f":"[1]Sheet1!J955","v":0},"Pim Derksen",null,{"$f":"IF(A952=113,0,[1]Sheet1!B955)","v":"Tante Dies"}]
[{"$f":"IF([1]Sheet1!A956=113,0,[1]Sheet1!A956)","v":13141},{"$f":"IF([1]Sheet1!A956=113,0,[1]Sheet1!F956)","v":215409},{"$f":"[1]Sheet1!G956","v":"Duis"},{"$f":"[1]Sheet1!H956","v":"Jarno"},{"$f":"[1]Sheet1!J956","v":0},"Jarno Duis",null,{"$f":"IF(A953=113,0,[1]Sheet1!B956)","v":"Tante Dies"}]
[{"$f":"IF([1]Sheet1!A957=113,0,[1]Sheet1!A957)","v":13141},{"$f":"IF([1]Sheet1!A957=113,0,[1]Sheet1!F957)","v":226071},{"$f":"[1]Sheet1!G957","v":"Egging"},{"$f":"[1]Sheet1!H957","v":"Henk"},{"$f":"[1]Sheet1!J957","v":0},"Henk Egging",null,{"$f":"IF(A954=113,0,[1]Sheet1!B957)","v":"Tante Dies"}]
[{"$f":"IF([1]Sheet1!A958=113,0,[1]Sheet1!A958)","v":13141},{"$f":"IF([1]Sheet1!A958=113,0,[1]Sheet1!F958)","v":221695},{"$f":"[1]Sheet1!G958","v":"Egging"},{"$f":"[1]Sheet1!H958","v":"Wim"},{"$f":"[1]Sheet1!J958","v":0},"Wim Egging",null,{"$f":"IF(A955=113,0,[1]Sheet1!B958)","v":"Tante Dies"}]
[{"$f":"IF([1]Sheet1!A959=113,0,[1]Sheet1!A959)","v":13141},{"$f":"IF([1]Sheet1!A959=113,0,[1]Sheet1!F959)","v":236898},{"$f":"[1]Sheet1!G959","v":"Meijer"},{"$f":"[1]Sheet1!H959","v":"Hans"},{"$f":"[1]Sheet1!J959","v":0},"Hans Meijer",null,{"$f":"IF(A956=113,0,[1]Sheet1!B959)","v":"Tante Dies"}]
[{"$f":"IF([1]Sheet1!A960=113,0,[1]Sheet1!A960)","v":13141},{"$f":"IF([1]Sheet1!A960=113,0,[1]Sheet1!F960)","v":236899},{"$f":"[1]Sheet1!G960","v":"Middelhof"},{"$f":"[1]Sheet1!H960","v":"Tim"},{"$f":"[1]Sheet1!J960","v":0},"Tim Middelhof",null,{"$f":"IF(A957=113,0,[1]Sheet1!B960)","v":"Tante Dies"}]
[{"$f":"IF([1]Sheet1!A961=113,0,[1]Sheet1!A961)","v":13141},{"$f":"IF([1]Sheet1!A961=113,0,[1]Sheet1!F961)","v":236897},{"$f":"[1]Sheet1!G961","v":"Pouwels"},{"$f":"[1]Sheet1!H961","v":"Wilfried"},{"$f":"[1]Sheet1!J961","v":0},"Wilfried Pouwels",null,{"$f":"IF(A958=113,0,[1]Sheet1!B961)","v":"Tante Dies"}]
[{"$f":"IF([1]Sheet1!A962=113,0,[1]Sheet1!A962)","v":13141},{"$f":"IF([1]Sheet1!A962=113,0,[1]Sheet1!F962)","v":136373},{"$f":"[1]Sheet1!G962","v":"Raben"},{"$f":"[1]Sheet1!H962","v":"Hans"},{"$f":"[1]Sheet1!J962","v":0},"Hans Raben",null,{"$f":"IF(A959=113,0,[1]Sheet1!B962)","v":"Tante Dies"}]
[{"$f":"IF([1]Sheet1!A963=113,0,[1]Sheet1!A963)","v":13141},{"$f":"IF([1]Sheet1!A963=113,0,[1]Sheet1!F963)","v":229531},{"$f":"[1]Sheet1!G963","v":"Visser"},{"$f":"[1]Sheet1!H963","v":"Johan"},{"$f":"[1]Sheet1!J963","v":0},"Johan Visser",null,{"$f":"IF(A960=113,0,[1]Sheet1!B963)","v":"Tante Dies"}]
[{"$f":"IF([1]Sheet1!A964=113,0,[1]Sheet1!A964)","v":13230},{"$f":"IF([1]Sheet1!A964=113,0,[1]Sheet1!F964)","v":151305},{"$f":"[1]Sheet1!G964","v":"Berenpas"},{"$f":"[1]Sheet1!H964","v":"Wim"},{"$f":"[1]Sheet1!J964","v":0},"Wim Berenpas",null,{"$f":"IF(A961=113,0,[1]Sheet1!B964)","v":"De Keu"}]
[{"$f":"IF([1]Sheet1!A965=113,0,[1]Sheet1!A965)","v":13230},{"$f":"IF([1]Sheet1!A965=113,0,[1]Sheet1!F965)","v":226970},{"$f":"[1]Sheet1!G965","v":"Duijnhoven"},{"$f":"[1]Sheet1!H965","v":"Twan"},{"$f":"[1]Sheet1!J965","v":"van"},"Twan van Duijnhoven",null,{"$f":"IF(A962=113,0,[1]Sheet1!B965)","v":"De Keu"}]
[{"$f":"IF([1]Sheet1!A966=113,0,[1]Sheet1!A966)","v":13230},{"$f":"IF([1]Sheet1!A966=113,0,[1]Sheet1!F966)","v":218087},{"$f":"[1]Sheet1!G966","v":"Essing"},{"$f":"[1]Sheet1!H966","v":"Marcel"},{"$f":"[1]Sheet1!J966","v":0},"Marcel Essing",null,{"$f":"IF(A963=113,0,[1]Sheet1!B966)","v":"De Keu"}]
[{"$f":"IF([1]Sheet1!A967=113,0,[1]Sheet1!A967)","v":13230},{"$f":"IF([1]Sheet1!A967=113,0,[1]Sheet1!F967)","v":111417},{"$f":"[1]Sheet1!G967","v":"Evers"},{"$f":"[1]Sheet1!H967","v":"Hans"},{"$f":"[1]Sheet1!J967","v":0},"Hans Evers",null,{"$f":"IF(A964=113,0,[1]Sheet1!B967)","v":"De Keu"}]
[{"$f":"IF([1]Sheet1!A968=113,0,[1]Sheet1!A968)","v":13230},{"$f":"IF([1]Sheet1!A968=113,0,[1]Sheet1!F968)","v":112709},{"$f":"[1]Sheet1!G968","v":"Hargeerds"},{"$f":"[1]Sheet1!H968","v":"Rob"},{"$f":"[1]Sheet1!J968","v":0},"Rob Hargeerds",null,{"$f":"IF(A965=113,0,[1]Sheet1!B968)","v":"De Keu"}]
[{"$f":"IF([1]Sheet1!A969=113,0,[1]Sheet1!A969)","v":13230},{"$f":"IF([1]Sheet1!A969=113,0,[1]Sheet1!F969)","v":112058},{"$f":"[1]Sheet1!G969","v":"Ketz"},{"$f":"[1]Sheet1!H969","v":"Ap"},{"$f":"[1]Sheet1!J969","v":0},"Ap Ketz",null,{"$f":"IF(A966=113,0,[1]Sheet1!B969)","v":"De Keu"}]
[{"$f":"IF([1]Sheet1!A970=113,0,[1]Sheet1!A970)","v":13230},{"$f":"IF([1]Sheet1!A970=113,0,[1]Sheet1!F970)","v":141232},{"$f":"[1]Sheet1!G970","v":"Kleinreesink"},{"$f":"[1]Sheet1!H970","v":"Marco"},{"$f":"[1]Sheet1!J970","v":0},"Marco Kleinreesink",null,{"$f":"IF(A967=113,0,[1]Sheet1!B970)","v":"De Keu"}]
[{"$f":"IF([1]Sheet1!A971=113,0,[1]Sheet1!A971)","v":13230},{"$f":"IF([1]Sheet1!A971=113,0,[1]Sheet1!F971)","v":141232},{"$f":"[1]Sheet1!G971","v":"Kleinreesink"},{"$f":"[1]Sheet1!H971","v":"Marco"},{"$f":"[1]Sheet1!J971","v":0},"Marco Kleinreesink",null,{"$f":"IF(A968=113,0,[1]Sheet1!B971)","v":"De Keu"}]
[{"$f":"IF([1]Sheet1!A972=113,0,[1]Sheet1!A972)","v":13230},{"$f":"IF([1]Sheet1!A972=113,0,[1]Sheet1!F972)","v":219703},{"$f":"[1]Sheet1!G972","v":"Kolk"},{"$f":"[1]Sheet1!H972","v":"Niels"},{"$f":"[1]Sheet1!J972","v":"van de"},"Niels van de Kolk",null,{"$f":"IF(A969=113,0,[1]Sheet1!B972)","v":"De Keu"}]
[{"$f":"IF([1]Sheet1!A973=113,0,[1]Sheet1!A973)","v":13230},{"$f":"IF([1]Sheet1!A973=113,0,[1]Sheet1!F973)","v":140583},{"$f":"[1]Sheet1!G973","v":"Koster"},{"$f":"[1]Sheet1!H973","v":"Martin"},{"$f":"[1]Sheet1!J973","v":0},"Martin Koster",null,{"$f":"IF(A970=113,0,[1]Sheet1!B973)","v":"De Keu"}]
[{"$f":"IF([1]Sheet1!A974=113,0,[1]Sheet1!A974)","v":13230},{"$f":"IF([1]Sheet1!A974=113,0,[1]Sheet1!F974)","v":111119},{"$f":"[1]Sheet1!G974","v":"Lende"},{"$f":"[1]Sheet1!H974","v":"Gert"},{"$f":"[1]Sheet1!J974","v":"van der"},"Gert van der Lende",null,{"$f":"IF(A971=113,0,[1]Sheet1!B974)","v":"De Keu"}]
[{"$f":"IF([1]Sheet1!A975=113,0,[1]Sheet1!A975)","v":13230},{"$f":"IF([1]Sheet1!A975=113,0,[1]Sheet1!F975)","v":211349},{"$f":"[1]Sheet1!G975","v":"Meerbeek"},{"$f":"[1]Sheet1!H975","v":"Ap"},{"$f":"[1]Sheet1!J975","v":0},"Ap Meerbeek",null,{"$f":"IF(A972=113,0,[1]Sheet1!B975)","v":"De Keu"}]
[{"$f":"IF([1]Sheet1!A976=113,0,[1]Sheet1!A976)","v":13230},{"$f":"IF([1]Sheet1!A976=113,0,[1]Sheet1!F976)","v":236590},{"$f":"[1]Sheet1!G976","v":"Notten"},{"$f":"[1]Sheet1!H976","v":"Arne"},{"$f":"[1]Sheet1!J976","v":0},"Arne Notten",null,{"$f":"IF(A973=113,0,[1]Sheet1!B976)","v":"De Keu"}]
[{"$f":"IF([1]Sheet1!A977=113,0,[1]Sheet1!A977)","v":13230},{"$f":"IF([1]Sheet1!A977=113,0,[1]Sheet1!F977)","v":237455},{"$f":"[1]Sheet1!G977","v":"Notten"},{"$f":"[1]Sheet1!H977","v":"Bas"},{"$f":"[1]Sheet1!J977","v":0},"Bas Notten",null,{"$f":"IF(A974=113,0,[1]Sheet1!B977)","v":"De Keu"}]
[{"$f":"IF([1]Sheet1!A978=113,0,[1]Sheet1!A978)","v":13230},{"$f":"IF([1]Sheet1!A978=113,0,[1]Sheet1!F978)","v":151298},{"$f":"[1]Sheet1!G978","v":"Notten"},{"$f":"[1]Sheet1!H978","v":"Frans"},{"$f":"[1]Sheet1!J978","v":0},"Frans Notten",null,{"$f":"IF(A975=113,0,[1]Sheet1!B978)","v":"De Keu"}]
[{"$f":"IF([1]Sheet1!A979=113,0,[1]Sheet1!A979)","v":13230},{"$f":"IF([1]Sheet1!A979=113,0,[1]Sheet1!F979)","v":219702},{"$f":"[1]Sheet1!G979","v":"Notten"},{"$f":"[1]Sheet1!H979","v":"Joop"},{"$f":"[1]Sheet1!J979","v":0},"Joop Notten",null,{"$f":"IF(A976=113,0,[1]Sheet1!B979)","v":"De Keu"}]
[{"$f":"IF([1]Sheet1!A980=113,0,[1]Sheet1!A980)","v":13230},{"$f":"IF([1]Sheet1!A980=113,0,[1]Sheet1!F980)","v":247943},{"$f":"[1]Sheet1!G980","v":"Staalduinen"},{"$f":"[1]Sheet1!H980","v":"Dominic"},{"$f":"[1]Sheet1!J980","v":0},"Dominic Staalduinen",null,{"$f":"IF(A977=113,0,[1]Sheet1!B980)","v":"De Keu"}]
[{"$f":"IF([1]Sheet1!A981=113,0,[1]Sheet1!A981)","v":13390},{"$f":"IF([1]Sheet1!A981=113,0,[1]Sheet1!F981)","v":210299},{"$f":"[1]Sheet1!G981","v":"Augustijn"},{"$f":"[1]Sheet1!H981","v":"Roy"},{"$f":"[1]Sheet1!J981","v":0},"Roy Augustijn",null,{"$f":"IF(A978=113,0,[1]Sheet1!B981)","v":"De Tol"}]
[{"$f":"IF([1]Sheet1!A982=113,0,[1]Sheet1!A982)","v":13390},{"$f":"IF([1]Sheet1!A982=113,0,[1]Sheet1!F982)","v":112733},{"$f":"[1]Sheet1!G982","v":"Hart"},{"$f":"[1]Sheet1!H982","v":"Marco"},{"$f":"[1]Sheet1!J982","v":"'t"},"Marco 't Hart",null,{"$f":"IF(A979=113,0,[1]Sheet1!B982)","v":"De Tol"}]
[{"$f":"IF([1]Sheet1!A983=113,0,[1]Sheet1!A983)","v":13390},{"$f":"IF([1]Sheet1!A983=113,0,[1]Sheet1!F983)","v":184012},{"$f":"[1]Sheet1!G983","v":"Hengeveld"},{"$f":"[1]Sheet1!H983","v":"Martin"},{"$f":"[1]Sheet1!J983","v":0},"Martin Hengeveld",null,{"$f":"IF(A980=113,0,[1]Sheet1!B983)","v":"De Tol"}]
[{"$f":"IF([1]Sheet1!A984=113,0,[1]Sheet1!A984)","v":13390},{"$f":"IF([1]Sheet1!A984=113,0,[1]Sheet1!F984)","v":214784},{"$f":"[1]Sheet1!G984","v":"Hummel"},{"$f":"[1]Sheet1!H984","v":"Jetty"},{"$f":"[1]Sheet1!J984","v":"van"},{"$f":"IF(E981=0,CONCATENATE(D981,\" \",C981),CONCATENATE(D981,\" \",E981,\" \",C981))","v":"Jetty van Hummel"},null,{"$f":"IF(A981=113,0,[1]Sheet1!B984)","v":"De Tol"}]
[{"$f":"IF([1]Sheet1!A985=113,0,[1]Sheet1!A985)","v":13390},{"$f":"IF([1]Sheet1!A985=113,0,[1]Sheet1!F985)","v":225583},{"$f":"[1]Sheet1!G985","v":"Jansen"},{"$f":"[1]Sheet1!H985","v":"Johan"},{"$f":"[1]Sheet1!J985","v":0},"Johan Jansen",null,{"$f":"IF(A982=113,0,[1]Sheet1!B985)","v":"De Tol"}]
[{"$f":"IF([1]Sheet1!A986=113,0,[1]Sheet1!A986)","v":13390},{"$f":"IF([1]Sheet1!A986=113,0,[1]Sheet1!F986)","v":214785},{"$f":"[1]Sheet1!G986","v":"Louw"},{"$f":"[1]Sheet1!H986","v":"Willem"},{"$f":"[1]Sheet1!J986","v":"van de"},"Willem van de Louw",null,{"$f":"IF(A983=113,0,[1]Sheet1!B986)","v":"De Tol"}]
[{"$f":"IF([1]Sheet1!A987=113,0,[1]Sheet1!A987)","v":13390},{"$f":"IF([1]Sheet1!A987=113,0,[1]Sheet1!F987)","v":233378},{"$f":"[1]Sheet1!G987","v":"Mom"},{"$f":"[1]Sheet1!H987","v":"Harrie"},{"$f":"[1]Sheet1!J987","v":0},"Harrie Mom",null,{"$f":"IF(A984=113,0,[1]Sheet1!B987)","v":"De Tol"}]
[{"$f":"IF([1]Sheet1!A988=113,0,[1]Sheet1!A988)","v":13390},{"$f":"IF([1]Sheet1!A988=113,0,[1]Sheet1!F988)","v":157430},{"$f":"[1]Sheet1!G988","v":"Ouzounidis"},{"$f":"[1]Sheet1!H988","v":"Sakis"},{"$f":"[1]Sheet1!J988","v":0},"Sakis Ouzounidis",null,{"$f":"IF(A985=113,0,[1]Sheet1!B988)","v":"De Tol"}]
[{"$f":"IF([1]Sheet1!A989=113,0,[1]Sheet1!A989)","v":13390},{"$f":"IF([1]Sheet1!A989=113,0,[1]Sheet1!F989)","v":224203},{"$f":"[1]Sheet1!G989","v":"Polman"},{"$f":"[1]Sheet1!H989","v":"Fred"},{"$f":"[1]Sheet1!J989","v":0},"Fred Polman",null,{"$f":"IF(A986=113,0,[1]Sheet1!B989)","v":"De Tol"}]
[{"$f":"IF([1]Sheet1!A990=113,0,[1]Sheet1!A990)","v":13390},{"$f":"IF([1]Sheet1!A990=113,0,[1]Sheet1!F990)","v":222577},{"$f":"[1]Sheet1!G990","v":"Scholten"},{"$f":"[1]Sheet1!H990","v":"Bert"},{"$f":"[1]Sheet1!J990","v":0},"Bert Scholten",null,{"$f":"IF(A987=113,0,[1]Sheet1!B990)","v":"De Tol"}]
[{"$f":"IF([1]Sheet1!A991=113,0,[1]Sheet1!A991)","v":13390},{"$f":"IF([1]Sheet1!A991=113,0,[1]Sheet1!F991)","v":222577},{"$f":"[1]Sheet1!G991","v":"Scholten"},{"$f":"[1]Sheet1!H991","v":"Bert"},{"$f":"[1]Sheet1!J991","v":0},"Bert Scholten",null,{"$f":"IF(A988=113,0,[1]Sheet1!B991)","v":"De Tol"}]
[{"$f":"IF([1]Sheet1!A992=113,0,[1]Sheet1!A992)","v":13390},{"$f":"IF([1]Sheet1!A992=113,0,[1]Sheet1!F992)","v":246496},{"$f":"[1]Sheet1!G992","v":"Steffen"},{"$f":"[1]Sheet1!H992","v":"Ivan"},{"$f":"[1]Sheet1!J992","v":0},"Ivan Steffen",null,{"$f":"IF(A989=113,0,[1]Sheet1!B992)","v":"De Tol"}]
[{"$f":"IF([1]Sheet1!A993=113,0,[1]Sheet1!A993)","v":13390},{"$f":"IF([1]Sheet1!A993=113,0,[1]Sheet1!F993)","v":263945},{"$f":"[1]Sheet1!G993","v":"Surupjan"},{"$f":"[1]Sheet1!H993","v":"Sarkis"},{"$f":"[1]Sheet1!J993","v":0},"Sarkis Surupjan",null,{"$f":"IF(A990=113,0,[1]Sheet1!B993)","v":"De Tol"}]
[{"$f":"IF([1]Sheet1!A994=113,0,[1]Sheet1!A994)","v":13390},{"$f":"IF([1]Sheet1!A994=113,0,[1]Sheet1!F994)","v":216872},{"$f":"[1]Sheet1!G994","v":"Wanink"},{"$f":"[1]Sheet1!H994","v":"Karin"},{"$f":"[1]Sheet1!J994","v":0},"Karin Wanink",null,{"$f":"IF(A991=113,0,[1]Sheet1!B994)","v":"De Tol"}]
[{"$f":"IF([1]Sheet1!A995=113,0,[1]Sheet1!A995)","v":13390},{"$f":"IF([1]Sheet1!A995=113,0,[1]Sheet1!F995)","v":217605},{"$f":"[1]Sheet1!G995","v":"Wingelaar"},{"$f":"[1]Sheet1!H995","v":"Robert Jan"},{"$f":"[1]Sheet1!J995","v":0},"Robert Jan Wingelaar",null,{"$f":"IF(A992=113,0,[1]Sheet1!B995)","v":"De Tol"}]
[{"$f":"IF([1]Sheet1!A996=113,0,[1]Sheet1!A996)","v":13390},{"$f":"IF([1]Sheet1!A996=113,0,[1]Sheet1!F996)","v":263877},{"$f":"[1]Sheet1!G996","v":"Zwieten"},{"$f":"[1]Sheet1!H996","v":"Willem"},{"$f":"[1]Sheet1!J996","v":"van"},"Willem van Zwieten",null,{"$f":"IF(A993=113,0,[1]Sheet1!B996)","v":"De Tol"}]
[{"$f":"IF([1]Sheet1!A997=113,0,[1]Sheet1!A997)","v":13390},{"$f":"IF([1]Sheet1!A997=113,0,[1]Sheet1!F997)","v":263877},{"$f":"[1]Sheet1!G997","v":"Zwieten"},{"$f":"[1]Sheet1!H997","v":"Willem"},{"$f":"[1]Sheet1!J997","v":"van"},"Willem van Zwieten",null,{"$f":"IF(A994=113,0,[1]Sheet1!B997)","v":"De Tol"}]
[{"$f":"IF([1]Sheet1!A998=113,0,[1]Sheet1!A998)","v":13498},{"$f":"IF([1]Sheet1!A998=113,0,[1]Sheet1!F998)","v":212075},{"$f":"[1]Sheet1!G998","v":"Crols"},{"$f":"[1]Sheet1!H998","v":"Walter"},{"$f":"[1]Sheet1!J998","v":0},"Walter Crols",null,{"$f":"IF(A995=113,0,[1]Sheet1!B998)","v":"Doetinchem 2000"}]
[{"$f":"IF([1]Sheet1!A999=113,0,[1]Sheet1!A999)","v":13498},{"$f":"IF([1]Sheet1!A999=113,0,[1]Sheet1!F999)","v":157703},{"$f":"[1]Sheet1!G999","v":"Hekerle"},{"$f":"[1]Sheet1!H999","v":"Manfred"},{"$f":"[1]Sheet1!J999","v":0},"Manfred Hekerle",null,{"$f":"IF(A996=113,0,[1]Sheet1!B999)","v":"Doetinchem 2000"}]
[{"$f":"IF([1]Sheet1!A1000=113,0,[1]Sheet1!A1000)","v":13498},{"$f":"IF([1]Sheet1!A1000=113,0,[1]Sheet1!F1000)","v":157703},{"$f":"[1]Sheet1!G1000","v":"Hekerle"},{"$f":"[1]Sheet1!H1000","v":"Manfred"},{"$f":"[1]Sheet1!J1000","v":0},"Manfred Hekerle",null,{"$f":"IF(A997=113,0,[1]Sheet1!B1000)","v":"Doetinchem 2000"}]
[{"$f":"IF([1]Sheet1!A1001=113,0,[1]Sheet1!A1001)","v":13564},{"$f":"IF([1]Sheet1!A1001=113,0,[1]Sheet1!F1001)","v":182414},{"$f":"[1]Sheet1!G1001","v":"Goot"},{"$f":"[1]Sheet1!H1001","v":"Erik"},{"$f":"[1]Sheet1!J1001","v":"van der"},"Erik van der Goot",null,{"$f":"IF(A998=113,0,[1]Sheet1!B1001)","v":"Pand 8"}]
[{"$f":"IF([1]Sheet1!A1002=113,0,[1]Sheet1!A1002)","v":13564},{"$f":"IF([1]Sheet1!A1002=113,0,[1]Sheet1!F1002)","v":219721},{"$f":"[1]Sheet1!G1002","v":"Heezen"},{"$f":"[1]Sheet1!H1002","v":"Sven"},{"$f":"[1]Sheet1!J1002","v":0},"Sven Heezen",null,{"$f":"IF(A999=113,0,[1]Sheet1!B1002)","v":"Pand 8"}]
[{"$f":"IF([1]Sheet1!A1003=113,0,[1]Sheet1!A1003)","v":13564},{"$f":"IF([1]Sheet1!A1003=113,0,[1]Sheet1!F1003)","v":222235},{"$f":"[1]Sheet1!G1003","v":"Jansen"},{"$f":"[1]Sheet1!H1003","v":"Ardy"},{"$f":"[1]Sheet1!J1003","v":0},"Ardy Jansen",null,{"$f":"IF(A1000=113,0,[1]Sheet1!B1003)","v":"Pand 8"}]
[{"$f":"IF([1]Sheet1!A1004=113,0,[1]Sheet1!A1004)","v":13564},{"$f":"IF([1]Sheet1!A1004=113,0,[1]Sheet1!F1004)","v":179288},{"$f":"[1]Sheet1!G1004","v":"Muylaert"},{"$f":"[1]Sheet1!H1004","v":"Robbert"},{"$f":"[1]Sheet1!J1004","v":0},"Robbert Muylaert",null,{"$f":"IF(A1001=113,0,[1]Sheet1!B1004)","v":"Pand 8"}]
[{"$f":"IF([1]Sheet1!A1005=113,0,[1]Sheet1!A1005)","v":13564},{"$f":"IF([1]Sheet1!A1005=113,0,[1]Sheet1!F1005)","v":179288},{"$f":"[1]Sheet1!G1005","v":"Muylaert"},{"$f":"[1]Sheet1!H1005","v":"Robbert"},{"$f":"[1]Sheet1!J1005","v":0},"Robbert Muylaert",null,{"$f":"IF(A1002=113,0,[1]Sheet1!B1005)","v":"Pand 8"}]
[{"$f":"IF([1]Sheet1!A1006=113,0,[1]Sheet1!A1006)","v":13564},{"$f":"IF([1]Sheet1!A1006=113,0,[1]Sheet1!F1006)","v":154974},{"$f":"[1]Sheet1!G1006","v":"Ussen"},{"$f":"[1]Sheet1!H1006","v":"Ronald"},{"$f":"[1]Sheet1!J1006","v":"van"},"Ronald van Ussen",null,{"$f":"IF(A1003=113,0,[1]Sheet1!B1006)","v":"Pand 8"}]
[{"$f":"IF([1]Sheet1!A1007=113,0,[1]Sheet1!A1007)","v":13583},{"$f":"IF([1]Sheet1!A1007=113,0,[1]Sheet1!F1007)","v":247910},{"$f":"[1]Sheet1!G1007","v":"Arends"},{"$f":"[1]Sheet1!H1007","v":"Gert Jan"},{"$f":"[1]Sheet1!J1007","v":0},"Gert Jan Arends",null,{"$f":"IF(A1004=113,0,[1]Sheet1!B1007)","v":"Oude Rijn"}]
[{"$f":"IF([1]Sheet1!A1008=113,0,[1]Sheet1!A1008)","v":13583},{"$f":"IF([1]Sheet1!A1008=113,0,[1]Sheet1!F1008)","v":124367},{"$f":"[1]Sheet1!G1008","v":"Braam"},{"$f":"[1]Sheet1!H1008","v":"Wim"},{"$f":"[1]Sheet1!J1008","v":0},"Wim Braam",null,{"$f":"IF(A1005=113,0,[1]Sheet1!B1008)","v":"Oude Rijn"}]
[{"$f":"IF([1]Sheet1!A1009=113,0,[1]Sheet1!A1009)","v":13583},{"$f":"IF([1]Sheet1!A1009=113,0,[1]Sheet1!F1009)","v":223834},{"$f":"[1]Sheet1!G1009","v":"Hor"},{"$f":"[1]Sheet1!H1009","v":"Willem"},{"$f":"[1]Sheet1!J1009","v":"van der"},"Willem van der Hor",null,{"$f":"IF(A1006=113,0,[1]Sheet1!B1009)","v":"Oude Rijn"}]
[{"$f":"IF([1]Sheet1!A1010=113,0,[1]Sheet1!A1010)","v":13583},{"$f":"IF([1]Sheet1!A1010=113,0,[1]Sheet1!F1010)","v":223834},{"$f":"[1]Sheet1!G1010","v":"Hor"},{"$f":"[1]Sheet1!H1010","v":"Willem"},{"$f":"[1]Sheet1!J1010","v":"van der"},"Willem van der Hor",null,{"$f":"IF(A1007=113,0,[1]Sheet1!B1010)","v":"Oude Rijn"}]
[{"$f":"IF([1]Sheet1!A1011=113,0,[1]Sheet1!A1011)","v":13583},{"$f":"IF([1]Sheet1!A1011=113,0,[1]Sheet1!F1011)","v":225780},{"$f":"[1]Sheet1!G1011","v":"Jansen"},{"$f":"[1]Sheet1!H1011","v":"Nick"},{"$f":"[1]Sheet1!J1011","v":0},"Nick Jansen",null,{"$f":"IF(A1008=113,0,[1]Sheet1!B1011)","v":"Oude Rijn"}]
[{"$f":"IF([1]Sheet1!A1012=113,0,[1]Sheet1!A1012)","v":13583},{"$f":"IF([1]Sheet1!A1012=113,0,[1]Sheet1!F1012)","v":169013},{"$f":"[1]Sheet1!G1012","v":"Kok"},{"$f":"[1]Sheet1!H1012","v":"Marcel"},{"$f":"[1]Sheet1!J1012","v":0},"Marcel Kok",null,{"$f":"IF(A1009=113,0,[1]Sheet1!B1012)","v":"Oude Rijn"}]
[{"$f":"IF([1]Sheet1!A1013=113,0,[1]Sheet1!A1013)","v":13583},{"$f":"IF([1]Sheet1!A1013=113,0,[1]Sheet1!F1013)","v":217628},{"$f":"[1]Sheet1!G1013","v":"Kummeling"},{"$f":"[1]Sheet1!H1013","v":"Jo"},{"$f":"[1]Sheet1!J1013","v":0},"Jo Kummeling",null,{"$f":"IF(A1010=113,0,[1]Sheet1!B1013)","v":"Oude Rijn"}]
[{"$f":"IF([1]Sheet1!A1014=113,0,[1]Sheet1!A1014)","v":13583},{"$f":"IF([1]Sheet1!A1014=113,0,[1]Sheet1!F1014)","v":238824},{"$f":"[1]Sheet1!G1014","v":"Raasing"},{"$f":"[1]Sheet1!H1014","v":"Bernd"},{"$f":"[1]Sheet1!J1014","v":0},"Bernd Raasing",null,{"$f":"IF(A1011=113,0,[1]Sheet1!B1014)","v":"Oude Rijn"}]
[{"$f":"IF([1]Sheet1!A1015=113,0,[1]Sheet1!A1015)","v":13583},{"$f":"IF([1]Sheet1!A1015=113,0,[1]Sheet1!F1015)","v":217635},{"$f":"[1]Sheet1!G1015","v":"Reijmer"},{"$f":"[1]Sheet1!H1015","v":"Wim"},{"$f":"[1]Sheet1!J1015","v":0},"Wim Reijmer",null,{"$f":"IF(A1012=113,0,[1]Sheet1!B1015)","v":"Oude Rijn"}]
[{"$f":"IF([1]Sheet1!A1016=113,0,[1]Sheet1!A1016)","v":13583},{"$f":"IF([1]Sheet1!A1016=113,0,[1]Sheet1!F1016)","v":168952},{"$f":"[1]Sheet1!G1016","v":"Smolders"},{"$f":"[1]Sheet1!H1016","v":"Frans"},{"$f":"[1]Sheet1!J1016","v":0},"Frans Smolders",null,{"$f":"IF(A1013=113,0,[1]Sheet1!B1016)","v":"Oude Rijn"}]
[{"$f":"IF([1]Sheet1!A1017=113,0,[1]Sheet1!A1017)","v":13583},{"$f":"IF([1]Sheet1!A1017=113,0,[1]Sheet1!F1017)","v":168952},{"$f":"[1]Sheet1!G1017","v":"Smolders"},{"$f":"[1]Sheet1!H1017","v":"Frans"},{"$f":"[1]Sheet1!J1017","v":0},"Frans Smolders",null,{"$f":"IF(A1014=113,0,[1]Sheet1!B1017)","v":"Oude Rijn"}]
[{"$f":"IF([1]Sheet1!A1018=113,0,[1]Sheet1!A1018)","v":13583},{"$f":"IF([1]Sheet1!A1018=113,0,[1]Sheet1!F1018)","v":229387},{"$f":"[1]Sheet1!G1018","v":"Vreman"},{"$f":"[1]Sheet1!H1018","v":"Toon"},{"$f":"[1]Sheet1!J1018","v":0},"Toon Vreman",null,{"$f":"IF(A1015=113,0,[1]Sheet1!B1018)","v":"Oude Rijn"}]
[{"$f":"IF([1]Sheet1!A1019=113,0,[1]Sheet1!A1019)","v":13619},{"$f":"IF([1]Sheet1!A1019=113,0,[1]Sheet1!F1019)","v":180954},{"$f":"[1]Sheet1!G1019","v":"Boekhorst"},{"$f":"[1]Sheet1!H1019","v":"Frank"},{"$f":"[1]Sheet1!J1019","v":"te"},"Frank te Boekhorst",null,{"$f":"IF(A1016=113,0,[1]Sheet1!B1019)","v":"Slootermeer & Scholtenhof"}]
[{"$f":"IF([1]Sheet1!A1020=113,0,[1]Sheet1!A1020)","v":13619},{"$f":"IF([1]Sheet1!A1020=113,0,[1]Sheet1!F1020)","v":140147},{"$f":"[1]Sheet1!G1020","v":"Boerboom"},{"$f":"[1]Sheet1!H1020","v":"Theo"},{"$f":"[1]Sheet1!J1020","v":0},"Theo Boerboom",null,{"$f":"IF(A1017=113,0,[1]Sheet1!B1020)","v":"Slootermeer & Scholtenhof"}]
[{"$f":"IF([1]Sheet1!A1021=113,0,[1]Sheet1!A1021)","v":13619},{"$f":"IF([1]Sheet1!A1021=113,0,[1]Sheet1!F1021)","v":236209},{"$f":"[1]Sheet1!G1021","v":"Clappers"},{"$f":"[1]Sheet1!H1021","v":"Patrick"},{"$f":"[1]Sheet1!J1021","v":0},"Patrick Clappers",null,{"$f":"IF(A1018=113,0,[1]Sheet1!B1021)","v":"Slootermeer & Scholtenhof"}]
[{"$f":"IF([1]Sheet1!A1022=113,0,[1]Sheet1!A1022)","v":13619},{"$f":"IF([1]Sheet1!A1022=113,0,[1]Sheet1!F1022)","v":181049},{"$f":"[1]Sheet1!G1022","v":"Dietz"},{"$f":"[1]Sheet1!H1022","v":"Henk"},{"$f":"[1]Sheet1!J1022","v":0},"Henk Dietz",null,{"$f":"IF(A1019=113,0,[1]Sheet1!B1022)","v":"Slootermeer & Scholtenhof"}]
[{"$f":"IF([1]Sheet1!A1023=113,0,[1]Sheet1!A1023)","v":13619},{"$f":"IF([1]Sheet1!A1023=113,0,[1]Sheet1!F1023)","v":124691},{"$f":"[1]Sheet1!G1023","v":"Diks"},{"$f":"[1]Sheet1!H1023","v":"Elly"},{"$f":"[1]Sheet1!J1023","v":0},"Elly Diks",null,{"$f":"IF(A1020=113,0,[1]Sheet1!B1023)","v":"Slootermeer & Scholtenhof"}]
[{"$f":"IF([1]Sheet1!A1024=113,0,[1]Sheet1!A1024)","v":13619},{"$f":"IF([1]Sheet1!A1024=113,0,[1]Sheet1!F1024)","v":166853},{"$f":"[1]Sheet1!G1024","v":"Diks"},{"$f":"[1]Sheet1!H1024","v":"Marina"},{"$f":"[1]Sheet1!J1024","v":0},"Marina Diks",null,{"$f":"IF(A1021=113,0,[1]Sheet1!B1024)","v":"Slootermeer & Scholtenhof"}]
[{"$f":"IF([1]Sheet1!A1025=113,0,[1]Sheet1!A1025)","v":13619},{"$f":"IF([1]Sheet1!A1025=113,0,[1]Sheet1!F1025)","v":205516},{"$f":"[1]Sheet1!G1025","v":"Friedrich"},{"$f":"[1]Sheet1!H1025","v":"Jurgen"},{"$f":"[1]Sheet1!J1025","v":0},"Jurgen Friedrich",null,{"$f":"IF(A1022=113,0,[1]Sheet1!B1025)","v":"Slootermeer & Scholtenhof"}]
[{"$f":"IF([1]Sheet1!A1026=113,0,[1]Sheet1!A1026)","v":13619},{"$f":"IF([1]Sheet1!A1026=113,0,[1]Sheet1!F1026)","v":173031},{"$f":"[1]Sheet1!G1026","v":"Hegeman"},{"$f":"[1]Sheet1!H1026","v":"Hennie"},{"$f":"[1]Sheet1!J1026","v":0},"Hennie Hegeman",null,{"$f":"IF(A1023=113,0,[1]Sheet1!B1026)","v":"Slootermeer & Scholtenhof"}]
[{"$f":"IF([1]Sheet1!A1027=113,0,[1]Sheet1!A1027)","v":13619},{"$f":"IF([1]Sheet1!A1027=113,0,[1]Sheet1!F1027)","v":174657},{"$f":"[1]Sheet1!G1027","v":"Horstik"},{"$f":"[1]Sheet1!H1027","v":"Alfred"},{"$f":"[1]Sheet1!J1027","v":0},"Alfred Horstik",null,{"$f":"IF(A1024=113,0,[1]Sheet1!B1027)","v":"Slootermeer & Scholtenhof"}]
[{"$f":"IF([1]Sheet1!A1028=113,0,[1]Sheet1!A1028)","v":13619},{"$f":"IF([1]Sheet1!A1028=113,0,[1]Sheet1!F1028)","v":169828},{"$f":"[1]Sheet1!G1028","v":"Jansen-Albers"},{"$f":"[1]Sheet1!H1028","v":"Renate"},{"$f":"[1]Sheet1!J1028","v":0},"Renate Jansen-Albers",null,{"$f":"IF(A1025=113,0,[1]Sheet1!B1028)","v":"Slootermeer & Scholtenhof"}]
[{"$f":"IF([1]Sheet1!A1029=113,0,[1]Sheet1!A1029)","v":13619},{"$f":"IF([1]Sheet1!A1029=113,0,[1]Sheet1!F1029)","v":179400},{"$f":"[1]Sheet1!G1029","v":"Kaat"},{"$f":"[1]Sheet1!H1029","v":"Harm"},{"$f":"[1]Sheet1!J1029","v":"te"},"Harm te Kaat",null,{"$f":"IF(A1026=113,0,[1]Sheet1!B1029)","v":"Slootermeer & Scholtenhof"}]
[{"$f":"IF([1]Sheet1!A1030=113,0,[1]Sheet1!A1030)","v":13619},{"$f":"IF([1]Sheet1!A1030=113,0,[1]Sheet1!F1030)","v":114500},{"$f":"[1]Sheet1!G1030","v":"Ketelaar"},{"$f":"[1]Sheet1!H1030","v":"Bart"},{"$f":"[1]Sheet1!J1030","v":0},"Bart Ketelaar",null,{"$f":"IF(A1027=113,0,[1]Sheet1!B1030)","v":"Slootermeer & Scholtenhof"}]
[{"$f":"IF([1]Sheet1!A1031=113,0,[1]Sheet1!A1031)","v":13619},{"$f":"IF([1]Sheet1!A1031=113,0,[1]Sheet1!F1031)","v":179808},{"$f":"[1]Sheet1!G1031","v":"Lammers"},{"$f":"[1]Sheet1!H1031","v":"Sylvia"},{"$f":"[1]Sheet1!J1031","v":0},"Sylvia Lammers",null,{"$f":"IF(A1028=113,0,[1]Sheet1!B1031)","v":"Slootermeer & Scholtenhof"}]
[{"$f":"IF([1]Sheet1!A1032=113,0,[1]Sheet1!A1032)","v":13619},{"$f":"IF([1]Sheet1!A1032=113,0,[1]Sheet1!F1032)","v":160924},{"$f":"[1]Sheet1!G1032","v":"Leijzer"},{"$f":"[1]Sheet1!H1032","v":"Nico"},{"$f":"[1]Sheet1!J1032","v":0},"Nico Leijzer",null,{"$f":"IF(A1029=113,0,[1]Sheet1!B1032)","v":"Slootermeer & Scholtenhof"}]
[{"$f":"IF([1]Sheet1!A1033=113,0,[1]Sheet1!A1033)","v":13619},{"$f":"IF([1]Sheet1!A1033=113,0,[1]Sheet1!F1033)","v":147957},{"$f":"[1]Sheet1!G1033","v":"Leijzer"},{"$f":"[1]Sheet1!H1033","v":"RenÃ©"},{"$f":"[1]Sheet1!J1033","v":0},"RenÃ© Leijzer",null,{"$f":"IF(A1030=113,0,[1]Sheet1!B1033)","v":"Slootermeer & Scholtenhof"}]
[{"$f":"IF([1]Sheet1!A1034=113,0,[1]Sheet1!A1034)","v":13619},{"$f":"IF([1]Sheet1!A1034=113,0,[1]Sheet1!F1034)","v":263754},{"$f":"[1]Sheet1!G1034","v":"Litjens"},{"$f":"[1]Sheet1!H1034","v":"Marcel"},{"$f":"[1]Sheet1!J1034","v":0},"Marcel Litjens",null,{"$f":"IF(A1031=113,0,[1]Sheet1!B1034)","v":"Slootermeer & Scholtenhof"}]
[{"$f":"IF([1]Sheet1!A1035=113,0,[1]Sheet1!A1035)","v":13619},{"$f":"IF([1]Sheet1!A1035=113,0,[1]Sheet1!F1035)","v":131582},{"$f":"[1]Sheet1!G1035","v":"Looman"},{"$f":"[1]Sheet1!H1035","v":"Jolanda"},{"$f":"[1]Sheet1!J1035","v":0},"Jolanda Looman",null,{"$f":"IF(A1032=113,0,[1]Sheet1!B1035)","v":"Slootermeer & Scholtenhof"}]
[{"$f":"IF([1]Sheet1!A1036=113,0,[1]Sheet1!A1036)","v":13619},{"$f":"IF([1]Sheet1!A1036=113,0,[1]Sheet1!F1036)","v":162566},{"$f":"[1]Sheet1!G1036","v":"Lubbers"},{"$f":"[1]Sheet1!H1036","v":"Benjo"},{"$f":"[1]Sheet1!J1036","v":0},"Benjo Lubbers",null,{"$f":"IF(A1033=113,0,[1]Sheet1!B1036)","v":"Slootermeer & Scholtenhof"}]
[{"$f":"IF([1]Sheet1!A1037=113,0,[1]Sheet1!A1037)","v":13619},{"$f":"IF([1]Sheet1!A1037=113,0,[1]Sheet1!F1037)","v":184278},{"$f":"[1]Sheet1!G1037","v":"LÃ¶wenthal"},{"$f":"[1]Sheet1!H1037","v":"Henk"},{"$f":"[1]Sheet1!J1037","v":0},"Henk LÃ¶wenthal",null,{"$f":"IF(A1034=113,0,[1]Sheet1!B1037)","v":"Slootermeer & Scholtenhof"}]
[{"$f":"IF([1]Sheet1!A1038=113,0,[1]Sheet1!A1038)","v":13619},{"$f":"IF([1]Sheet1!A1038=113,0,[1]Sheet1!F1038)","v":109763},{"$f":"[1]Sheet1!G1038","v":"Schmitz"},{"$f":"[1]Sheet1!H1038","v":"Wim"},{"$f":"[1]Sheet1!J1038","v":0},"Wim Schmitz",null,{"$f":"IF(A1035=113,0,[1]Sheet1!B1038)","v":"Slootermeer & Scholtenhof"}]
[{"$f":"IF([1]Sheet1!A1039=113,0,[1]Sheet1!A1039)","v":13619},{"$f":"IF([1]Sheet1!A1039=113,0,[1]Sheet1!F1039)","v":225718},{"$f":"[1]Sheet1!G1039","v":"Schoter"},{"$f":"[1]Sheet1!H1039","v":"Heinz-Jurgen"},{"$f":"[1]Sheet1!J1039","v":0},"Heinz-Jurgen Schoter",null,{"$f":"IF(A1036=113,0,[1]Sheet1!B1039)","v":"Slootermeer & Scholtenhof"}]
[{"$f":"IF([1]Sheet1!A1040=113,0,[1]Sheet1!A1040)","v":13619},{"$f":"IF([1]Sheet1!A1040=113,0,[1]Sheet1!F1040)","v":225718},{"$f":"[1]Sheet1!G1040","v":"Schoter"},{"$f":"[1]Sheet1!H1040","v":"Heinz-Jurgen"},{"$f":"[1]Sheet1!J1040","v":0},"Heinz-Jurgen Schoter",null,{"$f":"IF(A1037=113,0,[1]Sheet1!B1040)","v":"Slootermeer & Scholtenhof"}]
[{"$f":"IF([1]Sheet1!A1041=113,0,[1]Sheet1!A1041)","v":13619},{"$f":"IF([1]Sheet1!A1041=113,0,[1]Sheet1!F1041)","v":134327},{"$f":"[1]Sheet1!G1041","v":"Sloot"},{"$f":"[1]Sheet1!H1041","v":"Jos"},{"$f":"[1]Sheet1!J1041","v":0},"Jos Sloot",null,{"$f":"IF(A1038=113,0,[1]Sheet1!B1041)","v":"Slootermeer & Scholtenhof"}]
[{"$f":"IF([1]Sheet1!A1042=113,0,[1]Sheet1!A1042)","v":13619},{"$f":"IF([1]Sheet1!A1042=113,0,[1]Sheet1!F1042)","v":136119},{"$f":"[1]Sheet1!G1042","v":"Verhey"},{"$f":"[1]Sheet1!H1042","v":"Henk"},{"$f":"[1]Sheet1!J1042","v":0},"Henk Verhey",null,{"$f":"IF(A1039=113,0,[1]Sheet1!B1042)","v":"Slootermeer & Scholtenhof"}]
[{"$f":"IF([1]Sheet1!A1043=113,0,[1]Sheet1!A1043)","v":13619},{"$f":"IF([1]Sheet1!A1043=113,0,[1]Sheet1!F1043)","v":179060},{"$f":"[1]Sheet1!G1043","v":"Winands"},{"$f":"[1]Sheet1!H1043","v":"Gerrie"},{"$f":"[1]Sheet1!J1043","v":0},"Gerrie Winands",null,{"$f":"IF(A1040=113,0,[1]Sheet1!B1043)","v":"Slootermeer & Scholtenhof"}]
[{"$f":"IF([1]Sheet1!A1044=113,0,[1]Sheet1!A1044)","v":14100},{"$f":"IF([1]Sheet1!A1044=113,0,[1]Sheet1!F1044)","v":210757},{"$f":"[1]Sheet1!G1044","v":"Ariessen"},{"$f":"[1]Sheet1!H1044","v":"Theo"},{"$f":"[1]Sheet1!J1044","v":0},"Theo Ariessen",null,{"$f":"IF(A1041=113,0,[1]Sheet1!B1044)","v":"Buitenmolen"}]
[{"$f":"IF([1]Sheet1!A1045=113,0,[1]Sheet1!A1045)","v":14100},{"$f":"IF([1]Sheet1!A1045=113,0,[1]Sheet1!F1045)","v":210300},{"$f":"[1]Sheet1!G1045","v":"Augustijn"},{"$f":"[1]Sheet1!H1045","v":"Ronald"},{"$f":"[1]Sheet1!J1045","v":0},"Ronald Augustijn",null,{"$f":"IF(A1042=113,0,[1]Sheet1!B1045)","v":"Buitenmolen"}]
[{"$f":"IF([1]Sheet1!A1046=113,0,[1]Sheet1!A1046)","v":14100},{"$f":"IF([1]Sheet1!A1046=113,0,[1]Sheet1!F1046)","v":210299},{"$f":"[1]Sheet1!G1046","v":"Augustijn"},{"$f":"[1]Sheet1!H1046","v":"Roy"},{"$f":"[1]Sheet1!J1046","v":0},"Roy Augustijn",null,{"$f":"IF(A1043=113,0,[1]Sheet1!B1046)","v":"Buitenmolen"}]
[{"$f":"IF([1]Sheet1!A1047=113,0,[1]Sheet1!A1047)","v":14100},{"$f":"IF([1]Sheet1!A1047=113,0,[1]Sheet1!F1047)","v":152236},{"$f":"[1]Sheet1!G1047","v":"Berends"},{"$f":"[1]Sheet1!H1047","v":"Edwin"},{"$f":"[1]Sheet1!J1047","v":0},"Edwin Berends",null,{"$f":"IF(A1044=113,0,[1]Sheet1!B1047)","v":"Buitenmolen"}]
[{"$f":"IF([1]Sheet1!A1048=113,0,[1]Sheet1!A1048)","v":14100},{"$f":"IF([1]Sheet1!A1048=113,0,[1]Sheet1!F1048)","v":168951},{"$f":"[1]Sheet1!G1048","v":"Berentsen"},{"$f":"[1]Sheet1!H1048","v":"Jan"},{"$f":"[1]Sheet1!J1048","v":0},{"$f":"IF(E1045=0,CONCATENATE(D1045,\" \",C1045),CONCATENATE(D1045,\" \",E1045,\" \",C1045))","v":"Jan Berentsen"},null,{"$f":"IF(A1045=113,0,[1]Sheet1!B1048)","v":"Buitenmolen"}]
[{"$f":"IF([1]Sheet1!A1049=113,0,[1]Sheet1!A1049)","v":14100},{"$f":"IF([1]Sheet1!A1049=113,0,[1]Sheet1!F1049)","v":180557},{"$f":"[1]Sheet1!G1049","v":"Buurman"},{"$f":"[1]Sheet1!H1049","v":"Gerard"},{"$f":"[1]Sheet1!J1049","v":0},"Gerard Buurman",null,{"$f":"IF(A1046=113,0,[1]Sheet1!B1049)","v":"Buitenmolen"}]
[{"$f":"IF([1]Sheet1!A1050=113,0,[1]Sheet1!A1050)","v":14100},{"$f":"IF([1]Sheet1!A1050=113,0,[1]Sheet1!F1050)","v":210758},{"$f":"[1]Sheet1!G1050","v":"Derksen"},{"$f":"[1]Sheet1!H1050","v":"Karel"},{"$f":"[1]Sheet1!J1050","v":0},"Karel Derksen",null,{"$f":"IF(A1047=113,0,[1]Sheet1!B1050)","v":"Buitenmolen"}]
[{"$f":"IF([1]Sheet1!A1051=113,0,[1]Sheet1!A1051)","v":14100},{"$f":"IF([1]Sheet1!A1051=113,0,[1]Sheet1!F1051)","v":246471},{"$f":"[1]Sheet1!G1051","v":"Derksen"},{"$f":"[1]Sheet1!H1051","v":"Peter"},{"$f":"[1]Sheet1!J1051","v":0},"Peter Derksen",null,{"$f":"IF(A1048=113,0,[1]Sheet1!B1051)","v":"Buitenmolen"}]
[{"$f":"IF([1]Sheet1!A1052=113,0,[1]Sheet1!A1052)","v":14100},{"$f":"IF([1]Sheet1!A1052=113,0,[1]Sheet1!F1052)","v":218063},{"$f":"[1]Sheet1!G1052","v":"Dijkstra"},{"$f":"[1]Sheet1!H1052","v":"Bertus"},{"$f":"[1]Sheet1!J1052","v":0},"Bertus Dijkstra",null,{"$f":"IF(A1049=113,0,[1]Sheet1!B1052)","v":"Buitenmolen"}]
[{"$f":"IF([1]Sheet1!A1053=113,0,[1]Sheet1!A1053)","v":14100},{"$f":"IF([1]Sheet1!A1053=113,0,[1]Sheet1!F1053)","v":142694},{"$f":"[1]Sheet1!G1053","v":"Duis"},{"$f":"[1]Sheet1!H1053","v":"Roland"},{"$f":"[1]Sheet1!J1053","v":0},"Roland Duis",null,{"$f":"IF(A1050=113,0,[1]Sheet1!B1053)","v":"Buitenmolen"}]
[{"$f":"IF([1]Sheet1!A1054=113,0,[1]Sheet1!A1054)","v":14100},{"$f":"IF([1]Sheet1!A1054=113,0,[1]Sheet1!F1054)","v":142694},{"$f":"[1]Sheet1!G1054","v":"Duis"},{"$f":"[1]Sheet1!H1054","v":"Roland"},{"$f":"[1]Sheet1!J1054","v":0},"Roland Duis",null,{"$f":"IF(A1051=113,0,[1]Sheet1!B1054)","v":"Buitenmolen"}]
[{"$f":"IF([1]Sheet1!A1055=113,0,[1]Sheet1!A1055)","v":14100},{"$f":"IF([1]Sheet1!A1055=113,0,[1]Sheet1!F1055)","v":139199},{"$f":"[1]Sheet1!G1055","v":"Hulshof"},{"$f":"[1]Sheet1!H1055","v":"Frank"},{"$f":"[1]Sheet1!J1055","v":0},"Frank Hulshof",null,{"$f":"IF(A1052=113,0,[1]Sheet1!B1055)","v":"Buitenmolen"}]
[{"$f":"IF([1]Sheet1!A1056=113,0,[1]Sheet1!A1056)","v":14100},{"$f":"IF([1]Sheet1!A1056=113,0,[1]Sheet1!F1056)","v":214784},{"$f":"[1]Sheet1!G1056","v":"Hummel"},{"$f":"[1]Sheet1!H1056","v":"Jetty"},{"$f":"[1]Sheet1!J1056","v":"van"},"Jetty van Hummel",null,{"$f":"IF(A1053=113,0,[1]Sheet1!B1056)","v":"Buitenmolen"}]
[{"$f":"IF([1]Sheet1!A1057=113,0,[1]Sheet1!A1057)","v":14100},{"$f":"IF([1]Sheet1!A1057=113,0,[1]Sheet1!F1057)","v":210756},{"$f":"[1]Sheet1!G1057","v":"Hummel"},{"$f":"[1]Sheet1!H1057","v":"Ron"},{"$f":"[1]Sheet1!J1057","v":"van"},"Ron van Hummel",null,{"$f":"IF(A1054=113,0,[1]Sheet1!B1057)","v":"Buitenmolen"}]
[{"$f":"IF([1]Sheet1!A1058=113,0,[1]Sheet1!A1058)","v":14100},{"$f":"IF([1]Sheet1!A1058=113,0,[1]Sheet1!F1058)","v":169012},{"$f":"[1]Sheet1!G1058","v":"Jansen"},{"$f":"[1]Sheet1!H1058","v":"Bennie"},{"$f":"[1]Sheet1!J1058","v":0},"Bennie Jansen",null,{"$f":"IF(A1055=113,0,[1]Sheet1!B1058)","v":"Buitenmolen"}]
[{"$f":"IF([1]Sheet1!A1059=113,0,[1]Sheet1!A1059)","v":14100},{"$f":"IF([1]Sheet1!A1059=113,0,[1]Sheet1!F1059)","v":246473},{"$f":"[1]Sheet1!G1059","v":"Jansen"},{"$f":"[1]Sheet1!H1059","v":"Jeffrey"},{"$f":"[1]Sheet1!J1059","v":0},"Jeffrey Jansen",null,{"$f":"IF(A1056=113,0,[1]Sheet1!B1059)","v":"Buitenmolen"}]
[{"$f":"IF([1]Sheet1!A1060=113,0,[1]Sheet1!A1060)","v":14100},{"$f":"IF([1]Sheet1!A1060=113,0,[1]Sheet1!F1060)","v":220374},{"$f":"[1]Sheet1!G1060","v":"Jansen"},{"$f":"[1]Sheet1!H1060","v":"Theo"},{"$f":"[1]Sheet1!J1060","v":0},"Theo Jansen",null,{"$f":"IF(A1057=113,0,[1]Sheet1!B1060)","v":"Buitenmolen"}]
[{"$f":"IF([1]Sheet1!A1061=113,0,[1]Sheet1!A1061)","v":14100},{"$f":"IF([1]Sheet1!A1061=113,0,[1]Sheet1!F1061)","v":220374},{"$f":"[1]Sheet1!G1061","v":"Jansen"},{"$f":"[1]Sheet1!H1061","v":"Theo"},{"$f":"[1]Sheet1!J1061","v":0},"Theo Jansen",null,{"$f":"IF(A1058=113,0,[1]Sheet1!B1061)","v":"Buitenmolen"}]
[{"$f":"IF([1]Sheet1!A1062=113,0,[1]Sheet1!A1062)","v":14100},{"$f":"IF([1]Sheet1!A1062=113,0,[1]Sheet1!F1062)","v":246474},{"$f":"[1]Sheet1!G1062","v":"Jansen"},{"$f":"[1]Sheet1!H1062","v":"Wesley"},{"$f":"[1]Sheet1!J1062","v":0},"Wesley Jansen",null,{"$f":"IF(A1059=113,0,[1]Sheet1!B1062)","v":"Buitenmolen"}]
[{"$f":"IF([1]Sheet1!A1063=113,0,[1]Sheet1!A1063)","v":14100},{"$f":"IF([1]Sheet1!A1063=113,0,[1]Sheet1!F1063)","v":220376},{"$f":"[1]Sheet1!G1063","v":"Janssen"},{"$f":"[1]Sheet1!H1063","v":"Nico"},{"$f":"[1]Sheet1!J1063","v":0},"Nico Janssen",null,{"$f":"IF(A1060=113,0,[1]Sheet1!B1063)","v":"Buitenmolen"}]
[{"$f":"IF([1]Sheet1!A1064=113,0,[1]Sheet1!A1064)","v":14100},{"$f":"IF([1]Sheet1!A1064=113,0,[1]Sheet1!F1064)","v":157428},{"$f":"[1]Sheet1!G1064","v":"Kampes"},{"$f":"[1]Sheet1!H1064","v":"Jan"},{"$f":"[1]Sheet1!J1064","v":0},"Jan Kampes",null,{"$f":"IF(A1061=113,0,[1]Sheet1!B1064)","v":"Buitenmolen"}]
[{"$f":"IF([1]Sheet1!A1065=113,0,[1]Sheet1!A1065)","v":14100},{"$f":"IF([1]Sheet1!A1065=113,0,[1]Sheet1!F1065)","v":201260},{"$f":"[1]Sheet1!G1065","v":"Lampos"},{"$f":"[1]Sheet1!H1065","v":"Georgios"},{"$f":"[1]Sheet1!J1065","v":0},"Georgios Lampos",null,{"$f":"IF(A1062=113,0,[1]Sheet1!B1065)","v":"Buitenmolen"}]
[{"$f":"IF([1]Sheet1!A1066=113,0,[1]Sheet1!A1066)","v":14100},{"$f":"IF([1]Sheet1!A1066=113,0,[1]Sheet1!F1066)","v":220377},{"$f":"[1]Sheet1!G1066","v":"Meijer"},{"$f":"[1]Sheet1!H1066","v":"Leo"},{"$f":"[1]Sheet1!J1066","v":0},"Leo Meijer",null,{"$f":"IF(A1063=113,0,[1]Sheet1!B1066)","v":"Buitenmolen"}]
[{"$f":"IF([1]Sheet1!A1067=113,0,[1]Sheet1!A1067)","v":14100},{"$f":"IF([1]Sheet1!A1067=113,0,[1]Sheet1!F1067)","v":211459},{"$f":"[1]Sheet1!G1067","v":"Peters"},{"$f":"[1]Sheet1!H1067","v":"Wim"},{"$f":"[1]Sheet1!J1067","v":0},"Wim Peters",null,{"$f":"IF(A1064=113,0,[1]Sheet1!B1067)","v":"Buitenmolen"}]
[{"$f":"IF([1]Sheet1!A1068=113,0,[1]Sheet1!A1068)","v":14100},{"$f":"IF([1]Sheet1!A1068=113,0,[1]Sheet1!F1068)","v":224203},{"$f":"[1]Sheet1!G1068","v":"Polman"},{"$f":"[1]Sheet1!H1068","v":"Fred"},{"$f":"[1]Sheet1!J1068","v":0},"Fred Polman",null,{"$f":"IF(A1065=113,0,[1]Sheet1!B1068)","v":"Buitenmolen"}]
[{"$f":"IF([1]Sheet1!A1069=113,0,[1]Sheet1!A1069)","v":14100},{"$f":"IF([1]Sheet1!A1069=113,0,[1]Sheet1!F1069)","v":154954},{"$f":"[1]Sheet1!G1069","v":"Ratering"},{"$f":"[1]Sheet1!H1069","v":"Hans"},{"$f":"[1]Sheet1!J1069","v":0},"Hans Ratering",null,{"$f":"IF(A1066=113,0,[1]Sheet1!B1069)","v":"Buitenmolen"}]
[{"$f":"IF([1]Sheet1!A1070=113,0,[1]Sheet1!A1070)","v":14100},{"$f":"IF([1]Sheet1!A1070=113,0,[1]Sheet1!F1070)","v":233379},{"$f":"[1]Sheet1!G1070","v":"Roemo-hoira"},{"$f":"[1]Sheet1!H1070","v":"Marthen"},{"$f":"[1]Sheet1!J1070","v":0},"Marthen Roemo-hoira",null,{"$f":"IF(A1067=113,0,[1]Sheet1!B1070)","v":"Buitenmolen"}]
[{"$f":"IF([1]Sheet1!A1071=113,0,[1]Sheet1!A1071)","v":14100},{"$f":"IF([1]Sheet1!A1071=113,0,[1]Sheet1!F1071)","v":206460},{"$f":"[1]Sheet1!G1071","v":"Sessink"},{"$f":"[1]Sheet1!H1071","v":"Gerrie"},{"$f":"[1]Sheet1!J1071","v":0},"Gerrie Sessink",null,{"$f":"IF(A1068=113,0,[1]Sheet1!B1071)","v":"Buitenmolen"}]
[{"$f":"IF([1]Sheet1!A1072=113,0,[1]Sheet1!A1072)","v":14100},{"$f":"IF([1]Sheet1!A1072=113,0,[1]Sheet1!F1072)","v":206460},{"$f":"[1]Sheet1!G1072","v":"Sessink"},{"$f":"[1]Sheet1!H1072","v":"Gerrie"},{"$f":"[1]Sheet1!J1072","v":0},"Gerrie Sessink",null,{"$f":"IF(A1069=113,0,[1]Sheet1!B1072)","v":"Buitenmolen"}]
[{"$f":"IF([1]Sheet1!A1073=113,0,[1]Sheet1!A1073)","v":14100},{"$f":"IF([1]Sheet1!A1073=113,0,[1]Sheet1!F1073)","v":210755},{"$f":"[1]Sheet1!G1073","v":"Sessink"},{"$f":"[1]Sheet1!H1073","v":"Ronnie"},{"$f":"[1]Sheet1!J1073","v":0},"Ronnie Sessink",null,{"$f":"IF(A1070=113,0,[1]Sheet1!B1073)","v":"Buitenmolen"}]
[{"$f":"IF([1]Sheet1!A1074=113,0,[1]Sheet1!A1074)","v":14100},{"$f":"IF([1]Sheet1!A1074=113,0,[1]Sheet1!F1074)","v":222224},{"$f":"[1]Sheet1!G1074","v":"Vister"},{"$f":"[1]Sheet1!H1074","v":"Paul"},{"$f":"[1]Sheet1!J1074","v":0},"Paul Vister",null,{"$f":"IF(A1071=113,0,[1]Sheet1!B1074)","v":"Buitenmolen"}]
[{"$f":"IF([1]Sheet1!A1075=113,0,[1]Sheet1!A1075)","v":14100},{"$f":"IF([1]Sheet1!A1075=113,0,[1]Sheet1!F1075)","v":112241},{"$f":"[1]Sheet1!G1075","v":"Willemsen"},{"$f":"[1]Sheet1!H1075","v":"Hennie"},{"$f":"[1]Sheet1!J1075","v":0},"Hennie Willemsen",null,{"$f":"IF(A1072=113,0,[1]Sheet1!B1075)","v":"Buitenmolen"}]
[{"$f":"IF([1]Sheet1!A1076=113,0,[1]Sheet1!A1076)","v":15421},{"$f":"IF([1]Sheet1!A1076=113,0,[1]Sheet1!F1076)","v":229702},{"$f":"[1]Sheet1!G1076","v":"Buunk"},{"$f":"[1]Sheet1!H1076","v":"Henk"},{"$f":"[1]Sheet1!J1076","v":0},"Henk Buunk",null,{"$f":"IF(A1073=113,0,[1]Sheet1!B1076)","v":"V.o.p."}]
[{"$f":"IF([1]Sheet1!A1077=113,0,[1]Sheet1!A1077)","v":15421},{"$f":"IF([1]Sheet1!A1077=113,0,[1]Sheet1!F1077)","v":237351},{"$f":"[1]Sheet1!G1077","v":"Klop"},{"$f":"[1]Sheet1!H1077","v":"Bjorn"},{"$f":"[1]Sheet1!J1077","v":0},"Bjorn Klop",null,{"$f":"IF(A1074=113,0,[1]Sheet1!B1077)","v":"V.o.p."}]
[{"$f":"IF([1]Sheet1!A1078=113,0,[1]Sheet1!A1078)","v":15421},{"$f":"IF([1]Sheet1!A1078=113,0,[1]Sheet1!F1078)","v":212119},{"$f":"[1]Sheet1!G1078","v":"Loef"},{"$f":"[1]Sheet1!H1078","v":"Erik"},{"$f":"[1]Sheet1!J1078","v":0},"Erik Loef",null,{"$f":"IF(A1075=113,0,[1]Sheet1!B1078)","v":"V.o.p."}]
[{"$f":"IF([1]Sheet1!A1079=113,0,[1]Sheet1!A1079)","v":15421},{"$f":"IF([1]Sheet1!A1079=113,0,[1]Sheet1!F1079)","v":212162},{"$f":"[1]Sheet1!G1079","v":"Loef"},{"$f":"[1]Sheet1!H1079","v":"Gerard"},{"$f":"[1]Sheet1!J1079","v":0},"Gerard Loef",null,{"$f":"IF(A1076=113,0,[1]Sheet1!B1079)","v":"V.o.p."}]
[{"$f":"IF([1]Sheet1!A1080=113,0,[1]Sheet1!A1080)","v":15421},{"$f":"IF([1]Sheet1!A1080=113,0,[1]Sheet1!F1080)","v":212161},{"$f":"[1]Sheet1!G1080","v":"Loef"},{"$f":"[1]Sheet1!H1080","v":"Rudi"},{"$f":"[1]Sheet1!J1080","v":0},"Rudi Loef",null,{"$f":"IF(A1077=113,0,[1]Sheet1!B1080)","v":"V.o.p."}]
[{"$f":"IF([1]Sheet1!A1081=113,0,[1]Sheet1!A1081)","v":15421},{"$f":"IF([1]Sheet1!A1081=113,0,[1]Sheet1!F1081)","v":212161},{"$f":"[1]Sheet1!G1081","v":"Loef"},{"$f":"[1]Sheet1!H1081","v":"Rudi"},{"$f":"[1]Sheet1!J1081","v":0},"Rudi Loef",null,{"$f":"IF(A1078=113,0,[1]Sheet1!B1081)","v":"V.o.p."}]
[{"$f":"IF([1]Sheet1!A1082=113,0,[1]Sheet1!A1082)","v":15421},{"$f":"IF([1]Sheet1!A1082=113,0,[1]Sheet1!F1082)","v":248001},{"$f":"[1]Sheet1!G1082","v":"Meyden v.d."},{"$f":"[1]Sheet1!H1082","v":"Peter"},{"$f":"[1]Sheet1!J1082","v":0},"Peter Meyden v.d.",null,{"$f":"IF(A1079=113,0,[1]Sheet1!B1082)","v":"V.o.p."}]
[{"$f":"IF([1]Sheet1!A1083=113,0,[1]Sheet1!A1083)","v":15421},{"$f":"IF([1]Sheet1!A1083=113,0,[1]Sheet1!F1083)","v":212160},{"$f":"[1]Sheet1!G1083","v":"Reintjes"},{"$f":"[1]Sheet1!H1083","v":"Wim"},{"$f":"[1]Sheet1!J1083","v":0},"Wim Reintjes",null,{"$f":"IF(A1080=113,0,[1]Sheet1!B1083)","v":"V.o.p."}]
[{"$f":"IF([1]Sheet1!A1084=113,0,[1]Sheet1!A1084)","v":15421},{"$f":"IF([1]Sheet1!A1084=113,0,[1]Sheet1!F1084)","v":263827},{"$f":"[1]Sheet1!G1084","v":"Van Kleef"},{"$f":"[1]Sheet1!H1084","v":"Willem"},{"$f":"[1]Sheet1!J1084","v":0},"Willem Van Kleef",null,{"$f":"IF(A1081=113,0,[1]Sheet1!B1084)","v":"V.o.p."}]
[{"$f":"IF([1]Sheet1!A1085=113,0,[1]Sheet1!A1085)","v":15529},{"$f":"IF([1]Sheet1!A1085=113,0,[1]Sheet1!F1085)","v":224384},{"$f":"[1]Sheet1!G1085","v":"Berends"},{"$f":"[1]Sheet1!H1085","v":"Bert"},{"$f":"[1]Sheet1!J1085","v":0},"Bert Berends",null,{"$f":"IF(A1082=113,0,[1]Sheet1!B1085)","v":"D.S.S."}]
[{"$f":"IF([1]Sheet1!A1086=113,0,[1]Sheet1!A1086)","v":15529},{"$f":"IF([1]Sheet1!A1086=113,0,[1]Sheet1!F1086)","v":224600},{"$f":"[1]Sheet1!G1086","v":"Gameren"},{"$f":"[1]Sheet1!H1086","v":"Thijs"},{"$f":"[1]Sheet1!J1086","v":"van"},"Thijs van Gameren",null,{"$f":"IF(A1083=113,0,[1]Sheet1!B1086)","v":"D.S.S."}]
[{"$f":"IF([1]Sheet1!A1087=113,0,[1]Sheet1!A1087)","v":15529},{"$f":"IF([1]Sheet1!A1087=113,0,[1]Sheet1!F1087)","v":224403},{"$f":"[1]Sheet1!G1087","v":"Haren"},{"$f":"[1]Sheet1!H1087","v":"Wim"},{"$f":"[1]Sheet1!J1087","v":"van"},"Wim van Haren",null,{"$f":"IF(A1084=113,0,[1]Sheet1!B1087)","v":"D.S.S."}]
[{"$f":"IF([1]Sheet1!A1088=113,0,[1]Sheet1!A1088)","v":15529},{"$f":"IF([1]Sheet1!A1088=113,0,[1]Sheet1!F1088)","v":215424},{"$f":"[1]Sheet1!G1088","v":"Kruk"},{"$f":"[1]Sheet1!H1088","v":"Martin"},{"$f":"[1]Sheet1!J1088","v":0},"Martin Kruk",null,{"$f":"IF(A1085=113,0,[1]Sheet1!B1088)","v":"D.S.S."}]
[{"$f":"IF([1]Sheet1!A1089=113,0,[1]Sheet1!A1089)","v":15529},{"$f":"IF([1]Sheet1!A1089=113,0,[1]Sheet1!F1089)","v":215424},{"$f":"[1]Sheet1!G1089","v":"Kruk"},{"$f":"[1]Sheet1!H1089","v":"Martin"},{"$f":"[1]Sheet1!J1089","v":0},"Martin Kruk",null,{"$f":"IF(A1086=113,0,[1]Sheet1!B1089)","v":"D.S.S."}]
[{"$f":"IF([1]Sheet1!A1090=113,0,[1]Sheet1!A1090)","v":15529},{"$f":"IF([1]Sheet1!A1090=113,0,[1]Sheet1!F1090)","v":215426},{"$f":"[1]Sheet1!G1090","v":"Kruk"},{"$f":"[1]Sheet1!H1090","v":"Wim"},{"$f":"[1]Sheet1!J1090","v":0},"Wim Kruk",null,{"$f":"IF(A1087=113,0,[1]Sheet1!B1090)","v":"D.S.S."}]
[{"$f":"IF([1]Sheet1!A1091=113,0,[1]Sheet1!A1091)","v":15529},{"$f":"IF([1]Sheet1!A1091=113,0,[1]Sheet1!F1091)","v":215426},{"$f":"[1]Sheet1!G1091","v":"Kruk"},{"$f":"[1]Sheet1!H1091","v":"Wim"},{"$f":"[1]Sheet1!J1091","v":0},"Wim Kruk",null,{"$f":"IF(A1088=113,0,[1]Sheet1!B1091)","v":"D.S.S."}]
[{"$f":"IF([1]Sheet1!A1092=113,0,[1]Sheet1!A1092)","v":15529},{"$f":"IF([1]Sheet1!A1092=113,0,[1]Sheet1!F1092)","v":244195},{"$f":"[1]Sheet1!G1092","v":"Ribbers"},{"$f":"[1]Sheet1!H1092","v":"Peter"},{"$f":"[1]Sheet1!J1092","v":0},"Peter Ribbers",null,{"$f":"IF(A1089=113,0,[1]Sheet1!B1092)","v":"D.S.S."}]
[{"$f":"IF([1]Sheet1!A1093=113,0,[1]Sheet1!A1093)","v":15529},{"$f":"IF([1]Sheet1!A1093=113,0,[1]Sheet1!F1093)","v":169441},{"$f":"[1]Sheet1!G1093","v":"Seegers"},{"$f":"[1]Sheet1!H1093","v":"Ton"},{"$f":"[1]Sheet1!J1093","v":0},"Ton Seegers",null,{"$f":"IF(A1090=113,0,[1]Sheet1!B1093)","v":"D.S.S."}]
[{"$f":"IF([1]Sheet1!A1094=113,0,[1]Sheet1!A1094)","v":15529},{"$f":"IF([1]Sheet1!A1094=113,0,[1]Sheet1!F1094)","v":215425},{"$f":"[1]Sheet1!G1094","v":"Soethof"},{"$f":"[1]Sheet1!H1094","v":"Gerard"},{"$f":"[1]Sheet1!J1094","v":0},"Gerard Soethof",null,{"$f":"IF(A1091=113,0,[1]Sheet1!B1094)","v":"D.S.S."}]
[{"$f":"IF([1]Sheet1!A1095=113,0,[1]Sheet1!A1095)","v":15529},{"$f":"IF([1]Sheet1!A1095=113,0,[1]Sheet1!F1095)","v":215425},{"$f":"[1]Sheet1!G1095","v":"Soethof"},{"$f":"[1]Sheet1!H1095","v":"Gerard"},{"$f":"[1]Sheet1!J1095","v":0},"Gerard Soethof",null,{"$f":"IF(A1092=113,0,[1]Sheet1!B1095)","v":"D.S.S."}]
[{"$f":"IF([1]Sheet1!A1096=113,0,[1]Sheet1!A1096)","v":15529},{"$f":"IF([1]Sheet1!A1096=113,0,[1]Sheet1!F1096)","v":215422},{"$f":"[1]Sheet1!G1096","v":"Soethof"},{"$f":"[1]Sheet1!H1096","v":"Hans"},{"$f":"[1]Sheet1!J1096","v":0},"Hans Soethof",null,{"$f":"IF(A1093=113,0,[1]Sheet1!B1096)","v":"D.S.S."}]
[{"$f":"IF([1]Sheet1!A1097=113,0,[1]Sheet1!A1097)","v":15529},{"$f":"IF([1]Sheet1!A1097=113,0,[1]Sheet1!F1097)","v":215422},{"$f":"[1]Sheet1!G1097","v":"Soethof"},{"$f":"[1]Sheet1!H1097","v":"Hans"},{"$f":"[1]Sheet1!J1097","v":0},"Hans Soethof",null,{"$f":"IF(A1094=113,0,[1]Sheet1!B1097)","v":"D.S.S."}]
[{"$f":"IF([1]Sheet1!A1098=113,0,[1]Sheet1!A1098)","v":15529},{"$f":"IF([1]Sheet1!A1098=113,0,[1]Sheet1!F1098)","v":234838},{"$f":"[1]Sheet1!G1098","v":"Soethof"},{"$f":"[1]Sheet1!H1098","v":"Willy"},{"$f":"[1]Sheet1!J1098","v":0},"Willy Soethof",null,{"$f":"IF(A1095=113,0,[1]Sheet1!B1098)","v":"D.S.S."}]
[{"$f":"IF([1]Sheet1!A1099=113,0,[1]Sheet1!A1099)","v":15529},{"$f":"IF([1]Sheet1!A1099=113,0,[1]Sheet1!F1099)","v":234838},{"$f":"[1]Sheet1!G1099","v":"Soethof"},{"$f":"[1]Sheet1!H1099","v":"Willy"},{"$f":"[1]Sheet1!J1099","v":0},"Willy Soethof",null,{"$f":"IF(A1096=113,0,[1]Sheet1!B1099)","v":"D.S.S."}]
[{"$f":"IF([1]Sheet1!A1100=113,0,[1]Sheet1!A1100)","v":15529},{"$f":"IF([1]Sheet1!A1100=113,0,[1]Sheet1!F1100)","v":208953},{"$f":"[1]Sheet1!G1100","v":"Teunissen"},{"$f":"[1]Sheet1!H1100","v":"Paul"},{"$f":"[1]Sheet1!J1100","v":0},"Paul Teunissen",null,{"$f":"IF(A1097=113,0,[1]Sheet1!B1100)","v":"D.S.S."}]
[{"$f":"IF([1]Sheet1!A1101=113,0,[1]Sheet1!A1101)","v":15529},{"$f":"IF([1]Sheet1!A1101=113,0,[1]Sheet1!F1101)","v":141106},{"$f":"[1]Sheet1!G1101","v":"Veen"},{"$f":"[1]Sheet1!H1101","v":"Crist"},{"$f":"[1]Sheet1!J1101","v":"ten"},"Crist ten Veen",null,{"$f":"IF(A1098=113,0,[1]Sheet1!B1101)","v":"D.S.S."}]
[{"$f":"IF([1]Sheet1!A1102=113,0,[1]Sheet1!A1102)","v":15529},{"$f":"IF([1]Sheet1!A1102=113,0,[1]Sheet1!F1102)","v":246567},{"$f":"[1]Sheet1!G1102","v":"Wieggers"},{"$f":"[1]Sheet1!H1102","v":"Jan"},{"$f":"[1]Sheet1!J1102","v":0},"Jan Wieggers",null,{"$f":"IF(A1099=113,0,[1]Sheet1!B1102)","v":"D.S.S."}]
[{"$f":"IF([1]Sheet1!A1103=113,0,[1]Sheet1!A1103)","v":15529},{"$f":"IF([1]Sheet1!A1103=113,0,[1]Sheet1!F1103)","v":224385},{"$f":"[1]Sheet1!G1103","v":"Wild"},{"$f":"[1]Sheet1!H1103","v":"Tonny"},{"$f":"[1]Sheet1!J1103","v":"de"},"Tonny de Wild",null,{"$f":"IF(A1100=113,0,[1]Sheet1!B1103)","v":"D.S.S."}]
[{"$f":"IF([1]Sheet1!A1104=113,0,[1]Sheet1!A1104)","v":15529},{"$f":"IF([1]Sheet1!A1104=113,0,[1]Sheet1!F1104)","v":204447},{"$f":"[1]Sheet1!G1104","v":"Witjes"},{"$f":"[1]Sheet1!H1104","v":"Coen"},{"$f":"[1]Sheet1!J1104","v":0},"Coen Witjes",null,{"$f":"IF(A1101=113,0,[1]Sheet1!B1104)","v":"D.S.S."}]
[{"$f":"IF([1]Sheet1!A1105=113,0,[1]Sheet1!A1105)","v":15683},{"$f":"IF([1]Sheet1!A1105=113,0,[1]Sheet1!F1105)","v":177715},{"$f":"[1]Sheet1!G1105","v":"Drevers"},{"$f":"[1]Sheet1!H1105","v":"Johan"},{"$f":"[1]Sheet1!J1105","v":0},"Johan Drevers",null,{"$f":"IF(A1102=113,0,[1]Sheet1!B1105)","v":"De Knijp"}]
[{"$f":"IF([1]Sheet1!A1106=113,0,[1]Sheet1!A1106)","v":15683},{"$f":"IF([1]Sheet1!A1106=113,0,[1]Sheet1!F1106)","v":139499},{"$f":"[1]Sheet1!G1106","v":"Huntink"},{"$f":"[1]Sheet1!H1106","v":"Roy"},{"$f":"[1]Sheet1!J1106","v":0},"Roy Huntink",null,{"$f":"IF(A1103=113,0,[1]Sheet1!B1106)","v":"De Knijp"}]
[{"$f":"IF([1]Sheet1!A1107=113,0,[1]Sheet1!A1107)","v":15683},{"$f":"IF([1]Sheet1!A1107=113,0,[1]Sheet1!F1107)","v":161023},{"$f":"[1]Sheet1!G1107","v":"Huntink"},{"$f":"[1]Sheet1!H1107","v":"Toon"},{"$f":"[1]Sheet1!J1107","v":0},"Toon Huntink",null,{"$f":"IF(A1104=113,0,[1]Sheet1!B1107)","v":"De Knijp"}]
[{"$f":"IF([1]Sheet1!A1108=113,0,[1]Sheet1!A1108)","v":15683},{"$f":"IF([1]Sheet1!A1108=113,0,[1]Sheet1!F1108)","v":202646},{"$f":"[1]Sheet1!G1108","v":"Regelink"},{"$f":"[1]Sheet1!H1108","v":"Henk"},{"$f":"[1]Sheet1!J1108","v":0},"Henk Regelink",null,{"$f":"IF(A1105=113,0,[1]Sheet1!B1108)","v":"De Knijp"}]
[{"$f":"IF([1]Sheet1!A1109=113,0,[1]Sheet1!A1109)","v":15686},{"$f":"IF([1]Sheet1!A1109=113,0,[1]Sheet1!F1109)","v":213376},{"$f":"[1]Sheet1!G1109","v":"Brouwer"},{"$f":"[1]Sheet1!H1109","v":"John"},{"$f":"[1]Sheet1!J1109","v":0},"John Brouwer",null,{"$f":"IF(A1106=113,0,[1]Sheet1!B1109)","v":"\"t GILDE CAFE"}]
[{"$f":"IF([1]Sheet1!A1110=113,0,[1]Sheet1!A1110)","v":15686},{"$f":"IF([1]Sheet1!A1110=113,0,[1]Sheet1!F1110)","v":179413},{"$f":"[1]Sheet1!G1110","v":"Hermans"},{"$f":"[1]Sheet1!H1110","v":"Tinus"},{"$f":"[1]Sheet1!J1110","v":0},"Tinus Hermans",null,{"$f":"IF(A1107=113,0,[1]Sheet1!B1110)","v":"\"t GILDE CAFE"}]
[{"$f":"IF([1]Sheet1!A1111=113,0,[1]Sheet1!A1111)","v":15686},{"$f":"IF([1]Sheet1!A1111=113,0,[1]Sheet1!F1111)","v":151298},{"$f":"[1]Sheet1!G1111","v":"Notten"},{"$f":"[1]Sheet1!H1111","v":"Frans"},{"$f":"[1]Sheet1!J1111","v":0},"Frans Notten",null,{"$f":"IF(A1108=113,0,[1]Sheet1!B1111)","v":"\"t GILDE CAFE"}]
[{"$f":"IF([1]Sheet1!A1112=113,0,[1]Sheet1!A1112)","v":15686},{"$f":"IF([1]Sheet1!A1112=113,0,[1]Sheet1!F1112)","v":246437},{"$f":"[1]Sheet1!G1112","v":"Ostermeier"},{"$f":"[1]Sheet1!H1112","v":"Cristian"},{"$f":"[1]Sheet1!J1112","v":0},{"$f":"IF(E1109=0,CONCATENATE(D1109,\" \",C1109),CONCATENATE(D1109,\" \",E1109,\" \",C1109))","v":"Cristian Ostermeier"},null,{"$f":"IF(A1109=113,0,[1]Sheet1!B1112)","v":"\"t GILDE CAFE"}]
[{"$f":"IF([1]Sheet1!A1113=113,0,[1]Sheet1!A1113)","v":15686},{"$f":"IF([1]Sheet1!A1113=113,0,[1]Sheet1!F1113)","v":234417},{"$f":"[1]Sheet1!G1113","v":"Sonneveldt"},{"$f":"[1]Sheet1!H1113","v":"Maud"},{"$f":"[1]Sheet1!J1113","v":0},"Maud Sonneveldt",null,{"$f":"IF(A1110=113,0,[1]Sheet1!B1113)","v":"\"t GILDE CAFE"}]
[{"$f":"IF([1]Sheet1!A1114=113,0,[1]Sheet1!A1114)","v":15686},{"$f":"IF([1]Sheet1!A1114=113,0,[1]Sheet1!F1114)","v":121930},{"$f":"[1]Sheet1!G1114","v":"Veld"},{"$f":"[1]Sheet1!H1114","v":"AndrÃ©"},{"$f":"[1]Sheet1!J1114","v":"van het"},"AndrÃ© van het Veld",null,{"$f":"IF(A1111=113,0,[1]Sheet1!B1114)","v":"\"t GILDE CAFE"}]
[{"$f":"IF([1]Sheet1!A1115=113,0,[1]Sheet1!A1115)","v":15688},{"$f":"IF([1]Sheet1!A1115=113,0,[1]Sheet1!F1115)","v":140718},{"$f":"[1]Sheet1!G1115","v":"Gerrits"},{"$f":"[1]Sheet1!H1115","v":"RenÃ©"},{"$f":"[1]Sheet1!J1115","v":0},"RenÃ© Gerrits",null,{"$f":"IF(A1112=113,0,[1]Sheet1!B1115)","v":"De Smid"}]
[{"$f":"IF([1]Sheet1!A1116=113,0,[1]Sheet1!A1116)","v":15731},{"$f":"IF([1]Sheet1!A1116=113,0,[1]Sheet1!F1116)","v":217956},{"$f":"[1]Sheet1!G1116","v":"Uhm"},{"$f":"[1]Sheet1!H1116","v":"Theo"},{"$f":"[1]Sheet1!J1116","v":"van"},"Theo van Uhm",null,{"$f":"IF(A1113=113,0,[1]Sheet1!B1116)","v":"Gildehuis"}]
[{"$f":"IF([1]Sheet1!A1117=113,0,[1]Sheet1!A1117)","v":15747},{"$f":"IF([1]Sheet1!A1117=113,0,[1]Sheet1!F1117)","v":263799},{"$f":"[1]Sheet1!G1117","v":"Berrevoets"},{"$f":"[1]Sheet1!H1117","v":"Remco"},{"$f":"[1]Sheet1!J1117","v":0},"Remco Berrevoets",null,{"$f":"IF(A1114=113,0,[1]Sheet1!B1117)","v":"Pol Zelhem"}]
[{"$f":"IF([1]Sheet1!A1118=113,0,[1]Sheet1!A1118)","v":15747},{"$f":"IF([1]Sheet1!A1118=113,0,[1]Sheet1!F1118)","v":166677},{"$f":"[1]Sheet1!G1118","v":"Brinks"},{"$f":"[1]Sheet1!H1118","v":"Peter"},{"$f":"[1]Sheet1!J1118","v":0},"Peter Brinks",null,{"$f":"IF(A1115=113,0,[1]Sheet1!B1118)","v":"Pol Zelhem"}]
[{"$f":"IF([1]Sheet1!A1119=113,0,[1]Sheet1!A1119)","v":15747},{"$f":"IF([1]Sheet1!A1119=113,0,[1]Sheet1!F1119)","v":244177},{"$f":"[1]Sheet1!G1119","v":"Bulten"},{"$f":"[1]Sheet1!H1119","v":"RenÃ©"},{"$f":"[1]Sheet1!J1119","v":0},"RenÃ© Bulten",null,{"$f":"IF(A1116=113,0,[1]Sheet1!B1119)","v":"Pol Zelhem"}]
[{"$f":"IF([1]Sheet1!A1120=113,0,[1]Sheet1!A1120)","v":15747},{"$f":"IF([1]Sheet1!A1120=113,0,[1]Sheet1!F1120)","v":109746},{"$f":"[1]Sheet1!G1120","v":"Dierssen"},{"$f":"[1]Sheet1!H1120","v":"Willy"},{"$f":"[1]Sheet1!J1120","v":0},"Willy Dierssen",null,{"$f":"IF(A1117=113,0,[1]Sheet1!B1120)","v":"Pol Zelhem"}]
[{"$f":"IF([1]Sheet1!A1121=113,0,[1]Sheet1!A1121)","v":15747},{"$f":"IF([1]Sheet1!A1121=113,0,[1]Sheet1!F1121)","v":244173},{"$f":"[1]Sheet1!G1121","v":"Elk"},{"$f":"[1]Sheet1!H1121","v":"Dennis"},{"$f":"[1]Sheet1!J1121","v":"van"},"Dennis van Elk",null,{"$f":"IF(A1118=113,0,[1]Sheet1!B1121)","v":"Pol Zelhem"}]
[{"$f":"IF([1]Sheet1!A1122=113,0,[1]Sheet1!A1122)","v":15747},{"$f":"IF([1]Sheet1!A1122=113,0,[1]Sheet1!F1122)","v":139312},{"$f":"[1]Sheet1!G1122","v":"Erdhuizen"},{"$f":"[1]Sheet1!H1122","v":"Maurice"},{"$f":"[1]Sheet1!J1122","v":0},"Maurice Erdhuizen",null,{"$f":"IF(A1119=113,0,[1]Sheet1!B1122)","v":"Pol Zelhem"}]
[{"$f":"IF([1]Sheet1!A1123=113,0,[1]Sheet1!A1123)","v":15747},{"$f":"IF([1]Sheet1!A1123=113,0,[1]Sheet1!F1123)","v":234716},{"$f":"[1]Sheet1!G1123","v":"Eulink"},{"$f":"[1]Sheet1!H1123","v":"Ben"},{"$f":"[1]Sheet1!J1123","v":0},"Ben Eulink",null,{"$f":"IF(A1120=113,0,[1]Sheet1!B1123)","v":"Pol Zelhem"}]
[{"$f":"IF([1]Sheet1!A1124=113,0,[1]Sheet1!A1124)","v":15747},{"$f":"IF([1]Sheet1!A1124=113,0,[1]Sheet1!F1124)","v":263796},{"$f":"[1]Sheet1!G1124","v":"Groot Wassink"},{"$f":"[1]Sheet1!H1124","v":"Sven"},{"$f":"[1]Sheet1!J1124","v":0},"Sven Groot Wassink",null,{"$f":"IF(A1121=113,0,[1]Sheet1!B1124)","v":"Pol Zelhem"}]
[{"$f":"IF([1]Sheet1!A1125=113,0,[1]Sheet1!A1125)","v":15747},{"$f":"IF([1]Sheet1!A1125=113,0,[1]Sheet1!F1125)","v":134818},{"$f":"[1]Sheet1!G1125","v":"Hulshorst"},{"$f":"[1]Sheet1!H1125","v":"Bas"},{"$f":"[1]Sheet1!J1125","v":0},"Bas Hulshorst",null,{"$f":"IF(A1122=113,0,[1]Sheet1!B1125)","v":"Pol Zelhem"}]
[{"$f":"IF([1]Sheet1!A1126=113,0,[1]Sheet1!A1126)","v":15747},{"$f":"IF([1]Sheet1!A1126=113,0,[1]Sheet1!F1126)","v":134818},{"$f":"[1]Sheet1!G1126","v":"Hulshorst"},{"$f":"[1]Sheet1!H1126","v":"Bas"},{"$f":"[1]Sheet1!J1126","v":0},"Bas Hulshorst",null,{"$f":"IF(A1123=113,0,[1]Sheet1!B1126)","v":"Pol Zelhem"}]
[{"$f":"IF([1]Sheet1!A1127=113,0,[1]Sheet1!A1127)","v":15747},{"$f":"IF([1]Sheet1!A1127=113,0,[1]Sheet1!F1127)","v":263795},{"$f":"[1]Sheet1!G1127","v":"Jansma"},{"$f":"[1]Sheet1!H1127","v":"Bert"},{"$f":"[1]Sheet1!J1127","v":0},"Bert Jansma",null,{"$f":"IF(A1124=113,0,[1]Sheet1!B1127)","v":"Pol Zelhem"}]
[{"$f":"IF([1]Sheet1!A1128=113,0,[1]Sheet1!A1128)","v":15747},{"$f":"IF([1]Sheet1!A1128=113,0,[1]Sheet1!F1128)","v":205376},{"$f":"[1]Sheet1!G1128","v":"Jolie"},{"$f":"[1]Sheet1!H1128","v":"Ronny"},{"$f":"[1]Sheet1!J1128","v":0},"Ronny Jolie",null,{"$f":"IF(A1125=113,0,[1]Sheet1!B1128)","v":"Pol Zelhem"}]
[{"$f":"IF([1]Sheet1!A1129=113,0,[1]Sheet1!A1129)","v":15747},{"$f":"IF([1]Sheet1!A1129=113,0,[1]Sheet1!F1129)","v":263805},{"$f":"[1]Sheet1!G1129","v":"Kappert"},{"$f":"[1]Sheet1!H1129","v":"Sjoerd"},{"$f":"[1]Sheet1!J1129","v":0},"Sjoerd Kappert",null,{"$f":"IF(A1126=113,0,[1]Sheet1!B1129)","v":"Pol Zelhem"}]
[{"$f":"IF([1]Sheet1!A1130=113,0,[1]Sheet1!A1130)","v":15747},{"$f":"IF([1]Sheet1!A1130=113,0,[1]Sheet1!F1130)","v":221688},{"$f":"[1]Sheet1!G1130","v":"Kreeftenberg"},{"$f":"[1]Sheet1!H1130","v":"Nick"},{"$f":"[1]Sheet1!J1130","v":0},"Nick Kreeftenberg",null,{"$f":"IF(A1127=113,0,[1]Sheet1!B1130)","v":"Pol Zelhem"}]
[{"$f":"IF([1]Sheet1!A1131=113,0,[1]Sheet1!A1131)","v":15747},{"$f":"IF([1]Sheet1!A1131=113,0,[1]Sheet1!F1131)","v":263800},{"$f":"[1]Sheet1!G1131","v":"Kuiperij"},{"$f":"[1]Sheet1!H1131","v":"Niels"},{"$f":"[1]Sheet1!J1131","v":0},"Niels Kuiperij",null,{"$f":"IF(A1128=113,0,[1]Sheet1!B1131)","v":"Pol Zelhem"}]
[{"$f":"IF([1]Sheet1!A1132=113,0,[1]Sheet1!A1132)","v":15747},{"$f":"IF([1]Sheet1!A1132=113,0,[1]Sheet1!F1132)","v":246319},{"$f":"[1]Sheet1!G1132","v":"Kuiperij"},{"$f":"[1]Sheet1!H1132","v":"Toon"},{"$f":"[1]Sheet1!J1132","v":0},"Toon Kuiperij",null,{"$f":"IF(A1129=113,0,[1]Sheet1!B1132)","v":"Pol Zelhem"}]
[{"$f":"IF([1]Sheet1!A1133=113,0,[1]Sheet1!A1133)","v":15747},{"$f":"IF([1]Sheet1!A1133=113,0,[1]Sheet1!F1133)","v":236815},{"$f":"[1]Sheet1!G1133","v":"Lovink"},{"$f":"[1]Sheet1!H1133","v":"Dennis"},{"$f":"[1]Sheet1!J1133","v":0},"Dennis Lovink",null,{"$f":"IF(A1130=113,0,[1]Sheet1!B1133)","v":"Pol Zelhem"}]
[{"$f":"IF([1]Sheet1!A1134=113,0,[1]Sheet1!A1134)","v":15747},{"$f":"IF([1]Sheet1!A1134=113,0,[1]Sheet1!F1134)","v":208006},{"$f":"[1]Sheet1!G1134","v":"Minkhorst"},{"$f":"[1]Sheet1!H1134","v":"Han"},{"$f":"[1]Sheet1!J1134","v":0},"Han Minkhorst",null,{"$f":"IF(A1131=113,0,[1]Sheet1!B1134)","v":"Pol Zelhem"}]
[{"$f":"IF([1]Sheet1!A1135=113,0,[1]Sheet1!A1135)","v":15747},{"$f":"IF([1]Sheet1!A1135=113,0,[1]Sheet1!F1135)","v":263822},{"$f":"[1]Sheet1!G1135","v":"Peppelman"},{"$f":"[1]Sheet1!H1135","v":"Koen"},{"$f":"[1]Sheet1!J1135","v":0},"Koen Peppelman",null,{"$f":"IF(A1132=113,0,[1]Sheet1!B1135)","v":"Pol Zelhem"}]
[{"$f":"IF([1]Sheet1!A1136=113,0,[1]Sheet1!A1136)","v":15747},{"$f":"IF([1]Sheet1!A1136=113,0,[1]Sheet1!F1136)","v":149009},{"$f":"[1]Sheet1!G1136","v":"Stiemer"},{"$f":"[1]Sheet1!H1136","v":"Coen"},{"$f":"[1]Sheet1!J1136","v":0},"Coen Stiemer",null,{"$f":"IF(A1133=113,0,[1]Sheet1!B1136)","v":"Pol Zelhem"}]
[{"$f":"IF([1]Sheet1!A1137=113,0,[1]Sheet1!A1137)","v":15747},{"$f":"IF([1]Sheet1!A1137=113,0,[1]Sheet1!F1137)","v":257361},{"$f":"[1]Sheet1!G1137","v":"Strien"},{"$f":"[1]Sheet1!H1137","v":"Jan jr."},{"$f":"[1]Sheet1!J1137","v":"van"},"Jan jr. van Strien",null,{"$f":"IF(A1134=113,0,[1]Sheet1!B1137)","v":"Pol Zelhem"}]
[{"$f":"IF([1]Sheet1!A1138=113,0,[1]Sheet1!A1138)","v":15747},{"$f":"IF([1]Sheet1!A1138=113,0,[1]Sheet1!F1138)","v":263797},{"$f":"[1]Sheet1!G1138","v":"Thuss"},{"$f":"[1]Sheet1!H1138","v":"Patricia"},{"$f":"[1]Sheet1!J1138","v":0},"Patricia Thuss",null,{"$f":"IF(A1135=113,0,[1]Sheet1!B1138)","v":"Pol Zelhem"}]
[{"$f":"IF([1]Sheet1!A1139=113,0,[1]Sheet1!A1139)","v":15747},{"$f":"IF([1]Sheet1!A1139=113,0,[1]Sheet1!F1139)","v":223930},{"$f":"[1]Sheet1!G1139","v":"Verlangen"},{"$f":"[1]Sheet1!H1139","v":"Bjorn"},{"$f":"[1]Sheet1!J1139","v":0},"Bjorn Verlangen",null,{"$f":"IF(A1136=113,0,[1]Sheet1!B1139)","v":"Pol Zelhem"}]
[{"$f":"IF([1]Sheet1!A1140=113,0,[1]Sheet1!A1140)","v":15747},{"$f":"IF([1]Sheet1!A1140=113,0,[1]Sheet1!F1140)","v":148098},{"$f":"[1]Sheet1!G1140","v":"Weij"},{"$f":"[1]Sheet1!H1140","v":"Gert"},{"$f":"[1]Sheet1!J1140","v":"van"},"Gert van Weij",null,{"$f":"IF(A1137=113,0,[1]Sheet1!B1140)","v":"Pol Zelhem"}]
[{"$f":"IF([1]Sheet1!A1141=113,0,[1]Sheet1!A1141)","v":15747},{"$f":"IF([1]Sheet1!A1141=113,0,[1]Sheet1!F1141)","v":154977},{"$f":"[1]Sheet1!G1141","v":"Weij"},{"$f":"[1]Sheet1!H1141","v":"Jaap"},{"$f":"[1]Sheet1!J1141","v":"van"},"Jaap van Weij",null,{"$f":"IF(A1138=113,0,[1]Sheet1!B1141)","v":"Pol Zelhem"}]
[{"$f":"IF([1]Sheet1!A1142=113,0,[1]Sheet1!A1142)","v":15747},{"$f":"IF([1]Sheet1!A1142=113,0,[1]Sheet1!F1142)","v":134234},{"$f":"[1]Sheet1!G1142","v":"Willemsen"},{"$f":"[1]Sheet1!H1142","v":"Michel"},{"$f":"[1]Sheet1!J1142","v":0},"Michel Willemsen",null,{"$f":"IF(A1139=113,0,[1]Sheet1!B1142)","v":"Pol Zelhem"}]
[{"$f":"IF([1]Sheet1!A1143=113,0,[1]Sheet1!A1143)","v":15747},{"$f":"IF([1]Sheet1!A1143=113,0,[1]Sheet1!F1143)","v":263798},{"$f":"[1]Sheet1!G1143","v":"Woerts"},{"$f":"[1]Sheet1!H1143","v":"Bas"},{"$f":"[1]Sheet1!J1143","v":0},"Bas Woerts",null,{"$f":"IF(A1140=113,0,[1]Sheet1!B1143)","v":"Pol Zelhem"}]
[{"$f":"IF([1]Sheet1!A1144=113,0,[1]Sheet1!A1144)","v":0},{"$f":"IF([1]Sheet1!A1144=113,0,[1]Sheet1!F1144)","v":0},{"$f":"[1]Sheet1!G1144","v":0},{"$f":"[1]Sheet1!H1144","v":0},{"$f":"[1]Sheet1!J1144","v":0},"0 0",null,{"$f":"IF(A1141=113,0,[1]Sheet1!B1144)","v":0}]
[{"$f":"IF([1]Sheet1!A1145=113,0,[1]Sheet1!A1145)","v":0},{"$f":"IF([1]Sheet1!A1145=113,0,[1]Sheet1!F1145)","v":0},{"$f":"[1]Sheet1!G1145","v":0},{"$f":"[1]Sheet1!H1145","v":0},{"$f":"[1]Sheet1!J1145","v":0},"0 0",null,{"$f":"IF(A1142=113,0,[1]Sheet1!B1145)","v":0}]
[{"$f":"IF([1]Sheet1!A1146=113,0,[1]Sheet1!A1146)","v":0},{"$f":"IF([1]Sheet1!A1146=113,0,[1]Sheet1!F1146)","v":0},{"$f":"[1]Sheet1!G1146","v":0},{"$f":"[1]Sheet1!H1146","v":0},{"$f":"[1]Sheet1!J1146","v":0},"0 0",null,{"$f":"IF(A1143=113,0,[1]Sheet1!B1146)","v":0}]
[{"$f":"IF([1]Sheet1!A1147=113,0,[1]Sheet1!A1147)","v":0},{"$f":"IF([1]Sheet1!A1147=113,0,[1]Sheet1!F1147)","v":0},{"$f":"[1]Sheet1!G1147","v":0},{"$f":"[1]Sheet1!H1147","v":0},{"$f":"[1]Sheet1!J1147","v":0},"0 0",null,{"$f":"IF(A1144=113,0,[1]Sheet1!B1147)","v":0}]
[{"$f":"IF([1]Sheet1!A1148=113,0,[1]Sheet1!A1148)","v":0},{"$f":"IF([1]Sheet1!A1148=113,0,[1]Sheet1!F1148)","v":0},{"$f":"[1]Sheet1!G1148","v":0},{"$f":"[1]Sheet1!H1148","v":0},{"$f":"[1]Sheet1!J1148","v":0},"0 0",null,{"$f":"IF(A1145=113,0,[1]Sheet1!B1148)","v":0}]
[{"$f":"IF([1]Sheet1!A1149=113,0,[1]Sheet1!A1149)","v":0},{"$f":"IF([1]Sheet1!A1149=113,0,[1]Sheet1!F1149)","v":0},{"$f":"[1]Sheet1!G1149","v":0},{"$f":"[1]Sheet1!H1149","v":0},{"$f":"[1]Sheet1!J1149","v":0},"0 0",null,{"$f":"IF(A1146=113,0,[1]Sheet1!B1149)","v":0}]
[{"$f":"IF([1]Sheet1!A1150=113,0,[1]Sheet1!A1150)","v":0},{"$f":"IF([1]Sheet1!A1150=113,0,[1]Sheet1!F1150)","v":0},{"$f":"[1]Sheet1!G1150","v":0},{"$f":"[1]Sheet1!H1150","v":0},{"$f":"[1]Sheet1!J1150","v":0},"0 0",null,{"$f":"IF(A1147=113,0,[1]Sheet1!B1150)","v":0}]
[{"$f":"IF([1]Sheet1!A1151=113,0,[1]Sheet1!A1151)","v":0},{"$f":"IF([1]Sheet1!A1151=113,0,[1]Sheet1!F1151)","v":0},{"$f":"[1]Sheet1!G1151","v":0},{"$f":"[1]Sheet1!H1151","v":0},{"$f":"[1]Sheet1!J1151","v":0},"0 0",null,{"$f":"IF(A1148=113,0,[1]Sheet1!B1151)","v":0}]
[{"$f":"IF([1]Sheet1!A1152=113,0,[1]Sheet1!A1152)","v":0},{"$f":"IF([1]Sheet1!A1152=113,0,[1]Sheet1!F1152)","v":0},{"$f":"[1]Sheet1!G1152","v":0},{"$f":"[1]Sheet1!H1152","v":0},{"$f":"[1]Sheet1!J1152","v":0},"0 0",null,{"$f":"IF(A1149=113,0,[1]Sheet1!B1152)","v":0}]
[{"$f":"IF([1]Sheet1!A1153=113,0,[1]Sheet1!A1153)","v":0},{"$f":"IF([1]Sheet1!A1153=113,0,[1]Sheet1!F1153)","v":0},{"$f":"[1]Sheet1!G1153","v":0},{"$f":"[1]Sheet1!H1153","v":0},{"$f":"[1]Sheet1!J1153","v":0},"0 0",null,{"$f":"IF(A1150=113,0,[1]Sheet1!B1153)","v":0}]
[{"$f":"IF([1]Sheet1!A1154=113,0,[1]Sheet1!A1154)","v":0},{"$f":"IF([1]Sheet1!A1154=113,0,[1]Sheet1!F1154)","v":0},{"$f":"[1]Sheet1!G1154","v":0},{"$f":"[1]Sheet1!H1154","v":0},{"$f":"[1]Sheet1!J1154","v":0},"0 0",null,{"$f":"IF(A1151=113,0,[1]Sheet1!B1154)","v":0}]
[{"$f":"IF([1]Sheet1!A1155=113,0,[1]Sheet1!A1155)","v":0},{"$f":"IF([1]Sheet1!A1155=113,0,[1]Sheet1!F1155)","v":0},{"$f":"[1]Sheet1!G1155","v":0},{"$f":"[1]Sheet1!H1155","v":0},{"$f":"[1]Sheet1!J1155","v":0},"0 0",null,{"$f":"IF(A1152=113,0,[1]Sheet1!B1155)","v":0}]
[{"$f":"IF([1]Sheet1!A1156=113,0,[1]Sheet1!A1156)","v":0},{"$f":"IF([1]Sheet1!A1156=113,0,[1]Sheet1!F1156)","v":0},{"$f":"[1]Sheet1!G1156","v":0},{"$f":"[1]Sheet1!H1156","v":0},{"$f":"[1]Sheet1!J1156","v":0},"0 0",null,{"$f":"IF(A1153=113,0,[1]Sheet1!B1156)","v":0}]
[{"$f":"IF([1]Sheet1!A1157=113,0,[1]Sheet1!A1157)","v":0},{"$f":"IF([1]Sheet1!A1157=113,0,[1]Sheet1!F1157)","v":0},{"$f":"[1]Sheet1!G1157","v":0},{"$f":"[1]Sheet1!H1157","v":0},{"$f":"[1]Sheet1!J1157","v":0},"0 0",null,{"$f":"IF(A1154=113,0,[1]Sheet1!B1157)","v":0}]
[{"$f":"IF([1]Sheet1!A1158=113,0,[1]Sheet1!A1158)","v":0},{"$f":"IF([1]Sheet1!A1158=113,0,[1]Sheet1!F1158)","v":0},{"$f":"[1]Sheet1!G1158","v":0},{"$f":"[1]Sheet1!H1158","v":0},{"$f":"[1]Sheet1!J1158","v":0},"0 0",null,{"$f":"IF(A1155=113,0,[1]Sheet1!B1158)","v":0}]
[{"$f":"IF([1]Sheet1!A1159=113,0,[1]Sheet1!A1159)","v":0},{"$f":"IF([1]Sheet1!A1159=113,0,[1]Sheet1!F1159)","v":0},{"$f":"[1]Sheet1!G1159","v":0},{"$f":"[1]Sheet1!H1159","v":0},{"$f":"[1]Sheet1!J1159","v":0},"0 0",null,{"$f":"IF(A1156=113,0,[1]Sheet1!B1159)","v":0}]
[{"$f":"IF([1]Sheet1!A1160=113,0,[1]Sheet1!A1160)","v":0},{"$f":"IF([1]Sheet1!A1160=113,0,[1]Sheet1!F1160)","v":0},{"$f":"[1]Sheet1!G1160","v":0},{"$f":"[1]Sheet1!H1160","v":0},{"$f":"[1]Sheet1!J1160","v":0},"0 0",null,{"$f":"IF(A1157=113,0,[1]Sheet1!B1160)","v":0}]
[{"$f":"IF([1]Sheet1!A1161=113,0,[1]Sheet1!A1161)","v":0},{"$f":"IF([1]Sheet1!A1161=113,0,[1]Sheet1!F1161)","v":0},{"$f":"[1]Sheet1!G1161","v":0},{"$f":"[1]Sheet1!H1161","v":0},{"$f":"[1]Sheet1!J1161","v":0},"0 0",null,{"$f":"IF(A1158=113,0,[1]Sheet1!B1161)","v":0}]
[{"$f":"IF([1]Sheet1!A1162=113,0,[1]Sheet1!A1162)","v":0},{"$f":"IF([1]Sheet1!A1162=113,0,[1]Sheet1!F1162)","v":0},{"$f":"[1]Sheet1!G1162","v":0},{"$f":"[1]Sheet1!H1162","v":0},{"$f":"[1]Sheet1!J1162","v":0},"0 0",null,{"$f":"IF(A1159=113,0,[1]Sheet1!B1162)","v":0}]
[{"$f":"IF([1]Sheet1!A1163=113,0,[1]Sheet1!A1163)","v":0},{"$f":"IF([1]Sheet1!A1163=113,0,[1]Sheet1!F1163)","v":0},{"$f":"[1]Sheet1!G1163","v":0},{"$f":"[1]Sheet1!H1163","v":0},{"$f":"[1]Sheet1!J1163","v":0},"0 0",null,{"$f":"IF(A1160=113,0,[1]Sheet1!B1163)","v":0}]
[{"$f":"IF([1]Sheet1!A1164=113,0,[1]Sheet1!A1164)","v":0},{"$f":"IF([1]Sheet1!A1164=113,0,[1]Sheet1!F1164)","v":0},{"$f":"[1]Sheet1!G1164","v":0},{"$f":"[1]Sheet1!H1164","v":0},{"$f":"[1]Sheet1!J1164","v":0},"0 0",null,{"$f":"IF(A1161=113,0,[1]Sheet1!B1164)","v":0}]
[{"$f":"IF([1]Sheet1!A1165=113,0,[1]Sheet1!A1165)","v":0},{"$f":"IF([1]Sheet1!A1165=113,0,[1]Sheet1!F1165)","v":0},{"$f":"[1]Sheet1!G1165","v":0},{"$f":"[1]Sheet1!H1165","v":0},{"$f":"[1]Sheet1!J1165","v":0},"0 0",null,{"$f":"IF(A1162=113,0,[1]Sheet1!B1165)","v":0}]
[{"$f":"IF([1]Sheet1!A1166=113,0,[1]Sheet1!A1166)","v":0},{"$f":"IF([1]Sheet1!A1166=113,0,[1]Sheet1!F1166)","v":0},{"$f":"[1]Sheet1!G1166","v":0},{"$f":"[1]Sheet1!H1166","v":0},{"$f":"[1]Sheet1!J1166","v":0},"0 0",null,{"$f":"IF(A1163=113,0,[1]Sheet1!B1166)","v":0}]
[{"$f":"IF([1]Sheet1!A1167=113,0,[1]Sheet1!A1167)","v":0},{"$f":"IF([1]Sheet1!A1167=113,0,[1]Sheet1!F1167)","v":0},{"$f":"[1]Sheet1!G1167","v":0},{"$f":"[1]Sheet1!H1167","v":0},{"$f":"[1]Sheet1!J1167","v":0},"0 0",null,{"$f":"IF(A1164=113,0,[1]Sheet1!B1167)","v":0}]
[{"$f":"IF([1]Sheet1!A1168=113,0,[1]Sheet1!A1168)","v":0},{"$f":"IF([1]Sheet1!A1168=113,0,[1]Sheet1!F1168)","v":0},{"$f":"[1]Sheet1!G1168","v":0},{"$f":"[1]Sheet1!H1168","v":0},{"$f":"[1]Sheet1!J1168","v":0},"0 0",null,{"$f":"IF(A1165=113,0,[1]Sheet1!B1168)","v":0}]
[{"$f":"IF([1]Sheet1!A1169=113,0,[1]Sheet1!A1169)","v":0},{"$f":"IF([1]Sheet1!A1169=113,0,[1]Sheet1!F1169)","v":0},{"$f":"[1]Sheet1!G1169","v":0},{"$f":"[1]Sheet1!H1169","v":0},{"$f":"[1]Sheet1!J1169","v":0},"0 0",null,{"$f":"IF(A1166=113,0,[1]Sheet1!B1169)","v":0}]
[{"$f":"IF([1]Sheet1!A1170=113,0,[1]Sheet1!A1170)","v":0},{"$f":"IF([1]Sheet1!A1170=113,0,[1]Sheet1!F1170)","v":0},{"$f":"[1]Sheet1!G1170","v":0},{"$f":"[1]Sheet1!H1170","v":0},{"$f":"[1]Sheet1!J1170","v":0},"0 0",null,{"$f":"IF(A1167=113,0,[1]Sheet1!B1170)","v":0}]
[{"$f":"IF([1]Sheet1!A1171=113,0,[1]Sheet1!A1171)","v":0},{"$f":"IF([1]Sheet1!A1171=113,0,[1]Sheet1!F1171)","v":0},{"$f":"[1]Sheet1!G1171","v":0},{"$f":"[1]Sheet1!H1171","v":0},{"$f":"[1]Sheet1!J1171","v":0},"0 0",null,{"$f":"IF(A1168=113,0,[1]Sheet1!B1171)","v":0}]
[{"$f":"IF([1]Sheet1!A1172=113,0,[1]Sheet1!A1172)","v":0},{"$f":"IF([1]Sheet1!A1172=113,0,[1]Sheet1!F1172)","v":0},{"$f":"[1]Sheet1!G1172","v":0},{"$f":"[1]Sheet1!H1172","v":0},{"$f":"[1]Sheet1!J1172","v":0},"0 0",null,{"$f":"IF(A1169=113,0,[1]Sheet1!B1172)","v":0}]
[{"$f":"IF([1]Sheet1!A1173=113,0,[1]Sheet1!A1173)","v":0},{"$f":"IF([1]Sheet1!A1173=113,0,[1]Sheet1!F1173)","v":0},{"$f":"[1]Sheet1!G1173","v":0},{"$f":"[1]Sheet1!H1173","v":0},{"$f":"[1]Sheet1!J1173","v":0},"0 0",null,{"$f":"IF(A1170=113,0,[1]Sheet1!B1173)","v":0}]
[{"$f":"IF([1]Sheet1!A1174=113,0,[1]Sheet1!A1174)","v":0},{"$f":"IF([1]Sheet1!A1174=113,0,[1]Sheet1!F1174)","v":0},{"$f":"[1]Sheet1!G1174","v":0},{"$f":"[1]Sheet1!H1174","v":0},{"$f":"[1]Sheet1!J1174","v":0},"0 0",null,{"$f":"IF(A1171=113,0,[1]Sheet1!B1174)","v":0}]
[{"$f":"IF([1]Sheet1!A1175=113,0,[1]Sheet1!A1175)","v":0},{"$f":"IF([1]Sheet1!A1175=113,0,[1]Sheet1!F1175)","v":0},{"$f":"[1]Sheet1!G1175","v":0},{"$f":"[1]Sheet1!H1175","v":0},{"$f":"[1]Sheet1!J1175","v":0},"0 0",null,{"$f":"IF(A1172=113,0,[1]Sheet1!B1175)","v":0}]
[{"$f":"IF([1]Sheet1!A1176=113,0,[1]Sheet1!A1176)","v":0},{"$f":"IF([1]Sheet1!A1176=113,0,[1]Sheet1!F1176)","v":0},{"$f":"[1]Sheet1!G1176","v":0},{"$f":"[1]Sheet1!H1176","v":0},{"$f":"[1]Sheet1!J1176","v":0},{"$f":"IF(E1173=0,CONCATENATE(D1173,\" \",C1173),CONCATENATE(D1173,\" \",E1173,\" \",C1173))","v":"0 0"},null,{"$f":"IF(A1173=113,0,[1]Sheet1!B1176)","v":0}]
[{"$f":"IF([1]Sheet1!A1177=113,0,[1]Sheet1!A1177)","v":0},{"$f":"IF([1]Sheet1!A1177=113,0,[1]Sheet1!F1177)","v":0},{"$f":"[1]Sheet1!G1177","v":0},{"$f":"[1]Sheet1!H1177","v":0},{"$f":"[1]Sheet1!J1177","v":0},"0 0",null,{"$f":"IF(A1174=113,0,[1]Sheet1!B1177)","v":0}]
[{"$f":"IF([1]Sheet1!A1178=113,0,[1]Sheet1!A1178)","v":0},{"$f":"IF([1]Sheet1!A1178=113,0,[1]Sheet1!F1178)","v":0},{"$f":"[1]Sheet1!G1178","v":0},{"$f":"[1]Sheet1!H1178","v":0},{"$f":"[1]Sheet1!J1178","v":0},"0 0",null,{"$f":"IF(A1175=113,0,[1]Sheet1!B1178)","v":0}]
[{"$f":"IF([1]Sheet1!A1179=113,0,[1]Sheet1!A1179)","v":0},{"$f":"IF([1]Sheet1!A1179=113,0,[1]Sheet1!F1179)","v":0},{"$f":"[1]Sheet1!G1179","v":0},{"$f":"[1]Sheet1!H1179","v":0},{"$f":"[1]Sheet1!J1179","v":0},"0 0",null,{"$f":"IF(A1176=113,0,[1]Sheet1!B1179)","v":0}]
[{"$f":"IF([1]Sheet1!A1180=113,0,[1]Sheet1!A1180)","v":0},{"$f":"IF([1]Sheet1!A1180=113,0,[1]Sheet1!F1180)","v":0},{"$f":"[1]Sheet1!G1180","v":0},{"$f":"[1]Sheet1!H1180","v":0},{"$f":"[1]Sheet1!J1180","v":0},"0 0",null,{"$f":"IF(A1177=113,0,[1]Sheet1!B1180)","v":0}]
[{"$f":"IF([1]Sheet1!A1181=113,0,[1]Sheet1!A1181)","v":0},{"$f":"IF([1]Sheet1!A1181=113,0,[1]Sheet1!F1181)","v":0},{"$f":"[1]Sheet1!G1181","v":0},{"$f":"[1]Sheet1!H1181","v":0},{"$f":"[1]Sheet1!J1181","v":0},"0 0",null,{"$f":"IF(A1178=113,0,[1]Sheet1!B1181)","v":0}]
[{"$f":"IF([1]Sheet1!A1182=113,0,[1]Sheet1!A1182)","v":0},{"$f":"IF([1]Sheet1!A1182=113,0,[1]Sheet1!F1182)","v":0},{"$f":"[1]Sheet1!G1182","v":0},{"$f":"[1]Sheet1!H1182","v":0},{"$f":"[1]Sheet1!J1182","v":0},"0 0",null,{"$f":"IF(A1179=113,0,[1]Sheet1!B1182)","v":0}]
[{"$f":"IF([1]Sheet1!A1183=113,0,[1]Sheet1!A1183)","v":0},{"$f":"IF([1]Sheet1!A1183=113,0,[1]Sheet1!F1183)","v":0},{"$f":"[1]Sheet1!G1183","v":0},{"$f":"[1]Sheet1!H1183","v":0},{"$f":"[1]Sheet1!J1183","v":0},"0 0",null,{"$f":"IF(A1180=113,0,[1]Sheet1!B1183)","v":0}]
[{"$f":"IF([1]Sheet1!A1184=113,0,[1]Sheet1!A1184)","v":0},{"$f":"IF([1]Sheet1!A1184=113,0,[1]Sheet1!F1184)","v":0},{"$f":"[1]Sheet1!G1184","v":0},{"$f":"[1]Sheet1!H1184","v":0},{"$f":"[1]Sheet1!J1184","v":0},"0 0",null,{"$f":"IF(A1181=113,0,[1]Sheet1!B1184)","v":0}]
[{"$f":"IF([1]Sheet1!A1185=113,0,[1]Sheet1!A1185)","v":0},{"$f":"IF([1]Sheet1!A1185=113,0,[1]Sheet1!F1185)","v":0},{"$f":"[1]Sheet1!G1185","v":0},{"$f":"[1]Sheet1!H1185","v":0},{"$f":"[1]Sheet1!J1185","v":0},"0 0",null,{"$f":"IF(A1182=113,0,[1]Sheet1!B1185)","v":0}]
[{"$f":"IF([1]Sheet1!A1186=113,0,[1]Sheet1!A1186)","v":0},{"$f":"IF([1]Sheet1!A1186=113,0,[1]Sheet1!F1186)","v":0},{"$f":"[1]Sheet1!G1186","v":0},{"$f":"[1]Sheet1!H1186","v":0},{"$f":"[1]Sheet1!J1186","v":0},"0 0",null,{"$f":"IF(A1183=113,0,[1]Sheet1!B1186)","v":0}]
[{"$f":"IF([1]Sheet1!A1187=113,0,[1]Sheet1!A1187)","v":0},{"$f":"IF([1]Sheet1!A1187=113,0,[1]Sheet1!F1187)","v":0},{"$f":"[1]Sheet1!G1187","v":0},{"$f":"[1]Sheet1!H1187","v":0},{"$f":"[1]Sheet1!J1187","v":0},"0 0",null,{"$f":"IF(A1184=113,0,[1]Sheet1!B1187)","v":0}]
[{"$f":"IF([1]Sheet1!A1188=113,0,[1]Sheet1!A1188)","v":0},{"$f":"IF([1]Sheet1!A1188=113,0,[1]Sheet1!F1188)","v":0},{"$f":"[1]Sheet1!G1188","v":0},{"$f":"[1]Sheet1!H1188","v":0},{"$f":"[1]Sheet1!J1188","v":0},"0 0",null,{"$f":"IF(A1185=113,0,[1]Sheet1!B1188)","v":0}]
[{"$f":"IF([1]Sheet1!A1189=113,0,[1]Sheet1!A1189)","v":0},{"$f":"IF([1]Sheet1!A1189=113,0,[1]Sheet1!F1189)","v":0},{"$f":"[1]Sheet1!G1189","v":0},{"$f":"[1]Sheet1!H1189","v":0},{"$f":"[1]Sheet1!J1189","v":0},"0 0",null,{"$f":"IF(A1186=113,0,[1]Sheet1!B1189)","v":0}]
[{"$f":"IF([1]Sheet1!A1190=113,0,[1]Sheet1!A1190)","v":0},{"$f":"IF([1]Sheet1!A1190=113,0,[1]Sheet1!F1190)","v":0},{"$f":"[1]Sheet1!G1190","v":0},{"$f":"[1]Sheet1!H1190","v":0},{"$f":"[1]Sheet1!J1190","v":0},"0 0",null,{"$f":"IF(A1187=113,0,[1]Sheet1!B1190)","v":0}]
[{"$f":"IF([1]Sheet1!A1191=113,0,[1]Sheet1!A1191)","v":0},{"$f":"IF([1]Sheet1!A1191=113,0,[1]Sheet1!F1191)","v":0},{"$f":"[1]Sheet1!G1191","v":0},{"$f":"[1]Sheet1!H1191","v":0},{"$f":"[1]Sheet1!J1191","v":0},"0 0",null,{"$f":"IF(A1188=113,0,[1]Sheet1!B1191)","v":0}]
[{"$f":"IF([1]Sheet1!A1192=113,0,[1]Sheet1!A1192)","v":0},{"$f":"IF([1]Sheet1!A1192=113,0,[1]Sheet1!F1192)","v":0},{"$f":"[1]Sheet1!G1192","v":0},{"$f":"[1]Sheet1!H1192","v":0},{"$f":"[1]Sheet1!J1192","v":0},"0 0",null,{"$f":"IF(A1189=113,0,[1]Sheet1!B1192)","v":0}]
[{"$f":"IF([1]Sheet1!A1193=113,0,[1]Sheet1!A1193)","v":0},{"$f":"IF([1]Sheet1!A1193=113,0,[1]Sheet1!F1193)","v":0},{"$f":"[1]Sheet1!G1193","v":0},{"$f":"[1]Sheet1!H1193","v":0},{"$f":"[1]Sheet1!J1193","v":0},"0 0",null,{"$f":"IF(A1190=113,0,[1]Sheet1!B1193)","v":0}]
[{"$f":"IF([1]Sheet1!A1194=113,0,[1]Sheet1!A1194)","v":0},{"$f":"IF([1]Sheet1!A1194=113,0,[1]Sheet1!F1194)","v":0},{"$f":"[1]Sheet1!G1194","v":0},{"$f":"[1]Sheet1!H1194","v":0},{"$f":"[1]Sheet1!J1194","v":0},"0 0",null,{"$f":"IF(A1191=113,0,[1]Sheet1!B1194)","v":0}]
[{"$f":"IF([1]Sheet1!A1195=113,0,[1]Sheet1!A1195)","v":0},{"$f":"IF([1]Sheet1!A1195=113,0,[1]Sheet1!F1195)","v":0},{"$f":"[1]Sheet1!G1195","v":0},{"$f":"[1]Sheet1!H1195","v":0},{"$f":"[1]Sheet1!J1195","v":0},"0 0",null,{"$f":"IF(A1192=113,0,[1]Sheet1!B1195)","v":0}]
[{"$f":"IF([1]Sheet1!A1196=113,0,[1]Sheet1!A1196)","v":0},{"$f":"IF([1]Sheet1!A1196=113,0,[1]Sheet1!F1196)","v":0},{"$f":"[1]Sheet1!G1196","v":0},{"$f":"[1]Sheet1!H1196","v":0},{"$f":"[1]Sheet1!J1196","v":0},"0 0",null,{"$f":"IF(A1193=113,0,[1]Sheet1!B1196)","v":0}]
[{"$f":"IF([1]Sheet1!A1197=113,0,[1]Sheet1!A1197)","v":0},{"$f":"IF([1]Sheet1!A1197=113,0,[1]Sheet1!F1197)","v":0},{"$f":"[1]Sheet1!G1197","v":0},{"$f":"[1]Sheet1!H1197","v":0},{"$f":"[1]Sheet1!J1197","v":0},"0 0",null,{"$f":"IF(A1194=113,0,[1]Sheet1!B1197)","v":0}]
[{"$f":"IF([1]Sheet1!A1198=113,0,[1]Sheet1!A1198)","v":0},{"$f":"IF([1]Sheet1!A1198=113,0,[1]Sheet1!F1198)","v":0},{"$f":"[1]Sheet1!G1198","v":0},{"$f":"[1]Sheet1!H1198","v":0},{"$f":"[1]Sheet1!J1198","v":0},"0 0",null,{"$f":"IF(A1195=113,0,[1]Sheet1!B1198)","v":0}]
[{"$f":"IF([1]Sheet1!A1199=113,0,[1]Sheet1!A1199)","v":0},{"$f":"IF([1]Sheet1!A1199=113,0,[1]Sheet1!F1199)","v":0},{"$f":"[1]Sheet1!G1199","v":0},{"$f":"[1]Sheet1!H1199","v":0},{"$f":"[1]Sheet1!J1199","v":0},"0 0",null,{"$f":"IF(A1196=113,0,[1]Sheet1!B1199)","v":0}]
[{"$f":"IF([1]Sheet1!A1200=113,0,[1]Sheet1!A1200)","v":0},{"$f":"IF([1]Sheet1!A1200=113,0,[1]Sheet1!F1200)","v":0},{"$f":"[1]Sheet1!G1200","v":0},{"$f":"[1]Sheet1!H1200","v":0},{"$f":"[1]Sheet1!J1200","v":0},"0 0",null,{"$f":"IF(A1197=113,0,[1]Sheet1!B1200)","v":0}]
[{"$f":"IF([1]Sheet1!A1201=113,0,[1]Sheet1!A1201)","v":0},{"$f":"IF([1]Sheet1!A1201=113,0,[1]Sheet1!F1201)","v":0},{"$f":"[1]Sheet1!G1201","v":0},{"$f":"[1]Sheet1!H1201","v":0},{"$f":"[1]Sheet1!J1201","v":0},"0 0",null,{"$f":"IF(A1198=113,0,[1]Sheet1!B1201)","v":0}]
[{"$f":"IF([1]Sheet1!A1202=113,0,[1]Sheet1!A1202)","v":0},{"$f":"IF([1]Sheet1!A1202=113,0,[1]Sheet1!F1202)","v":0},{"$f":"[1]Sheet1!G1202","v":0},{"$f":"[1]Sheet1!H1202","v":0},{"$f":"[1]Sheet1!J1202","v":0},"0 0",null,{"$f":"IF(A1199=113,0,[1]Sheet1!B1202)","v":0}]
[{"$f":"IF([1]Sheet1!A1203=113,0,[1]Sheet1!A1203)","v":0},{"$f":"IF([1]Sheet1!A1203=113,0,[1]Sheet1!F1203)","v":0},{"$f":"[1]Sheet1!G1203","v":0},{"$f":"[1]Sheet1!H1203","v":0},{"$f":"[1]Sheet1!J1203","v":0},"0 0",null,{"$f":"IF(A1200=113,0,[1]Sheet1!B1203)","v":0}]
[{"$f":"IF([1]Sheet1!A1204=113,0,[1]Sheet1!A1204)","v":0},{"$f":"IF([1]Sheet1!A1204=113,0,[1]Sheet1!F1204)","v":0},{"$f":"[1]Sheet1!G1204","v":0},{"$f":"[1]Sheet1!H1204","v":0},{"$f":"[1]Sheet1!J1204","v":0},"0 0",null,{"$f":"IF(A1201=113,0,[1]Sheet1!B1204)","v":0}]
[{"$f":"IF([1]Sheet1!A1205=113,0,[1]Sheet1!A1205)","v":0},{"$f":"IF([1]Sheet1!A1205=113,0,[1]Sheet1!F1205)","v":0},{"$f":"[1]Sheet1!G1205","v":0},{"$f":"[1]Sheet1!H1205","v":0},{"$f":"[1]Sheet1!J1205","v":0},"0 0",null,{"$f":"IF(A1202=113,0,[1]Sheet1!B1205)","v":0}]
[{"$f":"IF([1]Sheet1!A1206=113,0,[1]Sheet1!A1206)","v":0},{"$f":"IF([1]Sheet1!A1206=113,0,[1]Sheet1!F1206)","v":0},{"$f":"[1]Sheet1!G1206","v":0},{"$f":"[1]Sheet1!H1206","v":0},{"$f":"[1]Sheet1!J1206","v":0},"0 0",null,{"$f":"IF(A1203=113,0,[1]Sheet1!B1206)","v":0}]
[{"$f":"IF([1]Sheet1!A1207=113,0,[1]Sheet1!A1207)","v":0},{"$f":"IF([1]Sheet1!A1207=113,0,[1]Sheet1!F1207)","v":0},{"$f":"[1]Sheet1!G1207","v":0},{"$f":"[1]Sheet1!H1207","v":0},{"$f":"[1]Sheet1!J1207","v":0},"0 0",null,{"$f":"IF(A1204=113,0,[1]Sheet1!B1207)","v":0}]
[{"$f":"IF([1]Sheet1!A1208=113,0,[1]Sheet1!A1208)","v":0},{"$f":"IF([1]Sheet1!A1208=113,0,[1]Sheet1!F1208)","v":0},{"$f":"[1]Sheet1!G1208","v":0},{"$f":"[1]Sheet1!H1208","v":0},{"$f":"[1]Sheet1!J1208","v":0},"0 0",null,{"$f":"IF(A1205=113,0,[1]Sheet1!B1208)","v":0}]
[{"$f":"IF([1]Sheet1!A1209=113,0,[1]Sheet1!A1209)","v":0},{"$f":"IF([1]Sheet1!A1209=113,0,[1]Sheet1!F1209)","v":0},{"$f":"[1]Sheet1!G1209","v":0},{"$f":"[1]Sheet1!H1209","v":0},{"$f":"[1]Sheet1!J1209","v":0},"0 0",null,{"$f":"IF(A1206=113,0,[1]Sheet1!B1209)","v":0}]
[{"$f":"IF([1]Sheet1!A1210=113,0,[1]Sheet1!A1210)","v":0},{"$f":"IF([1]Sheet1!A1210=113,0,[1]Sheet1!F1210)","v":0},{"$f":"[1]Sheet1!G1210","v":0},{"$f":"[1]Sheet1!H1210","v":0},{"$f":"[1]Sheet1!J1210","v":0},"0 0",null,{"$f":"IF(A1207=113,0,[1]Sheet1!B1210)","v":0}]
[{"$f":"IF([1]Sheet1!A1211=113,0,[1]Sheet1!A1211)","v":0},{"$f":"IF([1]Sheet1!A1211=113,0,[1]Sheet1!F1211)","v":0},{"$f":"[1]Sheet1!G1211","v":0},{"$f":"[1]Sheet1!H1211","v":0},{"$f":"[1]Sheet1!J1211","v":0},"0 0",null,{"$f":"IF(A1208=113,0,[1]Sheet1!B1211)","v":0}]
[{"$f":"IF([1]Sheet1!A1212=113,0,[1]Sheet1!A1212)","v":0},{"$f":"IF([1]Sheet1!A1212=113,0,[1]Sheet1!F1212)","v":0},{"$f":"[1]Sheet1!G1212","v":0},{"$f":"[1]Sheet1!H1212","v":0},{"$f":"[1]Sheet1!J1212","v":0},"0 0",null,{"$f":"IF(A1209=113,0,[1]Sheet1!B1212)","v":0}]
[{"$f":"IF([1]Sheet1!A1213=113,0,[1]Sheet1!A1213)","v":0},{"$f":"IF([1]Sheet1!A1213=113,0,[1]Sheet1!F1213)","v":0},{"$f":"[1]Sheet1!G1213","v":0},{"$f":"[1]Sheet1!H1213","v":0},{"$f":"[1]Sheet1!J1213","v":0},"0 0",null,{"$f":"IF(A1210=113,0,[1]Sheet1!B1213)","v":0}]
[{"$f":"IF([1]Sheet1!A1214=113,0,[1]Sheet1!A1214)","v":0},{"$f":"IF([1]Sheet1!A1214=113,0,[1]Sheet1!F1214)","v":0},{"$f":"[1]Sheet1!G1214","v":0},{"$f":"[1]Sheet1!H1214","v":0},{"$f":"[1]Sheet1!J1214","v":0},"0 0",null,{"$f":"IF(A1211=113,0,[1]Sheet1!B1214)","v":0}]
[{"$f":"IF([1]Sheet1!A1215=113,0,[1]Sheet1!A1215)","v":0},{"$f":"IF([1]Sheet1!A1215=113,0,[1]Sheet1!F1215)","v":0},{"$f":"[1]Sheet1!G1215","v":0},{"$f":"[1]Sheet1!H1215","v":0},{"$f":"[1]Sheet1!J1215","v":0},"0 0",null,{"$f":"IF(A1212=113,0,[1]Sheet1!B1215)","v":0}]
[{"$f":"IF([1]Sheet1!A1216=113,0,[1]Sheet1!A1216)","v":0},{"$f":"IF([1]Sheet1!A1216=113,0,[1]Sheet1!F1216)","v":0},{"$f":"[1]Sheet1!G1216","v":0},{"$f":"[1]Sheet1!H1216","v":0},{"$f":"[1]Sheet1!J1216","v":0},"0 0",null,{"$f":"IF(A1213=113,0,[1]Sheet1!B1216)","v":0}]
[{"$f":"IF([1]Sheet1!A1217=113,0,[1]Sheet1!A1217)","v":0},{"$f":"IF([1]Sheet1!A1217=113,0,[1]Sheet1!F1217)","v":0},{"$f":"[1]Sheet1!G1217","v":0},{"$f":"[1]Sheet1!H1217","v":0},{"$f":"[1]Sheet1!J1217","v":0},"0 0",null,{"$f":"IF(A1214=113,0,[1]Sheet1!B1217)","v":0}]
[{"$f":"IF([1]Sheet1!A1218=113,0,[1]Sheet1!A1218)","v":0},{"$f":"IF([1]Sheet1!A1218=113,0,[1]Sheet1!F1218)","v":0},{"$f":"[1]Sheet1!G1218","v":0},{"$f":"[1]Sheet1!H1218","v":0},{"$f":"[1]Sheet1!J1218","v":0},"0 0",null,{"$f":"IF(A1215=113,0,[1]Sheet1!B1218)","v":0}]
[{"$f":"IF([1]Sheet1!A1219=113,0,[1]Sheet1!A1219)","v":0},{"$f":"IF([1]Sheet1!A1219=113,0,[1]Sheet1!F1219)","v":0},{"$f":"[1]Sheet1!G1219","v":0},{"$f":"[1]Sheet1!H1219","v":0},{"$f":"[1]Sheet1!J1219","v":0},"0 0",null,{"$f":"IF(A1216=113,0,[1]Sheet1!B1219)","v":0}]
[{"$f":"IF([1]Sheet1!A1220=113,0,[1]Sheet1!A1220)","v":0},{"$f":"IF([1]Sheet1!A1220=113,0,[1]Sheet1!F1220)","v":0},{"$f":"[1]Sheet1!G1220","v":0},{"$f":"[1]Sheet1!H1220","v":0},{"$f":"[1]Sheet1!J1220","v":0},"0 0",null,{"$f":"IF(A1217=113,0,[1]Sheet1!B1220)","v":0}]
[{"$f":"IF([1]Sheet1!A1221=113,0,[1]Sheet1!A1221)","v":0},{"$f":"IF([1]Sheet1!A1221=113,0,[1]Sheet1!F1221)","v":0},{"$f":"[1]Sheet1!G1221","v":0},{"$f":"[1]Sheet1!H1221","v":0},{"$f":"[1]Sheet1!J1221","v":0},"0 0",null,{"$f":"IF(A1218=113,0,[1]Sheet1!B1221)","v":0}]
[{"$f":"IF([1]Sheet1!A1222=113,0,[1]Sheet1!A1222)","v":0},{"$f":"IF([1]Sheet1!A1222=113,0,[1]Sheet1!F1222)","v":0},{"$f":"[1]Sheet1!G1222","v":0},{"$f":"[1]Sheet1!H1222","v":0},{"$f":"[1]Sheet1!J1222","v":0},"0 0",null,{"$f":"IF(A1219=113,0,[1]Sheet1!B1222)","v":0}]
[{"$f":"IF([1]Sheet1!A1223=113,0,[1]Sheet1!A1223)","v":0},{"$f":"IF([1]Sheet1!A1223=113,0,[1]Sheet1!F1223)","v":0},{"$f":"[1]Sheet1!G1223","v":0},{"$f":"[1]Sheet1!H1223","v":0},{"$f":"[1]Sheet1!J1223","v":0},"0 0",null,{"$f":"IF(A1220=113,0,[1]Sheet1!B1223)","v":0}]
[{"$f":"IF([1]Sheet1!A1224=113,0,[1]Sheet1!A1224)","v":0},{"$f":"IF([1]Sheet1!A1224=113,0,[1]Sheet1!F1224)","v":0},{"$f":"[1]Sheet1!G1224","v":0},{"$f":"[1]Sheet1!H1224","v":0},{"$f":"[1]Sheet1!J1224","v":0},"0 0",null,{"$f":"IF(A1221=113,0,[1]Sheet1!B1224)","v":0}]
[{"$f":"IF([1]Sheet1!A1225=113,0,[1]Sheet1!A1225)","v":0},{"$f":"IF([1]Sheet1!A1225=113,0,[1]Sheet1!F1225)","v":0},{"$f":"[1]Sheet1!G1225","v":0},{"$f":"[1]Sheet1!H1225","v":0},{"$f":"[1]Sheet1!J1225","v":0},"0 0",null,{"$f":"IF(A1222=113,0,[1]Sheet1!B1225)","v":0}]
[{"$f":"IF([1]Sheet1!A1226=113,0,[1]Sheet1!A1226)","v":0},{"$f":"IF([1]Sheet1!A1226=113,0,[1]Sheet1!F1226)","v":0},{"$f":"[1]Sheet1!G1226","v":0},{"$f":"[1]Sheet1!H1226","v":0},{"$f":"[1]Sheet1!J1226","v":0},"0 0",null,{"$f":"IF(A1223=113,0,[1]Sheet1!B1226)","v":0}]
[{"$f":"IF([1]Sheet1!A1227=113,0,[1]Sheet1!A1227)","v":0},{"$f":"IF([1]Sheet1!A1227=113,0,[1]Sheet1!F1227)","v":0},{"$f":"[1]Sheet1!G1227","v":0},{"$f":"[1]Sheet1!H1227","v":0},{"$f":"[1]Sheet1!J1227","v":0},"0 0",null,{"$f":"IF(A1224=113,0,[1]Sheet1!B1227)","v":0}]
[{"$f":"IF([1]Sheet1!A1228=113,0,[1]Sheet1!A1228)","v":0},{"$f":"IF([1]Sheet1!A1228=113,0,[1]Sheet1!F1228)","v":0},{"$f":"[1]Sheet1!G1228","v":0},{"$f":"[1]Sheet1!H1228","v":0},{"$f":"[1]Sheet1!J1228","v":0},"0 0",null,{"$f":"IF(A1225=113,0,[1]Sheet1!B1228)","v":0}]
[{"$f":"IF([1]Sheet1!A1229=113,0,[1]Sheet1!A1229)","v":0},{"$f":"IF([1]Sheet1!A1229=113,0,[1]Sheet1!F1229)","v":0},{"$f":"[1]Sheet1!G1229","v":0},{"$f":"[1]Sheet1!H1229","v":0},{"$f":"[1]Sheet1!J1229","v":0},"0 0",null,{"$f":"IF(A1226=113,0,[1]Sheet1!B1229)","v":0}]
[{"$f":"IF([1]Sheet1!A1230=113,0,[1]Sheet1!A1230)","v":0},{"$f":"IF([1]Sheet1!A1230=113,0,[1]Sheet1!F1230)","v":0},{"$f":"[1]Sheet1!G1230","v":0},{"$f":"[1]Sheet1!H1230","v":0},{"$f":"[1]Sheet1!J1230","v":0},"0 0",null,{"$f":"IF(A1227=113,0,[1]Sheet1!B1230)","v":0}]
[{"$f":"IF([1]Sheet1!A1231=113,0,[1]Sheet1!A1231)","v":0},{"$f":"IF([1]Sheet1!A1231=113,0,[1]Sheet1!F1231)","v":0},{"$f":"[1]Sheet1!G1231","v":0},{"$f":"[1]Sheet1!H1231","v":0},{"$f":"[1]Sheet1!J1231","v":0},"0 0",null,{"$f":"IF(A1228=113,0,[1]Sheet1!B1231)","v":0}]
[{"$f":"IF([1]Sheet1!A1232=113,0,[1]Sheet1!A1232)","v":0},{"$f":"IF([1]Sheet1!A1232=113,0,[1]Sheet1!F1232)","v":0},{"$f":"[1]Sheet1!G1232","v":0},{"$f":"[1]Sheet1!H1232","v":0},{"$f":"[1]Sheet1!J1232","v":0},"0 0",null,{"$f":"IF(A1229=113,0,[1]Sheet1!B1232)","v":0}]
[{"$f":"IF([1]Sheet1!A1233=113,0,[1]Sheet1!A1233)","v":0},{"$f":"IF([1]Sheet1!A1233=113,0,[1]Sheet1!F1233)","v":0},{"$f":"[1]Sheet1!G1233","v":0},{"$f":"[1]Sheet1!H1233","v":0},{"$f":"[1]Sheet1!J1233","v":0},"0 0",null,{"$f":"IF(A1230=113,0,[1]Sheet1!B1233)","v":0}]
[{"$f":"IF([1]Sheet1!A1234=113,0,[1]Sheet1!A1234)","v":0},{"$f":"IF([1]Sheet1!A1234=113,0,[1]Sheet1!F1234)","v":0},{"$f":"[1]Sheet1!G1234","v":0},{"$f":"[1]Sheet1!H1234","v":0},{"$f":"[1]Sheet1!J1234","v":0},"0 0",null,{"$f":"IF(A1231=113,0,[1]Sheet1!B1234)","v":0}]
[{"$f":"IF([1]Sheet1!A1235=113,0,[1]Sheet1!A1235)","v":0},{"$f":"IF([1]Sheet1!A1235=113,0,[1]Sheet1!F1235)","v":0},{"$f":"[1]Sheet1!G1235","v":0},{"$f":"[1]Sheet1!H1235","v":0},{"$f":"[1]Sheet1!J1235","v":0},"0 0",null,{"$f":"IF(A1232=113,0,[1]Sheet1!B1235)","v":0}]
[{"$f":"IF([1]Sheet1!A1236=113,0,[1]Sheet1!A1236)","v":0},{"$f":"IF([1]Sheet1!A1236=113,0,[1]Sheet1!F1236)","v":0},{"$f":"[1]Sheet1!G1236","v":0},{"$f":"[1]Sheet1!H1236","v":0},{"$f":"[1]Sheet1!J1236","v":0},"0 0",null,{"$f":"IF(A1233=113,0,[1]Sheet1!B1236)","v":0}]
[{"$f":"IF([1]Sheet1!A1237=113,0,[1]Sheet1!A1237)","v":0},{"$f":"IF([1]Sheet1!A1237=113,0,[1]Sheet1!F1237)","v":0},{"$f":"[1]Sheet1!G1237","v":0},{"$f":"[1]Sheet1!H1237","v":0},{"$f":"[1]Sheet1!J1237","v":0},"0 0",null,{"$f":"IF(A1234=113,0,[1]Sheet1!B1237)","v":0}]
[{"$f":"IF([1]Sheet1!A1238=113,0,[1]Sheet1!A1238)","v":0},{"$f":"IF([1]Sheet1!A1238=113,0,[1]Sheet1!F1238)","v":0},{"$f":"[1]Sheet1!G1238","v":0},{"$f":"[1]Sheet1!H1238","v":0},{"$f":"[1]Sheet1!J1238","v":0},"0 0",null,{"$f":"IF(A1235=113,0,[1]Sheet1!B1238)","v":0}]
[{"$f":"IF([1]Sheet1!A1239=113,0,[1]Sheet1!A1239)","v":0},{"$f":"IF([1]Sheet1!A1239=113,0,[1]Sheet1!F1239)","v":0},{"$f":"[1]Sheet1!G1239","v":0},{"$f":"[1]Sheet1!H1239","v":0},{"$f":"[1]Sheet1!J1239","v":0},"0 0",null,{"$f":"IF(A1236=113,0,[1]Sheet1!B1239)","v":0}]
[{"$f":"IF([1]Sheet1!A1240=113,0,[1]Sheet1!A1240)","v":0},{"$f":"IF([1]Sheet1!A1240=113,0,[1]Sheet1!F1240)","v":0},{"$f":"[1]Sheet1!G1240","v":0},{"$f":"[1]Sheet1!H1240","v":0},{"$f":"[1]Sheet1!J1240","v":0},{"$f":"IF(E1237=0,CONCATENATE(D1237,\" \",C1237),CONCATENATE(D1237,\" \",E1237,\" \",C1237))","v":"0 0"},null,{"$f":"IF(A1237=113,0,[1]Sheet1!B1240)","v":0}]
[{"$f":"IF([1]Sheet1!A1241=113,0,[1]Sheet1!A1241)","v":0},{"$f":"IF([1]Sheet1!A1241=113,0,[1]Sheet1!F1241)","v":0},{"$f":"[1]Sheet1!G1241","v":0},{"$f":"[1]Sheet1!H1241","v":0},{"$f":"[1]Sheet1!J1241","v":0},"0 0",null,{"$f":"IF(A1238=113,0,[1]Sheet1!B1241)","v":0}]
[{"$f":"IF([1]Sheet1!A1242=113,0,[1]Sheet1!A1242)","v":0},{"$f":"IF([1]Sheet1!A1242=113,0,[1]Sheet1!F1242)","v":0},{"$f":"[1]Sheet1!G1242","v":0},{"$f":"[1]Sheet1!H1242","v":0},{"$f":"[1]Sheet1!J1242","v":0},"0 0",null,{"$f":"IF(A1239=113,0,[1]Sheet1!B1242)","v":0}]
[{"$f":"IF([1]Sheet1!A1243=113,0,[1]Sheet1!A1243)","v":0},{"$f":"IF([1]Sheet1!A1243=113,0,[1]Sheet1!F1243)","v":0},{"$f":"[1]Sheet1!G1243","v":0},{"$f":"[1]Sheet1!H1243","v":0},{"$f":"[1]Sheet1!J1243","v":0},"0 0",null,{"$f":"IF(A1240=113,0,[1]Sheet1!B1243)","v":0}]
[{"$f":"IF([1]Sheet1!A1244=113,0,[1]Sheet1!A1244)","v":0},{"$f":"IF([1]Sheet1!A1244=113,0,[1]Sheet1!F1244)","v":0},{"$f":"[1]Sheet1!G1244","v":0},{"$f":"[1]Sheet1!H1244","v":0},{"$f":"[1]Sheet1!J1244","v":0},"0 0",null,{"$f":"IF(A1241=113,0,[1]Sheet1!B1244)","v":0}]
[{"$f":"IF([1]Sheet1!A1245=113,0,[1]Sheet1!A1245)","v":0},{"$f":"IF([1]Sheet1!A1245=113,0,[1]Sheet1!F1245)","v":0},{"$f":"[1]Sheet1!G1245","v":0},{"$f":"[1]Sheet1!H1245","v":0},{"$f":"[1]Sheet1!J1245","v":0},"0 0",null,{"$f":"IF(A1242=113,0,[1]Sheet1!B1245)","v":0}]
[{"$f":"IF([1]Sheet1!A1246=113,0,[1]Sheet1!A1246)","v":0},{"$f":"IF([1]Sheet1!A1246=113,0,[1]Sheet1!F1246)","v":0},{"$f":"[1]Sheet1!G1246","v":0},{"$f":"[1]Sheet1!H1246","v":0},{"$f":"[1]Sheet1!J1246","v":0},"0 0",null,{"$f":"IF(A1243=113,0,[1]Sheet1!B1246)","v":0}]
[{"$f":"IF([1]Sheet1!A1247=113,0,[1]Sheet1!A1247)","v":0},{"$f":"IF([1]Sheet1!A1247=113,0,[1]Sheet1!F1247)","v":0},{"$f":"[1]Sheet1!G1247","v":0},{"$f":"[1]Sheet1!H1247","v":0},{"$f":"[1]Sheet1!J1247","v":0},"0 0",null,{"$f":"IF(A1244=113,0,[1]Sheet1!B1247)","v":0}]
[{"$f":"IF([1]Sheet1!A1248=113,0,[1]Sheet1!A1248)","v":0},{"$f":"IF([1]Sheet1!A1248=113,0,[1]Sheet1!F1248)","v":0},{"$f":"[1]Sheet1!G1248","v":0},{"$f":"[1]Sheet1!H1248","v":0},{"$f":"[1]Sheet1!J1248","v":0},"0 0",null,{"$f":"IF(A1245=113,0,[1]Sheet1!B1248)","v":0}]
[{"$f":"IF([1]Sheet1!A1249=113,0,[1]Sheet1!A1249)","v":0},{"$f":"IF([1]Sheet1!A1249=113,0,[1]Sheet1!F1249)","v":0},{"$f":"[1]Sheet1!G1249","v":0},{"$f":"[1]Sheet1!H1249","v":0},{"$f":"[1]Sheet1!J1249","v":0},"0 0",null,{"$f":"IF(A1246=113,0,[1]Sheet1!B1249)","v":0}]
[{"$f":"IF([1]Sheet1!A1250=113,0,[1]Sheet1!A1250)","v":0},{"$f":"IF([1]Sheet1!A1250=113,0,[1]Sheet1!F1250)","v":0},{"$f":"[1]Sheet1!G1250","v":0},{"$f":"[1]Sheet1!H1250","v":0},{"$f":"[1]Sheet1!J1250","v":0},"0 0",null,{"$f":"IF(A1247=113,0,[1]Sheet1!B1250)","v":0}]
[{"$f":"IF([1]Sheet1!A1251=113,0,[1]Sheet1!A1251)","v":0},{"$f":"IF([1]Sheet1!A1251=113,0,[1]Sheet1!F1251)","v":0},{"$f":"[1]Sheet1!G1251","v":0},{"$f":"[1]Sheet1!H1251","v":0},{"$f":"[1]Sheet1!J1251","v":0},"0 0",null,{"$f":"IF(A1248=113,0,[1]Sheet1!B1251)","v":0}]
[{"$f":"IF([1]Sheet1!A1252=113,0,[1]Sheet1!A1252)","v":0},{"$f":"IF([1]Sheet1!A1252=113,0,[1]Sheet1!F1252)","v":0},{"$f":"[1]Sheet1!G1252","v":0},{"$f":"[1]Sheet1!H1252","v":0},{"$f":"[1]Sheet1!J1252","v":0},"0 0",null,{"$f":"IF(A1249=113,0,[1]Sheet1!B1252)","v":0}]
[{"$f":"IF([1]Sheet1!A1253=113,0,[1]Sheet1!A1253)","v":0},{"$f":"IF([1]Sheet1!A1253=113,0,[1]Sheet1!F1253)","v":0},{"$f":"[1]Sheet1!G1253","v":0},{"$f":"[1]Sheet1!H1253","v":0},{"$f":"[1]Sheet1!J1253","v":0},"0 0",null,{"$f":"IF(A1250=113,0,[1]Sheet1!B1253)","v":0}]
[{"$f":"IF([1]Sheet1!A1254=113,0,[1]Sheet1!A1254)","v":0},{"$f":"IF([1]Sheet1!A1254=113,0,[1]Sheet1!F1254)","v":0},{"$f":"[1]Sheet1!G1254","v":0},{"$f":"[1]Sheet1!H1254","v":0},{"$f":"[1]Sheet1!J1254","v":0},"0 0",null,{"$f":"IF(A1251=113,0,[1]Sheet1!B1254)","v":0}]
[{"$f":"IF([1]Sheet1!A1255=113,0,[1]Sheet1!A1255)","v":0},{"$f":"IF([1]Sheet1!A1255=113,0,[1]Sheet1!F1255)","v":0},{"$f":"[1]Sheet1!G1255","v":0},{"$f":"[1]Sheet1!H1255","v":0},{"$f":"[1]Sheet1!J1255","v":0},"0 0",null,{"$f":"IF(A1252=113,0,[1]Sheet1!B1255)","v":0}]
[{"$f":"IF([1]Sheet1!A1256=113,0,[1]Sheet1!A1256)","v":0},{"$f":"IF([1]Sheet1!A1256=113,0,[1]Sheet1!F1256)","v":0},{"$f":"[1]Sheet1!G1256","v":0},{"$f":"[1]Sheet1!H1256","v":0},{"$f":"[1]Sheet1!J1256","v":0},"0 0",null,{"$f":"IF(A1253=113,0,[1]Sheet1!B1256)","v":0}]
[{"$f":"IF([1]Sheet1!A1257=113,0,[1]Sheet1!A1257)","v":0},{"$f":"IF([1]Sheet1!A1257=113,0,[1]Sheet1!F1257)","v":0},{"$f":"[1]Sheet1!G1257","v":0},{"$f":"[1]Sheet1!H1257","v":0},{"$f":"[1]Sheet1!J1257","v":0},"0 0",null,{"$f":"IF(A1254=113,0,[1]Sheet1!B1257)","v":0}]
[{"$f":"IF([1]Sheet1!A1258=113,0,[1]Sheet1!A1258)","v":0},{"$f":"IF([1]Sheet1!A1258=113,0,[1]Sheet1!F1258)","v":0},{"$f":"[1]Sheet1!G1258","v":0},{"$f":"[1]Sheet1!H1258","v":0},{"$f":"[1]Sheet1!J1258","v":0},"0 0",null,{"$f":"IF(A1255=113,0,[1]Sheet1!B1258)","v":0}]
[{"$f":"IF([1]Sheet1!A1259=113,0,[1]Sheet1!A1259)","v":0},{"$f":"IF([1]Sheet1!A1259=113,0,[1]Sheet1!F1259)","v":0},{"$f":"[1]Sheet1!G1259","v":0},{"$f":"[1]Sheet1!H1259","v":0},{"$f":"[1]Sheet1!J1259","v":0},"0 0",null,{"$f":"IF(A1256=113,0,[1]Sheet1!B1259)","v":0}]
[{"$f":"IF([1]Sheet1!A1260=113,0,[1]Sheet1!A1260)","v":0},{"$f":"IF([1]Sheet1!A1260=113,0,[1]Sheet1!F1260)","v":0},{"$f":"[1]Sheet1!G1260","v":0},{"$f":"[1]Sheet1!H1260","v":0},{"$f":"[1]Sheet1!J1260","v":0},"0 0",null,{"$f":"IF(A1257=113,0,[1]Sheet1!B1260)","v":0}]
[{"$f":"IF([1]Sheet1!A1261=113,0,[1]Sheet1!A1261)","v":0},{"$f":"IF([1]Sheet1!A1261=113,0,[1]Sheet1!F1261)","v":0},{"$f":"[1]Sheet1!G1261","v":0},{"$f":"[1]Sheet1!H1261","v":0},{"$f":"[1]Sheet1!J1261","v":0},"0 0",null,{"$f":"IF(A1258=113,0,[1]Sheet1!B1261)","v":0}]
[{"$f":"IF([1]Sheet1!A1262=113,0,[1]Sheet1!A1262)","v":0},{"$f":"IF([1]Sheet1!A1262=113,0,[1]Sheet1!F1262)","v":0},{"$f":"[1]Sheet1!G1262","v":0},{"$f":"[1]Sheet1!H1262","v":0},{"$f":"[1]Sheet1!J1262","v":0},"0 0",null,{"$f":"IF(A1259=113,0,[1]Sheet1!B1262)","v":0}]
[{"$f":"IF([1]Sheet1!A1263=113,0,[1]Sheet1!A1263)","v":0},{"$f":"IF([1]Sheet1!A1263=113,0,[1]Sheet1!F1263)","v":0},{"$f":"[1]Sheet1!G1263","v":0},{"$f":"[1]Sheet1!H1263","v":0},{"$f":"[1]Sheet1!J1263","v":0},"0 0",null,{"$f":"IF(A1260=113,0,[1]Sheet1!B1263)","v":0}]
[{"$f":"IF([1]Sheet1!A1264=113,0,[1]Sheet1!A1264)","v":0},{"$f":"IF([1]Sheet1!A1264=113,0,[1]Sheet1!F1264)","v":0},{"$f":"[1]Sheet1!G1264","v":0},{"$f":"[1]Sheet1!H1264","v":0},{"$f":"[1]Sheet1!J1264","v":0},"0 0",null,{"$f":"IF(A1261=113,0,[1]Sheet1!B1264)","v":0}]
[{"$f":"IF([1]Sheet1!A1265=113,0,[1]Sheet1!A1265)","v":0},{"$f":"IF([1]Sheet1!A1265=113,0,[1]Sheet1!F1265)","v":0},{"$f":"[1]Sheet1!G1265","v":0},{"$f":"[1]Sheet1!H1265","v":0},{"$f":"[1]Sheet1!J1265","v":0},"0 0",null,{"$f":"IF(A1262=113,0,[1]Sheet1!B1265)","v":0}]
[{"$f":"IF([1]Sheet1!A1266=113,0,[1]Sheet1!A1266)","v":0},{"$f":"IF([1]Sheet1!A1266=113,0,[1]Sheet1!F1266)","v":0},{"$f":"[1]Sheet1!G1266","v":0},{"$f":"[1]Sheet1!H1266","v":0},{"$f":"[1]Sheet1!J1266","v":0},"0 0",null,{"$f":"IF(A1263=113,0,[1]Sheet1!B1266)","v":0}]
[{"$f":"IF([1]Sheet1!A1267=113,0,[1]Sheet1!A1267)","v":0},{"$f":"IF([1]Sheet1!A1267=113,0,[1]Sheet1!F1267)","v":0},{"$f":"[1]Sheet1!G1267","v":0},{"$f":"[1]Sheet1!H1267","v":0},{"$f":"[1]Sheet1!J1267","v":0},"0 0",null,{"$f":"IF(A1264=113,0,[1]Sheet1!B1267)","v":0}]
[{"$f":"IF([1]Sheet1!A1268=113,0,[1]Sheet1!A1268)","v":0},{"$f":"IF([1]Sheet1!A1268=113,0,[1]Sheet1!F1268)","v":0},{"$f":"[1]Sheet1!G1268","v":0},{"$f":"[1]Sheet1!H1268","v":0},{"$f":"[1]Sheet1!J1268","v":0},"0 0",null,{"$f":"IF(A1265=113,0,[1]Sheet1!B1268)","v":0}]
[{"$f":"IF([1]Sheet1!A1269=113,0,[1]Sheet1!A1269)","v":0},{"$f":"IF([1]Sheet1!A1269=113,0,[1]Sheet1!F1269)","v":0},{"$f":"[1]Sheet1!G1269","v":0},{"$f":"[1]Sheet1!H1269","v":0},{"$f":"[1]Sheet1!J1269","v":0},"0 0",null,{"$f":"IF(A1266=113,0,[1]Sheet1!B1269)","v":0}]
[{"$f":"IF([1]Sheet1!A1270=113,0,[1]Sheet1!A1270)","v":0},{"$f":"IF([1]Sheet1!A1270=113,0,[1]Sheet1!F1270)","v":0},{"$f":"[1]Sheet1!G1270","v":0},{"$f":"[1]Sheet1!H1270","v":0},{"$f":"[1]Sheet1!J1270","v":0},"0 0",null,{"$f":"IF(A1267=113,0,[1]Sheet1!B1270)","v":0}]
[{"$f":"IF([1]Sheet1!A1271=113,0,[1]Sheet1!A1271)","v":0},{"$f":"IF([1]Sheet1!A1271=113,0,[1]Sheet1!F1271)","v":0},{"$f":"[1]Sheet1!G1271","v":0},{"$f":"[1]Sheet1!H1271","v":0},{"$f":"[1]Sheet1!J1271","v":0},"0 0",null,{"$f":"IF(A1268=113,0,[1]Sheet1!B1271)","v":0}]
[{"$f":"IF([1]Sheet1!A1272=113,0,[1]Sheet1!A1272)","v":0},{"$f":"IF([1]Sheet1!A1272=113,0,[1]Sheet1!F1272)","v":0},{"$f":"[1]Sheet1!G1272","v":0},{"$f":"[1]Sheet1!H1272","v":0},{"$f":"[1]Sheet1!J1272","v":0},"0 0",null,{"$f":"IF(A1269=113,0,[1]Sheet1!B1272)","v":0}]
[{"$f":"IF([1]Sheet1!A1273=113,0,[1]Sheet1!A1273)","v":0},{"$f":"IF([1]Sheet1!A1273=113,0,[1]Sheet1!F1273)","v":0},{"$f":"[1]Sheet1!G1273","v":0},{"$f":"[1]Sheet1!H1273","v":0},{"$f":"[1]Sheet1!J1273","v":0},"0 0",null,{"$f":"IF(A1270=113,0,[1]Sheet1!B1273)","v":0}]
[{"$f":"IF([1]Sheet1!A1274=113,0,[1]Sheet1!A1274)","v":0},{"$f":"IF([1]Sheet1!A1274=113,0,[1]Sheet1!F1274)","v":0},{"$f":"[1]Sheet1!G1274","v":0},{"$f":"[1]Sheet1!H1274","v":0},{"$f":"[1]Sheet1!J1274","v":0},"0 0",null,{"$f":"IF(A1271=113,0,[1]Sheet1!B1274)","v":0}]
[{"$f":"IF([1]Sheet1!A1275=113,0,[1]Sheet1!A1275)","v":0},{"$f":"IF([1]Sheet1!A1275=113,0,[1]Sheet1!F1275)","v":0},{"$f":"[1]Sheet1!G1275","v":0},{"$f":"[1]Sheet1!H1275","v":0},{"$f":"[1]Sheet1!J1275","v":0},"0 0",null,{"$f":"IF(A1272=113,0,[1]Sheet1!B1275)","v":0}]
[{"$f":"IF([1]Sheet1!A1276=113,0,[1]Sheet1!A1276)","v":0},{"$f":"IF([1]Sheet1!A1276=113,0,[1]Sheet1!F1276)","v":0},{"$f":"[1]Sheet1!G1276","v":0},{"$f":"[1]Sheet1!H1276","v":0},{"$f":"[1]Sheet1!J1276","v":0},"0 0",null,{"$f":"IF(A1273=113,0,[1]Sheet1!B1276)","v":0}]
[{"$f":"IF([1]Sheet1!A1277=113,0,[1]Sheet1!A1277)","v":0},{"$f":"IF([1]Sheet1!A1277=113,0,[1]Sheet1!F1277)","v":0},{"$f":"[1]Sheet1!G1277","v":0},{"$f":"[1]Sheet1!H1277","v":0},{"$f":"[1]Sheet1!J1277","v":0},"0 0",null,{"$f":"IF(A1274=113,0,[1]Sheet1!B1277)","v":0}]
[{"$f":"IF([1]Sheet1!A1278=113,0,[1]Sheet1!A1278)","v":0},{"$f":"IF([1]Sheet1!A1278=113,0,[1]Sheet1!F1278)","v":0},{"$f":"[1]Sheet1!G1278","v":0},{"$f":"[1]Sheet1!H1278","v":0},{"$f":"[1]Sheet1!J1278","v":0},"0 0",null,{"$f":"IF(A1275=113,0,[1]Sheet1!B1278)","v":0}]
[{"$f":"IF([1]Sheet1!A1279=113,0,[1]Sheet1!A1279)","v":0},{"$f":"IF([1]Sheet1!A1279=113,0,[1]Sheet1!F1279)","v":0},{"$f":"[1]Sheet1!G1279","v":0},{"$f":"[1]Sheet1!H1279","v":0},{"$f":"[1]Sheet1!J1279","v":0},"0 0",null,{"$f":"IF(A1276=113,0,[1]Sheet1!B1279)","v":0}]
[{"$f":"IF([1]Sheet1!A1280=113,0,[1]Sheet1!A1280)","v":0},{"$f":"IF([1]Sheet1!A1280=113,0,[1]Sheet1!F1280)","v":0},{"$f":"[1]Sheet1!G1280","v":0},{"$f":"[1]Sheet1!H1280","v":0},{"$f":"[1]Sheet1!J1280","v":0},"0 0",null,{"$f":"IF(A1277=113,0,[1]Sheet1!B1280)","v":0}]
[{"$f":"IF([1]Sheet1!A1281=113,0,[1]Sheet1!A1281)","v":0},{"$f":"IF([1]Sheet1!A1281=113,0,[1]Sheet1!F1281)","v":0},{"$f":"[1]Sheet1!G1281","v":0},{"$f":"[1]Sheet1!H1281","v":0},{"$f":"[1]Sheet1!J1281","v":0},"0 0",null,{"$f":"IF(A1278=113,0,[1]Sheet1!B1281)","v":0}]
[{"$f":"IF([1]Sheet1!A1282=113,0,[1]Sheet1!A1282)","v":0},{"$f":"IF([1]Sheet1!A1282=113,0,[1]Sheet1!F1282)","v":0},{"$f":"[1]Sheet1!G1282","v":0},{"$f":"[1]Sheet1!H1282","v":0},{"$f":"[1]Sheet1!J1282","v":0},"0 0",null,{"$f":"IF(A1279=113,0,[1]Sheet1!B1282)","v":0}]
[{"$f":"IF([1]Sheet1!A1283=113,0,[1]Sheet1!A1283)","v":0},{"$f":"IF([1]Sheet1!A1283=113,0,[1]Sheet1!F1283)","v":0},{"$f":"[1]Sheet1!G1283","v":0},{"$f":"[1]Sheet1!H1283","v":0},{"$f":"[1]Sheet1!J1283","v":0},"0 0",null,{"$f":"IF(A1280=113,0,[1]Sheet1!B1283)","v":0}]
[{"$f":"IF([1]Sheet1!A1284=113,0,[1]Sheet1!A1284)","v":0},{"$f":"IF([1]Sheet1!A1284=113,0,[1]Sheet1!F1284)","v":0},{"$f":"[1]Sheet1!G1284","v":0},{"$f":"[1]Sheet1!H1284","v":0},{"$f":"[1]Sheet1!J1284","v":0},"0 0",null,{"$f":"IF(A1281=113,0,[1]Sheet1!B1284)","v":0}]
[{"$f":"IF([1]Sheet1!A1285=113,0,[1]Sheet1!A1285)","v":0},{"$f":"IF([1]Sheet1!A1285=113,0,[1]Sheet1!F1285)","v":0},{"$f":"[1]Sheet1!G1285","v":0},{"$f":"[1]Sheet1!H1285","v":0},{"$f":"[1]Sheet1!J1285","v":0},"0 0",null,{"$f":"IF(A1282=113,0,[1]Sheet1!B1285)","v":0}]
[{"$f":"IF([1]Sheet1!A1286=113,0,[1]Sheet1!A1286)","v":0},{"$f":"IF([1]Sheet1!A1286=113,0,[1]Sheet1!F1286)","v":0},{"$f":"[1]Sheet1!G1286","v":0},{"$f":"[1]Sheet1!H1286","v":0},{"$f":"[1]Sheet1!J1286","v":0},"0 0",null,{"$f":"IF(A1283=113,0,[1]Sheet1!B1286)","v":0}]
[{"$f":"IF([1]Sheet1!A1287=113,0,[1]Sheet1!A1287)","v":0},{"$f":"IF([1]Sheet1!A1287=113,0,[1]Sheet1!F1287)","v":0},{"$f":"[1]Sheet1!G1287","v":0},{"$f":"[1]Sheet1!H1287","v":0},{"$f":"[1]Sheet1!J1287","v":0},"0 0",null,{"$f":"IF(A1284=113,0,[1]Sheet1!B1287)","v":0}]
[{"$f":"IF([1]Sheet1!A1288=113,0,[1]Sheet1!A1288)","v":0},{"$f":"IF([1]Sheet1!A1288=113,0,[1]Sheet1!F1288)","v":0},{"$f":"[1]Sheet1!G1288","v":0},{"$f":"[1]Sheet1!H1288","v":0},{"$f":"[1]Sheet1!J1288","v":0},"0 0",null,{"$f":"IF(A1285=113,0,[1]Sheet1!B1288)","v":0}]
[{"$f":"IF([1]Sheet1!A1289=113,0,[1]Sheet1!A1289)","v":0},{"$f":"IF([1]Sheet1!A1289=113,0,[1]Sheet1!F1289)","v":0},{"$f":"[1]Sheet1!G1289","v":0},{"$f":"[1]Sheet1!H1289","v":0},{"$f":"[1]Sheet1!J1289","v":0},"0 0",null,{"$f":"IF(A1286=113,0,[1]Sheet1!B1289)","v":0}]
[{"$f":"IF([1]Sheet1!A1290=113,0,[1]Sheet1!A1290)","v":0},{"$f":"IF([1]Sheet1!A1290=113,0,[1]Sheet1!F1290)","v":0},{"$f":"[1]Sheet1!G1290","v":0},{"$f":"[1]Sheet1!H1290","v":0},{"$f":"[1]Sheet1!J1290","v":0},"0 0",null,{"$f":"IF(A1287=113,0,[1]Sheet1!B1290)","v":0}]
[{"$f":"IF([1]Sheet1!A1291=113,0,[1]Sheet1!A1291)","v":0},{"$f":"IF([1]Sheet1!A1291=113,0,[1]Sheet1!F1291)","v":0},{"$f":"[1]Sheet1!G1291","v":0},{"$f":"[1]Sheet1!H1291","v":0},{"$f":"[1]Sheet1!J1291","v":0},"0 0",null,{"$f":"IF(A1288=113,0,[1]Sheet1!B1291)","v":0}]
[{"$f":"IF([1]Sheet1!A1292=113,0,[1]Sheet1!A1292)","v":0},{"$f":"IF([1]Sheet1!A1292=113,0,[1]Sheet1!F1292)","v":0},{"$f":"[1]Sheet1!G1292","v":0},{"$f":"[1]Sheet1!H1292","v":0},{"$f":"[1]Sheet1!J1292","v":0},"0 0",null,{"$f":"IF(A1289=113,0,[1]Sheet1!B1292)","v":0}]
[{"$f":"IF([1]Sheet1!A1293=113,0,[1]Sheet1!A1293)","v":0},{"$f":"IF([1]Sheet1!A1293=113,0,[1]Sheet1!F1293)","v":0},{"$f":"[1]Sheet1!G1293","v":0},{"$f":"[1]Sheet1!H1293","v":0},{"$f":"[1]Sheet1!J1293","v":0},"0 0",null,{"$f":"IF(A1290=113,0,[1]Sheet1!B1293)","v":0}]
[{"$f":"IF([1]Sheet1!A1294=113,0,[1]Sheet1!A1294)","v":0},{"$f":"IF([1]Sheet1!A1294=113,0,[1]Sheet1!F1294)","v":0},{"$f":"[1]Sheet1!G1294","v":0},{"$f":"[1]Sheet1!H1294","v":0},{"$f":"[1]Sheet1!J1294","v":0},"0 0",null,{"$f":"IF(A1291=113,0,[1]Sheet1!B1294)","v":0}]
[{"$f":"IF([1]Sheet1!A1295=113,0,[1]Sheet1!A1295)","v":0},{"$f":"IF([1]Sheet1!A1295=113,0,[1]Sheet1!F1295)","v":0},{"$f":"[1]Sheet1!G1295","v":0},{"$f":"[1]Sheet1!H1295","v":0},{"$f":"[1]Sheet1!J1295","v":0},"0 0",null,{"$f":"IF(A1292=113,0,[1]Sheet1!B1295)","v":0}]
[{"$f":"IF([1]Sheet1!A1296=113,0,[1]Sheet1!A1296)","v":0},{"$f":"IF([1]Sheet1!A1296=113,0,[1]Sheet1!F1296)","v":0},{"$f":"[1]Sheet1!G1296","v":0},{"$f":"[1]Sheet1!H1296","v":0},{"$f":"[1]Sheet1!J1296","v":0},"0 0",null,{"$f":"IF(A1293=113,0,[1]Sheet1!B1296)","v":0}]
[{"$f":"IF([1]Sheet1!A1297=113,0,[1]Sheet1!A1297)","v":0},{"$f":"IF([1]Sheet1!A1297=113,0,[1]Sheet1!F1297)","v":0},{"$f":"[1]Sheet1!G1297","v":0},{"$f":"[1]Sheet1!H1297","v":0},{"$f":"[1]Sheet1!J1297","v":0},"0 0",null,{"$f":"IF(A1294=113,0,[1]Sheet1!B1297)","v":0}]
[{"$f":"IF([1]Sheet1!A1298=113,0,[1]Sheet1!A1298)","v":0},{"$f":"IF([1]Sheet1!A1298=113,0,[1]Sheet1!F1298)","v":0},{"$f":"[1]Sheet1!G1298","v":0},{"$f":"[1]Sheet1!H1298","v":0},{"$f":"[1]Sheet1!J1298","v":0},"0 0",null,{"$f":"IF(A1295=113,0,[1]Sheet1!B1298)","v":0}]
[{"$f":"IF([1]Sheet1!A1299=113,0,[1]Sheet1!A1299)","v":0},{"$f":"IF([1]Sheet1!A1299=113,0,[1]Sheet1!F1299)","v":0},{"$f":"[1]Sheet1!G1299","v":0},{"$f":"[1]Sheet1!H1299","v":0},{"$f":"[1]Sheet1!J1299","v":0},"0 0",null,{"$f":"IF(A1296=113,0,[1]Sheet1!B1299)","v":0}]
[{"$f":"IF([1]Sheet1!A1300=113,0,[1]Sheet1!A1300)","v":0},{"$f":"IF([1]Sheet1!A1300=113,0,[1]Sheet1!F1300)","v":0},{"$f":"[1]Sheet1!G1300","v":0},{"$f":"[1]Sheet1!H1300","v":0},{"$f":"[1]Sheet1!J1300","v":0},"0 0",null,{"$f":"IF(A1297=113,0,[1]Sheet1!B1300)","v":0}]
[{"$f":"IF([1]Sheet1!A1301=113,0,[1]Sheet1!A1301)","v":0},{"$f":"IF([1]Sheet1!A1301=113,0,[1]Sheet1!F1301)","v":0},{"$f":"[1]Sheet1!G1301","v":0},{"$f":"[1]Sheet1!H1301","v":0},{"$f":"[1]Sheet1!J1301","v":0},"0 0",null,{"$f":"IF(A1298=113,0,[1]Sheet1!B1301)","v":0}]
[{"$f":"IF([1]Sheet1!A1302=113,0,[1]Sheet1!A1302)","v":0},{"$f":"IF([1]Sheet1!A1302=113,0,[1]Sheet1!F1302)","v":0},{"$f":"[1]Sheet1!G1302","v":0},{"$f":"[1]Sheet1!H1302","v":0},{"$f":"[1]Sheet1!J1302","v":0},"0 0",null,{"$f":"IF(A1299=113,0,[1]Sheet1!B1302)","v":0}]
[{"$f":"IF([1]Sheet1!A1303=113,0,[1]Sheet1!A1303)","v":0},{"$f":"IF([1]Sheet1!A1303=113,0,[1]Sheet1!F1303)","v":0},{"$f":"[1]Sheet1!G1303","v":0},{"$f":"[1]Sheet1!H1303","v":0},{"$f":"[1]Sheet1!J1303","v":0},"0 0",null,{"$f":"IF(A1300=113,0,[1]Sheet1!B1303)","v":0}]
[{"$f":"IF([1]Sheet1!A1304=113,0,[1]Sheet1!A1304)","v":0},{"$f":"IF([1]Sheet1!A1304=113,0,[1]Sheet1!F1304)","v":0},{"$f":"[1]Sheet1!G1304","v":0},{"$f":"[1]Sheet1!H1304","v":0},{"$f":"[1]Sheet1!J1304","v":0},{"$f":"IF(E1301=0,CONCATENATE(D1301,\" \",C1301),CONCATENATE(D1301,\" \",E1301,\" \",C1301))","v":"0 0"},null,{"$f":"IF(A1301=113,0,[1]Sheet1!B1304)","v":0}]
[{"$f":"IF([1]Sheet1!A1305=113,0,[1]Sheet1!A1305)","v":0},{"$f":"IF([1]Sheet1!A1305=113,0,[1]Sheet1!F1305)","v":0},{"$f":"[1]Sheet1!G1305","v":0},{"$f":"[1]Sheet1!H1305","v":0},{"$f":"[1]Sheet1!J1305","v":0},"0 0",null,{"$f":"IF(A1302=113,0,[1]Sheet1!B1305)","v":0}]
[{"$f":"IF([1]Sheet1!A1306=113,0,[1]Sheet1!A1306)","v":0},{"$f":"IF([1]Sheet1!A1306=113,0,[1]Sheet1!F1306)","v":0},{"$f":"[1]Sheet1!G1306","v":0},{"$f":"[1]Sheet1!H1306","v":0},{"$f":"[1]Sheet1!J1306","v":0},"0 0",null,{"$f":"IF(A1303=113,0,[1]Sheet1!B1306)","v":0}]
[{"$f":"IF([1]Sheet1!A1307=113,0,[1]Sheet1!A1307)","v":0},{"$f":"IF([1]Sheet1!A1307=113,0,[1]Sheet1!F1307)","v":0},{"$f":"[1]Sheet1!G1307","v":0},{"$f":"[1]Sheet1!H1307","v":0},{"$f":"[1]Sheet1!J1307","v":0},"0 0",null,{"$f":"IF(A1304=113,0,[1]Sheet1!B1307)","v":0}]
[{"$f":"IF([1]Sheet1!A1308=113,0,[1]Sheet1!A1308)","v":0},{"$f":"IF([1]Sheet1!A1308=113,0,[1]Sheet1!F1308)","v":0},{"$f":"[1]Sheet1!G1308","v":0},{"$f":"[1]Sheet1!H1308","v":0},{"$f":"[1]Sheet1!J1308","v":0},"0 0",null,{"$f":"IF(A1305=113,0,[1]Sheet1!B1308)","v":0}]
[{"$f":"IF([1]Sheet1!A1309=113,0,[1]Sheet1!A1309)","v":0},{"$f":"IF([1]Sheet1!A1309=113,0,[1]Sheet1!F1309)","v":0},{"$f":"[1]Sheet1!G1309","v":0},{"$f":"[1]Sheet1!H1309","v":0},{"$f":"[1]Sheet1!J1309","v":0},"0 0",null,{"$f":"IF(A1306=113,0,[1]Sheet1!B1309)","v":0}]
[{"$f":"IF([1]Sheet1!A1310=113,0,[1]Sheet1!A1310)","v":0},{"$f":"IF([1]Sheet1!A1310=113,0,[1]Sheet1!F1310)","v":0},{"$f":"[1]Sheet1!G1310","v":0},{"$f":"[1]Sheet1!H1310","v":0},{"$f":"[1]Sheet1!J1310","v":0},"0 0",null,{"$f":"IF(A1307=113,0,[1]Sheet1!B1310)","v":0}]
[{"$f":"IF([1]Sheet1!A1311=113,0,[1]Sheet1!A1311)","v":0},{"$f":"IF([1]Sheet1!A1311=113,0,[1]Sheet1!F1311)","v":0},{"$f":"[1]Sheet1!G1311","v":0},{"$f":"[1]Sheet1!H1311","v":0},{"$f":"[1]Sheet1!J1311","v":0},"0 0",null,{"$f":"IF(A1308=113,0,[1]Sheet1!B1311)","v":0}]
[{"$f":"IF([1]Sheet1!A1312=113,0,[1]Sheet1!A1312)","v":0},{"$f":"IF([1]Sheet1!A1312=113,0,[1]Sheet1!F1312)","v":0},{"$f":"[1]Sheet1!G1312","v":0},{"$f":"[1]Sheet1!H1312","v":0},{"$f":"[1]Sheet1!J1312","v":0},"0 0",null,{"$f":"IF(A1309=113,0,[1]Sheet1!B1312)","v":0}]
[{"$f":"IF([1]Sheet1!A1313=113,0,[1]Sheet1!A1313)","v":0},{"$f":"IF([1]Sheet1!A1313=113,0,[1]Sheet1!F1313)","v":0},{"$f":"[1]Sheet1!G1313","v":0},{"$f":"[1]Sheet1!H1313","v":0},{"$f":"[1]Sheet1!J1313","v":0},"0 0",null,{"$f":"IF(A1310=113,0,[1]Sheet1!B1313)","v":0}]
[{"$f":"IF([1]Sheet1!A1314=113,0,[1]Sheet1!A1314)","v":0},{"$f":"IF([1]Sheet1!A1314=113,0,[1]Sheet1!F1314)","v":0},{"$f":"[1]Sheet1!G1314","v":0},{"$f":"[1]Sheet1!H1314","v":0},{"$f":"[1]Sheet1!J1314","v":0},"0 0",null,{"$f":"IF(A1311=113,0,[1]Sheet1!B1314)","v":0}]
[{"$f":"IF([1]Sheet1!A1315=113,0,[1]Sheet1!A1315)","v":0},{"$f":"IF([1]Sheet1!A1315=113,0,[1]Sheet1!F1315)","v":0},{"$f":"[1]Sheet1!G1315","v":0},{"$f":"[1]Sheet1!H1315","v":0},{"$f":"[1]Sheet1!J1315","v":0},"0 0",null,{"$f":"IF(A1312=113,0,[1]Sheet1!B1315)","v":0}]
[{"$f":"IF([1]Sheet1!A1316=113,0,[1]Sheet1!A1316)","v":0},{"$f":"IF([1]Sheet1!A1316=113,0,[1]Sheet1!F1316)","v":0},{"$f":"[1]Sheet1!G1316","v":0},{"$f":"[1]Sheet1!H1316","v":0},{"$f":"[1]Sheet1!J1316","v":0},"0 0",null,{"$f":"IF(A1313=113,0,[1]Sheet1!B1316)","v":0}]
[{"$f":"IF([1]Sheet1!A1317=113,0,[1]Sheet1!A1317)","v":0},{"$f":"IF([1]Sheet1!A1317=113,0,[1]Sheet1!F1317)","v":0},{"$f":"[1]Sheet1!G1317","v":0},{"$f":"[1]Sheet1!H1317","v":0},{"$f":"[1]Sheet1!J1317","v":0},"0 0",null,{"$f":"IF(A1314=113,0,[1]Sheet1!B1317)","v":0}]
[{"$f":"IF([1]Sheet1!A1318=113,0,[1]Sheet1!A1318)","v":0},{"$f":"IF([1]Sheet1!A1318=113,0,[1]Sheet1!F1318)","v":0},{"$f":"[1]Sheet1!G1318","v":0},{"$f":"[1]Sheet1!H1318","v":0},{"$f":"[1]Sheet1!J1318","v":0},"0 0",null,{"$f":"IF(A1315=113,0,[1]Sheet1!B1318)","v":0}]
[{"$f":"IF([1]Sheet1!A1319=113,0,[1]Sheet1!A1319)","v":0},{"$f":"IF([1]Sheet1!A1319=113,0,[1]Sheet1!F1319)","v":0},{"$f":"[1]Sheet1!G1319","v":0},{"$f":"[1]Sheet1!H1319","v":0},{"$f":"[1]Sheet1!J1319","v":0},"0 0",null,{"$f":"IF(A1316=113,0,[1]Sheet1!B1319)","v":0}]
[{"$f":"IF([1]Sheet1!A1320=113,0,[1]Sheet1!A1320)","v":0},{"$f":"IF([1]Sheet1!A1320=113,0,[1]Sheet1!F1320)","v":0},{"$f":"[1]Sheet1!G1320","v":0},{"$f":"[1]Sheet1!H1320","v":0},{"$f":"[1]Sheet1!J1320","v":0},"0 0",null,{"$f":"IF(A1317=113,0,[1]Sheet1!B1320)","v":0}]
[{"$f":"IF([1]Sheet1!A1321=113,0,[1]Sheet1!A1321)","v":0},{"$f":"IF([1]Sheet1!A1321=113,0,[1]Sheet1!F1321)","v":0},{"$f":"[1]Sheet1!G1321","v":0},{"$f":"[1]Sheet1!H1321","v":0},{"$f":"[1]Sheet1!J1321","v":0},"0 0",null,{"$f":"IF(A1318=113,0,[1]Sheet1!B1321)","v":0}]
[{"$f":"IF([1]Sheet1!A1322=113,0,[1]Sheet1!A1322)","v":0},{"$f":"IF([1]Sheet1!A1322=113,0,[1]Sheet1!F1322)","v":0},{"$f":"[1]Sheet1!G1322","v":0},{"$f":"[1]Sheet1!H1322","v":0},{"$f":"[1]Sheet1!J1322","v":0},"0 0",null,{"$f":"IF(A1319=113,0,[1]Sheet1!B1322)","v":0}]
[{"$f":"IF([1]Sheet1!A1323=113,0,[1]Sheet1!A1323)","v":0},{"$f":"IF([1]Sheet1!A1323=113,0,[1]Sheet1!F1323)","v":0},{"$f":"[1]Sheet1!G1323","v":0},{"$f":"[1]Sheet1!H1323","v":0},{"$f":"[1]Sheet1!J1323","v":0},"0 0",null,{"$f":"IF(A1320=113,0,[1]Sheet1!B1323)","v":0}]
[{"$f":"IF([1]Sheet1!A1324=113,0,[1]Sheet1!A1324)","v":0},{"$f":"IF([1]Sheet1!A1324=113,0,[1]Sheet1!F1324)","v":0},{"$f":"[1]Sheet1!G1324","v":0},{"$f":"[1]Sheet1!H1324","v":0},{"$f":"[1]Sheet1!J1324","v":0},"0 0",null,{"$f":"IF(A1321=113,0,[1]Sheet1!B1324)","v":0}]
[{"$f":"IF([1]Sheet1!A1325=113,0,[1]Sheet1!A1325)","v":0},{"$f":"IF([1]Sheet1!A1325=113,0,[1]Sheet1!F1325)","v":0},{"$f":"[1]Sheet1!G1325","v":0},{"$f":"[1]Sheet1!H1325","v":0},{"$f":"[1]Sheet1!J1325","v":0},"0 0",null,{"$f":"IF(A1322=113,0,[1]Sheet1!B1325)","v":0}]
[{"$f":"IF([1]Sheet1!A1326=113,0,[1]Sheet1!A1326)","v":0},{"$f":"IF([1]Sheet1!A1326=113,0,[1]Sheet1!F1326)","v":0},{"$f":"[1]Sheet1!G1326","v":0},{"$f":"[1]Sheet1!H1326","v":0},{"$f":"[1]Sheet1!J1326","v":0},"0 0",null,{"$f":"IF(A1323=113,0,[1]Sheet1!B1326)","v":0}]
[{"$f":"IF([1]Sheet1!A1327=113,0,[1]Sheet1!A1327)","v":0},{"$f":"IF([1]Sheet1!A1327=113,0,[1]Sheet1!F1327)","v":0},{"$f":"[1]Sheet1!G1327","v":0},{"$f":"[1]Sheet1!H1327","v":0},{"$f":"[1]Sheet1!J1327","v":0},"0 0",null,{"$f":"IF(A1324=113,0,[1]Sheet1!B1327)","v":0}]
[{"$f":"IF([1]Sheet1!A1328=113,0,[1]Sheet1!A1328)","v":0},{"$f":"IF([1]Sheet1!A1328=113,0,[1]Sheet1!F1328)","v":0},{"$f":"[1]Sheet1!G1328","v":0},{"$f":"[1]Sheet1!H1328","v":0},{"$f":"[1]Sheet1!J1328","v":0},"0 0",null,{"$f":"IF(A1325=113,0,[1]Sheet1!B1328)","v":0}]
[{"$f":"IF([1]Sheet1!A1329=113,0,[1]Sheet1!A1329)","v":0},{"$f":"IF([1]Sheet1!A1329=113,0,[1]Sheet1!F1329)","v":0},{"$f":"[1]Sheet1!G1329","v":0},{"$f":"[1]Sheet1!H1329","v":0},{"$f":"[1]Sheet1!J1329","v":0},"0 0",null,{"$f":"IF(A1326=113,0,[1]Sheet1!B1329)","v":0}]
[{"$f":"IF([1]Sheet1!A1330=113,0,[1]Sheet1!A1330)","v":0},{"$f":"IF([1]Sheet1!A1330=113,0,[1]Sheet1!F1330)","v":0},{"$f":"[1]Sheet1!G1330","v":0},{"$f":"[1]Sheet1!H1330","v":0},{"$f":"[1]Sheet1!J1330","v":0},"0 0",null,{"$f":"IF(A1327=113,0,[1]Sheet1!B1330)","v":0}]
[{"$f":"IF([1]Sheet1!A1331=113,0,[1]Sheet1!A1331)","v":0},{"$f":"IF([1]Sheet1!A1331=113,0,[1]Sheet1!F1331)","v":0},{"$f":"[1]Sheet1!G1331","v":0},{"$f":"[1]Sheet1!H1331","v":0},{"$f":"[1]Sheet1!J1331","v":0},"0 0",null,{"$f":"IF(A1328=113,0,[1]Sheet1!B1331)","v":0}]
[{"$f":"IF([1]Sheet1!A1332=113,0,[1]Sheet1!A1332)","v":0},{"$f":"IF([1]Sheet1!A1332=113,0,[1]Sheet1!F1332)","v":0},{"$f":"[1]Sheet1!G1332","v":0},{"$f":"[1]Sheet1!H1332","v":0},{"$f":"[1]Sheet1!J1332","v":0},"0 0",null,{"$f":"IF(A1329=113,0,[1]Sheet1!B1332)","v":0}]
[{"$f":"IF([1]Sheet1!A1333=113,0,[1]Sheet1!A1333)","v":0},{"$f":"IF([1]Sheet1!A1333=113,0,[1]Sheet1!F1333)","v":0},{"$f":"[1]Sheet1!G1333","v":0},{"$f":"[1]Sheet1!H1333","v":0},{"$f":"[1]Sheet1!J1333","v":0},"0 0",null,{"$f":"IF(A1330=113,0,[1]Sheet1!B1333)","v":0}]
[{"$f":"IF([1]Sheet1!A1334=113,0,[1]Sheet1!A1334)","v":0},{"$f":"IF([1]Sheet1!A1334=113,0,[1]Sheet1!F1334)","v":0},{"$f":"[1]Sheet1!G1334","v":0},{"$f":"[1]Sheet1!H1334","v":0},{"$f":"[1]Sheet1!J1334","v":0},"0 0",null,{"$f":"IF(A1331=113,0,[1]Sheet1!B1334)","v":0}]
[{"$f":"IF([1]Sheet1!A1335=113,0,[1]Sheet1!A1335)","v":0},{"$f":"IF([1]Sheet1!A1335=113,0,[1]Sheet1!F1335)","v":0},{"$f":"[1]Sheet1!G1335","v":0},{"$f":"[1]Sheet1!H1335","v":0},{"$f":"[1]Sheet1!J1335","v":0},"0 0",null,{"$f":"IF(A1332=113,0,[1]Sheet1!B1335)","v":0}]
[{"$f":"IF([1]Sheet1!A1336=113,0,[1]Sheet1!A1336)","v":0},{"$f":"IF([1]Sheet1!A1336=113,0,[1]Sheet1!F1336)","v":0},{"$f":"[1]Sheet1!G1336","v":0},{"$f":"[1]Sheet1!H1336","v":0},{"$f":"[1]Sheet1!J1336","v":0},"0 0",null,{"$f":"IF(A1333=113,0,[1]Sheet1!B1336)","v":0}]
[{"$f":"IF([1]Sheet1!A1337=113,0,[1]Sheet1!A1337)","v":0},{"$f":"IF([1]Sheet1!A1337=113,0,[1]Sheet1!F1337)","v":0},{"$f":"[1]Sheet1!G1337","v":0},{"$f":"[1]Sheet1!H1337","v":0},{"$f":"[1]Sheet1!J1337","v":0},"0 0",null,{"$f":"IF(A1334=113,0,[1]Sheet1!B1337)","v":0}]
[{"$f":"IF([1]Sheet1!A1338=113,0,[1]Sheet1!A1338)","v":0},{"$f":"IF([1]Sheet1!A1338=113,0,[1]Sheet1!F1338)","v":0},{"$f":"[1]Sheet1!G1338","v":0},{"$f":"[1]Sheet1!H1338","v":0},{"$f":"[1]Sheet1!J1338","v":0},"0 0",null,{"$f":"IF(A1335=113,0,[1]Sheet1!B1338)","v":0}]
[{"$f":"IF([1]Sheet1!A1339=113,0,[1]Sheet1!A1339)","v":0},{"$f":"IF([1]Sheet1!A1339=113,0,[1]Sheet1!F1339)","v":0},{"$f":"[1]Sheet1!G1339","v":0},{"$f":"[1]Sheet1!H1339","v":0},{"$f":"[1]Sheet1!J1339","v":0},"0 0",null,{"$f":"IF(A1336=113,0,[1]Sheet1!B1339)","v":0}]
[{"$f":"IF([1]Sheet1!A1340=113,0,[1]Sheet1!A1340)","v":0},{"$f":"IF([1]Sheet1!A1340=113,0,[1]Sheet1!F1340)","v":0},{"$f":"[1]Sheet1!G1340","v":0},{"$f":"[1]Sheet1!H1340","v":0},{"$f":"[1]Sheet1!J1340","v":0},"0 0",null,{"$f":"IF(A1337=113,0,[1]Sheet1!B1340)","v":0}]
[{"$f":"IF([1]Sheet1!A1341=113,0,[1]Sheet1!A1341)","v":0},{"$f":"IF([1]Sheet1!A1341=113,0,[1]Sheet1!F1341)","v":0},{"$f":"[1]Sheet1!G1341","v":0},{"$f":"[1]Sheet1!H1341","v":0},{"$f":"[1]Sheet1!J1341","v":0},"0 0",null,{"$f":"IF(A1338=113,0,[1]Sheet1!B1341)","v":0}]
[{"$f":"IF([1]Sheet1!A1342=113,0,[1]Sheet1!A1342)","v":0},{"$f":"IF([1]Sheet1!A1342=113,0,[1]Sheet1!F1342)","v":0},{"$f":"[1]Sheet1!G1342","v":0},{"$f":"[1]Sheet1!H1342","v":0},{"$f":"[1]Sheet1!J1342","v":0},"0 0",null,{"$f":"IF(A1339=113,0,[1]Sheet1!B1342)","v":0}]
[{"$f":"IF([1]Sheet1!A1343=113,0,[1]Sheet1!A1343)","v":0},{"$f":"IF([1]Sheet1!A1343=113,0,[1]Sheet1!F1343)","v":0},{"$f":"[1]Sheet1!G1343","v":0},{"$f":"[1]Sheet1!H1343","v":0},{"$f":"[1]Sheet1!J1343","v":0},"0 0",null,{"$f":"IF(A1340=113,0,[1]Sheet1!B1343)","v":0}]
[{"$f":"IF([1]Sheet1!A1344=113,0,[1]Sheet1!A1344)","v":0},{"$f":"IF([1]Sheet1!A1344=113,0,[1]Sheet1!F1344)","v":0},{"$f":"[1]Sheet1!G1344","v":0},{"$f":"[1]Sheet1!H1344","v":0},{"$f":"[1]Sheet1!J1344","v":0},"0 0",null,{"$f":"IF(A1341=113,0,[1]Sheet1!B1344)","v":0}]
[{"$f":"IF([1]Sheet1!A1345=113,0,[1]Sheet1!A1345)","v":0},{"$f":"IF([1]Sheet1!A1345=113,0,[1]Sheet1!F1345)","v":0},{"$f":"[1]Sheet1!G1345","v":0},{"$f":"[1]Sheet1!H1345","v":0},{"$f":"[1]Sheet1!J1345","v":0},"0 0",null,{"$f":"IF(A1342=113,0,[1]Sheet1!B1345)","v":0}]
[{"$f":"IF([1]Sheet1!A1346=113,0,[1]Sheet1!A1346)","v":0},{"$f":"IF([1]Sheet1!A1346=113,0,[1]Sheet1!F1346)","v":0},{"$f":"[1]Sheet1!G1346","v":0},{"$f":"[1]Sheet1!H1346","v":0},{"$f":"[1]Sheet1!J1346","v":0},"0 0",null,{"$f":"IF(A1343=113,0,[1]Sheet1!B1346)","v":0}]
[{"$f":"IF([1]Sheet1!A1347=113,0,[1]Sheet1!A1347)","v":0},{"$f":"IF([1]Sheet1!A1347=113,0,[1]Sheet1!F1347)","v":0},{"$f":"[1]Sheet1!G1347","v":0},{"$f":"[1]Sheet1!H1347","v":0},{"$f":"[1]Sheet1!J1347","v":0},"0 0",null,{"$f":"IF(A1344=113,0,[1]Sheet1!B1347)","v":0}]
[{"$f":"IF([1]Sheet1!A1348=113,0,[1]Sheet1!A1348)","v":0},{"$f":"IF([1]Sheet1!A1348=113,0,[1]Sheet1!F1348)","v":0},{"$f":"[1]Sheet1!G1348","v":0},{"$f":"[1]Sheet1!H1348","v":0},{"$f":"[1]Sheet1!J1348","v":0},"0 0",null,{"$f":"IF(A1345=113,0,[1]Sheet1!B1348)","v":0}]
[{"$f":"IF([1]Sheet1!A1349=113,0,[1]Sheet1!A1349)","v":0},{"$f":"IF([1]Sheet1!A1349=113,0,[1]Sheet1!F1349)","v":0},{"$f":"[1]Sheet1!G1349","v":0},{"$f":"[1]Sheet1!H1349","v":0},{"$f":"[1]Sheet1!J1349","v":0},"0 0",null,{"$f":"IF(A1346=113,0,[1]Sheet1!B1349)","v":0}]
[{"$f":"IF([1]Sheet1!A1350=113,0,[1]Sheet1!A1350)","v":0},{"$f":"IF([1]Sheet1!A1350=113,0,[1]Sheet1!F1350)","v":0},{"$f":"[1]Sheet1!G1350","v":0},{"$f":"[1]Sheet1!H1350","v":0},{"$f":"[1]Sheet1!J1350","v":0},"0 0",null,{"$f":"IF(A1347=113,0,[1]Sheet1!B1350)","v":0}]
[{"$f":"IF([1]Sheet1!A1351=113,0,[1]Sheet1!A1351)","v":0},{"$f":"IF([1]Sheet1!A1351=113,0,[1]Sheet1!F1351)","v":0},{"$f":"[1]Sheet1!G1351","v":0},{"$f":"[1]Sheet1!H1351","v":0},{"$f":"[1]Sheet1!J1351","v":0},"0 0",null,{"$f":"IF(A1348=113,0,[1]Sheet1!B1351)","v":0}]
[{"$f":"IF([1]Sheet1!A1352=113,0,[1]Sheet1!A1352)","v":0},{"$f":"IF([1]Sheet1!A1352=113,0,[1]Sheet1!F1352)","v":0},{"$f":"[1]Sheet1!G1352","v":0},{"$f":"[1]Sheet1!H1352","v":0},{"$f":"[1]Sheet1!J1352","v":0},"0 0",null,{"$f":"IF(A1349=113,0,[1]Sheet1!B1352)","v":0}]
[{"$f":"IF([1]Sheet1!A1353=113,0,[1]Sheet1!A1353)","v":0},{"$f":"IF([1]Sheet1!A1353=113,0,[1]Sheet1!F1353)","v":0},{"$f":"[1]Sheet1!G1353","v":0},{"$f":"[1]Sheet1!H1353","v":0},{"$f":"[1]Sheet1!J1353","v":0},"0 0",null,{"$f":"IF(A1350=113,0,[1]Sheet1!B1353)","v":0}]
[{"$f":"IF([1]Sheet1!A1354=113,0,[1]Sheet1!A1354)","v":0},{"$f":"IF([1]Sheet1!A1354=113,0,[1]Sheet1!F1354)","v":0},{"$f":"[1]Sheet1!G1354","v":0},{"$f":"[1]Sheet1!H1354","v":0},{"$f":"[1]Sheet1!J1354","v":0},"0 0",null,{"$f":"IF(A1351=113,0,[1]Sheet1!B1354)","v":0}]
[{"$f":"IF([1]Sheet1!A1355=113,0,[1]Sheet1!A1355)","v":0},{"$f":"IF([1]Sheet1!A1355=113,0,[1]Sheet1!F1355)","v":0},{"$f":"[1]Sheet1!G1355","v":0},{"$f":"[1]Sheet1!H1355","v":0},{"$f":"[1]Sheet1!J1355","v":0},"0 0",null,{"$f":"IF(A1352=113,0,[1]Sheet1!B1355)","v":0}]
[{"$f":"IF([1]Sheet1!A1356=113,0,[1]Sheet1!A1356)","v":0},{"$f":"IF([1]Sheet1!A1356=113,0,[1]Sheet1!F1356)","v":0},{"$f":"[1]Sheet1!G1356","v":0},{"$f":"[1]Sheet1!H1356","v":0},{"$f":"[1]Sheet1!J1356","v":0},"0 0",null,{"$f":"IF(A1353=113,0,[1]Sheet1!B1356)","v":0}]
[{"$f":"IF([1]Sheet1!A1357=113,0,[1]Sheet1!A1357)","v":0},{"$f":"IF([1]Sheet1!A1357=113,0,[1]Sheet1!F1357)","v":0},{"$f":"[1]Sheet1!G1357","v":0},{"$f":"[1]Sheet1!H1357","v":0},{"$f":"[1]Sheet1!J1357","v":0},"0 0",null,{"$f":"IF(A1354=113,0,[1]Sheet1!B1357)","v":0}]
[{"$f":"IF([1]Sheet1!A1358=113,0,[1]Sheet1!A1358)","v":0},{"$f":"IF([1]Sheet1!A1358=113,0,[1]Sheet1!F1358)","v":0},{"$f":"[1]Sheet1!G1358","v":0},{"$f":"[1]Sheet1!H1358","v":0},{"$f":"[1]Sheet1!J1358","v":0},"0 0",null,{"$f":"IF(A1355=113,0,[1]Sheet1!B1358)","v":0}]
[{"$f":"IF([1]Sheet1!A1359=113,0,[1]Sheet1!A1359)","v":0},{"$f":"IF([1]Sheet1!A1359=113,0,[1]Sheet1!F1359)","v":0},{"$f":"[1]Sheet1!G1359","v":0},{"$f":"[1]Sheet1!H1359","v":0},{"$f":"[1]Sheet1!J1359","v":0},"0 0",null,{"$f":"IF(A1356=113,0,[1]Sheet1!B1359)","v":0}]
[{"$f":"IF([1]Sheet1!A1360=113,0,[1]Sheet1!A1360)","v":0},{"$f":"IF([1]Sheet1!A1360=113,0,[1]Sheet1!F1360)","v":0},{"$f":"[1]Sheet1!G1360","v":0},{"$f":"[1]Sheet1!H1360","v":0},{"$f":"[1]Sheet1!J1360","v":0},"0 0",null,{"$f":"IF(A1357=113,0,[1]Sheet1!B1360)","v":0}]
[{"$f":"IF([1]Sheet1!A1361=113,0,[1]Sheet1!A1361)","v":0},{"$f":"IF([1]Sheet1!A1361=113,0,[1]Sheet1!F1361)","v":0},{"$f":"[1]Sheet1!G1361","v":0},{"$f":"[1]Sheet1!H1361","v":0},{"$f":"[1]Sheet1!J1361","v":0},"0 0",null,{"$f":"IF(A1358=113,0,[1]Sheet1!B1361)","v":0}]
[{"$f":"IF([1]Sheet1!A1362=113,0,[1]Sheet1!A1362)","v":0},{"$f":"IF([1]Sheet1!A1362=113,0,[1]Sheet1!F1362)","v":0},{"$f":"[1]Sheet1!G1362","v":0},{"$f":"[1]Sheet1!H1362","v":0},{"$f":"[1]Sheet1!J1362","v":0},"0 0",null,{"$f":"IF(A1359=113,0,[1]Sheet1!B1362)","v":0}]
[{"$f":"IF([1]Sheet1!A1363=113,0,[1]Sheet1!A1363)","v":0},{"$f":"IF([1]Sheet1!A1363=113,0,[1]Sheet1!F1363)","v":0},{"$f":"[1]Sheet1!G1363","v":0},{"$f":"[1]Sheet1!H1363","v":0},{"$f":"[1]Sheet1!J1363","v":0},"0 0",null,{"$f":"IF(A1360=113,0,[1]Sheet1!B1363)","v":0}]
[{"$f":"IF([1]Sheet1!A1364=113,0,[1]Sheet1!A1364)","v":0},{"$f":"IF([1]Sheet1!A1364=113,0,[1]Sheet1!F1364)","v":0},{"$f":"[1]Sheet1!G1364","v":0},{"$f":"[1]Sheet1!H1364","v":0},{"$f":"[1]Sheet1!J1364","v":0},"0 0",null,{"$f":"IF(A1361=113,0,[1]Sheet1!B1364)","v":0}]
[{"$f":"IF([1]Sheet1!A1365=113,0,[1]Sheet1!A1365)","v":0},{"$f":"IF([1]Sheet1!A1365=113,0,[1]Sheet1!F1365)","v":0},{"$f":"[1]Sheet1!G1365","v":0},{"$f":"[1]Sheet1!H1365","v":0},{"$f":"[1]Sheet1!J1365","v":0},"0 0",null,{"$f":"IF(A1362=113,0,[1]Sheet1!B1365)","v":0}]
[{"$f":"IF([1]Sheet1!A1366=113,0,[1]Sheet1!A1366)","v":0},{"$f":"IF([1]Sheet1!A1366=113,0,[1]Sheet1!F1366)","v":0},{"$f":"[1]Sheet1!G1366","v":0},{"$f":"[1]Sheet1!H1366","v":0},{"$f":"[1]Sheet1!J1366","v":0},"0 0",null,{"$f":"IF(A1363=113,0,[1]Sheet1!B1366)","v":0}]
[{"$f":"IF([1]Sheet1!A1367=113,0,[1]Sheet1!A1367)","v":0},{"$f":"IF([1]Sheet1!A1367=113,0,[1]Sheet1!F1367)","v":0},{"$f":"[1]Sheet1!G1367","v":0},{"$f":"[1]Sheet1!H1367","v":0},{"$f":"[1]Sheet1!J1367","v":0},"0 0",null,{"$f":"IF(A1364=113,0,[1]Sheet1!B1367)","v":0}]
[{"$f":"IF([1]Sheet1!A1368=113,0,[1]Sheet1!A1368)","v":0},{"$f":"IF([1]Sheet1!A1368=113,0,[1]Sheet1!F1368)","v":0},{"$f":"[1]Sheet1!G1368","v":0},{"$f":"[1]Sheet1!H1368","v":0},{"$f":"[1]Sheet1!J1368","v":0},{"$f":"IF(E1365=0,CONCATENATE(D1365,\" \",C1365),CONCATENATE(D1365,\" \",E1365,\" \",C1365))","v":"0 0"},null,{"$f":"IF(A1365=113,0,[1]Sheet1!B1368)","v":0}]
[{"$f":"IF([1]Sheet1!A1369=113,0,[1]Sheet1!A1369)","v":0},{"$f":"IF([1]Sheet1!A1369=113,0,[1]Sheet1!F1369)","v":0},{"$f":"[1]Sheet1!G1369","v":0},{"$f":"[1]Sheet1!H1369","v":0},{"$f":"[1]Sheet1!J1369","v":0},"0 0",null,{"$f":"IF(A1366=113,0,[1]Sheet1!B1369)","v":0}]
[{"$f":"IF([1]Sheet1!A1370=113,0,[1]Sheet1!A1370)","v":0},{"$f":"IF([1]Sheet1!A1370=113,0,[1]Sheet1!F1370)","v":0},{"$f":"[1]Sheet1!G1370","v":0},{"$f":"[1]Sheet1!H1370","v":0},{"$f":"[1]Sheet1!J1370","v":0},"0 0",null,{"$f":"IF(A1367=113,0,[1]Sheet1!B1370)","v":0}]
[{"$f":"IF([1]Sheet1!A1371=113,0,[1]Sheet1!A1371)","v":0},{"$f":"IF([1]Sheet1!A1371=113,0,[1]Sheet1!F1371)","v":0},{"$f":"[1]Sheet1!G1371","v":0},{"$f":"[1]Sheet1!H1371","v":0},{"$f":"[1]Sheet1!J1371","v":0},"0 0",null,{"$f":"IF(A1368=113,0,[1]Sheet1!B1371)","v":0}]
[{"$f":"IF([1]Sheet1!A1372=113,0,[1]Sheet1!A1372)","v":0},{"$f":"IF([1]Sheet1!A1372=113,0,[1]Sheet1!F1372)","v":0},{"$f":"[1]Sheet1!G1372","v":0},{"$f":"[1]Sheet1!H1372","v":0},{"$f":"[1]Sheet1!J1372","v":0},"0 0",null,{"$f":"IF(A1369=113,0,[1]Sheet1!B1372)","v":0}]
[{"$f":"IF([1]Sheet1!A1373=113,0,[1]Sheet1!A1373)","v":0},{"$f":"IF([1]Sheet1!A1373=113,0,[1]Sheet1!F1373)","v":0},{"$f":"[1]Sheet1!G1373","v":0},{"$f":"[1]Sheet1!H1373","v":0},{"$f":"[1]Sheet1!J1373","v":0},"0 0",null,{"$f":"IF(A1370=113,0,[1]Sheet1!B1373)","v":0}]
[{"$f":"IF([1]Sheet1!A1374=113,0,[1]Sheet1!A1374)","v":0},{"$f":"IF([1]Sheet1!A1374=113,0,[1]Sheet1!F1374)","v":0},{"$f":"[1]Sheet1!G1374","v":0},{"$f":"[1]Sheet1!H1374","v":0},{"$f":"[1]Sheet1!J1374","v":0},"0 0",null,{"$f":"IF(A1371=113,0,[1]Sheet1!B1374)","v":0}]
[{"$f":"IF([1]Sheet1!A1375=113,0,[1]Sheet1!A1375)","v":0},{"$f":"IF([1]Sheet1!A1375=113,0,[1]Sheet1!F1375)","v":0},{"$f":"[1]Sheet1!G1375","v":0},{"$f":"[1]Sheet1!H1375","v":0},{"$f":"[1]Sheet1!J1375","v":0},"0 0",null,{"$f":"IF(A1372=113,0,[1]Sheet1!B1375)","v":0}]
[{"$f":"IF([1]Sheet1!A1376=113,0,[1]Sheet1!A1376)","v":0},{"$f":"IF([1]Sheet1!A1376=113,0,[1]Sheet1!F1376)","v":0},{"$f":"[1]Sheet1!G1376","v":0},{"$f":"[1]Sheet1!H1376","v":0},{"$f":"[1]Sheet1!J1376","v":0},"0 0",null,{"$f":"IF(A1373=113,0,[1]Sheet1!B1376)","v":0}]
[{"$f":"IF([1]Sheet1!A1377=113,0,[1]Sheet1!A1377)","v":0},{"$f":"IF([1]Sheet1!A1377=113,0,[1]Sheet1!F1377)","v":0},{"$f":"[1]Sheet1!G1377","v":0},{"$f":"[1]Sheet1!H1377","v":0},{"$f":"[1]Sheet1!J1377","v":0},"0 0",null,{"$f":"IF(A1374=113,0,[1]Sheet1!B1377)","v":0}]
[{"$f":"IF([1]Sheet1!A1378=113,0,[1]Sheet1!A1378)","v":0},{"$f":"IF([1]Sheet1!A1378=113,0,[1]Sheet1!F1378)","v":0},{"$f":"[1]Sheet1!G1378","v":0},{"$f":"[1]Sheet1!H1378","v":0},{"$f":"[1]Sheet1!J1378","v":0},"0 0",null,{"$f":"IF(A1375=113,0,[1]Sheet1!B1378)","v":0}]
[{"$f":"IF([1]Sheet1!A1379=113,0,[1]Sheet1!A1379)","v":0},{"$f":"IF([1]Sheet1!A1379=113,0,[1]Sheet1!F1379)","v":0},{"$f":"[1]Sheet1!G1379","v":0},{"$f":"[1]Sheet1!H1379","v":0},{"$f":"[1]Sheet1!J1379","v":0},"0 0",null,{"$f":"IF(A1376=113,0,[1]Sheet1!B1379)","v":0}]
[{"$f":"IF([1]Sheet1!A1380=113,0,[1]Sheet1!A1380)","v":0},{"$f":"IF([1]Sheet1!A1380=113,0,[1]Sheet1!F1380)","v":0},{"$f":"[1]Sheet1!G1380","v":0},{"$f":"[1]Sheet1!H1380","v":0},{"$f":"[1]Sheet1!J1380","v":0},"0 0",null,{"$f":"IF(A1377=113,0,[1]Sheet1!B1380)","v":0}]
[{"$f":"IF([1]Sheet1!A1381=113,0,[1]Sheet1!A1381)","v":0},{"$f":"IF([1]Sheet1!A1381=113,0,[1]Sheet1!F1381)","v":0},{"$f":"[1]Sheet1!G1381","v":0},{"$f":"[1]Sheet1!H1381","v":0},{"$f":"[1]Sheet1!J1381","v":0},"0 0",null,{"$f":"IF(A1378=113,0,[1]Sheet1!B1381)","v":0}]
[{"$f":"IF([1]Sheet1!A1382=113,0,[1]Sheet1!A1382)","v":0},{"$f":"IF([1]Sheet1!A1382=113,0,[1]Sheet1!F1382)","v":0},{"$f":"[1]Sheet1!G1382","v":0},{"$f":"[1]Sheet1!H1382","v":0},{"$f":"[1]Sheet1!J1382","v":0},"0 0",null,{"$f":"IF(A1379=113,0,[1]Sheet1!B1382)","v":0}]
[{"$f":"IF([1]Sheet1!A1383=113,0,[1]Sheet1!A1383)","v":0},{"$f":"IF([1]Sheet1!A1383=113,0,[1]Sheet1!F1383)","v":0},{"$f":"[1]Sheet1!G1383","v":0},{"$f":"[1]Sheet1!H1383","v":0},{"$f":"[1]Sheet1!J1383","v":0},"0 0",null,{"$f":"IF(A1380=113,0,[1]Sheet1!B1383)","v":0}]
[{"$f":"IF([1]Sheet1!A1384=113,0,[1]Sheet1!A1384)","v":0},{"$f":"IF([1]Sheet1!A1384=113,0,[1]Sheet1!F1384)","v":0},{"$f":"[1]Sheet1!G1384","v":0},{"$f":"[1]Sheet1!H1384","v":0},{"$f":"[1]Sheet1!J1384","v":0},"0 0",null,{"$f":"IF(A1381=113,0,[1]Sheet1!B1384)","v":0}]
[{"$f":"IF([1]Sheet1!A1385=113,0,[1]Sheet1!A1385)","v":0},{"$f":"IF([1]Sheet1!A1385=113,0,[1]Sheet1!F1385)","v":0},{"$f":"[1]Sheet1!G1385","v":0},{"$f":"[1]Sheet1!H1385","v":0},{"$f":"[1]Sheet1!J1385","v":0},"0 0",null,{"$f":"IF(A1382=113,0,[1]Sheet1!B1385)","v":0}]
[{"$f":"IF([1]Sheet1!A1386=113,0,[1]Sheet1!A1386)","v":0},{"$f":"IF([1]Sheet1!A1386=113,0,[1]Sheet1!F1386)","v":0},{"$f":"[1]Sheet1!G1386","v":0},{"$f":"[1]Sheet1!H1386","v":0},{"$f":"[1]Sheet1!J1386","v":0},"0 0",null,{"$f":"IF(A1383=113,0,[1]Sheet1!B1386)","v":0}]
[{"$f":"IF([1]Sheet1!A1387=113,0,[1]Sheet1!A1387)","v":0},{"$f":"IF([1]Sheet1!A1387=113,0,[1]Sheet1!F1387)","v":0},{"$f":"[1]Sheet1!G1387","v":0},{"$f":"[1]Sheet1!H1387","v":0},{"$f":"[1]Sheet1!J1387","v":0},"0 0",null,{"$f":"IF(A1384=113,0,[1]Sheet1!B1387)","v":0}]
[{"$f":"IF([1]Sheet1!A1388=113,0,[1]Sheet1!A1388)","v":0},{"$f":"IF([1]Sheet1!A1388=113,0,[1]Sheet1!F1388)","v":0},{"$f":"[1]Sheet1!G1388","v":0},{"$f":"[1]Sheet1!H1388","v":0},{"$f":"[1]Sheet1!J1388","v":0},"0 0",null,{"$f":"IF(A1385=113,0,[1]Sheet1!B1388)","v":0}]
[{"$f":"IF([1]Sheet1!A1389=113,0,[1]Sheet1!A1389)","v":0},{"$f":"IF([1]Sheet1!A1389=113,0,[1]Sheet1!F1389)","v":0},{"$f":"[1]Sheet1!G1389","v":0},{"$f":"[1]Sheet1!H1389","v":0},{"$f":"[1]Sheet1!J1389","v":0},"0 0",null,{"$f":"IF(A1386=113,0,[1]Sheet1!B1389)","v":0}]
[{"$f":"IF([1]Sheet1!A1390=113,0,[1]Sheet1!A1390)","v":0},{"$f":"IF([1]Sheet1!A1390=113,0,[1]Sheet1!F1390)","v":0},{"$f":"[1]Sheet1!G1390","v":0},{"$f":"[1]Sheet1!H1390","v":0},{"$f":"[1]Sheet1!J1390","v":0},"0 0",null,{"$f":"IF(A1387=113,0,[1]Sheet1!B1390)","v":0}]
[{"$f":"IF([1]Sheet1!A1391=113,0,[1]Sheet1!A1391)","v":0},{"$f":"IF([1]Sheet1!A1391=113,0,[1]Sheet1!F1391)","v":0},{"$f":"[1]Sheet1!G1391","v":0},{"$f":"[1]Sheet1!H1391","v":0},{"$f":"[1]Sheet1!J1391","v":0},"0 0",null,{"$f":"IF(A1388=113,0,[1]Sheet1!B1391)","v":0}]
[{"$f":"IF([1]Sheet1!A1392=113,0,[1]Sheet1!A1392)","v":0},{"$f":"IF([1]Sheet1!A1392=113,0,[1]Sheet1!F1392)","v":0},{"$f":"[1]Sheet1!G1392","v":0},{"$f":"[1]Sheet1!H1392","v":0},{"$f":"[1]Sheet1!J1392","v":0},"0 0",null,{"$f":"IF(A1389=113,0,[1]Sheet1!B1392)","v":0}]
[{"$f":"IF([1]Sheet1!A1393=113,0,[1]Sheet1!A1393)","v":0},{"$f":"IF([1]Sheet1!A1393=113,0,[1]Sheet1!F1393)","v":0},{"$f":"[1]Sheet1!G1393","v":0},{"$f":"[1]Sheet1!H1393","v":0},{"$f":"[1]Sheet1!J1393","v":0},"0 0",null,{"$f":"IF(A1390=113,0,[1]Sheet1!B1393)","v":0}]
[{"$f":"IF([1]Sheet1!A1394=113,0,[1]Sheet1!A1394)","v":0},{"$f":"IF([1]Sheet1!A1394=113,0,[1]Sheet1!F1394)","v":0},{"$f":"[1]Sheet1!G1394","v":0},{"$f":"[1]Sheet1!H1394","v":0},{"$f":"[1]Sheet1!J1394","v":0},"0 0",null,{"$f":"IF(A1391=113,0,[1]Sheet1!B1394)","v":0}]
[{"$f":"IF([1]Sheet1!A1395=113,0,[1]Sheet1!A1395)","v":0},{"$f":"IF([1]Sheet1!A1395=113,0,[1]Sheet1!F1395)","v":0},{"$f":"[1]Sheet1!G1395","v":0},{"$f":"[1]Sheet1!H1395","v":0},{"$f":"[1]Sheet1!J1395","v":0},"0 0",null,{"$f":"IF(A1392=113,0,[1]Sheet1!B1395)","v":0}]
[{"$f":"IF([1]Sheet1!A1396=113,0,[1]Sheet1!A1396)","v":0},{"$f":"IF([1]Sheet1!A1396=113,0,[1]Sheet1!F1396)","v":0},{"$f":"[1]Sheet1!G1396","v":0},{"$f":"[1]Sheet1!H1396","v":0},{"$f":"[1]Sheet1!J1396","v":0},"0 0",null,{"$f":"IF(A1393=113,0,[1]Sheet1!B1396)","v":0}]
[{"$f":"IF([1]Sheet1!A1397=113,0,[1]Sheet1!A1397)","v":0},{"$f":"IF([1]Sheet1!A1397=113,0,[1]Sheet1!F1397)","v":0},{"$f":"[1]Sheet1!G1397","v":0},{"$f":"[1]Sheet1!H1397","v":0},{"$f":"[1]Sheet1!J1397","v":0},"0 0",null,{"$f":"IF(A1394=113,0,[1]Sheet1!B1397)","v":0}]
[{"$f":"IF([1]Sheet1!A1398=113,0,[1]Sheet1!A1398)","v":0},{"$f":"IF([1]Sheet1!A1398=113,0,[1]Sheet1!F1398)","v":0},{"$f":"[1]Sheet1!G1398","v":0},{"$f":"[1]Sheet1!H1398","v":0},{"$f":"[1]Sheet1!J1398","v":0},"0 0",null,{"$f":"IF(A1395=113,0,[1]Sheet1!B1398)","v":0}]
[{"$f":"IF([1]Sheet1!A1399=113,0,[1]Sheet1!A1399)","v":0},{"$f":"IF([1]Sheet1!A1399=113,0,[1]Sheet1!F1399)","v":0},{"$f":"[1]Sheet1!G1399","v":0},{"$f":"[1]Sheet1!H1399","v":0},{"$f":"[1]Sheet1!J1399","v":0},"0 0",null,{"$f":"IF(A1396=113,0,[1]Sheet1!B1399)","v":0}]
[{"$f":"IF([1]Sheet1!A1400=113,0,[1]Sheet1!A1400)","v":0},{"$f":"IF([1]Sheet1!A1400=113,0,[1]Sheet1!F1400)","v":0},{"$f":"[1]Sheet1!G1400","v":0},{"$f":"[1]Sheet1!H1400","v":0},{"$f":"[1]Sheet1!J1400","v":0},"0 0",null,{"$f":"IF(A1397=113,0,[1]Sheet1!B1400)","v":0}]
[{"$f":"IF([1]Sheet1!A1401=113,0,[1]Sheet1!A1401)","v":0},{"$f":"IF([1]Sheet1!A1401=113,0,[1]Sheet1!F1401)","v":0},{"$f":"[1]Sheet1!G1401","v":0},{"$f":"[1]Sheet1!H1401","v":0},{"$f":"[1]Sheet1!J1401","v":0},"0 0",null,{"$f":"IF(A1398=113,0,[1]Sheet1!B1401)","v":0}]
[{"$f":"IF([1]Sheet1!A1402=113,0,[1]Sheet1!A1402)","v":0},{"$f":"IF([1]Sheet1!A1402=113,0,[1]Sheet1!F1402)","v":0},{"$f":"[1]Sheet1!G1402","v":0},{"$f":"[1]Sheet1!H1402","v":0},{"$f":"[1]Sheet1!J1402","v":0},"0 0",null,{"$f":"IF(A1399=113,0,[1]Sheet1!B1402)","v":0}]
[{"$f":"IF([1]Sheet1!A1403=113,0,[1]Sheet1!A1403)","v":0},{"$f":"IF([1]Sheet1!A1403=113,0,[1]Sheet1!F1403)","v":0},{"$f":"[1]Sheet1!G1403","v":0},{"$f":"[1]Sheet1!H1403","v":0},{"$f":"[1]Sheet1!J1403","v":0},"0 0",null,{"$f":"IF(A1400=113,0,[1]Sheet1!B1403)","v":0}]
[{"$f":"IF([1]Sheet1!A1404=113,0,[1]Sheet1!A1404)","v":0},{"$f":"IF([1]Sheet1!A1404=113,0,[1]Sheet1!F1404)","v":0},{"$f":"[1]Sheet1!G1404","v":0},{"$f":"[1]Sheet1!H1404","v":0},{"$f":"[1]Sheet1!J1404","v":0},"0 0",null,{"$f":"IF(A1401=113,0,[1]Sheet1!B1404)","v":0}]
[{"$f":"IF([1]Sheet1!A1405=113,0,[1]Sheet1!A1405)","v":0},{"$f":"IF([1]Sheet1!A1405=113,0,[1]Sheet1!F1405)","v":0},{"$f":"[1]Sheet1!G1405","v":0},{"$f":"[1]Sheet1!H1405","v":0},{"$f":"[1]Sheet1!J1405","v":0},"0 0",null,{"$f":"IF(A1402=113,0,[1]Sheet1!B1405)","v":0}]
[{"$f":"IF([1]Sheet1!A1406=113,0,[1]Sheet1!A1406)","v":0},{"$f":"IF([1]Sheet1!A1406=113,0,[1]Sheet1!F1406)","v":0},{"$f":"[1]Sheet1!G1406","v":0},{"$f":"[1]Sheet1!H1406","v":0},{"$f":"[1]Sheet1!J1406","v":0},"0 0",null,{"$f":"IF(A1403=113,0,[1]Sheet1!B1406)","v":0}]
[{"$f":"IF([1]Sheet1!A1407=113,0,[1]Sheet1!A1407)","v":0},{"$f":"IF([1]Sheet1!A1407=113,0,[1]Sheet1!F1407)","v":0},{"$f":"[1]Sheet1!G1407","v":0},{"$f":"[1]Sheet1!H1407","v":0},{"$f":"[1]Sheet1!J1407","v":0},"0 0",null,{"$f":"IF(A1404=113,0,[1]Sheet1!B1407)","v":0}]
[{"$f":"IF([1]Sheet1!A1408=113,0,[1]Sheet1!A1408)","v":0},{"$f":"IF([1]Sheet1!A1408=113,0,[1]Sheet1!F1408)","v":0},{"$f":"[1]Sheet1!G1408","v":0},{"$f":"[1]Sheet1!H1408","v":0},{"$f":"[1]Sheet1!J1408","v":0},"0 0",null,{"$f":"IF(A1405=113,0,[1]Sheet1!B1408)","v":0}]
[{"$f":"IF([1]Sheet1!A1409=113,0,[1]Sheet1!A1409)","v":0},{"$f":"IF([1]Sheet1!A1409=113,0,[1]Sheet1!F1409)","v":0},{"$f":"[1]Sheet1!G1409","v":0},{"$f":"[1]Sheet1!H1409","v":0},{"$f":"[1]Sheet1!J1409","v":0},"0 0",null,{"$f":"IF(A1406=113,0,[1]Sheet1!B1409)","v":0}]
[{"$f":"IF([1]Sheet1!A1410=113,0,[1]Sheet1!A1410)","v":0},{"$f":"IF([1]Sheet1!A1410=113,0,[1]Sheet1!F1410)","v":0},{"$f":"[1]Sheet1!G1410","v":0},{"$f":"[1]Sheet1!H1410","v":0},{"$f":"[1]Sheet1!J1410","v":0},"0 0",null,{"$f":"IF(A1407=113,0,[1]Sheet1!B1410)","v":0}]
[{"$f":"IF([1]Sheet1!A1411=113,0,[1]Sheet1!A1411)","v":0},{"$f":"IF([1]Sheet1!A1411=113,0,[1]Sheet1!F1411)","v":0},{"$f":"[1]Sheet1!G1411","v":0},{"$f":"[1]Sheet1!H1411","v":0},{"$f":"[1]Sheet1!J1411","v":0},"0 0",null,{"$f":"IF(A1408=113,0,[1]Sheet1!B1411)","v":0}]
[{"$f":"IF([1]Sheet1!A1412=113,0,[1]Sheet1!A1412)","v":0},{"$f":"IF([1]Sheet1!A1412=113,0,[1]Sheet1!F1412)","v":0},{"$f":"[1]Sheet1!G1412","v":0},{"$f":"[1]Sheet1!H1412","v":0},{"$f":"[1]Sheet1!J1412","v":0},"0 0",null,{"$f":"IF(A1409=113,0,[1]Sheet1!B1412)","v":0}]
[{"$f":"IF([1]Sheet1!A1413=113,0,[1]Sheet1!A1413)","v":0},{"$f":"IF([1]Sheet1!A1413=113,0,[1]Sheet1!F1413)","v":0},{"$f":"[1]Sheet1!G1413","v":0},{"$f":"[1]Sheet1!H1413","v":0},{"$f":"[1]Sheet1!J1413","v":0},"0 0",null,{"$f":"IF(A1410=113,0,[1]Sheet1!B1413)","v":0}]
[{"$f":"IF([1]Sheet1!A1414=113,0,[1]Sheet1!A1414)","v":0},{"$f":"IF([1]Sheet1!A1414=113,0,[1]Sheet1!F1414)","v":0},{"$f":"[1]Sheet1!G1414","v":0},{"$f":"[1]Sheet1!H1414","v":0},{"$f":"[1]Sheet1!J1414","v":0},"0 0",null,{"$f":"IF(A1411=113,0,[1]Sheet1!B1414)","v":0}]
[{"$f":"IF([1]Sheet1!A1415=113,0,[1]Sheet1!A1415)","v":0},{"$f":"IF([1]Sheet1!A1415=113,0,[1]Sheet1!F1415)","v":0},{"$f":"[1]Sheet1!G1415","v":0},{"$f":"[1]Sheet1!H1415","v":0},{"$f":"[1]Sheet1!J1415","v":0},"0 0",null,{"$f":"IF(A1412=113,0,[1]Sheet1!B1415)","v":0}]
[{"$f":"IF([1]Sheet1!A1416=113,0,[1]Sheet1!A1416)","v":0},{"$f":"IF([1]Sheet1!A1416=113,0,[1]Sheet1!F1416)","v":0},{"$f":"[1]Sheet1!G1416","v":0},{"$f":"[1]Sheet1!H1416","v":0},{"$f":"[1]Sheet1!J1416","v":0},"0 0",null,{"$f":"IF(A1413=113,0,[1]Sheet1!B1416)","v":0}]
[{"$f":"IF([1]Sheet1!A1417=113,0,[1]Sheet1!A1417)","v":0},{"$f":"IF([1]Sheet1!A1417=113,0,[1]Sheet1!F1417)","v":0},{"$f":"[1]Sheet1!G1417","v":0},{"$f":"[1]Sheet1!H1417","v":0},{"$f":"[1]Sheet1!J1417","v":0},"0 0",null,{"$f":"IF(A1414=113,0,[1]Sheet1!B1417)","v":0}]
[{"$f":"IF([1]Sheet1!A1418=113,0,[1]Sheet1!A1418)","v":0},{"$f":"IF([1]Sheet1!A1418=113,0,[1]Sheet1!F1418)","v":0},{"$f":"[1]Sheet1!G1418","v":0},{"$f":"[1]Sheet1!H1418","v":0},{"$f":"[1]Sheet1!J1418","v":0},"0 0",null,{"$f":"IF(A1415=113,0,[1]Sheet1!B1418)","v":0}]
[{"$f":"IF([1]Sheet1!A1419=113,0,[1]Sheet1!A1419)","v":0},{"$f":"IF([1]Sheet1!A1419=113,0,[1]Sheet1!F1419)","v":0},{"$f":"[1]Sheet1!G1419","v":0},{"$f":"[1]Sheet1!H1419","v":0},{"$f":"[1]Sheet1!J1419","v":0},"0 0",null,{"$f":"IF(A1416=113,0,[1]Sheet1!B1419)","v":0}]
[{"$f":"IF([1]Sheet1!A1420=113,0,[1]Sheet1!A1420)","v":0},{"$f":"IF([1]Sheet1!A1420=113,0,[1]Sheet1!F1420)","v":0},{"$f":"[1]Sheet1!G1420","v":0},{"$f":"[1]Sheet1!H1420","v":0},{"$f":"[1]Sheet1!J1420","v":0},"0 0",null,{"$f":"IF(A1417=113,0,[1]Sheet1!B1420)","v":0}]
[{"$f":"IF([1]Sheet1!A1421=113,0,[1]Sheet1!A1421)","v":0},{"$f":"IF([1]Sheet1!A1421=113,0,[1]Sheet1!F1421)","v":0},{"$f":"[1]Sheet1!G1421","v":0},{"$f":"[1]Sheet1!H1421","v":0},{"$f":"[1]Sheet1!J1421","v":0},"0 0",null,{"$f":"IF(A1418=113,0,[1]Sheet1!B1421)","v":0}]
[{"$f":"IF([1]Sheet1!A1422=113,0,[1]Sheet1!A1422)","v":0},{"$f":"IF([1]Sheet1!A1422=113,0,[1]Sheet1!F1422)","v":0},{"$f":"[1]Sheet1!G1422","v":0},{"$f":"[1]Sheet1!H1422","v":0},{"$f":"[1]Sheet1!J1422","v":0},"0 0",null,{"$f":"IF(A1419=113,0,[1]Sheet1!B1422)","v":0}]
[{"$f":"IF([1]Sheet1!A1423=113,0,[1]Sheet1!A1423)","v":0},{"$f":"IF([1]Sheet1!A1423=113,0,[1]Sheet1!F1423)","v":0},{"$f":"[1]Sheet1!G1423","v":0},{"$f":"[1]Sheet1!H1423","v":0},{"$f":"[1]Sheet1!J1423","v":0},"0 0",null,{"$f":"IF(A1420=113,0,[1]Sheet1!B1423)","v":0}]
[{"$f":"IF([1]Sheet1!A1424=113,0,[1]Sheet1!A1424)","v":0},{"$f":"IF([1]Sheet1!A1424=113,0,[1]Sheet1!F1424)","v":0},{"$f":"[1]Sheet1!G1424","v":0},{"$f":"[1]Sheet1!H1424","v":0},{"$f":"[1]Sheet1!J1424","v":0},"0 0",null,{"$f":"IF(A1421=113,0,[1]Sheet1!B1424)","v":0}]
[{"$f":"IF([1]Sheet1!A1425=113,0,[1]Sheet1!A1425)","v":0},{"$f":"IF([1]Sheet1!A1425=113,0,[1]Sheet1!F1425)","v":0},{"$f":"[1]Sheet1!G1425","v":0},{"$f":"[1]Sheet1!H1425","v":0},{"$f":"[1]Sheet1!J1425","v":0},"0 0",null,{"$f":"IF(A1422=113,0,[1]Sheet1!B1425)","v":0}]
[{"$f":"IF([1]Sheet1!A1426=113,0,[1]Sheet1!A1426)","v":0},{"$f":"IF([1]Sheet1!A1426=113,0,[1]Sheet1!F1426)","v":0},{"$f":"[1]Sheet1!G1426","v":0},{"$f":"[1]Sheet1!H1426","v":0},{"$f":"[1]Sheet1!J1426","v":0},"0 0",null,{"$f":"IF(A1423=113,0,[1]Sheet1!B1426)","v":0}]
[{"$f":"IF([1]Sheet1!A1427=113,0,[1]Sheet1!A1427)","v":0},{"$f":"IF([1]Sheet1!A1427=113,0,[1]Sheet1!F1427)","v":0},{"$f":"[1]Sheet1!G1427","v":0},{"$f":"[1]Sheet1!H1427","v":0},{"$f":"[1]Sheet1!J1427","v":0},"0 0",null,{"$f":"IF(A1424=113,0,[1]Sheet1!B1427)","v":0}]
[{"$f":"IF([1]Sheet1!A1428=113,0,[1]Sheet1!A1428)","v":0},{"$f":"IF([1]Sheet1!A1428=113,0,[1]Sheet1!F1428)","v":0},{"$f":"[1]Sheet1!G1428","v":0},{"$f":"[1]Sheet1!H1428","v":0},{"$f":"[1]Sheet1!J1428","v":0},"0 0",null,{"$f":"IF(A1425=113,0,[1]Sheet1!B1428)","v":0}]
[{"$f":"IF([1]Sheet1!A1429=113,0,[1]Sheet1!A1429)","v":0},{"$f":"IF([1]Sheet1!A1429=113,0,[1]Sheet1!F1429)","v":0},{"$f":"[1]Sheet1!G1429","v":0},{"$f":"[1]Sheet1!H1429","v":0},{"$f":"[1]Sheet1!J1429","v":0},"0 0",null,{"$f":"IF(A1426=113,0,[1]Sheet1!B1429)","v":0}]
[{"$f":"IF([1]Sheet1!A1430=113,0,[1]Sheet1!A1430)","v":0},{"$f":"IF([1]Sheet1!A1430=113,0,[1]Sheet1!F1430)","v":0},{"$f":"[1]Sheet1!G1430","v":0},{"$f":"[1]Sheet1!H1430","v":0},{"$f":"[1]Sheet1!J1430","v":0},"0 0",null,{"$f":"IF(A1427=113,0,[1]Sheet1!B1430)","v":0}]
[{"$f":"IF([1]Sheet1!A1431=113,0,[1]Sheet1!A1431)","v":0},{"$f":"IF([1]Sheet1!A1431=113,0,[1]Sheet1!F1431)","v":0},{"$f":"[1]Sheet1!G1431","v":0},{"$f":"[1]Sheet1!H1431","v":0},{"$f":"[1]Sheet1!J1431","v":0},"0 0",null,{"$f":"IF(A1428=113,0,[1]Sheet1!B1431)","v":0}]
[{"$f":"IF([1]Sheet1!A1432=113,0,[1]Sheet1!A1432)","v":0},{"$f":"IF([1]Sheet1!A1432=113,0,[1]Sheet1!F1432)","v":0},{"$f":"[1]Sheet1!G1432","v":0},{"$f":"[1]Sheet1!H1432","v":0},{"$f":"[1]Sheet1!J1432","v":0},{"$f":"IF(E1429=0,CONCATENATE(D1429,\" \",C1429),CONCATENATE(D1429,\" \",E1429,\" \",C1429))","v":"0 0"},null,{"$f":"IF(A1429=113,0,[1]Sheet1!B1432)","v":0}]
[{"$f":"IF([1]Sheet1!A1433=113,0,[1]Sheet1!A1433)","v":0},{"$f":"IF([1]Sheet1!A1433=113,0,[1]Sheet1!F1433)","v":0},{"$f":"[1]Sheet1!G1433","v":0},{"$f":"[1]Sheet1!H1433","v":0},{"$f":"[1]Sheet1!J1433","v":0},"0 0",null,{"$f":"IF(A1430=113,0,[1]Sheet1!B1433)","v":0}]
[{"$f":"IF([1]Sheet1!A1434=113,0,[1]Sheet1!A1434)","v":0},{"$f":"IF([1]Sheet1!A1434=113,0,[1]Sheet1!F1434)","v":0},{"$f":"[1]Sheet1!G1434","v":0},{"$f":"[1]Sheet1!H1434","v":0},{"$f":"[1]Sheet1!J1434","v":0},"0 0",null,{"$f":"IF(A1431=113,0,[1]Sheet1!B1434)","v":0}]
[{"$f":"IF([1]Sheet1!A1435=113,0,[1]Sheet1!A1435)","v":0},{"$f":"IF([1]Sheet1!A1435=113,0,[1]Sheet1!F1435)","v":0},{"$f":"[1]Sheet1!G1435","v":0},{"$f":"[1]Sheet1!H1435","v":0},{"$f":"[1]Sheet1!J1435","v":0},"0 0",null,{"$f":"IF(A1432=113,0,[1]Sheet1!B1435)","v":0}]
[{"$f":"IF([1]Sheet1!A1436=113,0,[1]Sheet1!A1436)","v":0},{"$f":"IF([1]Sheet1!A1436=113,0,[1]Sheet1!F1436)","v":0},{"$f":"[1]Sheet1!G1436","v":0},{"$f":"[1]Sheet1!H1436","v":0},{"$f":"[1]Sheet1!J1436","v":0},"0 0",null,{"$f":"IF(A1433=113,0,[1]Sheet1!B1436)","v":0}]
[{"$f":"IF([1]Sheet1!A1437=113,0,[1]Sheet1!A1437)","v":0},{"$f":"IF([1]Sheet1!A1437=113,0,[1]Sheet1!F1437)","v":0},{"$f":"[1]Sheet1!G1437","v":0},{"$f":"[1]Sheet1!H1437","v":0},{"$f":"[1]Sheet1!J1437","v":0},"0 0",null,{"$f":"IF(A1434=113,0,[1]Sheet1!B1437)","v":0}]
[{"$f":"IF([1]Sheet1!A1438=113,0,[1]Sheet1!A1438)","v":0},{"$f":"IF([1]Sheet1!A1438=113,0,[1]Sheet1!F1438)","v":0},{"$f":"[1]Sheet1!G1438","v":0},{"$f":"[1]Sheet1!H1438","v":0},{"$f":"[1]Sheet1!J1438","v":0},"0 0",null,{"$f":"IF(A1435=113,0,[1]Sheet1!B1438)","v":0}]
[{"$f":"IF([1]Sheet1!A1439=113,0,[1]Sheet1!A1439)","v":0},{"$f":"IF([1]Sheet1!A1439=113,0,[1]Sheet1!F1439)","v":0},{"$f":"[1]Sheet1!G1439","v":0},{"$f":"[1]Sheet1!H1439","v":0},{"$f":"[1]Sheet1!J1439","v":0},"0 0",null,{"$f":"IF(A1436=113,0,[1]Sheet1!B1439)","v":0}]
[{"$f":"IF([1]Sheet1!A1440=113,0,[1]Sheet1!A1440)","v":0},{"$f":"IF([1]Sheet1!A1440=113,0,[1]Sheet1!F1440)","v":0},{"$f":"[1]Sheet1!G1440","v":0},{"$f":"[1]Sheet1!H1440","v":0},{"$f":"[1]Sheet1!J1440","v":0},"0 0",null,{"$f":"IF(A1437=113,0,[1]Sheet1!B1440)","v":0}]
[{"$f":"IF([1]Sheet1!A1441=113,0,[1]Sheet1!A1441)","v":0},{"$f":"IF([1]Sheet1!A1441=113,0,[1]Sheet1!F1441)","v":0},{"$f":"[1]Sheet1!G1441","v":0},{"$f":"[1]Sheet1!H1441","v":0},{"$f":"[1]Sheet1!J1441","v":0},"0 0",null,{"$f":"IF(A1438=113,0,[1]Sheet1!B1441)","v":0}]
[{"$f":"IF([1]Sheet1!A1442=113,0,[1]Sheet1!A1442)","v":0},{"$f":"IF([1]Sheet1!A1442=113,0,[1]Sheet1!F1442)","v":0},{"$f":"[1]Sheet1!G1442","v":0},{"$f":"[1]Sheet1!H1442","v":0},{"$f":"[1]Sheet1!J1442","v":0},"0 0",null,{"$f":"IF(A1439=113,0,[1]Sheet1!B1442)","v":0}]
[{"$f":"IF([1]Sheet1!A1443=113,0,[1]Sheet1!A1443)","v":0},{"$f":"IF([1]Sheet1!A1443=113,0,[1]Sheet1!F1443)","v":0},{"$f":"[1]Sheet1!G1443","v":0},{"$f":"[1]Sheet1!H1443","v":0},{"$f":"[1]Sheet1!J1443","v":0},"0 0",null,{"$f":"IF(A1440=113,0,[1]Sheet1!B1443)","v":0}]
[{"$f":"IF([1]Sheet1!A1444=113,0,[1]Sheet1!A1444)","v":0},{"$f":"IF([1]Sheet1!A1444=113,0,[1]Sheet1!F1444)","v":0},{"$f":"[1]Sheet1!G1444","v":0},{"$f":"[1]Sheet1!H1444","v":0},{"$f":"[1]Sheet1!J1444","v":0},"0 0",null,{"$f":"IF(A1441=113,0,[1]Sheet1!B1444)","v":0}]
[{"$f":"IF([1]Sheet1!A1445=113,0,[1]Sheet1!A1445)","v":0},{"$f":"IF([1]Sheet1!A1445=113,0,[1]Sheet1!F1445)","v":0},{"$f":"[1]Sheet1!G1445","v":0},{"$f":"[1]Sheet1!H1445","v":0},{"$f":"[1]Sheet1!J1445","v":0},"0 0",null,{"$f":"IF(A1442=113,0,[1]Sheet1!B1445)","v":0}]
[{"$f":"IF([1]Sheet1!A1446=113,0,[1]Sheet1!A1446)","v":0},{"$f":"IF([1]Sheet1!A1446=113,0,[1]Sheet1!F1446)","v":0},{"$f":"[1]Sheet1!G1446","v":0},{"$f":"[1]Sheet1!H1446","v":0},{"$f":"[1]Sheet1!J1446","v":0},"0 0",null,{"$f":"IF(A1443=113,0,[1]Sheet1!B1446)","v":0}]
[{"$f":"IF([1]Sheet1!A1447=113,0,[1]Sheet1!A1447)","v":0},{"$f":"IF([1]Sheet1!A1447=113,0,[1]Sheet1!F1447)","v":0},{"$f":"[1]Sheet1!G1447","v":0},{"$f":"[1]Sheet1!H1447","v":0},{"$f":"[1]Sheet1!J1447","v":0},"0 0",null,{"$f":"IF(A1444=113,0,[1]Sheet1!B1447)","v":0}]
[{"$f":"IF([1]Sheet1!A1448=113,0,[1]Sheet1!A1448)","v":0},{"$f":"IF([1]Sheet1!A1448=113,0,[1]Sheet1!F1448)","v":0},{"$f":"[1]Sheet1!G1448","v":0},{"$f":"[1]Sheet1!H1448","v":0},{"$f":"[1]Sheet1!J1448","v":0},"0 0",null,{"$f":"IF(A1445=113,0,[1]Sheet1!B1448)","v":0}]
[{"$f":"IF([1]Sheet1!A1449=113,0,[1]Sheet1!A1449)","v":0},{"$f":"IF([1]Sheet1!A1449=113,0,[1]Sheet1!F1449)","v":0},{"$f":"[1]Sheet1!G1449","v":0},{"$f":"[1]Sheet1!H1449","v":0},{"$f":"[1]Sheet1!J1449","v":0},"0 0",null,{"$f":"IF(A1446=113,0,[1]Sheet1!B1449)","v":0}]
[{"$f":"IF([1]Sheet1!A1450=113,0,[1]Sheet1!A1450)","v":0},{"$f":"IF([1]Sheet1!A1450=113,0,[1]Sheet1!F1450)","v":0},{"$f":"[1]Sheet1!G1450","v":0},{"$f":"[1]Sheet1!H1450","v":0},{"$f":"[1]Sheet1!J1450","v":0},"0 0",null,{"$f":"IF(A1447=113,0,[1]Sheet1!B1450)","v":0}]
[{"$f":"IF([1]Sheet1!A1451=113,0,[1]Sheet1!A1451)","v":0},{"$f":"IF([1]Sheet1!A1451=113,0,[1]Sheet1!F1451)","v":0},{"$f":"[1]Sheet1!G1451","v":0},{"$f":"[1]Sheet1!H1451","v":0},{"$f":"[1]Sheet1!J1451","v":0},"0 0",null,{"$f":"IF(A1448=113,0,[1]Sheet1!B1451)","v":0}]
[{"$f":"IF([1]Sheet1!A1452=113,0,[1]Sheet1!A1452)","v":0},{"$f":"IF([1]Sheet1!A1452=113,0,[1]Sheet1!F1452)","v":0},{"$f":"[1]Sheet1!G1452","v":0},{"$f":"[1]Sheet1!H1452","v":0},{"$f":"[1]Sheet1!J1452","v":0},"0 0",null,{"$f":"IF(A1449=113,0,[1]Sheet1!B1452)","v":0}]
[{"$f":"IF([1]Sheet1!A1453=113,0,[1]Sheet1!A1453)","v":0},{"$f":"IF([1]Sheet1!A1453=113,0,[1]Sheet1!F1453)","v":0},{"$f":"[1]Sheet1!G1453","v":0},{"$f":"[1]Sheet1!H1453","v":0},{"$f":"[1]Sheet1!J1453","v":0},"0 0",null,{"$f":"IF(A1450=113,0,[1]Sheet1!B1453)","v":0}]
[{"$f":"IF([1]Sheet1!A1454=113,0,[1]Sheet1!A1454)","v":0},{"$f":"IF([1]Sheet1!A1454=113,0,[1]Sheet1!F1454)","v":0},{"$f":"[1]Sheet1!G1454","v":0},{"$f":"[1]Sheet1!H1454","v":0},{"$f":"[1]Sheet1!J1454","v":0},"0 0",null,{"$f":"IF(A1451=113,0,[1]Sheet1!B1454)","v":0}]
[{"$f":"IF([1]Sheet1!A1455=113,0,[1]Sheet1!A1455)","v":0},{"$f":"IF([1]Sheet1!A1455=113,0,[1]Sheet1!F1455)","v":0},{"$f":"[1]Sheet1!G1455","v":0},{"$f":"[1]Sheet1!H1455","v":0},{"$f":"[1]Sheet1!J1455","v":0},"0 0",null,{"$f":"IF(A1452=113,0,[1]Sheet1!B1455)","v":0}]
[{"$f":"IF([1]Sheet1!A1456=113,0,[1]Sheet1!A1456)","v":0},{"$f":"IF([1]Sheet1!A1456=113,0,[1]Sheet1!F1456)","v":0},{"$f":"[1]Sheet1!G1456","v":0},{"$f":"[1]Sheet1!H1456","v":0},{"$f":"[1]Sheet1!J1456","v":0},"0 0",null,{"$f":"IF(A1453=113,0,[1]Sheet1!B1456)","v":0}]
[{"$f":"IF([1]Sheet1!A1457=113,0,[1]Sheet1!A1457)","v":0},{"$f":"IF([1]Sheet1!A1457=113,0,[1]Sheet1!F1457)","v":0},{"$f":"[1]Sheet1!G1457","v":0},{"$f":"[1]Sheet1!H1457","v":0},{"$f":"[1]Sheet1!J1457","v":0},"0 0",null,{"$f":"IF(A1454=113,0,[1]Sheet1!B1457)","v":0}]
[{"$f":"IF([1]Sheet1!A1458=113,0,[1]Sheet1!A1458)","v":0},{"$f":"IF([1]Sheet1!A1458=113,0,[1]Sheet1!F1458)","v":0},{"$f":"[1]Sheet1!G1458","v":0},{"$f":"[1]Sheet1!H1458","v":0},{"$f":"[1]Sheet1!J1458","v":0},"0 0",null,{"$f":"IF(A1455=113,0,[1]Sheet1!B1458)","v":0}]
[{"$f":"IF([1]Sheet1!A1459=113,0,[1]Sheet1!A1459)","v":0},{"$f":"IF([1]Sheet1!A1459=113,0,[1]Sheet1!F1459)","v":0},{"$f":"[1]Sheet1!G1459","v":0},{"$f":"[1]Sheet1!H1459","v":0},{"$f":"[1]Sheet1!J1459","v":0},"0 0",null,{"$f":"IF(A1456=113,0,[1]Sheet1!B1459)","v":0}]
[{"$f":"IF([1]Sheet1!A1460=113,0,[1]Sheet1!A1460)","v":0},{"$f":"IF([1]Sheet1!A1460=113,0,[1]Sheet1!F1460)","v":0},{"$f":"[1]Sheet1!G1460","v":0},{"$f":"[1]Sheet1!H1460","v":0},{"$f":"[1]Sheet1!J1460","v":0},"0 0",null,{"$f":"IF(A1457=113,0,[1]Sheet1!B1460)","v":0}]
[{"$f":"IF([1]Sheet1!A1461=113,0,[1]Sheet1!A1461)","v":0},{"$f":"IF([1]Sheet1!A1461=113,0,[1]Sheet1!F1461)","v":0},{"$f":"[1]Sheet1!G1461","v":0},{"$f":"[1]Sheet1!H1461","v":0},{"$f":"[1]Sheet1!J1461","v":0},"0 0",null,{"$f":"IF(A1458=113,0,[1]Sheet1!B1461)","v":0}]
[{"$f":"IF([1]Sheet1!A1462=113,0,[1]Sheet1!A1462)","v":0},{"$f":"IF([1]Sheet1!A1462=113,0,[1]Sheet1!F1462)","v":0},{"$f":"[1]Sheet1!G1462","v":0},{"$f":"[1]Sheet1!H1462","v":0},{"$f":"[1]Sheet1!J1462","v":0},"0 0",null,{"$f":"IF(A1459=113,0,[1]Sheet1!B1462)","v":0}]
[{"$f":"IF([1]Sheet1!A1463=113,0,[1]Sheet1!A1463)","v":0},{"$f":"IF([1]Sheet1!A1463=113,0,[1]Sheet1!F1463)","v":0},{"$f":"[1]Sheet1!G1463","v":0},{"$f":"[1]Sheet1!H1463","v":0},{"$f":"[1]Sheet1!J1463","v":0},"0 0",null,{"$f":"IF(A1460=113,0,[1]Sheet1!B1463)","v":0}]
[{"$f":"IF([1]Sheet1!A1464=113,0,[1]Sheet1!A1464)","v":0},{"$f":"IF([1]Sheet1!A1464=113,0,[1]Sheet1!F1464)","v":0},{"$f":"[1]Sheet1!G1464","v":0},{"$f":"[1]Sheet1!H1464","v":0},{"$f":"[1]Sheet1!J1464","v":0},"0 0",null,{"$f":"IF(A1461=113,0,[1]Sheet1!B1464)","v":0}]
[{"$f":"IF([1]Sheet1!A1465=113,0,[1]Sheet1!A1465)","v":0},{"$f":"IF([1]Sheet1!A1465=113,0,[1]Sheet1!F1465)","v":0},{"$f":"[1]Sheet1!G1465","v":0},{"$f":"[1]Sheet1!H1465","v":0},{"$f":"[1]Sheet1!J1465","v":0},"0 0",null,{"$f":"IF(A1462=113,0,[1]Sheet1!B1465)","v":0}]
[{"$f":"IF([1]Sheet1!A1466=113,0,[1]Sheet1!A1466)","v":0},{"$f":"IF([1]Sheet1!A1466=113,0,[1]Sheet1!F1466)","v":0},{"$f":"[1]Sheet1!G1466","v":0},{"$f":"[1]Sheet1!H1466","v":0},{"$f":"[1]Sheet1!J1466","v":0},"0 0",null,{"$f":"IF(A1463=113,0,[1]Sheet1!B1466)","v":0}]
[{"$f":"IF([1]Sheet1!A1467=113,0,[1]Sheet1!A1467)","v":0},{"$f":"IF([1]Sheet1!A1467=113,0,[1]Sheet1!F1467)","v":0},{"$f":"[1]Sheet1!G1467","v":0},{"$f":"[1]Sheet1!H1467","v":0},{"$f":"[1]Sheet1!J1467","v":0},"0 0",null,{"$f":"IF(A1464=113,0,[1]Sheet1!B1467)","v":0}]
[{"$f":"IF([1]Sheet1!A1468=113,0,[1]Sheet1!A1468)","v":0},{"$f":"IF([1]Sheet1!A1468=113,0,[1]Sheet1!F1468)","v":0},{"$f":"[1]Sheet1!G1468","v":0},{"$f":"[1]Sheet1!H1468","v":0},{"$f":"[1]Sheet1!J1468","v":0},"0 0",null,{"$f":"IF(A1465=113,0,[1]Sheet1!B1468)","v":0}]
[{"$f":"IF([1]Sheet1!A1469=113,0,[1]Sheet1!A1469)","v":0},{"$f":"IF([1]Sheet1!A1469=113,0,[1]Sheet1!F1469)","v":0},{"$f":"[1]Sheet1!G1469","v":0},{"$f":"[1]Sheet1!H1469","v":0},{"$f":"[1]Sheet1!J1469","v":0},"0 0",null,{"$f":"IF(A1466=113,0,[1]Sheet1!B1469)","v":0}]
[{"$f":"IF([1]Sheet1!A1470=113,0,[1]Sheet1!A1470)","v":0},{"$f":"IF([1]Sheet1!A1470=113,0,[1]Sheet1!F1470)","v":0},{"$f":"[1]Sheet1!G1470","v":0},{"$f":"[1]Sheet1!H1470","v":0},{"$f":"[1]Sheet1!J1470","v":0},"0 0",null,{"$f":"IF(A1467=113,0,[1]Sheet1!B1470)","v":0}]
[{"$f":"IF([1]Sheet1!A1471=113,0,[1]Sheet1!A1471)","v":0},{"$f":"IF([1]Sheet1!A1471=113,0,[1]Sheet1!F1471)","v":0},{"$f":"[1]Sheet1!G1471","v":0},{"$f":"[1]Sheet1!H1471","v":0},{"$f":"[1]Sheet1!J1471","v":0},"0 0",null,{"$f":"IF(A1468=113,0,[1]Sheet1!B1471)","v":0}]
[{"$f":"IF([1]Sheet1!A1472=113,0,[1]Sheet1!A1472)","v":0},{"$f":"IF([1]Sheet1!A1472=113,0,[1]Sheet1!F1472)","v":0},{"$f":"[1]Sheet1!G1472","v":0},{"$f":"[1]Sheet1!H1472","v":0},{"$f":"[1]Sheet1!J1472","v":0},"0 0",null,{"$f":"IF(A1469=113,0,[1]Sheet1!B1472)","v":0}]
[{"$f":"IF([1]Sheet1!A1473=113,0,[1]Sheet1!A1473)","v":0},{"$f":"IF([1]Sheet1!A1473=113,0,[1]Sheet1!F1473)","v":0},{"$f":"[1]Sheet1!G1473","v":0},{"$f":"[1]Sheet1!H1473","v":0},{"$f":"[1]Sheet1!J1473","v":0},"0 0",null,{"$f":"IF(A1470=113,0,[1]Sheet1!B1473)","v":0}]
[{"$f":"IF([1]Sheet1!A1474=113,0,[1]Sheet1!A1474)","v":0},{"$f":"IF([1]Sheet1!A1474=113,0,[1]Sheet1!F1474)","v":0},{"$f":"[1]Sheet1!G1474","v":0},{"$f":"[1]Sheet1!H1474","v":0},{"$f":"[1]Sheet1!J1474","v":0},"0 0",null,{"$f":"IF(A1471=113,0,[1]Sheet1!B1474)","v":0}]
[{"$f":"IF([1]Sheet1!A1475=113,0,[1]Sheet1!A1475)","v":0},{"$f":"IF([1]Sheet1!A1475=113,0,[1]Sheet1!F1475)","v":0},{"$f":"[1]Sheet1!G1475","v":0},{"$f":"[1]Sheet1!H1475","v":0},{"$f":"[1]Sheet1!J1475","v":0},"0 0",null,{"$f":"IF(A1472=113,0,[1]Sheet1!B1475)","v":0}]
[{"$f":"IF([1]Sheet1!A1476=113,0,[1]Sheet1!A1476)","v":0},{"$f":"IF([1]Sheet1!A1476=113,0,[1]Sheet1!F1476)","v":0},{"$f":"[1]Sheet1!G1476","v":0},{"$f":"[1]Sheet1!H1476","v":0},{"$f":"[1]Sheet1!J1476","v":0},"0 0",null,{"$f":"IF(A1473=113,0,[1]Sheet1!B1476)","v":0}]
[{"$f":"IF([1]Sheet1!A1477=113,0,[1]Sheet1!A1477)","v":0},{"$f":"IF([1]Sheet1!A1477=113,0,[1]Sheet1!F1477)","v":0},{"$f":"[1]Sheet1!G1477","v":0},{"$f":"[1]Sheet1!H1477","v":0},{"$f":"[1]Sheet1!J1477","v":0},"0 0",null,{"$f":"IF(A1474=113,0,[1]Sheet1!B1477)","v":0}]
[{"$f":"IF([1]Sheet1!A1478=113,0,[1]Sheet1!A1478)","v":0},{"$f":"IF([1]Sheet1!A1478=113,0,[1]Sheet1!F1478)","v":0},{"$f":"[1]Sheet1!G1478","v":0},{"$f":"[1]Sheet1!H1478","v":0},{"$f":"[1]Sheet1!J1478","v":0},"0 0",null,{"$f":"IF(A1475=113,0,[1]Sheet1!B1478)","v":0}]
[{"$f":"IF([1]Sheet1!A1479=113,0,[1]Sheet1!A1479)","v":0},{"$f":"IF([1]Sheet1!A1479=113,0,[1]Sheet1!F1479)","v":0},{"$f":"[1]Sheet1!G1479","v":0},{"$f":"[1]Sheet1!H1479","v":0},{"$f":"[1]Sheet1!J1479","v":0},"0 0",null,{"$f":"IF(A1476=113,0,[1]Sheet1!B1479)","v":0}]
[{"$f":"IF([1]Sheet1!A1480=113,0,[1]Sheet1!A1480)","v":0},{"$f":"IF([1]Sheet1!A1480=113,0,[1]Sheet1!F1480)","v":0},{"$f":"[1]Sheet1!G1480","v":0},{"$f":"[1]Sheet1!H1480","v":0},{"$f":"[1]Sheet1!J1480","v":0},"0 0",null,{"$f":"IF(A1477=113,0,[1]Sheet1!B1480)","v":0}]
[{"$f":"IF([1]Sheet1!A1481=113,0,[1]Sheet1!A1481)","v":0},{"$f":"IF([1]Sheet1!A1481=113,0,[1]Sheet1!F1481)","v":0},{"$f":"[1]Sheet1!G1481","v":0},{"$f":"[1]Sheet1!H1481","v":0},{"$f":"[1]Sheet1!J1481","v":0},"0 0",null,{"$f":"IF(A1478=113,0,[1]Sheet1!B1481)","v":0}]
[{"$f":"IF([1]Sheet1!A1482=113,0,[1]Sheet1!A1482)","v":0},{"$f":"IF([1]Sheet1!A1482=113,0,[1]Sheet1!F1482)","v":0},{"$f":"[1]Sheet1!G1482","v":0},{"$f":"[1]Sheet1!H1482","v":0},{"$f":"[1]Sheet1!J1482","v":0},"0 0",null,{"$f":"IF(A1479=113,0,[1]Sheet1!B1482)","v":0}]
[{"$f":"IF([1]Sheet1!A1483=113,0,[1]Sheet1!A1483)","v":0},{"$f":"IF([1]Sheet1!A1483=113,0,[1]Sheet1!F1483)","v":0},{"$f":"[1]Sheet1!G1483","v":0},{"$f":"[1]Sheet1!H1483","v":0},{"$f":"[1]Sheet1!J1483","v":0},"0 0",null,{"$f":"IF(A1480=113,0,[1]Sheet1!B1483)","v":0}]
[{"$f":"IF([1]Sheet1!A1484=113,0,[1]Sheet1!A1484)","v":0},{"$f":"IF([1]Sheet1!A1484=113,0,[1]Sheet1!F1484)","v":0},{"$f":"[1]Sheet1!G1484","v":0},{"$f":"[1]Sheet1!H1484","v":0},{"$f":"[1]Sheet1!J1484","v":0},"0 0",null,{"$f":"IF(A1481=113,0,[1]Sheet1!B1484)","v":0}]
[{"$f":"IF([1]Sheet1!A1485=113,0,[1]Sheet1!A1485)","v":0},{"$f":"IF([1]Sheet1!A1485=113,0,[1]Sheet1!F1485)","v":0},{"$f":"[1]Sheet1!G1485","v":0},{"$f":"[1]Sheet1!H1485","v":0},{"$f":"[1]Sheet1!J1485","v":0},"0 0",null,{"$f":"IF(A1482=113,0,[1]Sheet1!B1485)","v":0}]
[{"$f":"IF([1]Sheet1!A1486=113,0,[1]Sheet1!A1486)","v":0},{"$f":"IF([1]Sheet1!A1486=113,0,[1]Sheet1!F1486)","v":0},{"$f":"[1]Sheet1!G1486","v":0},{"$f":"[1]Sheet1!H1486","v":0},{"$f":"[1]Sheet1!J1486","v":0},"0 0",null,{"$f":"IF(A1483=113,0,[1]Sheet1!B1486)","v":0}]
[{"$f":"IF([1]Sheet1!A1487=113,0,[1]Sheet1!A1487)","v":0},{"$f":"IF([1]Sheet1!A1487=113,0,[1]Sheet1!F1487)","v":0},{"$f":"[1]Sheet1!G1487","v":0},{"$f":"[1]Sheet1!H1487","v":0},{"$f":"[1]Sheet1!J1487","v":0},"0 0",null,{"$f":"IF(A1484=113,0,[1]Sheet1!B1487)","v":0}]
[{"$f":"IF([1]Sheet1!A1488=113,0,[1]Sheet1!A1488)","v":0},{"$f":"IF([1]Sheet1!A1488=113,0,[1]Sheet1!F1488)","v":0},{"$f":"[1]Sheet1!G1488","v":0},{"$f":"[1]Sheet1!H1488","v":0},{"$f":"[1]Sheet1!J1488","v":0},"0 0",null,{"$f":"IF(A1485=113,0,[1]Sheet1!B1488)","v":0}]
[{"$f":"IF([1]Sheet1!A1489=113,0,[1]Sheet1!A1489)","v":0},{"$f":"IF([1]Sheet1!A1489=113,0,[1]Sheet1!F1489)","v":0},{"$f":"[1]Sheet1!G1489","v":0},{"$f":"[1]Sheet1!H1489","v":0},{"$f":"[1]Sheet1!J1489","v":0},"0 0",null,{"$f":"IF(A1486=113,0,[1]Sheet1!B1489)","v":0}]
[{"$f":"IF([1]Sheet1!A1490=113,0,[1]Sheet1!A1490)","v":0},{"$f":"IF([1]Sheet1!A1490=113,0,[1]Sheet1!F1490)","v":0},{"$f":"[1]Sheet1!G1490","v":0},{"$f":"[1]Sheet1!H1490","v":0},{"$f":"[1]Sheet1!J1490","v":0},"0 0",null,{"$f":"IF(A1487=113,0,[1]Sheet1!B1490)","v":0}]
[{"$f":"IF([1]Sheet1!A1491=113,0,[1]Sheet1!A1491)","v":0},{"$f":"IF([1]Sheet1!A1491=113,0,[1]Sheet1!F1491)","v":0},{"$f":"[1]Sheet1!G1491","v":0},{"$f":"[1]Sheet1!H1491","v":0},{"$f":"[1]Sheet1!J1491","v":0},"0 0",null,{"$f":"IF(A1488=113,0,[1]Sheet1!B1491)","v":0}]
[{"$f":"IF([1]Sheet1!A1492=113,0,[1]Sheet1!A1492)","v":0},{"$f":"IF([1]Sheet1!A1492=113,0,[1]Sheet1!F1492)","v":0},{"$f":"[1]Sheet1!G1492","v":0},{"$f":"[1]Sheet1!H1492","v":0},{"$f":"[1]Sheet1!J1492","v":0},"0 0",null,{"$f":"IF(A1489=113,0,[1]Sheet1!B1492)","v":0}]
[{"$f":"IF([1]Sheet1!A1493=113,0,[1]Sheet1!A1493)","v":0},{"$f":"IF([1]Sheet1!A1493=113,0,[1]Sheet1!F1493)","v":0},{"$f":"[1]Sheet1!G1493","v":0},{"$f":"[1]Sheet1!H1493","v":0},{"$f":"[1]Sheet1!J1493","v":0},"0 0",null,{"$f":"IF(A1490=113,0,[1]Sheet1!B1493)","v":0}]
[{"$f":"IF([1]Sheet1!A1494=113,0,[1]Sheet1!A1494)","v":0},{"$f":"IF([1]Sheet1!A1494=113,0,[1]Sheet1!F1494)","v":0},{"$f":"[1]Sheet1!G1494","v":0},{"$f":"[1]Sheet1!H1494","v":0},{"$f":"[1]Sheet1!J1494","v":0},"0 0",null,{"$f":"IF(A1491=113,0,[1]Sheet1!B1494)","v":0}]
[{"$f":"IF([1]Sheet1!A1495=113,0,[1]Sheet1!A1495)","v":0},{"$f":"IF([1]Sheet1!A1495=113,0,[1]Sheet1!F1495)","v":0},{"$f":"[1]Sheet1!G1495","v":0},{"$f":"[1]Sheet1!H1495","v":0},{"$f":"[1]Sheet1!J1495","v":0},"0 0",null,{"$f":"IF(A1492=113,0,[1]Sheet1!B1495)","v":0}]
[{"$f":"IF([1]Sheet1!A1496=113,0,[1]Sheet1!A1496)","v":0},{"$f":"IF([1]Sheet1!A1496=113,0,[1]Sheet1!F1496)","v":0},{"$f":"[1]Sheet1!G1496","v":0},{"$f":"[1]Sheet1!H1496","v":0},{"$f":"[1]Sheet1!J1496","v":0},{"$f":"IF(E1493=0,CONCATENATE(D1493,\" \",C1493),CONCATENATE(D1493,\" \",E1493,\" \",C1493))","v":"0 0"},null,{"$f":"IF(A1493=113,0,[1]Sheet1!B1496)","v":0}]
[{"$f":"IF([1]Sheet1!A1497=113,0,[1]Sheet1!A1497)","v":0},{"$f":"IF([1]Sheet1!A1497=113,0,[1]Sheet1!F1497)","v":0},{"$f":"[1]Sheet1!G1497","v":0},{"$f":"[1]Sheet1!H1497","v":0},{"$f":"[1]Sheet1!J1497","v":0},"0 0",null,{"$f":"IF(A1494=113,0,[1]Sheet1!B1497)","v":0}]
[{"$f":"IF([1]Sheet1!A1498=113,0,[1]Sheet1!A1498)","v":0},{"$f":"IF([1]Sheet1!A1498=113,0,[1]Sheet1!F1498)","v":0},{"$f":"[1]Sheet1!G1498","v":0},{"$f":"[1]Sheet1!H1498","v":0},{"$f":"[1]Sheet1!J1498","v":0},"0 0",null,{"$f":"IF(A1495=113,0,[1]Sheet1!B1498)","v":0}]
[{"$f":"IF([1]Sheet1!A1499=113,0,[1]Sheet1!A1499)","v":0},{"$f":"IF([1]Sheet1!A1499=113,0,[1]Sheet1!F1499)","v":0},{"$f":"[1]Sheet1!G1499","v":0},{"$f":"[1]Sheet1!H1499","v":0},{"$f":"[1]Sheet1!J1499","v":0},"0 0",null,{"$f":"IF(A1496=113,0,[1]Sheet1!B1499)","v":0}]
[{"$f":"IF([1]Sheet1!A1500=113,0,[1]Sheet1!A1500)","v":0},{"$f":"IF([1]Sheet1!A1500=113,0,[1]Sheet1!F1500)","v":0},{"$f":"[1]Sheet1!G1500","v":0},{"$f":"[1]Sheet1!H1500","v":0},{"$f":"[1]Sheet1!J1500","v":0},"0 0",null,{"$f":"IF(A1497=113,0,[1]Sheet1!B1500)","v":0}]
[{"$f":"IF([1]Sheet1!A1501=113,0,[1]Sheet1!A1501)","v":0},{"$f":"IF([1]Sheet1!A1501=113,0,[1]Sheet1!F1501)","v":0},{"$f":"[1]Sheet1!G1501","v":0},{"$f":"[1]Sheet1!H1501","v":0},{"$f":"[1]Sheet1!J1501","v":0},"0 0",null,{"$f":"IF(A1498=113,0,[1]Sheet1!B1501)","v":0}]
[{"$f":"IF([1]Sheet1!A1502=113,0,[1]Sheet1!A1502)","v":0},{"$f":"IF([1]Sheet1!A1502=113,0,[1]Sheet1!F1502)","v":0},{"$f":"[1]Sheet1!G1502","v":0},{"$f":"[1]Sheet1!H1502","v":0},{"$f":"[1]Sheet1!J1502","v":0},"0 0",null,{"$f":"IF(A1499=113,0,[1]Sheet1!B1502)","v":0}]
[{"$f":"IF([1]Sheet1!A1503=113,0,[1]Sheet1!A1503)","v":0},{"$f":"IF([1]Sheet1!A1503=113,0,[1]Sheet1!F1503)","v":0},{"$f":"[1]Sheet1!G1503","v":0},{"$f":"[1]Sheet1!H1503","v":0},{"$f":"[1]Sheet1!J1503","v":0},"0 0",null,{"$f":"IF(A1500=113,0,[1]Sheet1!B1503)","v":0}]
[{"$f":"IF([1]Sheet1!A1504=113,0,[1]Sheet1!A1504)","v":0},{"$f":"IF([1]Sheet1!A1504=113,0,[1]Sheet1!F1504)","v":0},{"$f":"[1]Sheet1!G1504","v":0},{"$f":"[1]Sheet1!H1504","v":0},{"$f":"[1]Sheet1!J1504","v":0},"0 0",null,{"$f":"IF(A1501=113,0,[1]Sheet1!B1504)","v":0}]
[{"$f":"IF([1]Sheet1!A1505=113,0,[1]Sheet1!A1505)","v":0},{"$f":"IF([1]Sheet1!A1505=113,0,[1]Sheet1!F1505)","v":0},{"$f":"[1]Sheet1!G1505","v":0},{"$f":"[1]Sheet1!H1505","v":0},{"$f":"[1]Sheet1!J1505","v":0},"0 0",null,{"$f":"IF(A1502=113,0,[1]Sheet1!B1505)","v":0}]
[{"$f":"IF([1]Sheet1!A1506=113,0,[1]Sheet1!A1506)","v":0},{"$f":"IF([1]Sheet1!A1506=113,0,[1]Sheet1!F1506)","v":0},{"$f":"[1]Sheet1!G1506","v":0},{"$f":"[1]Sheet1!H1506","v":0},{"$f":"[1]Sheet1!J1506","v":0},"0 0",null,{"$f":"IF(A1503=113,0,[1]Sheet1!B1506)","v":0}]
[{"$f":"IF([1]Sheet1!A1507=113,0,[1]Sheet1!A1507)","v":0},{"$f":"IF([1]Sheet1!A1507=113,0,[1]Sheet1!F1507)","v":0},{"$f":"[1]Sheet1!G1507","v":0},{"$f":"[1]Sheet1!H1507","v":0},{"$f":"[1]Sheet1!J1507","v":0},"0 0",null,{"$f":"IF(A1504=113,0,[1]Sheet1!B1507)","v":0}]
[{"$f":"IF([1]Sheet1!A1508=113,0,[1]Sheet1!A1508)","v":0},{"$f":"IF([1]Sheet1!A1508=113,0,[1]Sheet1!F1508)","v":0},{"$f":"[1]Sheet1!G1508","v":0},{"$f":"[1]Sheet1!H1508","v":0},{"$f":"[1]Sheet1!J1508","v":0},"0 0",null,{"$f":"IF(A1505=113,0,[1]Sheet1!B1508)","v":0}]
[{"$f":"IF([1]Sheet1!A1509=113,0,[1]Sheet1!A1509)","v":0},{"$f":"IF([1]Sheet1!A1509=113,0,[1]Sheet1!F1509)","v":0},{"$f":"[1]Sheet1!G1509","v":0},{"$f":"[1]Sheet1!H1509","v":0},{"$f":"[1]Sheet1!J1509","v":0},"0 0",null,{"$f":"IF(A1506=113,0,[1]Sheet1!B1509)","v":0}]
[{"$f":"IF([1]Sheet1!A1510=113,0,[1]Sheet1!A1510)","v":0},{"$f":"IF([1]Sheet1!A1510=113,0,[1]Sheet1!F1510)","v":0},{"$f":"[1]Sheet1!G1510","v":0},{"$f":"[1]Sheet1!H1510","v":0},{"$f":"[1]Sheet1!J1510","v":0},"0 0",null,{"$f":"IF(A1507=113,0,[1]Sheet1!B1510)","v":0}]
[{"$f":"IF([1]Sheet1!A1511=113,0,[1]Sheet1!A1511)","v":0},{"$f":"IF([1]Sheet1!A1511=113,0,[1]Sheet1!F1511)","v":0},{"$f":"[1]Sheet1!G1511","v":0},{"$f":"[1]Sheet1!H1511","v":0},{"$f":"[1]Sheet1!J1511","v":0},"0 0",null,{"$f":"IF(A1508=113,0,[1]Sheet1!B1511)","v":0}]
[{"$f":"IF([1]Sheet1!A1512=113,0,[1]Sheet1!A1512)","v":0},{"$f":"IF([1]Sheet1!A1512=113,0,[1]Sheet1!F1512)","v":0},{"$f":"[1]Sheet1!G1512","v":0},{"$f":"[1]Sheet1!H1512","v":0},{"$f":"[1]Sheet1!J1512","v":0},"0 0",null,{"$f":"IF(A1509=113,0,[1]Sheet1!B1512)","v":0}]
[{"$f":"IF([1]Sheet1!A1513=113,0,[1]Sheet1!A1513)","v":0},{"$f":"IF([1]Sheet1!A1513=113,0,[1]Sheet1!F1513)","v":0},{"$f":"[1]Sheet1!G1513","v":0},{"$f":"[1]Sheet1!H1513","v":0},{"$f":"[1]Sheet1!J1513","v":0},"0 0",null,{"$f":"IF(A1510=113,0,[1]Sheet1!B1513)","v":0}]
[{"$f":"IF([1]Sheet1!A1514=113,0,[1]Sheet1!A1514)","v":0},{"$f":"IF([1]Sheet1!A1514=113,0,[1]Sheet1!F1514)","v":0},{"$f":"[1]Sheet1!G1514","v":0},{"$f":"[1]Sheet1!H1514","v":0},{"$f":"[1]Sheet1!J1514","v":0},"0 0",null,{"$f":"IF(A1511=113,0,[1]Sheet1!B1514)","v":0}]
[{"$f":"IF([1]Sheet1!A1515=113,0,[1]Sheet1!A1515)","v":0},{"$f":"IF([1]Sheet1!A1515=113,0,[1]Sheet1!F1515)","v":0},{"$f":"[1]Sheet1!G1515","v":0},{"$f":"[1]Sheet1!H1515","v":0},{"$f":"[1]Sheet1!J1515","v":0},"0 0",null,{"$f":"IF(A1512=113,0,[1]Sheet1!B1515)","v":0}]
[{"$f":"IF([1]Sheet1!A1516=113,0,[1]Sheet1!A1516)","v":0},{"$f":"IF([1]Sheet1!A1516=113,0,[1]Sheet1!F1516)","v":0},{"$f":"[1]Sheet1!G1516","v":0},{"$f":"[1]Sheet1!H1516","v":0},{"$f":"[1]Sheet1!J1516","v":0},"0 0",null,{"$f":"IF(A1513=113,0,[1]Sheet1!B1516)","v":0}]
[{"$f":"IF([1]Sheet1!A1517=113,0,[1]Sheet1!A1517)","v":0},{"$f":"IF([1]Sheet1!A1517=113,0,[1]Sheet1!F1517)","v":0},{"$f":"[1]Sheet1!G1517","v":0},{"$f":"[1]Sheet1!H1517","v":0},{"$f":"[1]Sheet1!J1517","v":0},"0 0",null,{"$f":"IF(A1514=113,0,[1]Sheet1!B1517)","v":0}]
[{"$f":"IF([1]Sheet1!A1518=113,0,[1]Sheet1!A1518)","v":0},{"$f":"IF([1]Sheet1!A1518=113,0,[1]Sheet1!F1518)","v":0},{"$f":"[1]Sheet1!G1518","v":0},{"$f":"[1]Sheet1!H1518","v":0},{"$f":"[1]Sheet1!J1518","v":0},"0 0",null,{"$f":"IF(A1515=113,0,[1]Sheet1!B1518)","v":0}]
[{"$f":"IF([1]Sheet1!A1519=113,0,[1]Sheet1!A1519)","v":0},{"$f":"IF([1]Sheet1!A1519=113,0,[1]Sheet1!F1519)","v":0},{"$f":"[1]Sheet1!G1519","v":0},{"$f":"[1]Sheet1!H1519","v":0},{"$f":"[1]Sheet1!J1519","v":0},"0 0",null,{"$f":"IF(A1516=113,0,[1]Sheet1!B1519)","v":0}]
[{"$f":"IF([1]Sheet1!A1520=113,0,[1]Sheet1!A1520)","v":0},{"$f":"IF([1]Sheet1!A1520=113,0,[1]Sheet1!F1520)","v":0},{"$f":"[1]Sheet1!G1520","v":0},{"$f":"[1]Sheet1!H1520","v":0},{"$f":"[1]Sheet1!J1520","v":0},"0 0",null,{"$f":"IF(A1517=113,0,[1]Sheet1!B1520)","v":0}]
[{"$f":"IF([1]Sheet1!A1521=113,0,[1]Sheet1!A1521)","v":0},{"$f":"IF([1]Sheet1!A1521=113,0,[1]Sheet1!F1521)","v":0},{"$f":"[1]Sheet1!G1521","v":0},{"$f":"[1]Sheet1!H1521","v":0},{"$f":"[1]Sheet1!J1521","v":0},"0 0",null,{"$f":"IF(A1518=113,0,[1]Sheet1!B1521)","v":0}]
[{"$f":"IF([1]Sheet1!A1522=113,0,[1]Sheet1!A1522)","v":0},{"$f":"IF([1]Sheet1!A1522=113,0,[1]Sheet1!F1522)","v":0},{"$f":"[1]Sheet1!G1522","v":0},{"$f":"[1]Sheet1!H1522","v":0},{"$f":"[1]Sheet1!J1522","v":0},"0 0",null,{"$f":"IF(A1519=113,0,[1]Sheet1!B1522)","v":0}]
[{"$f":"IF([1]Sheet1!A1523=113,0,[1]Sheet1!A1523)","v":0},{"$f":"IF([1]Sheet1!A1523=113,0,[1]Sheet1!F1523)","v":0},{"$f":"[1]Sheet1!G1523","v":0},{"$f":"[1]Sheet1!H1523","v":0},{"$f":"[1]Sheet1!J1523","v":0},"0 0",null,{"$f":"IF(A1520=113,0,[1]Sheet1!B1523)","v":0}]
[{"$f":"IF([1]Sheet1!A1524=113,0,[1]Sheet1!A1524)","v":0},{"$f":"IF([1]Sheet1!A1524=113,0,[1]Sheet1!F1524)","v":0},{"$f":"[1]Sheet1!G1524","v":0},{"$f":"[1]Sheet1!H1524","v":0},{"$f":"[1]Sheet1!J1524","v":0},"0 0",null,{"$f":"IF(A1521=113,0,[1]Sheet1!B1524)","v":0}]
[{"$f":"IF([1]Sheet1!A1525=113,0,[1]Sheet1!A1525)","v":0},{"$f":"IF([1]Sheet1!A1525=113,0,[1]Sheet1!F1525)","v":0},{"$f":"[1]Sheet1!G1525","v":0},{"$f":"[1]Sheet1!H1525","v":0},{"$f":"[1]Sheet1!J1525","v":0},"0 0",null,{"$f":"IF(A1522=113,0,[1]Sheet1!B1525)","v":0}]
[{"$f":"IF([1]Sheet1!A1526=113,0,[1]Sheet1!A1526)","v":0},{"$f":"IF([1]Sheet1!A1526=113,0,[1]Sheet1!F1526)","v":0},{"$f":"[1]Sheet1!G1526","v":0},{"$f":"[1]Sheet1!H1526","v":0},{"$f":"[1]Sheet1!J1526","v":0},"0 0",null,{"$f":"IF(A1523=113,0,[1]Sheet1!B1526)","v":0}]
[{"$f":"IF([1]Sheet1!A1527=113,0,[1]Sheet1!A1527)","v":0},{"$f":"IF([1]Sheet1!A1527=113,0,[1]Sheet1!F1527)","v":0},{"$f":"[1]Sheet1!G1527","v":0},{"$f":"[1]Sheet1!H1527","v":0},{"$f":"[1]Sheet1!J1527","v":0},"0 0",null,{"$f":"IF(A1524=113,0,[1]Sheet1!B1527)","v":0}]
[{"$f":"IF([1]Sheet1!A1528=113,0,[1]Sheet1!A1528)","v":0},{"$f":"IF([1]Sheet1!A1528=113,0,[1]Sheet1!F1528)","v":0},{"$f":"[1]Sheet1!G1528","v":0},{"$f":"[1]Sheet1!H1528","v":0},{"$f":"[1]Sheet1!J1528","v":0},"0 0",null,{"$f":"IF(A1525=113,0,[1]Sheet1!B1528)","v":0}]
[{"$f":"IF([1]Sheet1!A1529=113,0,[1]Sheet1!A1529)","v":0},{"$f":"IF([1]Sheet1!A1529=113,0,[1]Sheet1!F1529)","v":0},{"$f":"[1]Sheet1!G1529","v":0},{"$f":"[1]Sheet1!H1529","v":0},{"$f":"[1]Sheet1!J1529","v":0},"0 0",null,{"$f":"IF(A1526=113,0,[1]Sheet1!B1529)","v":0}]
[{"$f":"IF([1]Sheet1!A1530=113,0,[1]Sheet1!A1530)","v":0},{"$f":"IF([1]Sheet1!A1530=113,0,[1]Sheet1!F1530)","v":0},{"$f":"[1]Sheet1!G1530","v":0},{"$f":"[1]Sheet1!H1530","v":0},{"$f":"[1]Sheet1!J1530","v":0},"0 0",null,{"$f":"IF(A1527=113,0,[1]Sheet1!B1530)","v":0}]
[{"$f":"IF([1]Sheet1!A1531=113,0,[1]Sheet1!A1531)","v":0},{"$f":"IF([1]Sheet1!A1531=113,0,[1]Sheet1!F1531)","v":0},{"$f":"[1]Sheet1!G1531","v":0},{"$f":"[1]Sheet1!H1531","v":0},{"$f":"[1]Sheet1!J1531","v":0},"0 0",null,{"$f":"IF(A1528=113,0,[1]Sheet1!B1531)","v":0}]
[{"$f":"IF([1]Sheet1!A1532=113,0,[1]Sheet1!A1532)","v":0},{"$f":"IF([1]Sheet1!A1532=113,0,[1]Sheet1!F1532)","v":0},{"$f":"[1]Sheet1!G1532","v":0},{"$f":"[1]Sheet1!H1532","v":0},{"$f":"[1]Sheet1!J1532","v":0},"0 0",null,{"$f":"IF(A1529=113,0,[1]Sheet1!B1532)","v":0}]
[{"$f":"IF([1]Sheet1!A1533=113,0,[1]Sheet1!A1533)","v":0},{"$f":"IF([1]Sheet1!A1533=113,0,[1]Sheet1!F1533)","v":0},{"$f":"[1]Sheet1!G1533","v":0},{"$f":"[1]Sheet1!H1533","v":0},{"$f":"[1]Sheet1!J1533","v":0},"0 0",null,{"$f":"IF(A1530=113,0,[1]Sheet1!B1533)","v":0}]
[{"$f":"[1]Sheet1!A1534","v":0},{"$f":"[1]Sheet1!F1534","v":0},{"$f":"[1]Sheet1!G1534","v":0},{"$f":"[1]Sheet1!H1534","v":0},{"$f":"[1]Sheet1!J1534","v":0},{"$f":"IF(E1531=0,CONCATENATE(D1531,\" \",C1531),CONCATENATE(D1531,\" \",E1531,\" \",C1531))","v":"0 0"},null,{"$f":"IF(A1531=12584,\"\",[2]Sheet1!B1534)","v":0}]
[{"$f":"[1]Sheet1!A1535","v":0},{"$f":"[1]Sheet1!F1535","v":0},{"$f":"[1]Sheet1!G1535","v":0},{"$f":"[1]Sheet1!H1535","v":0},{"$f":"[1]Sheet1!J1535","v":0},"0 0",null,{"$f":"IF(A1532=12584,\"\",[2]Sheet1!B1535)","v":0}]
[{"$f":"[1]Sheet1!A1536","v":0},{"$f":"[1]Sheet1!F1536","v":0},{"$f":"[1]Sheet1!G1536","v":0},{"$f":"[1]Sheet1!H1536","v":0},{"$f":"[1]Sheet1!J1536","v":0},"0 0",null,{"$f":"IF(A1533=12584,\"\",[2]Sheet1!B1536)","v":0}]
[{"$f":"[1]Sheet1!A1537","v":0},{"$f":"[1]Sheet1!F1537","v":0},{"$f":"[1]Sheet1!G1537","v":0},{"$f":"[1]Sheet1!H1537","v":0},{"$f":"[1]Sheet1!J1537","v":0},"0 0",null,{"$f":"IF(A1534=12584,\"\",[2]Sheet1!B1537)","v":0}]
[{"$f":"[1]Sheet1!A1538","v":0},{"$f":"[1]Sheet1!F1538","v":0},{"$f":"[1]Sheet1!G1538","v":0},{"$f":"[1]Sheet1!H1538","v":0},{"$f":"[1]Sheet1!J1538","v":0},"0 0",null,{"$f":"IF(A1535=12584,\"\",[2]Sheet1!B1538)","v":0}]
[{"$f":"[1]Sheet1!A1539","v":0},{"$f":"[1]Sheet1!F1539","v":0},{"$f":"[1]Sheet1!G1539","v":0},{"$f":"[1]Sheet1!H1539","v":0},{"$f":"[1]Sheet1!J1539","v":0},"0 0",null,{"$f":"IF(A1536=12584,\"\",[2]Sheet1!B1539)","v":0}]
[{"$f":"[1]Sheet1!A1540","v":0},{"$f":"[1]Sheet1!F1540","v":0},{"$f":"[1]Sheet1!G1540","v":0},{"$f":"[1]Sheet1!H1540","v":0},{"$f":"[1]Sheet1!J1540","v":0},"0 0",null,{"$f":"IF(A1537=12584,\"\",[2]Sheet1!B1540)","v":0}]
[{"$f":"[1]Sheet1!A1541","v":0},{"$f":"[1]Sheet1!F1541","v":0},{"$f":"[1]Sheet1!G1541","v":0},{"$f":"[1]Sheet1!H1541","v":0},{"$f":"[1]Sheet1!J1541","v":0},{"$f":"IF(E1538=0,CONCATENATE(D1538,\" \",C1538),CONCATENATE(D1538,\" \",E1538,\" \",C1538))","v":"0 0"},null,{"$f":"IF(A1538=12584,\"\",[2]Sheet1!B1541)","v":0}]
[{"$f":"[1]Sheet1!A1542","v":0},{"$f":"[1]Sheet1!F1542","v":0},{"$f":"[1]Sheet1!G1542","v":0},{"$f":"[1]Sheet1!H1542","v":0},{"$f":"[1]Sheet1!J1542","v":0},"0 0",null,{"$f":"IF(A1539=12584,\"\",[2]Sheet1!B1542)","v":0}]
[{"$f":"[1]Sheet1!A1543","v":0},{"$f":"[1]Sheet1!F1543","v":0},{"$f":"[1]Sheet1!G1543","v":0},{"$f":"[1]Sheet1!H1543","v":0},{"$f":"[1]Sheet1!J1543","v":0},"0 0",null,{"$f":"IF(A1540=12584,\"\",[2]Sheet1!B1543)","v":0}]
[{"$f":"[1]Sheet1!A1544","v":0},{"$f":"[1]Sheet1!F1544","v":0},{"$f":"[1]Sheet1!G1544","v":0},{"$f":"[1]Sheet1!H1544","v":0},{"$f":"[1]Sheet1!J1544","v":0},"0 0",null,{"$f":"IF(A1541=12584,\"\",[2]Sheet1!B1544)","v":0}]
[{"$f":"[1]Sheet1!A1545","v":0},{"$f":"[1]Sheet1!F1545","v":0},{"$f":"[1]Sheet1!G1545","v":0},{"$f":"[1]Sheet1!H1545","v":0},{"$f":"[1]Sheet1!J1545","v":0},"0 0",null,{"$f":"IF(A1542=12584,\"\",[2]Sheet1!B1545)","v":0}]
[{"$f":"[1]Sheet1!A1546","v":0},{"$f":"[1]Sheet1!F1546","v":0},{"$f":"[1]Sheet1!G1546","v":0},{"$f":"[1]Sheet1!H1546","v":0},{"$f":"[1]Sheet1!J1546","v":0},"0 0",null,{"$f":"IF(A1543=12584,\"\",[2]Sheet1!B1546)","v":0}]
[{"$f":"[1]Sheet1!A1547","v":0},{"$f":"[1]Sheet1!F1547","v":0},{"$f":"[1]Sheet1!G1547","v":0},{"$f":"[1]Sheet1!H1547","v":0},{"$f":"[1]Sheet1!J1547","v":0},"0 0",null,{"$f":"IF(A1544=12584,\"\",[2]Sheet1!B1547)","v":0}]
[{"$f":"[1]Sheet1!A1548","v":0},{"$f":"[1]Sheet1!F1548","v":0},{"$f":"[1]Sheet1!G1548","v":0},{"$f":"[1]Sheet1!H1548","v":0},{"$f":"[1]Sheet1!J1548","v":0},"0 0",null,{"$f":"IF(A1545=12584,\"\",[2]Sheet1!B1548)","v":0}]
[{"$f":"[1]Sheet1!A1549","v":0},{"$f":"[1]Sheet1!F1549","v":0},{"$f":"[1]Sheet1!G1549","v":0},{"$f":"[1]Sheet1!H1549","v":0},{"$f":"[1]Sheet1!J1549","v":0},"0 0",null,{"$f":"IF(A1546=12584,\"\",[2]Sheet1!B1549)","v":0}]
[{"$f":"[1]Sheet1!A1550","v":0},{"$f":"[1]Sheet1!F1550","v":0},{"$f":"[1]Sheet1!G1550","v":0},{"$f":"[1]Sheet1!H1550","v":0},{"$f":"[1]Sheet1!J1550","v":0},"0 0",null,{"$f":"IF(A1547=12584,\"\",[2]Sheet1!B1550)","v":0}]
[{"$f":"[1]Sheet1!A1551","v":0},{"$f":"[1]Sheet1!F1551","v":0},{"$f":"[1]Sheet1!G1551","v":0},{"$f":"[1]Sheet1!H1551","v":0},{"$f":"[1]Sheet1!J1551","v":0},"0 0",null,{"$f":"IF(A1548=12584,\"\",[2]Sheet1!B1551)","v":0}]
[{"$f":"[1]Sheet1!A1552","v":0},{"$f":"[1]Sheet1!F1552","v":0},{"$f":"[1]Sheet1!G1552","v":0},{"$f":"[1]Sheet1!H1552","v":0},{"$f":"[1]Sheet1!J1552","v":0},"0 0",null,{"$f":"IF(A1549=12584,\"\",[2]Sheet1!B1552)","v":0}]
[{"$f":"[1]Sheet1!A1553","v":0},{"$f":"[1]Sheet1!F1553","v":0},{"$f":"[1]Sheet1!G1553","v":0},{"$f":"[1]Sheet1!H1553","v":0},{"$f":"[1]Sheet1!J1553","v":0},"0 0",null,{"$f":"IF(A1550=12584,\"\",[2]Sheet1!B1553)","v":0}]
[{"$f":"[1]Sheet1!A1554","v":0},{"$f":"[1]Sheet1!F1554","v":0},{"$f":"[1]Sheet1!G1554","v":0},{"$f":"[1]Sheet1!H1554","v":0},{"$f":"[1]Sheet1!J1554","v":0},"0 0",null,{"$f":"IF(A1551=12584,\"\",[2]Sheet1!B1554)","v":0}]
[{"$f":"[1]Sheet1!A1555","v":0},{"$f":"[1]Sheet1!F1555","v":0},{"$f":"[1]Sheet1!G1555","v":0},{"$f":"[1]Sheet1!H1555","v":0},{"$f":"[1]Sheet1!J1555","v":0},"0 0",null,{"$f":"IF(A1552=12584,\"\",[2]Sheet1!B1555)","v":0}]
[{"$f":"[1]Sheet1!A1556","v":0},{"$f":"[1]Sheet1!F1556","v":0},{"$f":"[1]Sheet1!G1556","v":0},{"$f":"[1]Sheet1!H1556","v":0},{"$f":"[1]Sheet1!J1556","v":0},"0 0",null,{"$f":"IF(A1553=12584,\"\",[2]Sheet1!B1556)","v":0}]
[{"$f":"[1]Sheet1!A1557","v":0},{"$f":"[1]Sheet1!F1557","v":0},{"$f":"[1]Sheet1!G1557","v":0},{"$f":"[1]Sheet1!H1557","v":0},{"$f":"[1]Sheet1!J1557","v":0},"0 0",null,{"$f":"IF(A1554=12584,\"\",[2]Sheet1!B1557)","v":0}]
[{"$f":"[1]Sheet1!A1558","v":0},{"$f":"[1]Sheet1!F1558","v":0},{"$f":"[1]Sheet1!G1558","v":0},{"$f":"[1]Sheet1!H1558","v":0},{"$f":"[1]Sheet1!J1558","v":0},"0 0",null,{"$f":"IF(A1555=12584,\"\",[2]Sheet1!B1558)","v":0}]
[{"$f":"[1]Sheet1!A1559","v":0},{"$f":"[1]Sheet1!F1559","v":0},{"$f":"[1]Sheet1!G1559","v":0},{"$f":"[1]Sheet1!H1559","v":0},{"$f":"[1]Sheet1!J1559","v":0},"0 0",null,{"$f":"IF(A1556=12584,\"\",[2]Sheet1!B1559)","v":0}]
[{"$f":"[1]Sheet1!A1560","v":0},{"$f":"[1]Sheet1!F1560","v":0},{"$f":"[1]Sheet1!G1560","v":0},{"$f":"[1]Sheet1!H1560","v":0},{"$f":"[1]Sheet1!J1560","v":0},"0 0",null,{"$f":"IF(A1557=12584,\"\",[2]Sheet1!B1560)","v":0}]
[{"$f":"[1]Sheet1!A1561","v":0},{"$f":"[1]Sheet1!F1561","v":0},{"$f":"[1]Sheet1!G1561","v":0},{"$f":"[1]Sheet1!H1561","v":0},{"$f":"[1]Sheet1!J1561","v":0},"0 0",null,{"$f":"IF(A1558=12584,\"\",[2]Sheet1!B1561)","v":0}]
[{"$f":"[1]Sheet1!A1562","v":0},{"$f":"[1]Sheet1!F1562","v":0},{"$f":"[1]Sheet1!G1562","v":0},{"$f":"[1]Sheet1!H1562","v":0},{"$f":"[1]Sheet1!J1562","v":0},"0 0",null,{"$f":"IF(A1559=12584,\"\",[2]Sheet1!B1562)","v":0}]
[{"$f":"[1]Sheet1!A1563","v":0},{"$f":"[1]Sheet1!F1563","v":0},{"$f":"[1]Sheet1!G1563","v":0},{"$f":"[1]Sheet1!H1563","v":0},{"$f":"[1]Sheet1!J1563","v":0},"0 0",null,{"$f":"IF(A1560=12584,\"\",[2]Sheet1!B1563)","v":0}]
[{"$f":"[1]Sheet1!A1564","v":0},{"$f":"[1]Sheet1!F1564","v":0},{"$f":"[1]Sheet1!G1564","v":0},{"$f":"[1]Sheet1!H1564","v":0},{"$f":"[1]Sheet1!J1564","v":0},"0 0",null,{"$f":"IF(A1561=12584,\"\",[2]Sheet1!B1564)","v":0}]
[{"$f":"[1]Sheet1!A1565","v":0},{"$f":"[1]Sheet1!F1565","v":0},{"$f":"[1]Sheet1!G1565","v":0},{"$f":"[1]Sheet1!H1565","v":0},{"$f":"[1]Sheet1!J1565","v":0},"0 0",null,{"$f":"IF(A1562=12584,\"\",[2]Sheet1!B1565)","v":0}]
[{"$f":"[1]Sheet1!A1566","v":0},{"$f":"[1]Sheet1!F1566","v":0},{"$f":"[1]Sheet1!G1566","v":0},{"$f":"[1]Sheet1!H1566","v":0},{"$f":"[1]Sheet1!J1566","v":0},"0 0",null,{"$f":"IF(A1563=12584,\"\",[2]Sheet1!B1566)","v":0}]
[{"$f":"[1]Sheet1!A1567","v":0},{"$f":"[1]Sheet1!F1567","v":0},{"$f":"[1]Sheet1!G1567","v":0},{"$f":"[1]Sheet1!H1567","v":0},{"$f":"[1]Sheet1!J1567","v":0},"0 0",null,{"$f":"IF(A1564=12584,\"\",[2]Sheet1!B1567)","v":0}]
[{"$f":"[1]Sheet1!A1568","v":0},{"$f":"[1]Sheet1!F1568","v":0},{"$f":"[1]Sheet1!G1568","v":0},{"$f":"[1]Sheet1!H1568","v":0},{"$f":"[1]Sheet1!J1568","v":0},"0 0",null,{"$f":"IF(A1565=12584,\"\",[2]Sheet1!B1568)","v":0}]
[{"$f":"[1]Sheet1!A1569","v":0},{"$f":"[1]Sheet1!F1569","v":0},{"$f":"[1]Sheet1!G1569","v":0},{"$f":"[1]Sheet1!H1569","v":0},{"$f":"[1]Sheet1!J1569","v":0},"0 0",null,{"$f":"IF(A1566=12584,\"\",[2]Sheet1!B1569)","v":0}]
[{"$f":"[1]Sheet1!A1570","v":0},{"$f":"[1]Sheet1!F1570","v":0},{"$f":"[1]Sheet1!G1570","v":0},{"$f":"[1]Sheet1!H1570","v":0},{"$f":"[1]Sheet1!J1570","v":0},"0 0",null,{"$f":"IF(A1567=12584,\"\",[2]Sheet1!B1570)","v":0}]
[{"$f":"[1]Sheet1!A1571","v":0},{"$f":"[1]Sheet1!F1571","v":0},{"$f":"[1]Sheet1!G1571","v":0},{"$f":"[1]Sheet1!H1571","v":0},{"$f":"[1]Sheet1!J1571","v":0},"0 0",null,{"$f":"IF(A1568=12584,\"\",[2]Sheet1!B1571)","v":0}]
[{"$f":"[1]Sheet1!A1572","v":0},{"$f":"[1]Sheet1!F1572","v":0},{"$f":"[1]Sheet1!G1572","v":0},{"$f":"[1]Sheet1!H1572","v":0},{"$f":"[1]Sheet1!J1572","v":0},"0 0",null,{"$f":"IF(A1569=12584,\"\",[2]Sheet1!B1572)","v":0}]
[{"$f":"[1]Sheet1!A1573","v":0},{"$f":"[1]Sheet1!F1573","v":0},{"$f":"[1]Sheet1!G1573","v":0},{"$f":"[1]Sheet1!H1573","v":0},{"$f":"[1]Sheet1!J1573","v":0},"0 0",null,{"$f":"IF(A1570=12584,\"\",[2]Sheet1!B1573)","v":0}]
[{"$f":"[1]Sheet1!A1574","v":0},{"$f":"[1]Sheet1!F1574","v":0},{"$f":"[1]Sheet1!G1574","v":0},{"$f":"[1]Sheet1!H1574","v":0},{"$f":"[1]Sheet1!J1574","v":0},"0 0",null,{"$f":"IF(A1571=12584,\"\",[2]Sheet1!B1574)","v":0}]
[{"$f":"[1]Sheet1!A1575","v":0},{"$f":"[1]Sheet1!F1575","v":0},{"$f":"[1]Sheet1!G1575","v":0},{"$f":"[1]Sheet1!H1575","v":0},{"$f":"[1]Sheet1!J1575","v":0},"0 0",null,{"$f":"IF(A1572=12584,\"\",[2]Sheet1!B1575)","v":0}]
[{"$f":"[1]Sheet1!A1576","v":0},{"$f":"[1]Sheet1!F1576","v":0},{"$f":"[1]Sheet1!G1576","v":0},{"$f":"[1]Sheet1!H1576","v":0},{"$f":"[1]Sheet1!J1576","v":0},"0 0",null,{"$f":"IF(A1573=12584,\"\",[2]Sheet1!B1576)","v":0}]
[{"$f":"[1]Sheet1!A1577","v":0},{"$f":"[1]Sheet1!F1577","v":0},{"$f":"[1]Sheet1!G1577","v":0},{"$f":"[1]Sheet1!H1577","v":0},{"$f":"[1]Sheet1!J1577","v":0},"0 0",null,{"$f":"IF(A1574=12584,\"\",[2]Sheet1!B1577)","v":0}]
[{"$f":"[1]Sheet1!A1578","v":0},{"$f":"[1]Sheet1!F1578","v":0},{"$f":"[1]Sheet1!G1578","v":0},{"$f":"[1]Sheet1!H1578","v":0},{"$f":"[1]Sheet1!J1578","v":0},"0 0",null,{"$f":"IF(A1575=12584,\"\",[2]Sheet1!B1578)","v":0}]
[{"$f":"[1]Sheet1!A1579","v":0},{"$f":"[1]Sheet1!F1579","v":0},{"$f":"[1]Sheet1!G1579","v":0},{"$f":"[1]Sheet1!H1579","v":0},{"$f":"[1]Sheet1!J1579","v":0},"0 0",null,{"$f":"IF(A1576=12584,\"\",[2]Sheet1!B1579)","v":0}]
[{"$f":"[1]Sheet1!A1580","v":0},{"$f":"[1]Sheet1!F1580","v":0},{"$f":"[1]Sheet1!G1580","v":0},{"$f":"[1]Sheet1!H1580","v":0},{"$f":"[1]Sheet1!J1580","v":0},"0 0",null,{"$f":"IF(A1577=12584,\"\",[2]Sheet1!B1580)","v":0}]
[{"$f":"[1]Sheet1!A1581","v":0},{"$f":"[1]Sheet1!F1581","v":0},{"$f":"[1]Sheet1!G1581","v":0},{"$f":"[1]Sheet1!H1581","v":0},{"$f":"[1]Sheet1!J1581","v":0},"0 0",null,{"$f":"IF(A1578=12584,\"\",[2]Sheet1!B1581)","v":0}]
[{"$f":"[1]Sheet1!A1582","v":0},{"$f":"[1]Sheet1!F1582","v":0},{"$f":"[1]Sheet1!G1582","v":0},{"$f":"[1]Sheet1!H1582","v":0},{"$f":"[1]Sheet1!J1582","v":0},"0 0",null,{"$f":"IF(A1579=12584,\"\",[2]Sheet1!B1582)","v":0}]
[{"$f":"[1]Sheet1!A1583","v":0},{"$f":"[1]Sheet1!F1583","v":0},{"$f":"[1]Sheet1!G1583","v":0},{"$f":"[1]Sheet1!H1583","v":0},{"$f":"[1]Sheet1!J1583","v":0},"0 0",null,{"$f":"IF(A1580=12584,\"\",[2]Sheet1!B1583)","v":0}]
[{"$f":"[1]Sheet1!A1584","v":0},{"$f":"[1]Sheet1!F1584","v":0},{"$f":"[1]Sheet1!G1584","v":0},{"$f":"[1]Sheet1!H1584","v":0},{"$f":"[1]Sheet1!J1584","v":0},"0 0",null,{"$f":"IF(A1581=12584,\"\",[2]Sheet1!B1584)","v":0}]
[{"$f":"[1]Sheet1!A1585","v":0},{"$f":"[1]Sheet1!F1585","v":0},{"$f":"[1]Sheet1!G1585","v":0},{"$f":"[1]Sheet1!H1585","v":0},{"$f":"[1]Sheet1!J1585","v":0},"0 0",null,{"$f":"IF(A1582=12584,\"\",[2]Sheet1!B1585)","v":0}]
[{"$f":"[1]Sheet1!A1586","v":0},{"$f":"[1]Sheet1!F1586","v":0},{"$f":"[1]Sheet1!G1586","v":0},{"$f":"[1]Sheet1!H1586","v":0},{"$f":"[1]Sheet1!J1586","v":0},"0 0",null,{"$f":"IF(A1583=12584,\"\",[2]Sheet1!B1586)","v":0}]
[{"$f":"[1]Sheet1!A1587","v":0},{"$f":"[1]Sheet1!F1587","v":0},{"$f":"[1]Sheet1!G1587","v":0},{"$f":"[1]Sheet1!H1587","v":0},{"$f":"[1]Sheet1!J1587","v":0},"0 0",null,{"$f":"IF(A1584=12584,\"\",[2]Sheet1!B1587)","v":0}]
[{"$f":"[1]Sheet1!A1588","v":0},{"$f":"[1]Sheet1!F1588","v":0},{"$f":"[1]Sheet1!G1588","v":0},{"$f":"[1]Sheet1!H1588","v":0},{"$f":"[1]Sheet1!J1588","v":0},"0 0",null,{"$f":"IF(A1585=12584,\"\",[2]Sheet1!B1588)","v":0}]
[{"$f":"[1]Sheet1!A1589","v":0},{"$f":"[1]Sheet1!F1589","v":0},{"$f":"[1]Sheet1!G1589","v":0},{"$f":"[1]Sheet1!H1589","v":0},{"$f":"[1]Sheet1!J1589","v":0},"0 0",null,{"$f":"IF(A1586=12584,\"\",[2]Sheet1!B1589)","v":0}]
[{"$f":"[1]Sheet1!A1590","v":0},{"$f":"[1]Sheet1!F1590","v":0},{"$f":"[1]Sheet1!G1590","v":0},{"$f":"[1]Sheet1!H1590","v":0},{"$f":"[1]Sheet1!J1590","v":0},"0 0",null,{"$f":"IF(A1587=12584,\"\",[2]Sheet1!B1590)","v":0}]
[{"$f":"[1]Sheet1!A1591","v":0},{"$f":"[1]Sheet1!F1591","v":0},{"$f":"[1]Sheet1!G1591","v":0},{"$f":"[1]Sheet1!H1591","v":0},{"$f":"[1]Sheet1!J1591","v":0},"0 0",null,{"$f":"IF(A1588=12584,\"\",[2]Sheet1!B1591)","v":0}]
[{"$f":"[1]Sheet1!A1592","v":0},{"$f":"[1]Sheet1!F1592","v":0},{"$f":"[1]Sheet1!G1592","v":0},{"$f":"[1]Sheet1!H1592","v":0},{"$f":"[1]Sheet1!J1592","v":0},"0 0",null,{"$f":"IF(A1589=12584,\"\",[2]Sheet1!B1592)","v":0}]
[{"$f":"[1]Sheet1!A1593","v":0},{"$f":"[1]Sheet1!F1593","v":0},{"$f":"[1]Sheet1!G1593","v":0},{"$f":"[1]Sheet1!H1593","v":0},{"$f":"[1]Sheet1!J1593","v":0},"0 0",null,{"$f":"IF(A1590=12584,\"\",[2]Sheet1!B1593)","v":0}]
[{"$f":"[1]Sheet1!A1594","v":0},{"$f":"[1]Sheet1!F1594","v":0},{"$f":"[1]Sheet1!G1594","v":0},{"$f":"[1]Sheet1!H1594","v":0},{"$f":"[1]Sheet1!J1594","v":0},"0 0",null,{"$f":"IF(A1591=12584,\"\",[2]Sheet1!B1594)","v":0}]
[{"$f":"[1]Sheet1!A1595","v":0},{"$f":"[1]Sheet1!F1595","v":0},{"$f":"[1]Sheet1!G1595","v":0},{"$f":"[1]Sheet1!H1595","v":0},{"$f":"[1]Sheet1!J1595","v":0},"0 0",null,{"$f":"IF(A1592=12584,\"\",[2]Sheet1!B1595)","v":0}]
[{"$f":"[1]Sheet1!A1596","v":0},{"$f":"[1]Sheet1!F1596","v":0},{"$f":"[1]Sheet1!G1596","v":0},{"$f":"[1]Sheet1!H1596","v":0},{"$f":"[1]Sheet1!J1596","v":0},"0 0",null,{"$f":"IF(A1593=12584,\"\",[2]Sheet1!B1596)","v":0}]
[{"$f":"[1]Sheet1!A1597","v":0},{"$f":"[1]Sheet1!F1597","v":0},{"$f":"[1]Sheet1!G1597","v":0},{"$f":"[1]Sheet1!H1597","v":0},{"$f":"[1]Sheet1!J1597","v":0},"0 0",null,{"$f":"IF(A1594=12584,\"\",[2]Sheet1!B1597)","v":0}]
[{"$f":"[1]Sheet1!A1598","v":0},{"$f":"[1]Sheet1!F1598","v":0},{"$f":"[1]Sheet1!G1598","v":0},{"$f":"[1]Sheet1!H1598","v":0},{"$f":"[1]Sheet1!J1598","v":0},"0 0",null,{"$f":"IF(A1595=12584,\"\",[2]Sheet1!B1598)","v":0}]
[{"$f":"[1]Sheet1!A1599","v":0},{"$f":"[1]Sheet1!F1599","v":0},{"$f":"[1]Sheet1!G1599","v":0},{"$f":"[1]Sheet1!H1599","v":0},{"$f":"[1]Sheet1!J1599","v":0},"0 0",null,{"$f":"IF(A1596=12584,\"\",[2]Sheet1!B1599)","v":0}]
[{"$f":"[1]Sheet1!A1600","v":0},{"$f":"[1]Sheet1!F1600","v":0},{"$f":"[1]Sheet1!G1600","v":0},{"$f":"[1]Sheet1!H1600","v":0},{"$f":"[1]Sheet1!J1600","v":0},"0 0",null,{"$f":"IF(A1597=12584,\"\",[2]Sheet1!B1600)","v":0}]
[{"$f":"[1]Sheet1!A1601","v":0},{"$f":"[1]Sheet1!F1601","v":0},{"$f":"[1]Sheet1!G1601","v":0},{"$f":"[1]Sheet1!H1601","v":0},{"$f":"[1]Sheet1!J1601","v":0},"0 0",null,{"$f":"IF(A1598=12584,\"\",[2]Sheet1!B1601)","v":0}]
[{"$f":"[1]Sheet1!A1602","v":0},{"$f":"[1]Sheet1!F1602","v":0},{"$f":"[1]Sheet1!G1602","v":0},{"$f":"[1]Sheet1!H1602","v":0},{"$f":"[1]Sheet1!J1602","v":0},"0 0",null,{"$f":"IF(A1599=12584,\"\",[2]Sheet1!B1602)","v":0}]
[{"$f":"[1]Sheet1!A1603","v":0},{"$f":"[1]Sheet1!F1603","v":0},{"$f":"[1]Sheet1!G1603","v":0},{"$f":"[1]Sheet1!H1603","v":0},{"$f":"[1]Sheet1!J1603","v":0},"0 0",null,{"$f":"IF(A1600=12584,\"\",[2]Sheet1!B1603)","v":0}]
[{"$f":"[1]Sheet1!A1604","v":0},{"$f":"[1]Sheet1!F1604","v":0},{"$f":"[1]Sheet1!G1604","v":0},{"$f":"[1]Sheet1!H1604","v":0},{"$f":"[1]Sheet1!J1604","v":0},"0 0",null,{"$f":"IF(A1601=12584,\"\",[2]Sheet1!B1604)","v":0}]
[{"$f":"[1]Sheet1!A1605","v":0},{"$f":"[1]Sheet1!F1605","v":0},{"$f":"[1]Sheet1!G1605","v":0},{"$f":"[1]Sheet1!H1605","v":0},{"$f":"[1]Sheet1!J1605","v":0},{"$f":"IF(E1602=0,CONCATENATE(D1602,\" \",C1602),CONCATENATE(D1602,\" \",E1602,\" \",C1602))","v":"0 0"},null,{"$f":"IF(A1602=12584,\"\",[2]Sheet1!B1605)","v":0}]
[{"$f":"[1]Sheet1!A1606","v":0},{"$f":"[1]Sheet1!F1606","v":0},{"$f":"[1]Sheet1!G1606","v":0},{"$f":"[1]Sheet1!H1606","v":0},{"$f":"[1]Sheet1!J1606","v":0},"0 0",null,{"$f":"IF(A1603=12584,\"\",[2]Sheet1!B1606)","v":0}]
[{"$f":"[1]Sheet1!A1607","v":0},{"$f":"[1]Sheet1!F1607","v":0},{"$f":"[1]Sheet1!G1607","v":0},{"$f":"[1]Sheet1!H1607","v":0},{"$f":"[1]Sheet1!J1607","v":0},"0 0",null,{"$f":"IF(A1604=12584,\"\",[2]Sheet1!B1607)","v":0}]
[{"$f":"[1]Sheet1!A1608","v":0},{"$f":"[1]Sheet1!F1608","v":0},{"$f":"[1]Sheet1!G1608","v":0},{"$f":"[1]Sheet1!H1608","v":0},{"$f":"[1]Sheet1!J1608","v":0},"0 0",null,{"$f":"IF(A1605=12584,\"\",[2]Sheet1!B1608)","v":0}]
[{"$f":"[1]Sheet1!A1609","v":0},{"$f":"[1]Sheet1!F1609","v":0},{"$f":"[1]Sheet1!G1609","v":0},{"$f":"[1]Sheet1!H1609","v":0},{"$f":"[1]Sheet1!J1609","v":0},"0 0",null,{"$f":"IF(A1606=12584,\"\",[2]Sheet1!B1609)","v":0}]
[{"$f":"[1]Sheet1!A1610","v":0},{"$f":"[1]Sheet1!F1610","v":0},{"$f":"[1]Sheet1!G1610","v":0},{"$f":"[1]Sheet1!H1610","v":0},{"$f":"[1]Sheet1!J1610","v":0},"0 0",null,{"$f":"IF(A1607=12584,\"\",[2]Sheet1!B1610)","v":0}]
[{"$f":"[1]Sheet1!A1611","v":0},{"$f":"[1]Sheet1!F1611","v":0},{"$f":"[1]Sheet1!G1611","v":0},{"$f":"[1]Sheet1!H1611","v":0},{"$f":"[1]Sheet1!J1611","v":0},"0 0",null,{"$f":"IF(A1608=12584,\"\",[2]Sheet1!B1611)","v":0}]
[{"$f":"[1]Sheet1!A1612","v":0},{"$f":"[1]Sheet1!F1612","v":0},{"$f":"[1]Sheet1!G1612","v":0},{"$f":"[1]Sheet1!H1612","v":0},{"$f":"[1]Sheet1!J1612","v":0},"0 0",null,{"$f":"IF(A1609=12584,\"\",[2]Sheet1!B1612)","v":0}]
[{"$f":"[1]Sheet1!A1613","v":0},{"$f":"[1]Sheet1!F1613","v":0},{"$f":"[1]Sheet1!G1613","v":0},{"$f":"[1]Sheet1!H1613","v":0},{"$f":"[1]Sheet1!J1613","v":0},"0 0",null,{"$f":"IF(A1610=12584,\"\",[2]Sheet1!B1613)","v":0}]
[{"$f":"[1]Sheet1!A1614","v":0},{"$f":"[1]Sheet1!F1614","v":0},{"$f":"[1]Sheet1!G1614","v":0},{"$f":"[1]Sheet1!H1614","v":0},{"$f":"[1]Sheet1!J1614","v":0},"0 0",null,{"$f":"IF(A1611=12584,\"\",[2]Sheet1!B1614)","v":0}]
[{"$f":"[1]Sheet1!A1615","v":0},{"$f":"[1]Sheet1!F1615","v":0},{"$f":"[1]Sheet1!G1615","v":0},{"$f":"[1]Sheet1!H1615","v":0},{"$f":"[1]Sheet1!J1615","v":0},"0 0",null,{"$f":"IF(A1612=12584,\"\",[2]Sheet1!B1615)","v":0}]
[{"$f":"[1]Sheet1!A1616","v":0},{"$f":"[1]Sheet1!F1616","v":0},{"$f":"[1]Sheet1!G1616","v":0},{"$f":"[1]Sheet1!H1616","v":0},{"$f":"[1]Sheet1!J1616","v":0},"0 0",null,{"$f":"IF(A1613=12584,\"\",[2]Sheet1!B1616)","v":0}]
[{"$f":"[1]Sheet1!A1617","v":0},{"$f":"[1]Sheet1!F1617","v":0},{"$f":"[1]Sheet1!G1617","v":0},{"$f":"[1]Sheet1!H1617","v":0},{"$f":"[1]Sheet1!J1617","v":0},"0 0",null,{"$f":"IF(A1614=12584,\"\",[2]Sheet1!B1617)","v":0}]
[{"$f":"[1]Sheet1!A1618","v":0},{"$f":"[1]Sheet1!F1618","v":0},{"$f":"[1]Sheet1!G1618","v":0},{"$f":"[1]Sheet1!H1618","v":0},{"$f":"[1]Sheet1!J1618","v":0},"0 0",null,{"$f":"IF(A1615=12584,\"\",[2]Sheet1!B1618)","v":0}]
[{"$f":"[1]Sheet1!A1619","v":0},{"$f":"[1]Sheet1!F1619","v":0},{"$f":"[1]Sheet1!G1619","v":0},{"$f":"[1]Sheet1!H1619","v":0},{"$f":"[1]Sheet1!J1619","v":0},"0 0",null,{"$f":"IF(A1616=12584,\"\",[2]Sheet1!B1619)","v":0}]
[{"$f":"[1]Sheet1!A1620","v":0},{"$f":"[1]Sheet1!F1620","v":0},{"$f":"[1]Sheet1!G1620","v":0},{"$f":"[1]Sheet1!H1620","v":0},{"$f":"[1]Sheet1!J1620","v":0},"0 0",null,{"$f":"IF(A1617=12584,\"\",[2]Sheet1!B1620)","v":0}]
[{"$f":"[1]Sheet1!A1621","v":0},{"$f":"[1]Sheet1!F1621","v":0},{"$f":"[1]Sheet1!G1621","v":0},{"$f":"[1]Sheet1!H1621","v":0},{"$f":"[1]Sheet1!J1621","v":0},"0 0",null,{"$f":"IF(A1618=12584,\"\",[2]Sheet1!B1621)","v":0}]
[{"$f":"[1]Sheet1!A1622","v":0},{"$f":"[1]Sheet1!F1622","v":0},{"$f":"[1]Sheet1!G1622","v":0},{"$f":"[1]Sheet1!H1622","v":0},{"$f":"[1]Sheet1!J1622","v":0},"0 0",null,{"$f":"IF(A1619=12584,\"\",[2]Sheet1!B1622)","v":0}]
[{"$f":"[1]Sheet1!A1623","v":0},{"$f":"[1]Sheet1!F1623","v":0},{"$f":"[1]Sheet1!G1623","v":0},{"$f":"[1]Sheet1!H1623","v":0},{"$f":"[1]Sheet1!J1623","v":0},"0 0",null,{"$f":"IF(A1620=12584,\"\",[2]Sheet1!B1623)","v":0}]
[{"$f":"[1]Sheet1!A1624","v":0},{"$f":"[1]Sheet1!F1624","v":0},{"$f":"[1]Sheet1!G1624","v":0},{"$f":"[1]Sheet1!H1624","v":0},{"$f":"[1]Sheet1!J1624","v":0},"0 0",null,{"$f":"IF(A1621=12584,\"\",[2]Sheet1!B1624)","v":0}]
[{"$f":"[1]Sheet1!A1625","v":0},{"$f":"[1]Sheet1!F1625","v":0},{"$f":"[1]Sheet1!G1625","v":0},{"$f":"[1]Sheet1!H1625","v":0},{"$f":"[1]Sheet1!J1625","v":0},"0 0",null,{"$f":"IF(A1622=12584,\"\",[2]Sheet1!B1625)","v":0}]
[{"$f":"[1]Sheet1!A1626","v":0},{"$f":"[1]Sheet1!F1626","v":0},{"$f":"[1]Sheet1!G1626","v":0},{"$f":"[1]Sheet1!H1626","v":0},{"$f":"[1]Sheet1!J1626","v":0},"0 0",null,{"$f":"IF(A1623=12584,\"\",[2]Sheet1!B1626)","v":0}]
[{"$f":"[1]Sheet1!A1627","v":0},{"$f":"[1]Sheet1!F1627","v":0},{"$f":"[1]Sheet1!G1627","v":0},{"$f":"[1]Sheet1!H1627","v":0},{"$f":"[1]Sheet1!J1627","v":0},"0 0",null,{"$f":"IF(A1624=12584,\"\",[2]Sheet1!B1627)","v":0}]
[{"$f":"[1]Sheet1!A1628","v":0},{"$f":"[1]Sheet1!F1628","v":0},{"$f":"[1]Sheet1!G1628","v":0},{"$f":"[1]Sheet1!H1628","v":0},{"$f":"[1]Sheet1!J1628","v":0},"0 0",null,{"$f":"IF(A1625=12584,\"\",[2]Sheet1!B1628)","v":0}]
[{"$f":"[1]Sheet1!A1629","v":0},{"$f":"[1]Sheet1!F1629","v":0},{"$f":"[1]Sheet1!G1629","v":0},{"$f":"[1]Sheet1!H1629","v":0},{"$f":"[1]Sheet1!J1629","v":0},"0 0",null,{"$f":"IF(A1626=12584,\"\",[2]Sheet1!B1629)","v":0}]
[{"$f":"[1]Sheet1!A1630","v":0},{"$f":"[1]Sheet1!F1630","v":0},{"$f":"[1]Sheet1!G1630","v":0},{"$f":"[1]Sheet1!H1630","v":0},{"$f":"[1]Sheet1!J1630","v":0},"0 0",null,{"$f":"IF(A1627=12584,\"\",[2]Sheet1!B1630)","v":0}]
[{"$f":"[1]Sheet1!A1631","v":0},{"$f":"[1]Sheet1!F1631","v":0},{"$f":"[1]Sheet1!G1631","v":0},{"$f":"[1]Sheet1!H1631","v":0},{"$f":"[1]Sheet1!J1631","v":0},"0 0",null,{"$f":"IF(A1628=12584,\"\",[2]Sheet1!B1631)","v":0}]
[{"$f":"[1]Sheet1!A1632","v":0},{"$f":"[1]Sheet1!F1632","v":0},{"$f":"[1]Sheet1!G1632","v":0},{"$f":"[1]Sheet1!H1632","v":0},{"$f":"[1]Sheet1!J1632","v":0},"0 0",null,{"$f":"IF(A1629=12584,\"\",[2]Sheet1!B1632)","v":0}]
[{"$f":"[1]Sheet1!A1633","v":0},{"$f":"[1]Sheet1!F1633","v":0},{"$f":"[1]Sheet1!G1633","v":0},{"$f":"[1]Sheet1!H1633","v":0},{"$f":"[1]Sheet1!J1633","v":0},"0 0",null,{"$f":"IF(A1630=12584,\"\",[2]Sheet1!B1633)","v":0}]
[{"$f":"[1]Sheet1!A1634","v":0},{"$f":"[1]Sheet1!F1634","v":0},{"$f":"[1]Sheet1!G1634","v":0},{"$f":"[1]Sheet1!H1634","v":0},{"$f":"[1]Sheet1!J1634","v":0},"0 0",null,{"$f":"IF(A1631=12584,\"\",[2]Sheet1!B1634)","v":0}]
[{"$f":"[1]Sheet1!A1635","v":0},{"$f":"[1]Sheet1!F1635","v":0},{"$f":"[1]Sheet1!G1635","v":0},{"$f":"[1]Sheet1!H1635","v":0},{"$f":"[1]Sheet1!J1635","v":0},"0 0",null,{"$f":"IF(A1632=12584,\"\",[2]Sheet1!B1635)","v":0}]
[{"$f":"[1]Sheet1!A1636","v":0},{"$f":"[1]Sheet1!F1636","v":0},{"$f":"[1]Sheet1!G1636","v":0},{"$f":"[1]Sheet1!H1636","v":0},{"$f":"[1]Sheet1!J1636","v":0},"0 0",null,{"$f":"IF(A1633=12584,\"\",[2]Sheet1!B1636)","v":0}]
[{"$f":"[1]Sheet1!A1637","v":0},{"$f":"[1]Sheet1!F1637","v":0},{"$f":"[1]Sheet1!G1637","v":0},{"$f":"[1]Sheet1!H1637","v":0},{"$f":"[1]Sheet1!J1637","v":0},"0 0",null,{"$f":"IF(A1634=12584,\"\",[2]Sheet1!B1637)","v":0}]
[{"$f":"[1]Sheet1!A1638","v":0},{"$f":"[1]Sheet1!F1638","v":0},{"$f":"[1]Sheet1!G1638","v":0},{"$f":"[1]Sheet1!H1638","v":0},{"$f":"[1]Sheet1!J1638","v":0},"0 0",null,{"$f":"IF(A1635=12584,\"\",[2]Sheet1!B1638)","v":0}]
[{"$f":"[1]Sheet1!A1639","v":0},{"$f":"[1]Sheet1!F1639","v":0},{"$f":"[1]Sheet1!G1639","v":0},{"$f":"[1]Sheet1!H1639","v":0},{"$f":"[1]Sheet1!J1639","v":0},"0 0",null,{"$f":"IF(A1636=12584,\"\",[2]Sheet1!B1639)","v":0}]
[{"$f":"[1]Sheet1!A1640","v":0},{"$f":"[1]Sheet1!F1640","v":0},{"$f":"[1]Sheet1!G1640","v":0},{"$f":"[1]Sheet1!H1640","v":0},{"$f":"[1]Sheet1!J1640","v":0},"0 0",null,{"$f":"IF(A1637=12584,\"\",[2]Sheet1!B1640)","v":0}]
[{"$f":"[1]Sheet1!A1641","v":0},{"$f":"[1]Sheet1!F1641","v":0},{"$f":"[1]Sheet1!G1641","v":0},{"$f":"[1]Sheet1!H1641","v":0},{"$f":"[1]Sheet1!J1641","v":0},"0 0",null,{"$f":"IF(A1638=12584,\"\",[2]Sheet1!B1641)","v":0}]
[{"$f":"[1]Sheet1!A1642","v":0},{"$f":"[1]Sheet1!F1642","v":0},{"$f":"[1]Sheet1!G1642","v":0},{"$f":"[1]Sheet1!H1642","v":0},{"$f":"[1]Sheet1!J1642","v":0},"0 0",null,{"$f":"IF(A1639=12584,\"\",[2]Sheet1!B1642)","v":0}]
[{"$f":"[1]Sheet1!A1643","v":0},{"$f":"[1]Sheet1!F1643","v":0},{"$f":"[1]Sheet1!G1643","v":0},{"$f":"[1]Sheet1!H1643","v":0},{"$f":"[1]Sheet1!J1643","v":0},"0 0",null,{"$f":"IF(A1640=12584,\"\",[2]Sheet1!B1643)","v":0}]
[{"$f":"[1]Sheet1!A1644","v":0},{"$f":"[1]Sheet1!F1644","v":0},{"$f":"[1]Sheet1!G1644","v":0},{"$f":"[1]Sheet1!H1644","v":0},{"$f":"[1]Sheet1!J1644","v":0},"0 0",null,{"$f":"IF(A1641=12584,\"\",[2]Sheet1!B1644)","v":0}]
[{"$f":"[1]Sheet1!A1645","v":0},{"$f":"[1]Sheet1!F1645","v":0},{"$f":"[1]Sheet1!G1645","v":0},{"$f":"[1]Sheet1!H1645","v":0},{"$f":"[1]Sheet1!J1645","v":0},"0 0",null,{"$f":"IF(A1642=12584,\"\",[2]Sheet1!B1645)","v":0}]
[{"$f":"[1]Sheet1!A1646","v":0},{"$f":"[1]Sheet1!F1646","v":0},{"$f":"[1]Sheet1!G1646","v":0},{"$f":"[1]Sheet1!H1646","v":0},{"$f":"[1]Sheet1!J1646","v":0},"0 0",null,{"$f":"IF(A1643=12584,\"\",[2]Sheet1!B1646)","v":0}]
[{"$f":"[1]Sheet1!A1647","v":0},{"$f":"[1]Sheet1!F1647","v":0},{"$f":"[1]Sheet1!G1647","v":0},{"$f":"[1]Sheet1!H1647","v":0},{"$f":"[1]Sheet1!J1647","v":0},"0 0",null,{"$f":"IF(A1644=12584,\"\",[2]Sheet1!B1647)","v":0}]
[{"$f":"[1]Sheet1!A1648","v":0},{"$f":"[1]Sheet1!F1648","v":0},{"$f":"[1]Sheet1!G1648","v":0},{"$f":"[1]Sheet1!H1648","v":0},{"$f":"[1]Sheet1!J1648","v":0},"0 0",null,{"$f":"IF(A1645=12584,\"\",[2]Sheet1!B1648)","v":0}]
[{"$f":"[1]Sheet1!A1649","v":0},{"$f":"[1]Sheet1!F1649","v":0},{"$f":"[1]Sheet1!G1649","v":0},{"$f":"[1]Sheet1!H1649","v":0},{"$f":"[1]Sheet1!J1649","v":0},"0 0",null,{"$f":"IF(A1646=12584,\"\",[2]Sheet1!B1649)","v":0}]
[{"$f":"[1]Sheet1!A1650","v":0},{"$f":"[1]Sheet1!F1650","v":0},{"$f":"[1]Sheet1!G1650","v":0},{"$f":"[1]Sheet1!H1650","v":0},{"$f":"[1]Sheet1!J1650","v":0},"0 0",null,{"$f":"IF(A1647=12584,\"\",[2]Sheet1!B1650)","v":0}]
[{"$f":"[1]Sheet1!A1651","v":0},{"$f":"[1]Sheet1!F1651","v":0},{"$f":"[1]Sheet1!G1651","v":0},{"$f":"[1]Sheet1!H1651","v":0},{"$f":"[1]Sheet1!J1651","v":0},"0 0",null,{"$f":"IF(A1648=12584,\"\",[2]Sheet1!B1651)","v":0}]
[{"$f":"[1]Sheet1!A1652","v":0},{"$f":"[1]Sheet1!F1652","v":0},{"$f":"[1]Sheet1!G1652","v":0},{"$f":"[1]Sheet1!H1652","v":0},{"$f":"[1]Sheet1!J1652","v":0},"0 0",null,{"$f":"IF(A1649=12584,\"\",[2]Sheet1!B1652)","v":0}]
[{"$f":"[1]Sheet1!A1653","v":0},{"$f":"[1]Sheet1!F1653","v":0},{"$f":"[1]Sheet1!G1653","v":0},{"$f":"[1]Sheet1!H1653","v":0},{"$f":"[1]Sheet1!J1653","v":0},"0 0",null,{"$f":"IF(A1650=12584,\"\",[2]Sheet1!B1653)","v":0}]
[{"$f":"[1]Sheet1!A1654","v":0},{"$f":"[1]Sheet1!F1654","v":0},{"$f":"[1]Sheet1!G1654","v":0},{"$f":"[1]Sheet1!H1654","v":0},{"$f":"[1]Sheet1!J1654","v":0},"0 0",null,{"$f":"IF(A1651=12584,\"\",[2]Sheet1!B1654)","v":0}]
[{"$f":"[1]Sheet1!A1655","v":0},{"$f":"[1]Sheet1!F1655","v":0},{"$f":"[1]Sheet1!G1655","v":0},{"$f":"[1]Sheet1!H1655","v":0},{"$f":"[1]Sheet1!J1655","v":0},"0 0",null,{"$f":"IF(A1652=12584,\"\",[2]Sheet1!B1655)","v":0}]
[{"$f":"[1]Sheet1!A1656","v":0},{"$f":"[1]Sheet1!F1656","v":0},{"$f":"[1]Sheet1!G1656","v":0},{"$f":"[1]Sheet1!H1656","v":0},{"$f":"[1]Sheet1!J1656","v":0},"0 0",null,{"$f":"IF(A1653=12584,\"\",[2]Sheet1!B1656)","v":0}]
[{"$f":"[1]Sheet1!A1657","v":0},{"$f":"[1]Sheet1!F1657","v":0},{"$f":"[1]Sheet1!G1657","v":0},{"$f":"[1]Sheet1!H1657","v":0},{"$f":"[1]Sheet1!J1657","v":0},"0 0",null,{"$f":"IF(A1654=12584,\"\",[2]Sheet1!B1657)","v":0}]
[{"$f":"[1]Sheet1!A1658","v":0},{"$f":"[1]Sheet1!F1658","v":0},{"$f":"[1]Sheet1!G1658","v":0},{"$f":"[1]Sheet1!H1658","v":0},{"$f":"[1]Sheet1!J1658","v":0},"0 0",null,{"$f":"IF(A1655=12584,\"\",[2]Sheet1!B1658)","v":0}]
[{"$f":"[1]Sheet1!A1659","v":0},{"$f":"[1]Sheet1!F1659","v":0},{"$f":"[1]Sheet1!G1659","v":0},{"$f":"[1]Sheet1!H1659","v":0},{"$f":"[1]Sheet1!J1659","v":0},"0 0",null,{"$f":"IF(A1656=12584,\"\",[2]Sheet1!B1659)","v":0}]
[{"$f":"[1]Sheet1!A1660","v":0},{"$f":"[1]Sheet1!F1660","v":0},{"$f":"[1]Sheet1!G1660","v":0},{"$f":"[1]Sheet1!H1660","v":0},{"$f":"[1]Sheet1!J1660","v":0},"0 0",null,{"$f":"IF(A1657=12584,\"\",[2]Sheet1!B1660)","v":0}]
[{"$f":"[1]Sheet1!A1661","v":0},{"$f":"[1]Sheet1!F1661","v":0},{"$f":"[1]Sheet1!G1661","v":0},{"$f":"[1]Sheet1!H1661","v":0},{"$f":"[1]Sheet1!J1661","v":0},"0 0",null,{"$f":"IF(A1658=12584,\"\",[2]Sheet1!B1661)","v":0}]
[{"$f":"[1]Sheet1!A1662","v":0},{"$f":"[1]Sheet1!F1662","v":0},{"$f":"[1]Sheet1!G1662","v":0},{"$f":"[1]Sheet1!H1662","v":0},{"$f":"[1]Sheet1!J1662","v":0},"0 0",null,{"$f":"IF(A1659=12584,\"\",[2]Sheet1!B1662)","v":0}]
[{"$f":"[1]Sheet1!A1663","v":0},{"$f":"[1]Sheet1!F1663","v":0},{"$f":"[1]Sheet1!G1663","v":0},{"$f":"[1]Sheet1!H1663","v":0},{"$f":"[1]Sheet1!J1663","v":0},"0 0",null,{"$f":"IF(A1660=12584,\"\",[2]Sheet1!B1663)","v":0}]
[{"$f":"[1]Sheet1!A1664","v":0},{"$f":"[1]Sheet1!F1664","v":0},{"$f":"[1]Sheet1!G1664","v":0},{"$f":"[1]Sheet1!H1664","v":0},{"$f":"[1]Sheet1!J1664","v":0},"0 0",null,{"$f":"IF(A1661=12584,\"\",[2]Sheet1!B1664)","v":0}]
[{"$f":"[1]Sheet1!A1665","v":0},{"$f":"[1]Sheet1!F1665","v":0},{"$f":"[1]Sheet1!G1665","v":0},{"$f":"[1]Sheet1!H1665","v":0},{"$f":"[1]Sheet1!J1665","v":0},"0 0",null,{"$f":"IF(A1662=12584,\"\",[2]Sheet1!B1665)","v":0}]
[{"$f":"[1]Sheet1!A1666","v":0},{"$f":"[1]Sheet1!F1666","v":0},{"$f":"[1]Sheet1!G1666","v":0},{"$f":"[1]Sheet1!H1666","v":0},{"$f":"[1]Sheet1!J1666","v":0},"0 0",null,{"$f":"IF(A1663=12584,\"\",[2]Sheet1!B1666)","v":0}]
[{"$f":"[1]Sheet1!A1667","v":0},{"$f":"[1]Sheet1!F1667","v":0},{"$f":"[1]Sheet1!G1667","v":0},{"$f":"[1]Sheet1!H1667","v":0},{"$f":"[1]Sheet1!J1667","v":0},"0 0",null,{"$f":"IF(A1664=12584,\"\",[2]Sheet1!B1667)","v":0}]
[{"$f":"[1]Sheet1!A1668","v":0},{"$f":"[1]Sheet1!F1668","v":0},{"$f":"[1]Sheet1!G1668","v":0},{"$f":"[1]Sheet1!H1668","v":0},{"$f":"[1]Sheet1!J1668","v":0},"0 0",null,{"$f":"IF(A1665=12584,\"\",[2]Sheet1!B1668)","v":0}]
[{"$f":"[1]Sheet1!A1669","v":0},{"$f":"[1]Sheet1!F1669","v":0},{"$f":"[1]Sheet1!G1669","v":0},{"$f":"[1]Sheet1!H1669","v":0},{"$f":"[1]Sheet1!J1669","v":0},{"$f":"IF(E1666=0,CONCATENATE(D1666,\" \",C1666),CONCATENATE(D1666,\" \",E1666,\" \",C1666))","v":"0 0"},null,{"$f":"IF(A1666=12584,\"\",[2]Sheet1!B1669)","v":0}]
[{"$f":"[1]Sheet1!A1670","v":0},{"$f":"[1]Sheet1!F1670","v":0},{"$f":"[1]Sheet1!G1670","v":0},{"$f":"[1]Sheet1!H1670","v":0},{"$f":"[1]Sheet1!J1670","v":0},"0 0",null,{"$f":"IF(A1667=12584,\"\",[2]Sheet1!B1670)","v":0}]
[{"$f":"[1]Sheet1!A1671","v":0},{"$f":"[1]Sheet1!F1671","v":0},{"$f":"[1]Sheet1!G1671","v":0},{"$f":"[1]Sheet1!H1671","v":0},{"$f":"[1]Sheet1!J1671","v":0},"0 0",null,{"$f":"IF(A1668=12584,\"\",[2]Sheet1!B1671)","v":0}]
[{"$f":"[1]Sheet1!A1672","v":0},{"$f":"[1]Sheet1!F1672","v":0},{"$f":"[1]Sheet1!G1672","v":0},{"$f":"[1]Sheet1!H1672","v":0},{"$f":"[1]Sheet1!J1672","v":0},"0 0",null,{"$f":"IF(A1669=12584,\"\",[2]Sheet1!B1672)","v":0}]
[{"$f":"[1]Sheet1!A1673","v":0},{"$f":"[1]Sheet1!F1673","v":0},{"$f":"[1]Sheet1!G1673","v":0},{"$f":"[1]Sheet1!H1673","v":0},{"$f":"[1]Sheet1!J1673","v":0},"0 0",null,{"$f":"IF(A1670=12584,\"\",[2]Sheet1!B1673)","v":0}]
[{"$f":"[1]Sheet1!A1674","v":0},{"$f":"[1]Sheet1!F1674","v":0},{"$f":"[1]Sheet1!G1674","v":0},{"$f":"[1]Sheet1!H1674","v":0},{"$f":"[1]Sheet1!J1674","v":0},"0 0",null,{"$f":"IF(A1671=12584,\"\",[2]Sheet1!B1674)","v":0}]
[{"$f":"[1]Sheet1!A1675","v":0},{"$f":"[1]Sheet1!F1675","v":0},{"$f":"[1]Sheet1!G1675","v":0},{"$f":"[1]Sheet1!H1675","v":0},{"$f":"[1]Sheet1!J1675","v":0},"0 0",null,{"$f":"IF(A1672=12584,\"\",[2]Sheet1!B1675)","v":0}]
[{"$f":"[1]Sheet1!A1676","v":0},{"$f":"[1]Sheet1!F1676","v":0},{"$f":"[1]Sheet1!G1676","v":0},{"$f":"[1]Sheet1!H1676","v":0},{"$f":"[1]Sheet1!J1676","v":0},"0 0",null,{"$f":"IF(A1673=12584,\"\",[2]Sheet1!B1676)","v":0}]
[{"$f":"[1]Sheet1!A1677","v":0},{"$f":"[1]Sheet1!F1677","v":0},{"$f":"[1]Sheet1!G1677","v":0},{"$f":"[1]Sheet1!H1677","v":0},{"$f":"[1]Sheet1!J1677","v":0},"0 0",null,{"$f":"IF(A1674=12584,\"\",[2]Sheet1!B1677)","v":0}]
[{"$f":"[1]Sheet1!A1678","v":0},{"$f":"[1]Sheet1!F1678","v":0},{"$f":"[1]Sheet1!G1678","v":0},{"$f":"[1]Sheet1!H1678","v":0},{"$f":"[1]Sheet1!J1678","v":0},"0 0",null,{"$f":"IF(A1675=12584,\"\",[2]Sheet1!B1678)","v":0}]
[{"$f":"[1]Sheet1!A1679","v":0},{"$f":"[1]Sheet1!F1679","v":0},{"$f":"[1]Sheet1!G1679","v":0},{"$f":"[1]Sheet1!H1679","v":0},{"$f":"[1]Sheet1!J1679","v":0},"0 0",null,{"$f":"IF(A1676=12584,\"\",[2]Sheet1!B1679)","v":0}]
[{"$f":"[1]Sheet1!A1680","v":0},{"$f":"[1]Sheet1!F1680","v":0},{"$f":"[1]Sheet1!G1680","v":0},{"$f":"[1]Sheet1!H1680","v":0},{"$f":"[1]Sheet1!J1680","v":0},"0 0",null,{"$f":"IF(A1677=12584,\"\",[2]Sheet1!B1680)","v":0}]
[{"$f":"[1]Sheet1!A1681","v":0},{"$f":"[1]Sheet1!F1681","v":0},{"$f":"[1]Sheet1!G1681","v":0},{"$f":"[1]Sheet1!H1681","v":0},{"$f":"[1]Sheet1!J1681","v":0},"0 0",null,{"$f":"IF(A1678=12584,\"\",[2]Sheet1!B1681)","v":0}]
[{"$f":"[1]Sheet1!A1682","v":0},{"$f":"[1]Sheet1!F1682","v":0},{"$f":"[1]Sheet1!G1682","v":0},{"$f":"[1]Sheet1!H1682","v":0},{"$f":"[1]Sheet1!J1682","v":0},"0 0",null,{"$f":"IF(A1679=12584,\"\",[2]Sheet1!B1682)","v":0}]
[{"$f":"[1]Sheet1!A1683","v":0},{"$f":"[1]Sheet1!F1683","v":0},{"$f":"[1]Sheet1!G1683","v":0},{"$f":"[1]Sheet1!H1683","v":0},{"$f":"[1]Sheet1!J1683","v":0},"0 0",null,{"$f":"IF(A1680=12584,\"\",[2]Sheet1!B1683)","v":0}]
[{"$f":"[1]Sheet1!A1684","v":0},{"$f":"[1]Sheet1!F1684","v":0},{"$f":"[1]Sheet1!G1684","v":0},{"$f":"[1]Sheet1!H1684","v":0},{"$f":"[1]Sheet1!J1684","v":0},"0 0",null,{"$f":"IF(A1681=12584,\"\",[2]Sheet1!B1684)","v":0}]
[{"$f":"[1]Sheet1!A1685","v":0},{"$f":"[1]Sheet1!F1685","v":0},{"$f":"[1]Sheet1!G1685","v":0},{"$f":"[1]Sheet1!H1685","v":0},{"$f":"[1]Sheet1!J1685","v":0},"0 0",null,{"$f":"IF(A1682=12584,\"\",[2]Sheet1!B1685)","v":0}]
[{"$f":"[1]Sheet1!A1686","v":0},{"$f":"[1]Sheet1!F1686","v":0},{"$f":"[1]Sheet1!G1686","v":0},{"$f":"[1]Sheet1!H1686","v":0},{"$f":"[1]Sheet1!J1686","v":0},"0 0",null,{"$f":"IF(A1683=12584,\"\",[2]Sheet1!B1686)","v":0}]
[{"$f":"[1]Sheet1!A1687","v":0},{"$f":"[1]Sheet1!F1687","v":0},{"$f":"[1]Sheet1!G1687","v":0},{"$f":"[1]Sheet1!H1687","v":0},{"$f":"[1]Sheet1!J1687","v":0},"0 0",null,{"$f":"IF(A1684=12584,\"\",[2]Sheet1!B1687)","v":0}]
[{"$f":"[1]Sheet1!A1688","v":0},{"$f":"[1]Sheet1!F1688","v":0},{"$f":"[1]Sheet1!G1688","v":0},{"$f":"[1]Sheet1!H1688","v":0},{"$f":"[1]Sheet1!J1688","v":0},"0 0",null,{"$f":"IF(A1685=12584,\"\",[2]Sheet1!B1688)","v":0}]
[{"$f":"[1]Sheet1!A1689","v":0},{"$f":"[1]Sheet1!F1689","v":0},{"$f":"[1]Sheet1!G1689","v":0},{"$f":"[1]Sheet1!H1689","v":0},{"$f":"[1]Sheet1!J1689","v":0},"0 0",null,{"$f":"IF(A1686=12584,\"\",[2]Sheet1!B1689)","v":0}]
[{"$f":"[1]Sheet1!A1690","v":0},{"$f":"[1]Sheet1!F1690","v":0},{"$f":"[1]Sheet1!G1690","v":0},{"$f":"[1]Sheet1!H1690","v":0},{"$f":"[1]Sheet1!J1690","v":0},"0 0",null,{"$f":"IF(A1687=12584,\"\",[2]Sheet1!B1690)","v":0}]
[{"$f":"[1]Sheet1!A1691","v":0},{"$f":"[1]Sheet1!F1691","v":0},{"$f":"[1]Sheet1!G1691","v":0},{"$f":"[1]Sheet1!H1691","v":0},{"$f":"[1]Sheet1!J1691","v":0},"0 0",null,{"$f":"IF(A1688=12584,\"\",[2]Sheet1!B1691)","v":0}]
[{"$f":"[1]Sheet1!A1692","v":0},{"$f":"[1]Sheet1!F1692","v":0},{"$f":"[1]Sheet1!G1692","v":0},{"$f":"[1]Sheet1!H1692","v":0},{"$f":"[1]Sheet1!J1692","v":0},"0 0",null,{"$f":"IF(A1689=12584,\"\",[2]Sheet1!B1692)","v":0}]
[{"$f":"[1]Sheet1!A1693","v":0},{"$f":"[1]Sheet1!F1693","v":0},{"$f":"[1]Sheet1!G1693","v":0},{"$f":"[1]Sheet1!H1693","v":0},{"$f":"[1]Sheet1!J1693","v":0},"0 0",null,{"$f":"IF(A1690=12584,\"\",[2]Sheet1!B1693)","v":0}]
[{"$f":"[1]Sheet1!A1694","v":0},{"$f":"[1]Sheet1!F1694","v":0},{"$f":"[1]Sheet1!G1694","v":0},{"$f":"[1]Sheet1!H1694","v":0},{"$f":"[1]Sheet1!J1694","v":0},"0 0",null,{"$f":"IF(A1691=12584,\"\",[2]Sheet1!B1694)","v":0}]
[{"$f":"[1]Sheet1!A1695","v":0},{"$f":"[1]Sheet1!F1695","v":0},{"$f":"[1]Sheet1!G1695","v":0},{"$f":"[1]Sheet1!H1695","v":0},{"$f":"[1]Sheet1!J1695","v":0},"0 0",null,{"$f":"IF(A1692=12584,\"\",[2]Sheet1!B1695)","v":0}]
[{"$f":"[1]Sheet1!A1696","v":0},{"$f":"[1]Sheet1!F1696","v":0},{"$f":"[1]Sheet1!G1696","v":0},{"$f":"[1]Sheet1!H1696","v":0},{"$f":"[1]Sheet1!J1696","v":0},"0 0",null,{"$f":"IF(A1693=12584,\"\",[2]Sheet1!B1696)","v":0}]
[{"$f":"[1]Sheet1!A1697","v":0},{"$f":"[1]Sheet1!F1697","v":0},{"$f":"[1]Sheet1!G1697","v":0},{"$f":"[1]Sheet1!H1697","v":0},{"$f":"[1]Sheet1!J1697","v":0},"0 0",null,{"$f":"IF(A1694=12584,\"\",[2]Sheet1!B1697)","v":0}]
[{"$f":"[1]Sheet1!A1698","v":0},{"$f":"[1]Sheet1!F1698","v":0},{"$f":"[1]Sheet1!G1698","v":0},{"$f":"[1]Sheet1!H1698","v":0},{"$f":"[1]Sheet1!J1698","v":0},"0 0",null,{"$f":"IF(A1695=12584,\"\",[2]Sheet1!B1698)","v":0}]
[{"$f":"[1]Sheet1!A1699","v":0},{"$f":"[1]Sheet1!F1699","v":0},{"$f":"[1]Sheet1!G1699","v":0},{"$f":"[1]Sheet1!H1699","v":0},{"$f":"[1]Sheet1!J1699","v":0},"0 0",null,{"$f":"IF(A1696=12584,\"\",[2]Sheet1!B1699)","v":0}]
[{"$f":"[1]Sheet1!A1700","v":0},{"$f":"[1]Sheet1!F1700","v":0},{"$f":"[1]Sheet1!G1700","v":0},{"$f":"[1]Sheet1!H1700","v":0},{"$f":"[1]Sheet1!J1700","v":0},"0 0",null,{"$f":"IF(A1697=12584,\"\",[2]Sheet1!B1700)","v":0}]
[{"$f":"[1]Sheet1!A1701","v":0},{"$f":"[1]Sheet1!F1701","v":0},{"$f":"[1]Sheet1!G1701","v":0},{"$f":"[1]Sheet1!H1701","v":0},{"$f":"[1]Sheet1!J1701","v":0},"0 0",null,{"$f":"IF(A1698=12584,\"\",[2]Sheet1!B1701)","v":0}]
[{"$f":"[1]Sheet1!A1702","v":0},{"$f":"[1]Sheet1!F1702","v":0},{"$f":"[1]Sheet1!G1702","v":0},{"$f":"[1]Sheet1!H1702","v":0},{"$f":"[1]Sheet1!J1702","v":0},"0 0",null,{"$f":"IF(A1699=12584,\"\",[2]Sheet1!B1702)","v":0}]
[{"$f":"[1]Sheet1!A1703","v":0},{"$f":"[1]Sheet1!F1703","v":0},{"$f":"[1]Sheet1!G1703","v":0},{"$f":"[1]Sheet1!H1703","v":0},{"$f":"[1]Sheet1!J1703","v":0},"0 0",null,{"$f":"IF(A1700=12584,\"\",[2]Sheet1!B1703)","v":0}]
[{"$f":"[1]Sheet1!A1704","v":0},{"$f":"[1]Sheet1!F1704","v":0},{"$f":"[1]Sheet1!G1704","v":0},{"$f":"[1]Sheet1!H1704","v":0},{"$f":"[1]Sheet1!J1704","v":0},"0 0",null,{"$f":"IF(A1701=12584,\"\",[2]Sheet1!B1704)","v":0}]
[{"$f":"[1]Sheet1!A1705","v":0},{"$f":"[1]Sheet1!F1705","v":0},{"$f":"[1]Sheet1!G1705","v":0},{"$f":"[1]Sheet1!H1705","v":0},{"$f":"[1]Sheet1!J1705","v":0},"0 0",null,{"$f":"IF(A1702=12584,\"\",[2]Sheet1!B1705)","v":0}]
[{"$f":"[1]Sheet1!A1706","v":0},{"$f":"[1]Sheet1!F1706","v":0},{"$f":"[1]Sheet1!G1706","v":0},{"$f":"[1]Sheet1!H1706","v":0},{"$f":"[1]Sheet1!J1706","v":0},"0 0",null,{"$f":"IF(A1703=12584,\"\",[2]Sheet1!B1706)","v":0}]
[{"$f":"[1]Sheet1!A1707","v":0},{"$f":"[1]Sheet1!F1707","v":0},{"$f":"[1]Sheet1!G1707","v":0},{"$f":"[1]Sheet1!H1707","v":0},{"$f":"[1]Sheet1!J1707","v":0},"0 0",null,{"$f":"IF(A1704=12584,\"\",[2]Sheet1!B1707)","v":0}]
[{"$f":"[1]Sheet1!A1708","v":0},{"$f":"[1]Sheet1!F1708","v":0},{"$f":"[1]Sheet1!G1708","v":0},{"$f":"[1]Sheet1!H1708","v":0},{"$f":"[1]Sheet1!J1708","v":0},"0 0",null,{"$f":"IF(A1705=12584,\"\",[2]Sheet1!B1708)","v":0}]
[{"$f":"[1]Sheet1!A1709","v":0},{"$f":"[1]Sheet1!F1709","v":0},{"$f":"[1]Sheet1!G1709","v":0},{"$f":"[1]Sheet1!H1709","v":0},{"$f":"[1]Sheet1!J1709","v":0},"0 0",null,{"$f":"IF(A1706=12584,\"\",[2]Sheet1!B1709)","v":0}]
[{"$f":"[1]Sheet1!A1710","v":0},{"$f":"[1]Sheet1!F1710","v":0},{"$f":"[1]Sheet1!G1710","v":0},{"$f":"[1]Sheet1!H1710","v":0},{"$f":"[1]Sheet1!J1710","v":0},"0 0",null,{"$f":"IF(A1707=12584,\"\",[2]Sheet1!B1710)","v":0}]
[{"$f":"[1]Sheet1!A1711","v":0},{"$f":"[1]Sheet1!F1711","v":0},{"$f":"[1]Sheet1!G1711","v":0},{"$f":"[1]Sheet1!H1711","v":0},{"$f":"[1]Sheet1!J1711","v":0},"0 0",null,{"$f":"IF(A1708=12584,\"\",[2]Sheet1!B1711)","v":0}]
[{"$f":"[1]Sheet1!A1712","v":0},{"$f":"[1]Sheet1!F1712","v":0},{"$f":"[1]Sheet1!G1712","v":0},{"$f":"[1]Sheet1!H1712","v":0},{"$f":"[1]Sheet1!J1712","v":0},"0 0",null,{"$f":"IF(A1709=12584,\"\",[2]Sheet1!B1712)","v":0}]
[{"$f":"[1]Sheet1!A1713","v":0},{"$f":"[1]Sheet1!F1713","v":0},{"$f":"[1]Sheet1!G1713","v":0},{"$f":"[1]Sheet1!H1713","v":0},{"$f":"[1]Sheet1!J1713","v":0},"0 0",null,{"$f":"IF(A1710=12584,\"\",[2]Sheet1!B1713)","v":0}]
[{"$f":"[1]Sheet1!A1714","v":0},{"$f":"[1]Sheet1!F1714","v":0},{"$f":"[1]Sheet1!G1714","v":0},{"$f":"[1]Sheet1!H1714","v":0},{"$f":"[1]Sheet1!J1714","v":0},"0 0",null,{"$f":"IF(A1711=12584,\"\",[2]Sheet1!B1714)","v":0}]
[{"$f":"[1]Sheet1!A1715","v":0},{"$f":"[1]Sheet1!F1715","v":0},{"$f":"[1]Sheet1!G1715","v":0},{"$f":"[1]Sheet1!H1715","v":0},{"$f":"[1]Sheet1!J1715","v":0},"0 0",null,{"$f":"IF(A1712=12584,\"\",[2]Sheet1!B1715)","v":0}]
[{"$f":"[1]Sheet1!A1716","v":0},{"$f":"[1]Sheet1!F1716","v":0},{"$f":"[1]Sheet1!G1716","v":0},{"$f":"[1]Sheet1!H1716","v":0},{"$f":"[1]Sheet1!J1716","v":0},"0 0",null,{"$f":"IF(A1713=12584,\"\",[2]Sheet1!B1716)","v":0}]
[{"$f":"[1]Sheet1!A1717","v":0},{"$f":"[1]Sheet1!F1717","v":0},{"$f":"[1]Sheet1!G1717","v":0},{"$f":"[1]Sheet1!H1717","v":0},{"$f":"[1]Sheet1!J1717","v":0},"0 0",null,{"$f":"IF(A1714=12584,\"\",[2]Sheet1!B1717)","v":0}]
[{"$f":"[1]Sheet1!A1718","v":0},{"$f":"[1]Sheet1!F1718","v":0},{"$f":"[1]Sheet1!G1718","v":0},{"$f":"[1]Sheet1!H1718","v":0},{"$f":"[1]Sheet1!J1718","v":0},"0 0",null,{"$f":"IF(A1715=12584,\"\",[2]Sheet1!B1718)","v":0}]
[{"$f":"[1]Sheet1!A1719","v":0},{"$f":"[1]Sheet1!F1719","v":0},{"$f":"[1]Sheet1!G1719","v":0},{"$f":"[1]Sheet1!H1719","v":0},{"$f":"[1]Sheet1!J1719","v":0},"0 0",null,{"$f":"IF(A1716=12584,\"\",[2]Sheet1!B1719)","v":0}]
[{"$f":"[1]Sheet1!A1720","v":0},{"$f":"[1]Sheet1!F1720","v":0},{"$f":"[1]Sheet1!G1720","v":0},{"$f":"[1]Sheet1!H1720","v":0},{"$f":"[1]Sheet1!J1720","v":0},"0 0",null,{"$f":"IF(A1717=12584,\"\",[2]Sheet1!B1720)","v":0}]
[{"$f":"[1]Sheet1!A1721","v":0},{"$f":"[1]Sheet1!F1721","v":0},{"$f":"[1]Sheet1!G1721","v":0},{"$f":"[1]Sheet1!H1721","v":0},{"$f":"[1]Sheet1!J1721","v":0},"0 0",null,{"$f":"IF(A1718=12584,\"\",[2]Sheet1!B1721)","v":0}]
[{"$f":"[1]Sheet1!A1722","v":0},{"$f":"[1]Sheet1!F1722","v":0},{"$f":"[1]Sheet1!G1722","v":0},{"$f":"[1]Sheet1!H1722","v":0},{"$f":"[1]Sheet1!J1722","v":0},"0 0",null,{"$f":"IF(A1719=12584,\"\",[2]Sheet1!B1722)","v":0}]
[{"$f":"[1]Sheet1!A1723","v":0},{"$f":"[1]Sheet1!F1723","v":0},{"$f":"[1]Sheet1!G1723","v":0},{"$f":"[1]Sheet1!H1723","v":0},{"$f":"[1]Sheet1!J1723","v":0},"0 0",null,{"$f":"IF(A1720=12584,\"\",[2]Sheet1!B1723)","v":0}]
[{"$f":"[1]Sheet1!A1724","v":0},{"$f":"[1]Sheet1!F1724","v":0},{"$f":"[1]Sheet1!G1724","v":0},{"$f":"[1]Sheet1!H1724","v":0},{"$f":"[1]Sheet1!J1724","v":0},"0 0",null,{"$f":"IF(A1721=12584,\"\",[2]Sheet1!B1724)","v":0}]
[{"$f":"[1]Sheet1!A1725","v":0},{"$f":"[1]Sheet1!F1725","v":0},{"$f":"[1]Sheet1!G1725","v":0},{"$f":"[1]Sheet1!H1725","v":0},{"$f":"[1]Sheet1!J1725","v":0},"0 0",null,{"$f":"IF(A1722=12584,\"\",[2]Sheet1!B1725)","v":0}]
[{"$f":"[1]Sheet1!A1726","v":0},{"$f":"[1]Sheet1!F1726","v":0},{"$f":"[1]Sheet1!G1726","v":0},{"$f":"[1]Sheet1!H1726","v":0},{"$f":"[1]Sheet1!J1726","v":0},"0 0",null,{"$f":"IF(A1723=12584,\"\",[2]Sheet1!B1726)","v":0}]
[{"$f":"[1]Sheet1!A1727","v":0},{"$f":"[1]Sheet1!F1727","v":0},{"$f":"[1]Sheet1!G1727","v":0},{"$f":"[1]Sheet1!H1727","v":0},{"$f":"[1]Sheet1!J1727","v":0},"0 0",null,{"$f":"IF(A1724=12584,\"\",[2]Sheet1!B1727)","v":0}]
[{"$f":"[1]Sheet1!A1728","v":0},{"$f":"[1]Sheet1!F1728","v":0},{"$f":"[1]Sheet1!G1728","v":0},{"$f":"[1]Sheet1!H1728","v":0},{"$f":"[1]Sheet1!J1728","v":0},"0 0",null,{"$f":"IF(A1725=12584,\"\",[2]Sheet1!B1728)","v":0}]
[{"$f":"[1]Sheet1!A1729","v":0},{"$f":"[1]Sheet1!F1729","v":0},{"$f":"[1]Sheet1!G1729","v":0},{"$f":"[1]Sheet1!H1729","v":0},{"$f":"[1]Sheet1!J1729","v":0},"0 0",null,{"$f":"IF(A1726=12584,\"\",[2]Sheet1!B1729)","v":0}]
[{"$f":"[1]Sheet1!A1730","v":0},{"$f":"[1]Sheet1!F1730","v":0},{"$f":"[1]Sheet1!G1730","v":0},{"$f":"[1]Sheet1!H1730","v":0},{"$f":"[1]Sheet1!J1730","v":0},"0 0",null,{"$f":"IF(A1727=12584,\"\",[2]Sheet1!B1730)","v":0}]
[{"$f":"[1]Sheet1!A1731","v":0},{"$f":"[1]Sheet1!F1731","v":0},{"$f":"[1]Sheet1!G1731","v":0},{"$f":"[1]Sheet1!H1731","v":0},{"$f":"[1]Sheet1!J1731","v":0},"0 0",null,{"$f":"IF(A1728=12584,\"\",[2]Sheet1!B1731)","v":0}]
[{"$f":"[1]Sheet1!A1732","v":0},{"$f":"[1]Sheet1!F1732","v":0},{"$f":"[1]Sheet1!G1732","v":0},{"$f":"[1]Sheet1!H1732","v":0},{"$f":"[1]Sheet1!J1732","v":0},"0 0",null,{"$f":"IF(A1729=12584,\"\",[2]Sheet1!B1732)","v":0}]
[{"$f":"[1]Sheet1!A1733","v":0},{"$f":"[1]Sheet1!F1733","v":0},{"$f":"[1]Sheet1!G1733","v":0},{"$f":"[1]Sheet1!H1733","v":0},{"$f":"[1]Sheet1!J1733","v":0},{"$f":"IF(E1730=0,CONCATENATE(D1730,\" \",C1730),CONCATENATE(D1730,\" \",E1730,\" \",C1730))","v":"0 0"},null,{"$f":"IF(A1730=12584,\"\",[2]Sheet1!B1733)","v":0}]
[{"$f":"[1]Sheet1!A1734","v":0},{"$f":"[1]Sheet1!F1734","v":0},{"$f":"[1]Sheet1!G1734","v":0},{"$f":"[1]Sheet1!H1734","v":0},{"$f":"[1]Sheet1!J1734","v":0},"0 0",null,{"$f":"IF(A1731=12584,\"\",[2]Sheet1!B1734)","v":0}]
[{"$f":"[1]Sheet1!A1735","v":0},{"$f":"[1]Sheet1!F1735","v":0},{"$f":"[1]Sheet1!G1735","v":0},{"$f":"[1]Sheet1!H1735","v":0},{"$f":"[1]Sheet1!J1735","v":0},"0 0",null,{"$f":"IF(A1732=12584,\"\",[2]Sheet1!B1735)","v":0}]
[{"$f":"[1]Sheet1!A1736","v":0},{"$f":"[1]Sheet1!F1736","v":0},{"$f":"[1]Sheet1!G1736","v":0},{"$f":"[1]Sheet1!H1736","v":0},{"$f":"[1]Sheet1!J1736","v":0},"0 0",null,{"$f":"IF(A1733=12584,\"\",[2]Sheet1!B1736)","v":0}]
[{"$f":"[1]Sheet1!A1737","v":0},{"$f":"[1]Sheet1!F1737","v":0},{"$f":"[1]Sheet1!G1737","v":0},{"$f":"[1]Sheet1!H1737","v":0},{"$f":"[1]Sheet1!J1737","v":0},"0 0",null,{"$f":"IF(A1734=12584,\"\",[2]Sheet1!B1737)","v":0}]
[{"$f":"[1]Sheet1!A1738","v":0},{"$f":"[1]Sheet1!F1738","v":0},{"$f":"[1]Sheet1!G1738","v":0},{"$f":"[1]Sheet1!H1738","v":0},{"$f":"[1]Sheet1!J1738","v":0},"0 0",null,{"$f":"IF(A1735=12584,\"\",[2]Sheet1!B1738)","v":0}]
[{"$f":"[1]Sheet1!A1739","v":0},{"$f":"[1]Sheet1!F1739","v":0},{"$f":"[1]Sheet1!G1739","v":0},{"$f":"[1]Sheet1!H1739","v":0},{"$f":"[1]Sheet1!J1739","v":0},"0 0",null,{"$f":"IF(A1736=12584,\"\",[2]Sheet1!B1739)","v":0}]
[{"$f":"[1]Sheet1!A1740","v":0},{"$f":"[1]Sheet1!F1740","v":0},{"$f":"[1]Sheet1!G1740","v":0},{"$f":"[1]Sheet1!H1740","v":0},{"$f":"[1]Sheet1!J1740","v":0},"0 0",null,{"$f":"IF(A1737=12584,\"\",[2]Sheet1!B1740)","v":0}]
[{"$f":"[1]Sheet1!A1741","v":0},{"$f":"[1]Sheet1!F1741","v":0},{"$f":"[1]Sheet1!G1741","v":0},{"$f":"[1]Sheet1!H1741","v":0},{"$f":"[1]Sheet1!J1741","v":0},"0 0",null,{"$f":"IF(A1738=12584,\"\",[2]Sheet1!B1741)","v":0}]
[{"$f":"[1]Sheet1!A1742","v":0},{"$f":"[1]Sheet1!F1742","v":0},{"$f":"[1]Sheet1!G1742","v":0},{"$f":"[1]Sheet1!H1742","v":0},{"$f":"[1]Sheet1!J1742","v":0},"0 0",null,{"$f":"IF(A1739=12584,\"\",[2]Sheet1!B1742)","v":0}]
[{"$f":"[1]Sheet1!A1743","v":0},{"$f":"[1]Sheet1!F1743","v":0},{"$f":"[1]Sheet1!G1743","v":0},{"$f":"[1]Sheet1!H1743","v":0},{"$f":"[1]Sheet1!J1743","v":0},"0 0",null,{"$f":"IF(A1740=12584,\"\",[2]Sheet1!B1743)","v":0}]
[{"$f":"[1]Sheet1!A1744","v":0},{"$f":"[1]Sheet1!F1744","v":0},{"$f":"[1]Sheet1!G1744","v":0},{"$f":"[1]Sheet1!H1744","v":0},{"$f":"[1]Sheet1!J1744","v":0},"0 0"]
[{"$f":"[1]Sheet1!A1745","v":0},{"$f":"[1]Sheet1!F1745","v":0},{"$f":"[1]Sheet1!G1745","v":0},{"$f":"[1]Sheet1!H1745","v":0},{"$f":"[1]Sheet1!J1745","v":0},"0 0"]
[{"$f":"[1]Sheet1!A1746","v":0},{"$f":"[1]Sheet1!F1746","v":0},{"$f":"[1]Sheet1!G1746","v":0},{"$f":"[1]Sheet1!H1746","v":0},{"$f":"[1]Sheet1!J1746","v":0},"0 0"]
[{"$f":"[1]Sheet1!A1747","v":0},{"$f":"[1]Sheet1!F1747","v":0},{"$f":"[1]Sheet1!G1747","v":0},{"$f":"[1]Sheet1!H1747","v":0},{"$f":"[1]Sheet1!J1747","v":0},"0 0"]
[{"$f":"[1]Sheet1!A1748","v":0},{"$f":"[1]Sheet1!F1748","v":0},{"$f":"[1]Sheet1!G1748","v":0},{"$f":"[1]Sheet1!H1748","v":0},{"$f":"[1]Sheet1!J1748","v":0},"0 0"]
[{"$f":"[1]Sheet1!A1749","v":0},{"$f":"[1]Sheet1!F1749","v":0},{"$f":"[1]Sheet1!G1749","v":0},{"$f":"[1]Sheet1!H1749","v":0},{"$f":"[1]Sheet1!J1749","v":0},"0 0"]
[{"$f":"[1]Sheet1!A1750","v":0},{"$f":"[1]Sheet1!F1750","v":0},{"$f":"[1]Sheet1!G1750","v":0},{"$f":"[1]Sheet1!H1750","v":0},{"$f":"[1]Sheet1!J1750","v":0},"0 0"]
[{"$f":"[1]Sheet1!A1751","v":0},{"$f":"[1]Sheet1!F1751","v":0},{"$f":"[1]Sheet1!G1751","v":0},{"$f":"[1]Sheet1!H1751","v":0},{"$f":"[1]Sheet1!J1751","v":0},"0 0"]
[{"$f":"[1]Sheet1!A1752","v":0},{"$f":"[1]Sheet1!F1752","v":0},{"$f":"[1]Sheet1!G1752","v":0},{"$f":"[1]Sheet1!H1752","v":0},{"$f":"[1]Sheet1!J1752","v":0},"0 0"]
[{"$f":"[1]Sheet1!A1753","v":0},{"$f":"[1]Sheet1!F1753","v":0},{"$f":"[1]Sheet1!G1753","v":0},{"$f":"[1]Sheet1!H1753","v":0},{"$f":"[1]Sheet1!J1753","v":0},"0 0"]
[{"$f":"[1]Sheet1!A1754","v":0},{"$f":"[1]Sheet1!F1754","v":0},{"$f":"[1]Sheet1!G1754","v":0},{"$f":"[1]Sheet1!H1754","v":0},{"$f":"[1]Sheet1!J1754","v":0},"0 0"]
[{"$f":"[1]Sheet1!A1755","v":0},{"$f":"[1]Sheet1!F1755","v":0},{"$f":"[1]Sheet1!G1755","v":0},{"$f":"[1]Sheet1!H1755","v":0},{"$f":"[1]Sheet1!J1755","v":0},"0 0"]
[{"$f":"[1]Sheet1!A1756","v":0},{"$f":"[1]Sheet1!F1756","v":0},{"$f":"[1]Sheet1!G1756","v":0},{"$f":"[1]Sheet1!H1756","v":0},{"$f":"[1]Sheet1!J1756","v":0},"0 0"]
[{"$f":"[1]Sheet1!A1757","v":0},{"$f":"[1]Sheet1!F1757","v":0},{"$f":"[1]Sheet1!G1757","v":0},{"$f":"[1]Sheet1!H1757","v":0},{"$f":"[1]Sheet1!J1757","v":0},"0 0"]
[{"$f":"[1]Sheet1!A1758","v":0},{"$f":"[1]Sheet1!F1758","v":0},{"$f":"[1]Sheet1!G1758","v":0},{"$f":"[1]Sheet1!H1758","v":0},{"$f":"[1]Sheet1!J1758","v":0},"0 0"]
[{"$f":"[1]Sheet1!A1759","v":0},{"$f":"[1]Sheet1!F1759","v":0},{"$f":"[1]Sheet1!G1759","v":0},{"$f":"[1]Sheet1!H1759","v":0},{"$f":"[1]Sheet1!J1759","v":0},"0 0"]
[{"$f":"[1]Sheet1!A1760","v":0},{"$f":"[1]Sheet1!F1760","v":0},{"$f":"[1]Sheet1!G1760","v":0},{"$f":"[1]Sheet1!H1760","v":0},{"$f":"[1]Sheet1!J1760","v":0},"0 0"]
[{"$f":"[1]Sheet1!A1761","v":0},{"$f":"[1]Sheet1!F1761","v":0},{"$f":"[1]Sheet1!G1761","v":0},{"$f":"[1]Sheet1!H1761","v":0},{"$f":"[1]Sheet1!J1761","v":0},"0 0"]
[{"$f":"[1]Sheet1!A1762","v":0},{"$f":"[1]Sheet1!F1762","v":0},{"$f":"[1]Sheet1!G1762","v":0},{"$f":"[1]Sheet1!H1762","v":0},{"$f":"[1]Sheet1!J1762","v":0},"0 0"]
[{"$f":"[1]Sheet1!A1763","v":0},{"$f":"[1]Sheet1!F1763","v":0},{"$f":"[1]Sheet1!G1763","v":0},{"$f":"[1]Sheet1!H1763","v":0},{"$f":"[1]Sheet1!J1763","v":0},"0 0"]
[{"$f":"[1]Sheet1!A1764","v":0},{"$f":"[1]Sheet1!F1764","v":0},{"$f":"[1]Sheet1!G1764","v":0},{"$f":"[1]Sheet1!H1764","v":0},{"$f":"[1]Sheet1!J1764","v":0},"0 0"]
[{"$f":"[1]Sheet1!A1765","v":0},{"$f":"[1]Sheet1!F1765","v":0},{"$f":"[1]Sheet1!G1765","v":0},{"$f":"[1]Sheet1!H1765","v":0},{"$f":"[1]Sheet1!J1765","v":0},"0 0"]
[{"$f":"[1]Sheet1!A1766","v":0},{"$f":"[1]Sheet1!F1766","v":0},{"$f":"[1]Sheet1!G1766","v":0},{"$f":"[1]Sheet1!H1766","v":0},{"$f":"[1]Sheet1!J1766","v":0},"0 0"]
[{"$f":"[1]Sheet1!A1767","v":0},{"$f":"[1]Sheet1!F1767","v":0},{"$f":"[1]Sheet1!G1767","v":0},{"$f":"[1]Sheet1!H1767","v":0},{"$f":"[1]Sheet1!J1767","v":0},"0 0"]
[{"$f":"[1]Sheet1!A1768","v":0},{"$f":"[1]Sheet1!F1768","v":0},{"$f":"[1]Sheet1!G1768","v":0},{"$f":"[1]Sheet1!H1768","v":0},{"$f":"[1]Sheet1!J1768","v":0},"0 0"]
[{"$f":"[1]Sheet1!A1769","v":0},{"$f":"[1]Sheet1!F1769","v":0},{"$f":"[1]Sheet1!G1769","v":0},{"$f":"[1]Sheet1!H1769","v":0},{"$f":"[1]Sheet1!J1769","v":0},"0 0"]
[{"$f":"[1]Sheet1!A1770","v":0},{"$f":"[1]Sheet1!F1770","v":0},{"$f":"[1]Sheet1!G1770","v":0},{"$f":"[1]Sheet1!H1770","v":0},{"$f":"[1]Sheet1!J1770","v":0},"0 0"]
[{"$f":"[1]Sheet1!A1771","v":0},{"$f":"[1]Sheet1!F1771","v":0},{"$f":"[1]Sheet1!G1771","v":0},{"$f":"[1]Sheet1!H1771","v":0},{"$f":"[1]Sheet1!J1771","v":0},"0 0"]
[{"$f":"[1]Sheet1!A1772","v":0},{"$f":"[1]Sheet1!F1772","v":0},{"$f":"[1]Sheet1!G1772","v":0},{"$f":"[1]Sheet1!H1772","v":0},{"$f":"[1]Sheet1!J1772","v":0},"0 0"]
[{"$f":"[1]Sheet1!A1773","v":0},{"$f":"[1]Sheet1!F1773","v":0},{"$f":"[1]Sheet1!G1773","v":0},{"$f":"[1]Sheet1!H1773","v":0},{"$f":"[1]Sheet1!J1773","v":0},"0 0"]
[{"$f":"[1]Sheet1!A1774","v":0},{"$f":"[1]Sheet1!F1774","v":0},{"$f":"[1]Sheet1!G1774","v":0},{"$f":"[1]Sheet1!H1774","v":0},{"$f":"[1]Sheet1!J1774","v":0},"0 0"]
[{"$f":"[1]Sheet1!A1775","v":0},{"$f":"[1]Sheet1!F1775","v":0},{"$f":"[1]Sheet1!G1775","v":0},{"$f":"[1]Sheet1!H1775","v":0},{"$f":"[1]Sheet1!J1775","v":0},"0 0"]
[{"$f":"[1]Sheet1!A1776","v":0},{"$f":"[1]Sheet1!F1776","v":0},{"$f":"[1]Sheet1!G1776","v":0},{"$f":"[1]Sheet1!H1776","v":0},{"$f":"[1]Sheet1!J1776","v":0},"0 0"]
[{"$f":"[1]Sheet1!A1777","v":0},{"$f":"[1]Sheet1!F1777","v":0},{"$f":"[1]Sheet1!G1777","v":0},{"$f":"[1]Sheet1!H1777","v":0},{"$f":"[1]Sheet1!J1777","v":0},"0 0"]
[{"$f":"[1]Sheet1!A1778","v":0},{"$f":"[1]Sheet1!F1778","v":0},{"$f":"[1]Sheet1!G1778","v":0},{"$f":"[1]Sheet1!H1778","v":0},{"$f":"[1]Sheet1!J1778","v":0},"0 0"]
[{"$f":"[1]Sheet1!A1779","v":0},{"$f":"[1]Sheet1!F1779","v":0},{"$f":"[1]Sheet1!G1779","v":0},{"$f":"[1]Sheet1!H1779","v":0},{"$f":"[1]Sheet1!J1779","v":0},"0 0"]
[{"$f":"[1]Sheet1!A1780","v":0},{"$f":"[1]Sheet1!F1780","v":0},{"$f":"[1]Sheet1!G1780","v":0},{"$f":"[1]Sheet1!H1780","v":0},{"$f":"[1]Sheet1!J1780","v":0},"0 0"]
[{"$f":"[1]Sheet1!A1781","v":0},{"$f":"[1]Sheet1!F1781","v":0},{"$f":"[1]Sheet1!G1781","v":0},{"$f":"[1]Sheet1!H1781","v":0},{"$f":"[1]Sheet1!J1781","v":0},"0 0"]
[{"$f":"[1]Sheet1!A1782","v":0},{"$f":"[1]Sheet1!F1782","v":0},{"$f":"[1]Sheet1!G1782","v":0},{"$f":"[1]Sheet1!H1782","v":0},{"$f":"[1]Sheet1!J1782","v":0},"0 0"]
[{"$f":"[1]Sheet1!A1783","v":0},{"$f":"[1]Sheet1!F1783","v":0},{"$f":"[1]Sheet1!G1783","v":0},{"$f":"[1]Sheet1!H1783","v":0},{"$f":"[1]Sheet1!J1783","v":0},"0 0"]
[{"$f":"[1]Sheet1!A1784","v":0},{"$f":"[1]Sheet1!F1784","v":0},{"$f":"[1]Sheet1!G1784","v":0},{"$f":"[1]Sheet1!H1784","v":0},{"$f":"[1]Sheet1!J1784","v":0},"0 0"]
[{"$f":"[1]Sheet1!A1785","v":0},{"$f":"[1]Sheet1!F1785","v":0},{"$f":"[1]Sheet1!G1785","v":0},{"$f":"[1]Sheet1!H1785","v":0},{"$f":"[1]Sheet1!J1785","v":0},"0 0"]
[{"$f":"[1]Sheet1!A1786","v":0},{"$f":"[1]Sheet1!F1786","v":0},{"$f":"[1]Sheet1!G1786","v":0},{"$f":"[1]Sheet1!H1786","v":0},{"$f":"[1]Sheet1!J1786","v":0},"0 0"]
[{"$f":"[1]Sheet1!A1787","v":0},{"$f":"[1]Sheet1!F1787","v":0},{"$f":"[1]Sheet1!G1787","v":0},{"$f":"[1]Sheet1!H1787","v":0},{"$f":"[1]Sheet1!J1787","v":0},"0 0"]
[{"$f":"[1]Sheet1!A1788","v":0},{"$f":"[1]Sheet1!F1788","v":0},{"$f":"[1]Sheet1!G1788","v":0},{"$f":"[1]Sheet1!H1788","v":0},{"$f":"[1]Sheet1!J1788","v":0},"0 0"]
[{"$f":"[1]Sheet1!A1789","v":0},{"$f":"[1]Sheet1!F1789","v":0},{"$f":"[1]Sheet1!G1789","v":0},{"$f":"[1]Sheet1!H1789","v":0},{"$f":"[1]Sheet1!J1789","v":0},"0 0"]
[{"$f":"[1]Sheet1!A1790","v":0},{"$f":"[1]Sheet1!F1790","v":0},{"$f":"[1]Sheet1!G1790","v":0},{"$f":"[1]Sheet1!H1790","v":0},{"$f":"[1]Sheet1!J1790","v":0},"0 0"]
[{"$f":"[1]Sheet1!A1791","v":0},{"$f":"[1]Sheet1!F1791","v":0},{"$f":"[1]Sheet1!G1791","v":0},{"$f":"[1]Sheet1!H1791","v":0},{"$f":"[1]Sheet1!J1791","v":0},"0 0"]
[{"$f":"[1]Sheet1!A1792","v":0},{"$f":"[1]Sheet1!F1792","v":0},{"$f":"[1]Sheet1!G1792","v":0},{"$f":"[1]Sheet1!H1792","v":0},{"$f":"[1]Sheet1!J1792","v":0},"0 0"]
[{"$f":"[1]Sheet1!A1793","v":0},{"$f":"[1]Sheet1!F1793","v":0},{"$f":"[1]Sheet1!G1793","v":0},{"$f":"[1]Sheet1!H1793","v":0},{"$f":"[1]Sheet1!J1793","v":0},"0 0"]
[{"$f":"[1]Sheet1!A1794","v":0},{"$f":"[1]Sheet1!F1794","v":0},{"$f":"[1]Sheet1!G1794","v":0},{"$f":"[1]Sheet1!H1794","v":0},{"$f":"[1]Sheet1!J1794","v":0},"0 0"]
[{"$f":"[1]Sheet1!A1795","v":0},{"$f":"[1]Sheet1!F1795","v":0},{"$f":"[1]Sheet1!G1795","v":0},{"$f":"[1]Sheet1!H1795","v":0},{"$f":"[1]Sheet1!J1795","v":0},"0 0"]
[{"$f":"[1]Sheet1!A1796","v":0},{"$f":"[1]Sheet1!F1796","v":0},{"$f":"[1]Sheet1!G1796","v":0},{"$f":"[1]Sheet1!H1796","v":0},{"$f":"[1]Sheet1!J1796","v":0},"0 0"]
[{"$f":"[1]Sheet1!A1797","v":0},{"$f":"[1]Sheet1!F1797","v":0},{"$f":"[1]Sheet1!G1797","v":0},{"$f":"[1]Sheet1!H1797","v":0},{"$f":"[1]Sheet1!J1797","v":0},{"$f":"IF(E1794=0,CONCATENATE(D1794,\" \",C1794),CONCATENATE(D1794,\" \",E1794,\" \",C1794))","v":"0 0"}]
[{"$f":"[1]Sheet1!A1798","v":0},{"$f":"[1]Sheet1!F1798","v":0},{"$f":"[1]Sheet1!G1798","v":0},{"$f":"[1]Sheet1!H1798","v":0},{"$f":"[1]Sheet1!J1798","v":0},"0 0"]
[{"$f":"[1]Sheet1!A1799","v":0},{"$f":"[1]Sheet1!F1799","v":0},{"$f":"[1]Sheet1!G1799","v":0},{"$f":"[1]Sheet1!H1799","v":0},{"$f":"[1]Sheet1!J1799","v":0},"0 0"]
[{"$f":"[1]Sheet1!A1800","v":0},{"$f":"[1]Sheet1!F1800","v":0},{"$f":"[1]Sheet1!G1800","v":0},{"$f":"[1]Sheet1!H1800","v":0},{"$f":"[1]Sheet1!J1800","v":0},"0 0"]
[{"$f":"[1]Sheet1!A1801","v":0},{"$f":"[1]Sheet1!F1801","v":0},{"$f":"[1]Sheet1!G1801","v":0},{"$f":"[1]Sheet1!H1801","v":0},{"$f":"[1]Sheet1!J1801","v":0},"0 0"]
[{"$f":"[1]Sheet1!A1802","v":0},{"$f":"[1]Sheet1!F1802","v":0},{"$f":"[1]Sheet1!G1802","v":0},{"$f":"[1]Sheet1!H1802","v":0},{"$f":"[1]Sheet1!J1802","v":0},"0 0"]
[{"$f":"[1]Sheet1!A1803","v":0},{"$f":"[1]Sheet1!F1803","v":0},{"$f":"[1]Sheet1!G1803","v":0},{"$f":"[1]Sheet1!H1803","v":0},{"$f":"[1]Sheet1!J1803","v":0},"0 0"]
[{"$f":"[1]Sheet1!A1804","v":0},{"$f":"[1]Sheet1!F1804","v":0},{"$f":"[1]Sheet1!G1804","v":0},{"$f":"[1]Sheet1!H1804","v":0},{"$f":"[1]Sheet1!J1804","v":0},"0 0"]
[{"$f":"[1]Sheet1!A1805","v":0},{"$f":"[1]Sheet1!F1805","v":0},{"$f":"[1]Sheet1!G1805","v":0},{"$f":"[1]Sheet1!H1805","v":0},{"$f":"[1]Sheet1!J1805","v":0},"0 0"]
[{"$f":"[1]Sheet1!A1806","v":0},{"$f":"[1]Sheet1!F1806","v":0},{"$f":"[1]Sheet1!G1806","v":0},{"$f":"[1]Sheet1!H1806","v":0},{"$f":"[1]Sheet1!J1806","v":0},"0 0"]
[{"$f":"[1]Sheet1!A1807","v":0},{"$f":"[1]Sheet1!F1807","v":0},{"$f":"[1]Sheet1!G1807","v":0},{"$f":"[1]Sheet1!H1807","v":0},{"$f":"[1]Sheet1!J1807","v":0},"0 0"]
[{"$f":"[1]Sheet1!A1808","v":0},{"$f":"[1]Sheet1!F1808","v":0},{"$f":"[1]Sheet1!G1808","v":0},{"$f":"[1]Sheet1!H1808","v":0},{"$f":"[1]Sheet1!J1808","v":0},"0 0"]
[{"$f":"[1]Sheet1!A1809","v":0},{"$f":"[1]Sheet1!F1809","v":0},{"$f":"[1]Sheet1!G1809","v":0},{"$f":"[1]Sheet1!H1809","v":0},{"$f":"[1]Sheet1!J1809","v":0},"0 0"]
[{"$f":"[1]Sheet1!A1810","v":0},{"$f":"[1]Sheet1!F1810","v":0},{"$f":"[1]Sheet1!G1810","v":0},{"$f":"[1]Sheet1!H1810","v":0},{"$f":"[1]Sheet1!J1810","v":0},"0 0"]
[{"$f":"[1]Sheet1!A1811","v":0},{"$f":"[1]Sheet1!F1811","v":0},{"$f":"[1]Sheet1!G1811","v":0},{"$f":"[1]Sheet1!H1811","v":0},{"$f":"[1]Sheet1!J1811","v":0},"0 0"]
[{"$f":"[1]Sheet1!A1812","v":0},{"$f":"[1]Sheet1!F1812","v":0},{"$f":"[1]Sheet1!G1812","v":0},{"$f":"[1]Sheet1!H1812","v":0},{"$f":"[1]Sheet1!J1812","v":0},"0 0"]
[{"$f":"[1]Sheet1!A1813","v":0},{"$f":"[1]Sheet1!F1813","v":0},{"$f":"[1]Sheet1!G1813","v":0},{"$f":"[1]Sheet1!H1813","v":0},{"$f":"[1]Sheet1!J1813","v":0},"0 0"]
[{"$f":"[1]Sheet1!A1814","v":0},{"$f":"[1]Sheet1!F1814","v":0},{"$f":"[1]Sheet1!G1814","v":0},{"$f":"[1]Sheet1!H1814","v":0},{"$f":"[1]Sheet1!J1814","v":0},"0 0"]
[{"$f":"[1]Sheet1!A1815","v":0},{"$f":"[1]Sheet1!F1815","v":0},{"$f":"[1]Sheet1!G1815","v":0},{"$f":"[1]Sheet1!H1815","v":0},{"$f":"[1]Sheet1!J1815","v":0},"0 0"]
[{"$f":"[1]Sheet1!A1816","v":0},{"$f":"[1]Sheet1!F1816","v":0},{"$f":"[1]Sheet1!G1816","v":0},{"$f":"[1]Sheet1!H1816","v":0},{"$f":"[1]Sheet1!J1816","v":0},"0 0"]
[{"$f":"[1]Sheet1!A1817","v":0},{"$f":"[1]Sheet1!F1817","v":0},{"$f":"[1]Sheet1!G1817","v":0},{"$f":"[1]Sheet1!H1817","v":0},{"$f":"[1]Sheet1!J1817","v":0},"0 0"]
[{"$f":"[1]Sheet1!A1818","v":0},{"$f":"[1]Sheet1!F1818","v":0},{"$f":"[1]Sheet1!G1818","v":0},{"$f":"[1]Sheet1!H1818","v":0},{"$f":"[1]Sheet1!J1818","v":0},"0 0"]
[{"$f":"[1]Sheet1!A1819","v":0},{"$f":"[1]Sheet1!F1819","v":0},{"$f":"[1]Sheet1!G1819","v":0},{"$f":"[1]Sheet1!H1819","v":0},{"$f":"[1]Sheet1!J1819","v":0},"0 0"]
[{"$f":"[1]Sheet1!A1820","v":0},{"$f":"[1]Sheet1!F1820","v":0},{"$f":"[1]Sheet1!G1820","v":0},{"$f":"[1]Sheet1!H1820","v":0},{"$f":"[1]Sheet1!J1820","v":0},"0 0"]
[{"$f":"[1]Sheet1!A1821","v":0},{"$f":"[1]Sheet1!F1821","v":0},{"$f":"[1]Sheet1!G1821","v":0},{"$f":"[1]Sheet1!H1821","v":0},{"$f":"[1]Sheet1!J1821","v":0},"0 0"]
[{"$f":"[1]Sheet1!A1822","v":0},{"$f":"[1]Sheet1!F1822","v":0},{"$f":"[1]Sheet1!G1822","v":0},{"$f":"[1]Sheet1!H1822","v":0},{"$f":"[1]Sheet1!J1822","v":0},"0 0"]
[{"$f":"[1]Sheet1!A1823","v":0},{"$f":"[1]Sheet1!F1823","v":0},{"$f":"[1]Sheet1!G1823","v":0},{"$f":"[1]Sheet1!H1823","v":0},{"$f":"[1]Sheet1!J1823","v":0},"0 0"]
[{"$f":"[1]Sheet1!A1824","v":0},{"$f":"[1]Sheet1!F1824","v":0},{"$f":"[1]Sheet1!G1824","v":0},{"$f":"[1]Sheet1!H1824","v":0},{"$f":"[1]Sheet1!J1824","v":0},"0 0"]
[{"$f":"[1]Sheet1!A1825","v":0},{"$f":"[1]Sheet1!F1825","v":0},{"$f":"[1]Sheet1!G1825","v":0},{"$f":"[1]Sheet1!H1825","v":0},{"$f":"[1]Sheet1!J1825","v":0},"0 0"]
[{"$f":"[1]Sheet1!A1826","v":0},{"$f":"[1]Sheet1!F1826","v":0},{"$f":"[1]Sheet1!G1826","v":0},{"$f":"[1]Sheet1!H1826","v":0},{"$f":"[1]Sheet1!J1826","v":0},"0 0"]
[{"$f":"[1]Sheet1!A1827","v":0},{"$f":"[1]Sheet1!F1827","v":0},{"$f":"[1]Sheet1!G1827","v":0},{"$f":"[1]Sheet1!H1827","v":0},{"$f":"[1]Sheet1!J1827","v":0},"0 0"]
[{"$f":"[1]Sheet1!A1828","v":0},{"$f":"[1]Sheet1!F1828","v":0},{"$f":"[1]Sheet1!G1828","v":0},{"$f":"[1]Sheet1!H1828","v":0},{"$f":"[1]Sheet1!J1828","v":0},"0 0"]
[{"$f":"[1]Sheet1!A1829","v":0},{"$f":"[1]Sheet1!F1829","v":0},{"$f":"[1]Sheet1!G1829","v":0},{"$f":"[1]Sheet1!H1829","v":0},{"$f":"[1]Sheet1!J1829","v":0},"0 0"]
[{"$f":"[1]Sheet1!A1830","v":0},{"$f":"[1]Sheet1!F1830","v":0},{"$f":"[1]Sheet1!G1830","v":0},{"$f":"[1]Sheet1!H1830","v":0},{"$f":"[1]Sheet1!J1830","v":0},"0 0"]
[{"$f":"[1]Sheet1!A1831","v":0},{"$f":"[1]Sheet1!F1831","v":0},{"$f":"[1]Sheet1!G1831","v":0},{"$f":"[1]Sheet1!H1831","v":0},{"$f":"[1]Sheet1!J1831","v":0},"0 0"]
[{"$f":"[1]Sheet1!A1832","v":0},{"$f":"[1]Sheet1!F1832","v":0},{"$f":"[1]Sheet1!G1832","v":0},{"$f":"[1]Sheet1!H1832","v":0},{"$f":"[1]Sheet1!J1832","v":0},"0 0"]
[{"$f":"[1]Sheet1!A1833","v":0},{"$f":"[1]Sheet1!F1833","v":0},{"$f":"[1]Sheet1!G1833","v":0},{"$f":"[1]Sheet1!H1833","v":0},{"$f":"[1]Sheet1!J1833","v":0},"0 0"]
[{"$f":"[1]Sheet1!A1834","v":0},{"$f":"[1]Sheet1!F1834","v":0},{"$f":"[1]Sheet1!G1834","v":0},{"$f":"[1]Sheet1!H1834","v":0},{"$f":"[1]Sheet1!J1834","v":0},"0 0"]
[{"$f":"[1]Sheet1!A1835","v":0},{"$f":"[1]Sheet1!F1835","v":0},{"$f":"[1]Sheet1!G1835","v":0},{"$f":"[1]Sheet1!H1835","v":0},{"$f":"[1]Sheet1!J1835","v":0},"0 0"]
[{"$f":"[1]Sheet1!A1836","v":0},{"$f":"[1]Sheet1!F1836","v":0},{"$f":"[1]Sheet1!G1836","v":0},{"$f":"[1]Sheet1!H1836","v":0},{"$f":"[1]Sheet1!J1836","v":0},"0 0"]
[{"$f":"[1]Sheet1!A1837","v":0},{"$f":"[1]Sheet1!F1837","v":0},{"$f":"[1]Sheet1!G1837","v":0},{"$f":"[1]Sheet1!H1837","v":0},{"$f":"[1]Sheet1!J1837","v":0},"0 0"]
[{"$f":"[1]Sheet1!A1838","v":0},{"$f":"[1]Sheet1!F1838","v":0},{"$f":"[1]Sheet1!G1838","v":0},{"$f":"[1]Sheet1!H1838","v":0},{"$f":"[1]Sheet1!J1838","v":0},"0 0"]
[{"$f":"[1]Sheet1!A1839","v":0},{"$f":"[1]Sheet1!F1839","v":0},{"$f":"[1]Sheet1!G1839","v":0},{"$f":"[1]Sheet1!H1839","v":0},{"$f":"[1]Sheet1!J1839","v":0},"0 0"]
[{"$f":"[1]Sheet1!A1840","v":0},{"$f":"[1]Sheet1!F1840","v":0},{"$f":"[1]Sheet1!G1840","v":0},{"$f":"[1]Sheet1!H1840","v":0},{"$f":"[1]Sheet1!J1840","v":0},"0 0"]
[{"$f":"[1]Sheet1!A1841","v":0},{"$f":"[1]Sheet1!F1841","v":0},{"$f":"[1]Sheet1!G1841","v":0},{"$f":"[1]Sheet1!H1841","v":0},{"$f":"[1]Sheet1!J1841","v":0},"0 0"]
[{"$f":"[1]Sheet1!A1842","v":0},{"$f":"[1]Sheet1!F1842","v":0},{"$f":"[1]Sheet1!G1842","v":0},{"$f":"[1]Sheet1!H1842","v":0},{"$f":"[1]Sheet1!J1842","v":0},"0 0"]
[{"$f":"[1]Sheet1!A1843","v":0},{"$f":"[1]Sheet1!F1843","v":0},{"$f":"[1]Sheet1!G1843","v":0},{"$f":"[1]Sheet1!H1843","v":0},{"$f":"[1]Sheet1!J1843","v":0},"0 0"]
[{"$f":"[1]Sheet1!A1844","v":0},{"$f":"[1]Sheet1!F1844","v":0},{"$f":"[1]Sheet1!G1844","v":0},{"$f":"[1]Sheet1!H1844","v":0},{"$f":"[1]Sheet1!J1844","v":0},"0 0"]
[{"$f":"[1]Sheet1!A1845","v":0},{"$f":"[1]Sheet1!F1845","v":0},{"$f":"[1]Sheet1!G1845","v":0},{"$f":"[1]Sheet1!H1845","v":0},{"$f":"[1]Sheet1!J1845","v":0},"0 0"]
[{"$f":"[1]Sheet1!A1846","v":0},{"$f":"[1]Sheet1!F1846","v":0},{"$f":"[1]Sheet1!G1846","v":0},{"$f":"[1]Sheet1!H1846","v":0},{"$f":"[1]Sheet1!J1846","v":0},"0 0"]
[{"$f":"[1]Sheet1!A1847","v":0},{"$f":"[1]Sheet1!F1847","v":0},{"$f":"[1]Sheet1!G1847","v":0},{"$f":"[1]Sheet1!H1847","v":0},{"$f":"[1]Sheet1!J1847","v":0},"0 0"]
[{"$f":"[1]Sheet1!A1848","v":0},{"$f":"[1]Sheet1!F1848","v":0},{"$f":"[1]Sheet1!G1848","v":0},{"$f":"[1]Sheet1!H1848","v":0},{"$f":"[1]Sheet1!J1848","v":0},"0 0"]
[{"$f":"[1]Sheet1!A1849","v":0},{"$f":"[1]Sheet1!F1849","v":0},{"$f":"[1]Sheet1!G1849","v":0},{"$f":"[1]Sheet1!H1849","v":0},{"$f":"[1]Sheet1!J1849","v":0},"0 0"]
[{"$f":"[1]Sheet1!A1850","v":0},{"$f":"[1]Sheet1!F1850","v":0},{"$f":"[1]Sheet1!G1850","v":0},{"$f":"[1]Sheet1!H1850","v":0},{"$f":"[1]Sheet1!J1850","v":0},"0 0"]
[{"$f":"[1]Sheet1!A1851","v":0},{"$f":"[1]Sheet1!F1851","v":0},{"$f":"[1]Sheet1!G1851","v":0},{"$f":"[1]Sheet1!H1851","v":0},{"$f":"[1]Sheet1!J1851","v":0},"0 0"]
[{"$f":"[1]Sheet1!A1852","v":0},{"$f":"[1]Sheet1!F1852","v":0},{"$f":"[1]Sheet1!G1852","v":0},{"$f":"[1]Sheet1!H1852","v":0},{"$f":"[1]Sheet1!J1852","v":0},"0 0"]
[{"$f":"[1]Sheet1!A1853","v":0},{"$f":"[1]Sheet1!F1853","v":0},{"$f":"[1]Sheet1!G1853","v":0},{"$f":"[1]Sheet1!H1853","v":0},{"$f":"[1]Sheet1!J1853","v":0},"0 0"]
[{"$f":"[1]Sheet1!A1854","v":0},{"$f":"[1]Sheet1!F1854","v":0},{"$f":"[1]Sheet1!G1854","v":0},{"$f":"[1]Sheet1!H1854","v":0},{"$f":"[1]Sheet1!J1854","v":0},"0 0"]
[{"$f":"[1]Sheet1!A1855","v":0},{"$f":"[1]Sheet1!F1855","v":0},{"$f":"[1]Sheet1!G1855","v":0},{"$f":"[1]Sheet1!H1855","v":0},{"$f":"[1]Sheet1!J1855","v":0},"0 0"]
[{"$f":"[1]Sheet1!A1856","v":0},{"$f":"[1]Sheet1!F1856","v":0},{"$f":"[1]Sheet1!G1856","v":0},{"$f":"[1]Sheet1!H1856","v":0},{"$f":"[1]Sheet1!J1856","v":0},"0 0"]
[{"$f":"[1]Sheet1!A1857","v":0},{"$f":"[1]Sheet1!F1857","v":0},{"$f":"[1]Sheet1!G1857","v":0},{"$f":"[1]Sheet1!H1857","v":0},{"$f":"[1]Sheet1!J1857","v":0},"0 0"]
[{"$f":"[1]Sheet1!A1858","v":0},{"$f":"[1]Sheet1!F1858","v":0},{"$f":"[1]Sheet1!G1858","v":0},{"$f":"[1]Sheet1!H1858","v":0},{"$f":"[1]Sheet1!J1858","v":0},"0 0"]
[{"$f":"[1]Sheet1!A1859","v":0},{"$f":"[1]Sheet1!F1859","v":0},{"$f":"[1]Sheet1!G1859","v":0},{"$f":"[1]Sheet1!H1859","v":0},{"$f":"[1]Sheet1!J1859","v":0},"0 0"]
[{"$f":"[1]Sheet1!A1860","v":0},{"$f":"[1]Sheet1!F1860","v":0},{"$f":"[1]Sheet1!G1860","v":0},{"$f":"[1]Sheet1!H1860","v":0},{"$f":"[1]Sheet1!J1860","v":0},"0 0"]
[{"$f":"[1]Sheet1!A1861","v":0},{"$f":"[1]Sheet1!F1861","v":0},{"$f":"[1]Sheet1!G1861","v":0},{"$f":"[1]Sheet1!H1861","v":0},{"$f":"[1]Sheet1!J1861","v":0},{"$f":"IF(E1858=0,CONCATENATE(D1858,\" \",C1858),CONCATENATE(D1858,\" \",E1858,\" \",C1858))","v":"0 0"}]
[{"$f":"[1]Sheet1!A1862","v":0},{"$f":"[1]Sheet1!F1862","v":0},{"$f":"[1]Sheet1!G1862","v":0},{"$f":"[1]Sheet1!H1862","v":0},{"$f":"[1]Sheet1!J1862","v":0},"0 0"]
[{"$f":"[1]Sheet1!A1863","v":0},{"$f":"[1]Sheet1!F1863","v":0},{"$f":"[1]Sheet1!G1863","v":0},{"$f":"[1]Sheet1!H1863","v":0},{"$f":"[1]Sheet1!J1863","v":0},"0 0"]
[{"$f":"[1]Sheet1!A1864","v":0},{"$f":"[1]Sheet1!F1864","v":0},{"$f":"[1]Sheet1!G1864","v":0},{"$f":"[1]Sheet1!H1864","v":0},{"$f":"[1]Sheet1!J1864","v":0},"0 0"]
[{"$f":"[1]Sheet1!A1865","v":0},{"$f":"[1]Sheet1!F1865","v":0},{"$f":"[1]Sheet1!G1865","v":0},{"$f":"[1]Sheet1!H1865","v":0},{"$f":"[1]Sheet1!J1865","v":0},"0 0"]
[{"$f":"[1]Sheet1!A1866","v":0},{"$f":"[1]Sheet1!F1866","v":0},{"$f":"[1]Sheet1!G1866","v":0},{"$f":"[1]Sheet1!H1866","v":0},{"$f":"[1]Sheet1!J1866","v":0},"0 0"]
[{"$f":"[1]Sheet1!A1867","v":0},{"$f":"[1]Sheet1!F1867","v":0},{"$f":"[1]Sheet1!G1867","v":0},{"$f":"[1]Sheet1!H1867","v":0},{"$f":"[1]Sheet1!J1867","v":0},"0 0"]
[{"$f":"[1]Sheet1!A1868","v":0},{"$f":"[1]Sheet1!F1868","v":0},{"$f":"[1]Sheet1!G1868","v":0},{"$f":"[1]Sheet1!H1868","v":0},{"$f":"[1]Sheet1!J1868","v":0},"0 0"]
[{"$f":"[1]Sheet1!A1869","v":0},{"$f":"[1]Sheet1!F1869","v":0},{"$f":"[1]Sheet1!G1869","v":0},{"$f":"[1]Sheet1!H1869","v":0},{"$f":"[1]Sheet1!J1869","v":0},"0 0"]
[{"$f":"[1]Sheet1!A1870","v":0},{"$f":"[1]Sheet1!F1870","v":0},{"$f":"[1]Sheet1!G1870","v":0},{"$f":"[1]Sheet1!H1870","v":0},{"$f":"[1]Sheet1!J1870","v":0},"0 0"]
[{"$f":"[1]Sheet1!A1871","v":0},{"$f":"[1]Sheet1!F1871","v":0},{"$f":"[1]Sheet1!G1871","v":0},{"$f":"[1]Sheet1!H1871","v":0},{"$f":"[1]Sheet1!J1871","v":0},"0 0"]
[{"$f":"[1]Sheet1!A1872","v":0},{"$f":"[1]Sheet1!F1872","v":0},{"$f":"[1]Sheet1!G1872","v":0},{"$f":"[1]Sheet1!H1872","v":0},{"$f":"[1]Sheet1!J1872","v":0},"0 0"]
[{"$f":"[1]Sheet1!A1873","v":0},{"$f":"[1]Sheet1!F1873","v":0},{"$f":"[1]Sheet1!G1873","v":0},{"$f":"[1]Sheet1!H1873","v":0},{"$f":"[1]Sheet1!J1873","v":0},"0 0"]
[{"$f":"[1]Sheet1!A1874","v":0},{"$f":"[1]Sheet1!F1874","v":0},{"$f":"[1]Sheet1!G1874","v":0},{"$f":"[1]Sheet1!H1874","v":0},{"$f":"[1]Sheet1!J1874","v":0},"0 0"]
[{"$f":"[1]Sheet1!A1875","v":0},{"$f":"[1]Sheet1!F1875","v":0},{"$f":"[1]Sheet1!G1875","v":0},{"$f":"[1]Sheet1!H1875","v":0},{"$f":"[1]Sheet1!J1875","v":0},"0 0"]
[{"$f":"[1]Sheet1!A1876","v":0},{"$f":"[1]Sheet1!F1876","v":0},{"$f":"[1]Sheet1!G1876","v":0},{"$f":"[1]Sheet1!H1876","v":0},{"$f":"[1]Sheet1!J1876","v":0},"0 0"]
[{"$f":"[1]Sheet1!A1877","v":0},{"$f":"[1]Sheet1!F1877","v":0},{"$f":"[1]Sheet1!G1877","v":0},{"$f":"[1]Sheet1!H1877","v":0},{"$f":"[1]Sheet1!J1877","v":0},"0 0"]
[{"$f":"[1]Sheet1!A1878","v":0},{"$f":"[1]Sheet1!F1878","v":0},{"$f":"[1]Sheet1!G1878","v":0},{"$f":"[1]Sheet1!H1878","v":0},{"$f":"[1]Sheet1!J1878","v":0},"0 0"]
[{"$f":"[1]Sheet1!A1879","v":0},{"$f":"[1]Sheet1!F1879","v":0},{"$f":"[1]Sheet1!G1879","v":0},{"$f":"[1]Sheet1!H1879","v":0},{"$f":"[1]Sheet1!J1879","v":0},"0 0"]
[{"$f":"[1]Sheet1!A1880","v":0},{"$f":"[1]Sheet1!F1880","v":0},{"$f":"[1]Sheet1!G1880","v":0},{"$f":"[1]Sheet1!H1880","v":0},{"$f":"[1]Sheet1!J1880","v":0},"0 0"]
[{"$f":"[1]Sheet1!A1881","v":0},{"$f":"[1]Sheet1!F1881","v":0},{"$f":"[1]Sheet1!G1881","v":0},{"$f":"[1]Sheet1!H1881","v":0},{"$f":"[1]Sheet1!J1881","v":0},"0 0"]
[{"$f":"[1]Sheet1!A1882","v":0},{"$f":"[1]Sheet1!F1882","v":0},{"$f":"[1]Sheet1!G1882","v":0},{"$f":"[1]Sheet1!H1882","v":0},{"$f":"[1]Sheet1!J1882","v":0},"0 0"]
[{"$f":"[1]Sheet1!A1883","v":0},{"$f":"[1]Sheet1!F1883","v":0},{"$f":"[1]Sheet1!G1883","v":0},{"$f":"[1]Sheet1!H1883","v":0},{"$f":"[1]Sheet1!J1883","v":0},"0 0"]
[{"$f":"[1]Sheet1!A1884","v":0},{"$f":"[1]Sheet1!F1884","v":0},{"$f":"[1]Sheet1!G1884","v":0},{"$f":"[1]Sheet1!H1884","v":0},{"$f":"[1]Sheet1!J1884","v":0},"0 0"]
[{"$f":"[1]Sheet1!A1885","v":0},{"$f":"[1]Sheet1!F1885","v":0},{"$f":"[1]Sheet1!G1885","v":0},{"$f":"[1]Sheet1!H1885","v":0},{"$f":"[1]Sheet1!J1885","v":0},"0 0"]
[{"$f":"[1]Sheet1!A1886","v":0},{"$f":"[1]Sheet1!F1886","v":0},{"$f":"[1]Sheet1!G1886","v":0},{"$f":"[1]Sheet1!H1886","v":0},{"$f":"[1]Sheet1!J1886","v":0},"0 0"]
[{"$f":"[1]Sheet1!A1887","v":0},{"$f":"[1]Sheet1!F1887","v":0},{"$f":"[1]Sheet1!G1887","v":0},{"$f":"[1]Sheet1!H1887","v":0},{"$f":"[1]Sheet1!J1887","v":0},"0 0"]
[{"$f":"[1]Sheet1!A1888","v":0},{"$f":"[1]Sheet1!F1888","v":0},{"$f":"[1]Sheet1!G1888","v":0},{"$f":"[1]Sheet1!H1888","v":0},{"$f":"[1]Sheet1!J1888","v":0},"0 0"]
[{"$f":"[1]Sheet1!A1889","v":0},{"$f":"[1]Sheet1!F1889","v":0},{"$f":"[1]Sheet1!G1889","v":0},{"$f":"[1]Sheet1!H1889","v":0},{"$f":"[1]Sheet1!J1889","v":0},"0 0"]
[{"$f":"[1]Sheet1!A1890","v":0},{"$f":"[1]Sheet1!F1890","v":0},{"$f":"[1]Sheet1!G1890","v":0},{"$f":"[1]Sheet1!H1890","v":0},{"$f":"[1]Sheet1!J1890","v":0},"0 0"]
[{"$f":"[1]Sheet1!A1891","v":0},{"$f":"[1]Sheet1!F1891","v":0},{"$f":"[1]Sheet1!G1891","v":0},{"$f":"[1]Sheet1!H1891","v":0},{"$f":"[1]Sheet1!J1891","v":0},"0 0"]
[{"$f":"[1]Sheet1!A1892","v":0},{"$f":"[1]Sheet1!F1892","v":0},{"$f":"[1]Sheet1!G1892","v":0},{"$f":"[1]Sheet1!H1892","v":0},{"$f":"[1]Sheet1!J1892","v":0},"0 0"]
[{"$f":"[1]Sheet1!A1893","v":0},{"$f":"[1]Sheet1!F1893","v":0},{"$f":"[1]Sheet1!G1893","v":0},{"$f":"[1]Sheet1!H1893","v":0},{"$f":"[1]Sheet1!J1893","v":0},"0 0"]
[{"$f":"[1]Sheet1!A1894","v":0},{"$f":"[1]Sheet1!F1894","v":0},{"$f":"[1]Sheet1!G1894","v":0},{"$f":"[1]Sheet1!H1894","v":0},{"$f":"[1]Sheet1!J1894","v":0},"0 0"]
[{"$f":"[1]Sheet1!A1895","v":0},{"$f":"[1]Sheet1!F1895","v":0},{"$f":"[1]Sheet1!G1895","v":0},{"$f":"[1]Sheet1!H1895","v":0},{"$f":"[1]Sheet1!J1895","v":0},"0 0"]
[{"$f":"[1]Sheet1!A1896","v":0},{"$f":"[1]Sheet1!F1896","v":0},{"$f":"[1]Sheet1!G1896","v":0},{"$f":"[1]Sheet1!H1896","v":0},{"$f":"[1]Sheet1!J1896","v":0},"0 0"]
[{"$f":"[1]Sheet1!A1897","v":0},{"$f":"[1]Sheet1!F1897","v":0},{"$f":"[1]Sheet1!G1897","v":0},{"$f":"[1]Sheet1!H1897","v":0},{"$f":"[1]Sheet1!J1897","v":0},"0 0"]
[{"$f":"[1]Sheet1!A1898","v":0},{"$f":"[1]Sheet1!F1898","v":0},{"$f":"[1]Sheet1!G1898","v":0},{"$f":"[1]Sheet1!H1898","v":0},{"$f":"[1]Sheet1!J1898","v":0},"0 0"]
[{"$f":"[1]Sheet1!A1899","v":0},{"$f":"[1]Sheet1!F1899","v":0},{"$f":"[1]Sheet1!G1899","v":0},{"$f":"[1]Sheet1!H1899","v":0},{"$f":"[1]Sheet1!J1899","v":0},"0 0"]
[{"$f":"[1]Sheet1!A1900","v":0},{"$f":"[1]Sheet1!F1900","v":0},{"$f":"[1]Sheet1!G1900","v":0},{"$f":"[1]Sheet1!H1900","v":0},{"$f":"[1]Sheet1!J1900","v":0},"0 0"]
[{"$f":"[1]Sheet1!A1901","v":0},{"$f":"[1]Sheet1!F1901","v":0},{"$f":"[1]Sheet1!G1901","v":0},{"$f":"[1]Sheet1!H1901","v":0},{"$f":"[1]Sheet1!J1901","v":0},"0 0"]
[{"$f":"[1]Sheet1!A1902","v":0},{"$f":"[1]Sheet1!F1902","v":0},{"$f":"[1]Sheet1!G1902","v":0},{"$f":"[1]Sheet1!H1902","v":0},{"$f":"[1]Sheet1!J1902","v":0},"0 0"]
[{"$f":"[1]Sheet1!A1903","v":0},{"$f":"[1]Sheet1!F1903","v":0},{"$f":"[1]Sheet1!G1903","v":0},{"$f":"[1]Sheet1!H1903","v":0},{"$f":"[1]Sheet1!J1903","v":0},"0 0"]
[{"$f":"[1]Sheet1!A1904","v":0},{"$f":"[1]Sheet1!F1904","v":0},{"$f":"[1]Sheet1!G1904","v":0},{"$f":"[1]Sheet1!H1904","v":0},{"$f":"[1]Sheet1!J1904","v":0},"0 0"]
[{"$f":"[1]Sheet1!A1905","v":0},{"$f":"[1]Sheet1!F1905","v":0},{"$f":"[1]Sheet1!G1905","v":0},{"$f":"[1]Sheet1!H1905","v":0},{"$f":"[1]Sheet1!J1905","v":0},"0 0"]
[{"$f":"[1]Sheet1!A1906","v":0},{"$f":"[1]Sheet1!F1906","v":0},{"$f":"[1]Sheet1!G1906","v":0},{"$f":"[1]Sheet1!H1906","v":0},{"$f":"[1]Sheet1!J1906","v":0},"0 0"]
[{"$f":"[1]Sheet1!A1907","v":0},{"$f":"[1]Sheet1!F1907","v":0},{"$f":"[1]Sheet1!G1907","v":0},{"$f":"[1]Sheet1!H1907","v":0},{"$f":"[1]Sheet1!J1907","v":0},"0 0"]
[{"$f":"[1]Sheet1!A1908","v":0},{"$f":"[1]Sheet1!F1908","v":0},{"$f":"[1]Sheet1!G1908","v":0},{"$f":"[1]Sheet1!H1908","v":0},{"$f":"[1]Sheet1!J1908","v":0},"0 0"]
[{"$f":"[1]Sheet1!A1909","v":0},{"$f":"[1]Sheet1!F1909","v":0},{"$f":"[1]Sheet1!G1909","v":0},{"$f":"[1]Sheet1!H1909","v":0},{"$f":"[1]Sheet1!J1909","v":0},"0 0"]
[{"$f":"[1]Sheet1!A1910","v":0},{"$f":"[1]Sheet1!F1910","v":0},{"$f":"[1]Sheet1!G1910","v":0},{"$f":"[1]Sheet1!H1910","v":0},{"$f":"[1]Sheet1!J1910","v":0},"0 0"]
[{"$f":"[1]Sheet1!A1911","v":0},{"$f":"[1]Sheet1!F1911","v":0},{"$f":"[1]Sheet1!G1911","v":0},{"$f":"[1]Sheet1!H1911","v":0},{"$f":"[1]Sheet1!J1911","v":0},"0 0"]
[{"$f":"[1]Sheet1!A1912","v":0},{"$f":"[1]Sheet1!F1912","v":0},{"$f":"[1]Sheet1!G1912","v":0},{"$f":"[1]Sheet1!H1912","v":0},{"$f":"[1]Sheet1!J1912","v":0},"0 0"]
[{"$f":"[1]Sheet1!A1913","v":0},{"$f":"[1]Sheet1!F1913","v":0},{"$f":"[1]Sheet1!G1913","v":0},{"$f":"[1]Sheet1!H1913","v":0},{"$f":"[1]Sheet1!J1913","v":0},"0 0"]
[{"$f":"[1]Sheet1!A1914","v":0},{"$f":"[1]Sheet1!F1914","v":0},{"$f":"[1]Sheet1!G1914","v":0},{"$f":"[1]Sheet1!H1914","v":0},{"$f":"[1]Sheet1!J1914","v":0},"0 0"]
[{"$f":"[1]Sheet1!A1915","v":0},{"$f":"[1]Sheet1!F1915","v":0},{"$f":"[1]Sheet1!G1915","v":0},{"$f":"[1]Sheet1!H1915","v":0},{"$f":"[1]Sheet1!J1915","v":0},"0 0"]
[{"$f":"[1]Sheet1!A1916","v":0},{"$f":"[1]Sheet1!F1916","v":0},{"$f":"[1]Sheet1!G1916","v":0},{"$f":"[1]Sheet1!H1916","v":0},{"$f":"[1]Sheet1!J1916","v":0},"0 0"]
[{"$f":"[1]Sheet1!A1917","v":0},{"$f":"[1]Sheet1!F1917","v":0},{"$f":"[1]Sheet1!G1917","v":0},{"$f":"[1]Sheet1!H1917","v":0},{"$f":"[1]Sheet1!J1917","v":0},"0 0"]
[{"$f":"[1]Sheet1!A1918","v":0},{"$f":"[1]Sheet1!F1918","v":0},{"$f":"[1]Sheet1!G1918","v":0},{"$f":"[1]Sheet1!H1918","v":0},{"$f":"[1]Sheet1!J1918","v":0},"0 0"]
[{"$f":"[1]Sheet1!A1919","v":0},{"$f":"[1]Sheet1!F1919","v":0},{"$f":"[1]Sheet1!G1919","v":0},{"$f":"[1]Sheet1!H1919","v":0},{"$f":"[1]Sheet1!J1919","v":0},"0 0"]
[{"$f":"[1]Sheet1!A1920","v":0},{"$f":"[1]Sheet1!F1920","v":0},{"$f":"[1]Sheet1!G1920","v":0},{"$f":"[1]Sheet1!H1920","v":0},{"$f":"[1]Sheet1!J1920","v":0},"0 0"]
[{"$f":"[1]Sheet1!A1921","v":0},{"$f":"[1]Sheet1!F1921","v":0},{"$f":"[1]Sheet1!G1921","v":0},{"$f":"[1]Sheet1!H1921","v":0},{"$f":"[1]Sheet1!J1921","v":0},"0 0"]
[{"$f":"[1]Sheet1!A1922","v":0},{"$f":"[1]Sheet1!F1922","v":0},{"$f":"[1]Sheet1!G1922","v":0},{"$f":"[1]Sheet1!H1922","v":0},{"$f":"[1]Sheet1!J1922","v":0},"0 0"]
[{"$f":"[1]Sheet1!A1923","v":0},{"$f":"[1]Sheet1!F1923","v":0},{"$f":"[1]Sheet1!G1923","v":0},{"$f":"[1]Sheet1!H1923","v":0},{"$f":"[1]Sheet1!J1923","v":0},"0 0"]
[{"$f":"[1]Sheet1!A1924","v":0},{"$f":"[1]Sheet1!F1924","v":0},{"$f":"[1]Sheet1!G1924","v":0},{"$f":"[1]Sheet1!H1924","v":0},{"$f":"[1]Sheet1!J1924","v":0},"0 0"]
[{"$f":"[1]Sheet1!A1925","v":0},{"$f":"[1]Sheet1!F1925","v":0},{"$f":"[1]Sheet1!G1925","v":0},{"$f":"[1]Sheet1!H1925","v":0},{"$f":"[1]Sheet1!J1925","v":0},{"$f":"IF(E1922=0,CONCATENATE(D1922,\" \",C1922),CONCATENATE(D1922,\" \",E1922,\" \",C1922))","v":"0 0"}]
[{"$f":"[1]Sheet1!A1926","v":0},{"$f":"[1]Sheet1!F1926","v":0},{"$f":"[1]Sheet1!G1926","v":0},{"$f":"[1]Sheet1!H1926","v":0},{"$f":"[1]Sheet1!J1926","v":0},"0 0"]
[{"$f":"[1]Sheet1!A1927","v":0},{"$f":"[1]Sheet1!F1927","v":0},{"$f":"[1]Sheet1!G1927","v":0},{"$f":"[1]Sheet1!H1927","v":0},{"$f":"[1]Sheet1!J1927","v":0},"0 0"]
[{"$f":"[1]Sheet1!A1928","v":0},{"$f":"[1]Sheet1!F1928","v":0},{"$f":"[1]Sheet1!G1928","v":0},{"$f":"[1]Sheet1!H1928","v":0},{"$f":"[1]Sheet1!J1928","v":0},"0 0"]
[{"$f":"[1]Sheet1!A1929","v":0},{"$f":"[1]Sheet1!F1929","v":0},{"$f":"[1]Sheet1!G1929","v":0},{"$f":"[1]Sheet1!H1929","v":0},{"$f":"[1]Sheet1!J1929","v":0},"0 0"]
[{"$f":"[1]Sheet1!A1930","v":0},{"$f":"[1]Sheet1!F1930","v":0},{"$f":"[1]Sheet1!G1930","v":0},{"$f":"[1]Sheet1!H1930","v":0},{"$f":"[1]Sheet1!J1930","v":0},"0 0"]
[{"$f":"[1]Sheet1!A1931","v":0},{"$f":"[1]Sheet1!F1931","v":0},{"$f":"[1]Sheet1!G1931","v":0},{"$f":"[1]Sheet1!H1931","v":0},{"$f":"[1]Sheet1!J1931","v":0},"0 0"]
[{"$f":"[1]Sheet1!A1932","v":0},{"$f":"[1]Sheet1!F1932","v":0},{"$f":"[1]Sheet1!G1932","v":0},{"$f":"[1]Sheet1!H1932","v":0},{"$f":"[1]Sheet1!J1932","v":0},"0 0"]
[{"$f":"[1]Sheet1!A1933","v":0},{"$f":"[1]Sheet1!F1933","v":0},{"$f":"[1]Sheet1!G1933","v":0},{"$f":"[1]Sheet1!H1933","v":0},{"$f":"[1]Sheet1!J1933","v":0},"0 0"]
[{"$f":"[1]Sheet1!A1934","v":0},{"$f":"[1]Sheet1!F1934","v":0},{"$f":"[1]Sheet1!G1934","v":0},{"$f":"[1]Sheet1!H1934","v":0},{"$f":"[1]Sheet1!J1934","v":0},"0 0"]
[{"$f":"[1]Sheet1!A1935","v":0},{"$f":"[1]Sheet1!F1935","v":0},{"$f":"[1]Sheet1!G1935","v":0},{"$f":"[1]Sheet1!H1935","v":0},{"$f":"[1]Sheet1!J1935","v":0},"0 0"]
[{"$f":"[1]Sheet1!A1936","v":0},{"$f":"[1]Sheet1!F1936","v":0},{"$f":"[1]Sheet1!G1936","v":0},{"$f":"[1]Sheet1!H1936","v":0},{"$f":"[1]Sheet1!J1936","v":0},"0 0"]
[{"$f":"[1]Sheet1!A1937","v":0},{"$f":"[1]Sheet1!F1937","v":0},{"$f":"[1]Sheet1!G1937","v":0},{"$f":"[1]Sheet1!H1937","v":0},{"$f":"[1]Sheet1!J1937","v":0},"0 0"]
[{"$f":"[1]Sheet1!A1938","v":0},{"$f":"[1]Sheet1!F1938","v":0},{"$f":"[1]Sheet1!G1938","v":0},{"$f":"[1]Sheet1!H1938","v":0},{"$f":"[1]Sheet1!J1938","v":0},"0 0"]
[{"$f":"[1]Sheet1!A1939","v":0},{"$f":"[1]Sheet1!F1939","v":0},{"$f":"[1]Sheet1!G1939","v":0},{"$f":"[1]Sheet1!H1939","v":0},{"$f":"[1]Sheet1!J1939","v":0},"0 0"]
[{"$f":"[1]Sheet1!A1940","v":0},{"$f":"[1]Sheet1!F1940","v":0},{"$f":"[1]Sheet1!G1940","v":0},{"$f":"[1]Sheet1!H1940","v":0},{"$f":"[1]Sheet1!J1940","v":0},"0 0"]
[{"$f":"[1]Sheet1!A1941","v":0},{"$f":"[1]Sheet1!F1941","v":0},{"$f":"[1]Sheet1!G1941","v":0},{"$f":"[1]Sheet1!H1941","v":0},{"$f":"[1]Sheet1!J1941","v":0},"0 0"]
[{"$f":"[1]Sheet1!A1942","v":0},{"$f":"[1]Sheet1!F1942","v":0},{"$f":"[1]Sheet1!G1942","v":0},{"$f":"[1]Sheet1!H1942","v":0},{"$f":"[1]Sheet1!J1942","v":0},"0 0"]
[{"$f":"[1]Sheet1!A1943","v":0},{"$f":"[1]Sheet1!F1943","v":0},{"$f":"[1]Sheet1!G1943","v":0},{"$f":"[1]Sheet1!H1943","v":0},{"$f":"[1]Sheet1!J1943","v":0},"0 0"]
[{"$f":"[1]Sheet1!A1944","v":0},{"$f":"[1]Sheet1!F1944","v":0},{"$f":"[1]Sheet1!G1944","v":0},{"$f":"[1]Sheet1!H1944","v":0},{"$f":"[1]Sheet1!J1944","v":0},"0 0"]
[{"$f":"[1]Sheet1!A1945","v":0},{"$f":"[1]Sheet1!F1945","v":0},{"$f":"[1]Sheet1!G1945","v":0},{"$f":"[1]Sheet1!H1945","v":0},{"$f":"[1]Sheet1!J1945","v":0},"0 0"]
[{"$f":"[1]Sheet1!A1946","v":0},{"$f":"[1]Sheet1!F1946","v":0},{"$f":"[1]Sheet1!G1946","v":0},{"$f":"[1]Sheet1!H1946","v":0},{"$f":"[1]Sheet1!J1946","v":0},"0 0"]
[{"$f":"[1]Sheet1!A1947","v":0},{"$f":"[1]Sheet1!F1947","v":0},{"$f":"[1]Sheet1!G1947","v":0},{"$f":"[1]Sheet1!H1947","v":0},{"$f":"[1]Sheet1!J1947","v":0},"0 0"]
[{"$f":"[1]Sheet1!A1948","v":0},{"$f":"[1]Sheet1!F1948","v":0},{"$f":"[1]Sheet1!G1948","v":0},{"$f":"[1]Sheet1!H1948","v":0},{"$f":"[1]Sheet1!J1948","v":0},"0 0"]
[{"$f":"[1]Sheet1!A1949","v":0},{"$f":"[1]Sheet1!F1949","v":0},{"$f":"[1]Sheet1!G1949","v":0},{"$f":"[1]Sheet1!H1949","v":0},{"$f":"[1]Sheet1!J1949","v":0},"0 0"]
[{"$f":"[1]Sheet1!A1950","v":0},{"$f":"[1]Sheet1!F1950","v":0},{"$f":"[1]Sheet1!G1950","v":0},{"$f":"[1]Sheet1!H1950","v":0},{"$f":"[1]Sheet1!J1950","v":0},"0 0"]
[{"$f":"[1]Sheet1!A1951","v":0},{"$f":"[1]Sheet1!F1951","v":0},{"$f":"[1]Sheet1!G1951","v":0},{"$f":"[1]Sheet1!H1951","v":0},{"$f":"[1]Sheet1!J1951","v":0},"0 0"]
[{"$f":"[1]Sheet1!A1952","v":0},{"$f":"[1]Sheet1!F1952","v":0},{"$f":"[1]Sheet1!G1952","v":0},{"$f":"[1]Sheet1!H1952","v":0},{"$f":"[1]Sheet1!J1952","v":0},"0 0"]
[{"$f":"[1]Sheet1!A1953","v":0},{"$f":"[1]Sheet1!F1953","v":0},{"$f":"[1]Sheet1!G1953","v":0},{"$f":"[1]Sheet1!H1953","v":0},{"$f":"[1]Sheet1!J1953","v":0},"0 0"]
[{"$f":"[1]Sheet1!A1954","v":0},{"$f":"[1]Sheet1!F1954","v":0},{"$f":"[1]Sheet1!G1954","v":0},{"$f":"[1]Sheet1!H1954","v":0},{"$f":"[1]Sheet1!J1954","v":0},"0 0"]
[{"$f":"[1]Sheet1!A1955","v":0},{"$f":"[1]Sheet1!F1955","v":0},{"$f":"[1]Sheet1!G1955","v":0},{"$f":"[1]Sheet1!H1955","v":0},{"$f":"[1]Sheet1!J1955","v":0},"0 0"]
[{"$f":"[1]Sheet1!A1956","v":0},{"$f":"[1]Sheet1!F1956","v":0},{"$f":"[1]Sheet1!G1956","v":0},{"$f":"[1]Sheet1!H1956","v":0},{"$f":"[1]Sheet1!J1956","v":0},"0 0"]
[{"$f":"[1]Sheet1!A1957","v":0},{"$f":"[1]Sheet1!F1957","v":0},{"$f":"[1]Sheet1!G1957","v":0},{"$f":"[1]Sheet1!H1957","v":0},{"$f":"[1]Sheet1!J1957","v":0},"0 0"]
[{"$f":"[1]Sheet1!A1958","v":0},{"$f":"[1]Sheet1!F1958","v":0},{"$f":"[1]Sheet1!G1958","v":0},{"$f":"[1]Sheet1!H1958","v":0},{"$f":"[1]Sheet1!J1958","v":0},"0 0"]
[{"$f":"[1]Sheet1!A1959","v":0},{"$f":"[1]Sheet1!F1959","v":0},{"$f":"[1]Sheet1!G1959","v":0},{"$f":"[1]Sheet1!H1959","v":0},{"$f":"[1]Sheet1!J1959","v":0},"0 0"]
[{"$f":"[1]Sheet1!A1960","v":0},{"$f":"[1]Sheet1!F1960","v":0},{"$f":"[1]Sheet1!G1960","v":0},{"$f":"[1]Sheet1!H1960","v":0},{"$f":"[1]Sheet1!J1960","v":0},"0 0"]
[{"$f":"[1]Sheet1!A1961","v":0},{"$f":"[1]Sheet1!F1961","v":0},{"$f":"[1]Sheet1!G1961","v":0},{"$f":"[1]Sheet1!H1961","v":0},{"$f":"[1]Sheet1!J1961","v":0},"0 0"]
[{"$f":"[1]Sheet1!A1962","v":0},{"$f":"[1]Sheet1!F1962","v":0},{"$f":"[1]Sheet1!G1962","v":0},{"$f":"[1]Sheet1!H1962","v":0},{"$f":"[1]Sheet1!J1962","v":0},"0 0"]
[{"$f":"[1]Sheet1!A1963","v":0},{"$f":"[1]Sheet1!F1963","v":0},{"$f":"[1]Sheet1!G1963","v":0},{"$f":"[1]Sheet1!H1963","v":0},{"$f":"[1]Sheet1!J1963","v":0},"0 0"]
[{"$f":"[1]Sheet1!A1964","v":0},{"$f":"[1]Sheet1!F1964","v":0},{"$f":"[1]Sheet1!G1964","v":0},{"$f":"[1]Sheet1!H1964","v":0},{"$f":"[1]Sheet1!J1964","v":0},"0 0"]
[{"$f":"[1]Sheet1!A1965","v":0},{"$f":"[1]Sheet1!F1965","v":0},{"$f":"[1]Sheet1!G1965","v":0},{"$f":"[1]Sheet1!H1965","v":0},{"$f":"[1]Sheet1!J1965","v":0},"0 0"]
[{"$f":"[1]Sheet1!A1966","v":0},{"$f":"[1]Sheet1!F1966","v":0},{"$f":"[1]Sheet1!G1966","v":0},{"$f":"[1]Sheet1!H1966","v":0},{"$f":"[1]Sheet1!J1966","v":0},"0 0"]
[{"$f":"[1]Sheet1!A1967","v":0},{"$f":"[1]Sheet1!F1967","v":0},{"$f":"[1]Sheet1!G1967","v":0},{"$f":"[1]Sheet1!H1967","v":0},{"$f":"[1]Sheet1!J1967","v":0},"0 0"]
[{"$f":"[1]Sheet1!A1968","v":0},{"$f":"[1]Sheet1!F1968","v":0},{"$f":"[1]Sheet1!G1968","v":0},{"$f":"[1]Sheet1!H1968","v":0},{"$f":"[1]Sheet1!J1968","v":0},"0 0"]
[{"$f":"[1]Sheet1!A1969","v":0},{"$f":"[1]Sheet1!F1969","v":0},{"$f":"[1]Sheet1!G1969","v":0},{"$f":"[1]Sheet1!H1969","v":0},{"$f":"[1]Sheet1!J1969","v":0},"0 0"]
[{"$f":"[1]Sheet1!A1970","v":0},{"$f":"[1]Sheet1!F1970","v":0},{"$f":"[1]Sheet1!G1970","v":0},{"$f":"[1]Sheet1!H1970","v":0},{"$f":"[1]Sheet1!J1970","v":0},"0 0"]
[{"$f":"[1]Sheet1!A1971","v":0},{"$f":"[1]Sheet1!F1971","v":0},{"$f":"[1]Sheet1!G1971","v":0},{"$f":"[1]Sheet1!H1971","v":0},{"$f":"[1]Sheet1!J1971","v":0},"0 0"]
[{"$f":"[1]Sheet1!A1972","v":0},{"$f":"[1]Sheet1!F1972","v":0},{"$f":"[1]Sheet1!G1972","v":0},{"$f":"[1]Sheet1!H1972","v":0},{"$f":"[1]Sheet1!J1972","v":0},"0 0"]
[{"$f":"[1]Sheet1!A1973","v":0},{"$f":"[1]Sheet1!F1973","v":0},{"$f":"[1]Sheet1!G1973","v":0},{"$f":"[1]Sheet1!H1973","v":0},{"$f":"[1]Sheet1!J1973","v":0},"0 0"]
[{"$f":"[1]Sheet1!A1974","v":0},{"$f":"[1]Sheet1!F1974","v":0},{"$f":"[1]Sheet1!G1974","v":0},{"$f":"[1]Sheet1!H1974","v":0},{"$f":"[1]Sheet1!J1974","v":0},"0 0"]
[{"$f":"[1]Sheet1!A1975","v":0},{"$f":"[1]Sheet1!F1975","v":0},{"$f":"[1]Sheet1!G1975","v":0},{"$f":"[1]Sheet1!H1975","v":0},{"$f":"[1]Sheet1!J1975","v":0},"0 0"]
[{"$f":"[1]Sheet1!A1976","v":0},{"$f":"[1]Sheet1!F1976","v":0},{"$f":"[1]Sheet1!G1976","v":0},{"$f":"[1]Sheet1!H1976","v":0},{"$f":"[1]Sheet1!J1976","v":0},"0 0"]
[{"$f":"[1]Sheet1!A1977","v":0},{"$f":"[1]Sheet1!F1977","v":0},{"$f":"[1]Sheet1!G1977","v":0},{"$f":"[1]Sheet1!H1977","v":0},{"$f":"[1]Sheet1!J1977","v":0},"0 0"]
[{"$f":"[1]Sheet1!A1978","v":0},{"$f":"[1]Sheet1!F1978","v":0},{"$f":"[1]Sheet1!G1978","v":0},{"$f":"[1]Sheet1!H1978","v":0},{"$f":"[1]Sheet1!J1978","v":0},"0 0"]
[{"$f":"[1]Sheet1!A1979","v":0},{"$f":"[1]Sheet1!F1979","v":0},{"$f":"[1]Sheet1!G1979","v":0},{"$f":"[1]Sheet1!H1979","v":0},{"$f":"[1]Sheet1!J1979","v":0},"0 0"]
[{"$f":"[1]Sheet1!A1980","v":0},{"$f":"[1]Sheet1!F1980","v":0},{"$f":"[1]Sheet1!G1980","v":0},{"$f":"[1]Sheet1!H1980","v":0},{"$f":"[1]Sheet1!J1980","v":0},"0 0"]
[{"$f":"[1]Sheet1!A1981","v":0},{"$f":"[1]Sheet1!F1981","v":0},{"$f":"[1]Sheet1!G1981","v":0},{"$f":"[1]Sheet1!H1981","v":0},{"$f":"[1]Sheet1!J1981","v":0},"0 0"]
[{"$f":"[1]Sheet1!A1982","v":0},{"$f":"[1]Sheet1!F1982","v":0},{"$f":"[1]Sheet1!G1982","v":0},{"$f":"[1]Sheet1!H1982","v":0},{"$f":"[1]Sheet1!J1982","v":0},"0 0"]
[{"$f":"[1]Sheet1!A1983","v":0},{"$f":"[1]Sheet1!F1983","v":0},{"$f":"[1]Sheet1!G1983","v":0},{"$f":"[1]Sheet1!H1983","v":0},{"$f":"[1]Sheet1!J1983","v":0},"0 0"]
[{"$f":"[1]Sheet1!A1984","v":0},{"$f":"[1]Sheet1!F1984","v":0},{"$f":"[1]Sheet1!G1984","v":0},{"$f":"[1]Sheet1!H1984","v":0},{"$f":"[1]Sheet1!J1984","v":0},"0 0"]
[{"$f":"[1]Sheet1!A1985","v":0},{"$f":"[1]Sheet1!F1985","v":0},{"$f":"[1]Sheet1!G1985","v":0},{"$f":"[1]Sheet1!H1985","v":0},{"$f":"[1]Sheet1!J1985","v":0},"0 0"]
[{"$f":"[1]Sheet1!A1986","v":0},{"$f":"[1]Sheet1!F1986","v":0},{"$f":"[1]Sheet1!G1986","v":0},{"$f":"[1]Sheet1!H1986","v":0},{"$f":"[1]Sheet1!J1986","v":0},"0 0"]
[{"$f":"[1]Sheet1!A1987","v":0},{"$f":"[1]Sheet1!F1987","v":0},{"$f":"[1]Sheet1!G1987","v":0},{"$f":"[1]Sheet1!H1987","v":0},{"$f":"[1]Sheet1!J1987","v":0},"0 0"]
[{"$f":"[1]Sheet1!A1988","v":0},{"$f":"[1]Sheet1!F1988","v":0},{"$f":"[1]Sheet1!G1988","v":0},{"$f":"[1]Sheet1!H1988","v":0},{"$f":"[1]Sheet1!J1988","v":0},"0 0"]
[{"$f":"[1]Sheet1!A1989","v":0},{"$f":"[1]Sheet1!F1989","v":0},{"$f":"[1]Sheet1!G1989","v":0},{"$f":"[1]Sheet1!H1989","v":0},{"$f":"[1]Sheet1!J1989","v":0},{"$f":"IF(E1986=0,CONCATENATE(D1986,\" \",C1986),CONCATENATE(D1986,\" \",E1986,\" \",C1986))","v":"0 0"}]
[{"$f":"[1]Sheet1!A1990","v":0},{"$f":"[1]Sheet1!F1990","v":0},{"$f":"[1]Sheet1!G1990","v":0},{"$f":"[1]Sheet1!H1990","v":0},{"$f":"[1]Sheet1!J1990","v":0},"0 0"]
[{"$f":"[1]Sheet1!A1991","v":0},{"$f":"[1]Sheet1!F1991","v":0},{"$f":"[1]Sheet1!G1991","v":0},{"$f":"[1]Sheet1!H1991","v":0},{"$f":"[1]Sheet1!J1991","v":0},"0 0"]
[{"$f":"[1]Sheet1!A1992","v":0},{"$f":"[1]Sheet1!F1992","v":0},{"$f":"[1]Sheet1!G1992","v":0},{"$f":"[1]Sheet1!H1992","v":0},{"$f":"[1]Sheet1!J1992","v":0},"0 0"]
[{"$f":"[1]Sheet1!A1993","v":0},{"$f":"[1]Sheet1!F1993","v":0},{"$f":"[1]Sheet1!G1993","v":0},{"$f":"[1]Sheet1!H1993","v":0},{"$f":"[1]Sheet1!J1993","v":0},"0 0"]
[{"$f":"[1]Sheet1!A1994","v":0},{"$f":"[1]Sheet1!F1994","v":0},{"$f":"[1]Sheet1!G1994","v":0},{"$f":"[1]Sheet1!H1994","v":0},{"$f":"[1]Sheet1!J1994","v":0},"0 0"]
[{"$f":"[1]Sheet1!A1995","v":0},{"$f":"[1]Sheet1!F1995","v":0},{"$f":"[1]Sheet1!G1995","v":0},{"$f":"[1]Sheet1!H1995","v":0},{"$f":"[1]Sheet1!J1995","v":0},"0 0"]
[{"$f":"[1]Sheet1!A1996","v":0},{"$f":"[1]Sheet1!F1996","v":0},{"$f":"[1]Sheet1!G1996","v":0},{"$f":"[1]Sheet1!H1996","v":0},{"$f":"[1]Sheet1!J1996","v":0},"0 0"]
[{"$f":"[1]Sheet1!A1997","v":0},{"$f":"[1]Sheet1!F1997","v":0},{"$f":"[1]Sheet1!G1997","v":0},{"$f":"[1]Sheet1!H1997","v":0},{"$f":"[1]Sheet1!J1997","v":0},"0 0"]
[{"$f":"[1]Sheet1!A1998","v":0},{"$f":"[1]Sheet1!F1998","v":0},{"$f":"[1]Sheet1!G1998","v":0},{"$f":"[1]Sheet1!H1998","v":0},{"$f":"[1]Sheet1!J1998","v":0},"0 0"]
[{"$f":"[1]Sheet1!A1999","v":0},{"$f":"[1]Sheet1!F1999","v":0},{"$f":"[1]Sheet1!G1999","v":0},{"$f":"[1]Sheet1!H1999","v":0},{"$f":"[1]Sheet1!J1999","v":0},"0 0"]
[{"$f":"[1]Sheet1!A2000","v":0},{"$f":"[1]Sheet1!F2000","v":0},{"$f":"[1]Sheet1!G2000","v":0},{"$f":"[1]Sheet1!H2000","v":0},{"$f":"[1]Sheet1!J2000","v":0},"0 0"]
[{"$f":"[1]Sheet1!A2001","v":0},{"$f":"[1]Sheet1!F2001","v":0},{"$f":"[1]Sheet1!G2001","v":0},{"$f":"[1]Sheet1!H2001","v":0},{"$f":"[1]Sheet1!J2001","v":0},"0 0"]
[{"$f":"[1]Sheet1!A2002","v":0},{"$f":"[1]Sheet1!F2002","v":0},{"$f":"[1]Sheet1!G2002","v":0},{"$f":"[1]Sheet1!H2002","v":0},{"$f":"[1]Sheet1!J2002","v":0},"0 0"]
[{"$f":"[1]Sheet1!A2003","v":0},{"$f":"[1]Sheet1!F2003","v":0},{"$f":"[1]Sheet1!G2003","v":0},{"$f":"[1]Sheet1!H2003","v":0},{"$f":"[1]Sheet1!J2003","v":0},"0 0"]
[{"$f":"[1]Sheet1!A2004","v":0},{"$f":"[1]Sheet1!F2004","v":0},{"$f":"[1]Sheet1!G2004","v":0},{"$f":"[1]Sheet1!H2004","v":0},{"$f":"[1]Sheet1!J2004","v":0},"0 0"]
[{"$f":"[1]Sheet1!A2005","v":0},{"$f":"[1]Sheet1!F2005","v":0},{"$f":"[1]Sheet1!G2005","v":0},{"$f":"[1]Sheet1!H2005","v":0},{"$f":"[1]Sheet1!J2005","v":0},"0 0"]
[{"$f":"[1]Sheet1!A2006","v":0},{"$f":"[1]Sheet1!F2006","v":0},{"$f":"[1]Sheet1!G2006","v":0},{"$f":"[1]Sheet1!H2006","v":0},{"$f":"[1]Sheet1!J2006","v":0},"0 0"]
[{"$f":"[1]Sheet1!A2007","v":0},{"$f":"[1]Sheet1!F2007","v":0},{"$f":"[1]Sheet1!G2007","v":0},{"$f":"[1]Sheet1!H2007","v":0},{"$f":"[1]Sheet1!J2007","v":0},"0 0"]
[{"$f":"[1]Sheet1!A2008","v":0},{"$f":"[1]Sheet1!F2008","v":0},{"$f":"[1]Sheet1!G2008","v":0},{"$f":"[1]Sheet1!H2008","v":0},{"$f":"[1]Sheet1!J2008","v":0},"0 0"]
[{"$f":"[1]Sheet1!A2009","v":0},{"$f":"[1]Sheet1!F2009","v":0},{"$f":"[1]Sheet1!G2009","v":0},{"$f":"[1]Sheet1!H2009","v":0},{"$f":"[1]Sheet1!J2009","v":0},"0 0"]
[{"$f":"[1]Sheet1!A2010","v":0},{"$f":"[1]Sheet1!F2010","v":0},{"$f":"[1]Sheet1!G2010","v":0},{"$f":"[1]Sheet1!H2010","v":0},{"$f":"[1]Sheet1!J2010","v":0},"0 0"]
[{"$f":"[1]Sheet1!A2011","v":0},{"$f":"[1]Sheet1!F2011","v":0},{"$f":"[1]Sheet1!G2011","v":0},{"$f":"[1]Sheet1!H2011","v":0},{"$f":"[1]Sheet1!J2011","v":0},"0 0"]
[{"$f":"[1]Sheet1!A2012","v":0},{"$f":"[1]Sheet1!F2012","v":0},{"$f":"[1]Sheet1!G2012","v":0},{"$f":"[1]Sheet1!H2012","v":0},{"$f":"[1]Sheet1!J2012","v":0},"0 0"]
[{"$f":"[1]Sheet1!A2013","v":0},{"$f":"[1]Sheet1!F2013","v":0},{"$f":"[1]Sheet1!G2013","v":0},{"$f":"[1]Sheet1!H2013","v":0},{"$f":"[1]Sheet1!J2013","v":0},"0 0"]
[{"$f":"[1]Sheet1!A2014","v":0},{"$f":"[1]Sheet1!F2014","v":0},{"$f":"[1]Sheet1!G2014","v":0},{"$f":"[1]Sheet1!H2014","v":0},{"$f":"[1]Sheet1!J2014","v":0},"0 0"]
[{"$f":"[1]Sheet1!A2015","v":0},{"$f":"[1]Sheet1!F2015","v":0},{"$f":"[1]Sheet1!G2015","v":0},{"$f":"[1]Sheet1!H2015","v":0},{"$f":"[1]Sheet1!J2015","v":0},"0 0"]
[{"$f":"[1]Sheet1!A2016","v":0},{"$f":"[1]Sheet1!F2016","v":0},{"$f":"[1]Sheet1!G2016","v":0},{"$f":"[1]Sheet1!H2016","v":0},{"$f":"[1]Sheet1!J2016","v":0},"0 0"]
[{"$f":"[1]Sheet1!A2017","v":0},{"$f":"[1]Sheet1!F2017","v":0},{"$f":"[1]Sheet1!G2017","v":0},{"$f":"[1]Sheet1!H2017","v":0},{"$f":"[1]Sheet1!J2017","v":0},"0 0"]
[{"$f":"[1]Sheet1!A2018","v":0},{"$f":"[1]Sheet1!F2018","v":0},{"$f":"[1]Sheet1!G2018","v":0},{"$f":"[1]Sheet1!H2018","v":0},{"$f":"[1]Sheet1!J2018","v":0},"0 0"]
[{"$f":"[1]Sheet1!A2019","v":0},{"$f":"[1]Sheet1!F2019","v":0},{"$f":"[1]Sheet1!G2019","v":0},{"$f":"[1]Sheet1!H2019","v":0},{"$f":"[1]Sheet1!J2019","v":0},"0 0"]
[{"$f":"[1]Sheet1!A2020","v":0},{"$f":"[1]Sheet1!F2020","v":0},{"$f":"[1]Sheet1!G2020","v":0},{"$f":"[1]Sheet1!H2020","v":0},{"$f":"[1]Sheet1!J2020","v":0},"0 0"]
[{"$f":"[1]Sheet1!A2021","v":0},{"$f":"[1]Sheet1!F2021","v":0},{"$f":"[1]Sheet1!G2021","v":0},{"$f":"[1]Sheet1!H2021","v":0},{"$f":"[1]Sheet1!J2021","v":0},"0 0"]
[{"$f":"[1]Sheet1!A2022","v":0},{"$f":"[1]Sheet1!F2022","v":0},{"$f":"[1]Sheet1!G2022","v":0},{"$f":"[1]Sheet1!H2022","v":0},{"$f":"[1]Sheet1!J2022","v":0},"0 0"]
[{"$f":"[1]Sheet1!A2023","v":0},{"$f":"[1]Sheet1!F2023","v":0},{"$f":"[1]Sheet1!G2023","v":0},{"$f":"[1]Sheet1!H2023","v":0},{"$f":"[1]Sheet1!J2023","v":0},"0 0"]
[{"$f":"[1]Sheet1!A2024","v":0},{"$f":"[1]Sheet1!F2024","v":0},{"$f":"[1]Sheet1!G2024","v":0},{"$f":"[1]Sheet1!H2024","v":0},{"$f":"[1]Sheet1!J2024","v":0},"0 0"]
[{"$f":"[1]Sheet1!A2025","v":0},{"$f":"[1]Sheet1!F2025","v":0},{"$f":"[1]Sheet1!G2025","v":0},{"$f":"[1]Sheet1!H2025","v":0},{"$f":"[1]Sheet1!J2025","v":0},"0 0"]
[{"$f":"[1]Sheet1!A2026","v":0},{"$f":"[1]Sheet1!F2026","v":0},{"$f":"[1]Sheet1!G2026","v":0},{"$f":"[1]Sheet1!H2026","v":0},{"$f":"[1]Sheet1!J2026","v":0},"0 0"]
[{"$f":"[1]Sheet1!A2027","v":0},{"$f":"[1]Sheet1!F2027","v":0},{"$f":"[1]Sheet1!G2027","v":0},{"$f":"[1]Sheet1!H2027","v":0},{"$f":"[1]Sheet1!J2027","v":0},"0 0"]
[{"$f":"[1]Sheet1!A2028","v":0},{"$f":"[1]Sheet1!F2028","v":0},{"$f":"[1]Sheet1!G2028","v":0},{"$f":"[1]Sheet1!H2028","v":0},{"$f":"[1]Sheet1!J2028","v":0},"0 0"]
[{"$f":"[1]Sheet1!A2029","v":0},{"$f":"[1]Sheet1!F2029","v":0},{"$f":"[1]Sheet1!G2029","v":0},{"$f":"[1]Sheet1!H2029","v":0},{"$f":"[1]Sheet1!J2029","v":0},"0 0"]
[{"$f":"[1]Sheet1!A2030","v":0},{"$f":"[1]Sheet1!F2030","v":0},{"$f":"[1]Sheet1!G2030","v":0},{"$f":"[1]Sheet1!H2030","v":0},{"$f":"[1]Sheet1!J2030","v":0},"0 0"]
[{"$f":"[1]Sheet1!A2031","v":0},{"$f":"[1]Sheet1!F2031","v":0},{"$f":"[1]Sheet1!G2031","v":0},{"$f":"[1]Sheet1!H2031","v":0},{"$f":"[1]Sheet1!J2031","v":0},"0 0"]
[{"$f":"[1]Sheet1!A2032","v":0},{"$f":"[1]Sheet1!F2032","v":0},{"$f":"[1]Sheet1!G2032","v":0},{"$f":"[1]Sheet1!H2032","v":0},{"$f":"[1]Sheet1!J2032","v":0},"0 0"]
[{"$f":"[1]Sheet1!A2033","v":0},{"$f":"[1]Sheet1!F2033","v":0},{"$f":"[1]Sheet1!G2033","v":0},{"$f":"[1]Sheet1!H2033","v":0},{"$f":"[1]Sheet1!J2033","v":0},"0 0"]
[{"$f":"[1]Sheet1!A2034","v":0},{"$f":"[1]Sheet1!F2034","v":0},{"$f":"[1]Sheet1!G2034","v":0},{"$f":"[1]Sheet1!H2034","v":0},{"$f":"[1]Sheet1!J2034","v":0},"0 0"]
[{"$f":"[1]Sheet1!A2035","v":0},{"$f":"[1]Sheet1!F2035","v":0},{"$f":"[1]Sheet1!G2035","v":0},{"$f":"[1]Sheet1!H2035","v":0},{"$f":"[1]Sheet1!J2035","v":0},"0 0"]
[{"$f":"[1]Sheet1!A2036","v":0},{"$f":"[1]Sheet1!F2036","v":0},{"$f":"[1]Sheet1!G2036","v":0},{"$f":"[1]Sheet1!H2036","v":0},{"$f":"[1]Sheet1!J2036","v":0},"0 0"]
[{"$f":"[1]Sheet1!A2037","v":0},{"$f":"[1]Sheet1!F2037","v":0},{"$f":"[1]Sheet1!G2037","v":0},{"$f":"[1]Sheet1!H2037","v":0},{"$f":"[1]Sheet1!J2037","v":0},"0 0"]
[{"$f":"[1]Sheet1!A2038","v":0},{"$f":"[1]Sheet1!F2038","v":0},{"$f":"[1]Sheet1!G2038","v":0},{"$f":"[1]Sheet1!H2038","v":0},{"$f":"[1]Sheet1!J2038","v":0},"0 0"]
[{"$f":"[1]Sheet1!A2039","v":0},{"$f":"[1]Sheet1!F2039","v":0},{"$f":"[1]Sheet1!G2039","v":0},{"$f":"[1]Sheet1!H2039","v":0},{"$f":"[1]Sheet1!J2039","v":0},"0 0"]
[{"$f":"[1]Sheet1!A2040","v":0},{"$f":"[1]Sheet1!F2040","v":0},{"$f":"[1]Sheet1!G2040","v":0},{"$f":"[1]Sheet1!H2040","v":0},{"$f":"[1]Sheet1!J2040","v":0},"0 0"]
[{"$f":"[1]Sheet1!A2041","v":0},{"$f":"[1]Sheet1!F2041","v":0},{"$f":"[1]Sheet1!G2041","v":0},{"$f":"[1]Sheet1!H2041","v":0},{"$f":"[1]Sheet1!J2041","v":0},"0 0"]
[{"$f":"[1]Sheet1!A2042","v":0},{"$f":"[1]Sheet1!F2042","v":0},{"$f":"[1]Sheet1!G2042","v":0},{"$f":"[1]Sheet1!H2042","v":0},{"$f":"[1]Sheet1!J2042","v":0},"0 0"]
[{"$f":"[1]Sheet1!A2043","v":0},{"$f":"[1]Sheet1!F2043","v":0},{"$f":"[1]Sheet1!G2043","v":0},{"$f":"[1]Sheet1!H2043","v":0},{"$f":"[1]Sheet1!J2043","v":0},"0 0"]
[{"$f":"[1]Sheet1!A2044","v":0},{"$f":"[1]Sheet1!F2044","v":0},{"$f":"[1]Sheet1!G2044","v":0},{"$f":"[1]Sheet1!H2044","v":0},{"$f":"[1]Sheet1!J2044","v":0},"0 0"]
[{"$f":"[1]Sheet1!A2045","v":0},{"$f":"[1]Sheet1!F2045","v":0},{"$f":"[1]Sheet1!G2045","v":0},{"$f":"[1]Sheet1!H2045","v":0},{"$f":"[1]Sheet1!J2045","v":0},"0 0"]
[{"$f":"[1]Sheet1!A2046","v":0},{"$f":"[1]Sheet1!F2046","v":0},{"$f":"[1]Sheet1!G2046","v":0},{"$f":"[1]Sheet1!H2046","v":0},{"$f":"[1]Sheet1!J2046","v":0},"0 0"]
[{"$f":"[1]Sheet1!A2047","v":0},{"$f":"[1]Sheet1!F2047","v":0},{"$f":"[1]Sheet1!G2047","v":0},{"$f":"[1]Sheet1!H2047","v":0},{"$f":"[1]Sheet1!J2047","v":0},"0 0"]
[{"$f":"[1]Sheet1!A2048","v":0},{"$f":"[1]Sheet1!F2048","v":0},{"$f":"[1]Sheet1!G2048","v":0},{"$f":"[1]Sheet1!H2048","v":0},{"$f":"[1]Sheet1!J2048","v":0},"0 0"]
[{"$f":"[1]Sheet1!A2049","v":0},{"$f":"[1]Sheet1!F2049","v":0},{"$f":"[1]Sheet1!G2049","v":0},{"$f":"[1]Sheet1!H2049","v":0},{"$f":"[1]Sheet1!J2049","v":0},"0 0"]
[{"$f":"[1]Sheet1!A2050","v":0},{"$f":"[1]Sheet1!F2050","v":0},{"$f":"[1]Sheet1!G2050","v":0},{"$f":"[1]Sheet1!H2050","v":0},{"$f":"[1]Sheet1!J2050","v":0},"0 0"]
[{"$f":"[1]Sheet1!A2051","v":0},{"$f":"[1]Sheet1!F2051","v":0},{"$f":"[1]Sheet1!G2051","v":0},{"$f":"[1]Sheet1!H2051","v":0},{"$f":"[1]Sheet1!J2051","v":0},"0 0"]
[{"$f":"[1]Sheet1!A2052","v":0},{"$f":"[1]Sheet1!F2052","v":0},{"$f":"[1]Sheet1!G2052","v":0},{"$f":"[1]Sheet1!H2052","v":0},{"$f":"[1]Sheet1!J2052","v":0},"0 0"]
[{"$f":"[1]Sheet1!A2053","v":0},{"$f":"[1]Sheet1!F2053","v":0},{"$f":"[1]Sheet1!G2053","v":0},{"$f":"[1]Sheet1!H2053","v":0},{"$f":"[1]Sheet1!J2053","v":0},{"$f":"IF(E2050=0,CONCATENATE(D2050,\" \",C2050),CONCATENATE(D2050,\" \",E2050,\" \",C2050))","v":"0 0"}]
[{"$f":"[1]Sheet1!A2054","v":0},{"$f":"[1]Sheet1!F2054","v":0},{"$f":"[1]Sheet1!G2054","v":0},{"$f":"[1]Sheet1!H2054","v":0},{"$f":"[1]Sheet1!J2054","v":0},"0 0"]
[{"$f":"[1]Sheet1!A2055","v":0},{"$f":"[1]Sheet1!F2055","v":0},{"$f":"[1]Sheet1!G2055","v":0},{"$f":"[1]Sheet1!H2055","v":0},{"$f":"[1]Sheet1!J2055","v":0},"0 0"]
[{"$f":"[1]Sheet1!A2056","v":0},{"$f":"[1]Sheet1!F2056","v":0},{"$f":"[1]Sheet1!G2056","v":0},{"$f":"[1]Sheet1!H2056","v":0},{"$f":"[1]Sheet1!J2056","v":0},"0 0"]
[{"$f":"[1]Sheet1!A2057","v":0},{"$f":"[1]Sheet1!F2057","v":0},{"$f":"[1]Sheet1!G2057","v":0},{"$f":"[1]Sheet1!H2057","v":0},{"$f":"[1]Sheet1!J2057","v":0},"0 0"]
[{"$f":"[1]Sheet1!A2058","v":0},{"$f":"[1]Sheet1!F2058","v":0},{"$f":"[1]Sheet1!G2058","v":0},{"$f":"[1]Sheet1!H2058","v":0},{"$f":"[1]Sheet1!J2058","v":0},"0 0"]
[{"$f":"[1]Sheet1!A2059","v":0},{"$f":"[1]Sheet1!F2059","v":0},{"$f":"[1]Sheet1!G2059","v":0},{"$f":"[1]Sheet1!H2059","v":0},{"$f":"[1]Sheet1!J2059","v":0},"0 0"]
[{"$f":"[1]Sheet1!A2060","v":0},{"$f":"[1]Sheet1!F2060","v":0},{"$f":"[1]Sheet1!G2060","v":0},{"$f":"[1]Sheet1!H2060","v":0},{"$f":"[1]Sheet1!J2060","v":0},"0 0"]
[{"$f":"[1]Sheet1!A2061","v":0},{"$f":"[1]Sheet1!F2061","v":0},{"$f":"[1]Sheet1!G2061","v":0},{"$f":"[1]Sheet1!H2061","v":0},{"$f":"[1]Sheet1!J2061","v":0},"0 0"]
[{"$f":"[1]Sheet1!A2062","v":0},{"$f":"[1]Sheet1!F2062","v":0},{"$f":"[1]Sheet1!G2062","v":0},{"$f":"[1]Sheet1!H2062","v":0},{"$f":"[1]Sheet1!J2062","v":0},"0 0"]